{"text_format":"1","workbook":"xlsx","n_sheets":12,"sheets":["Start Here","1","2","3","4","Links","Controls","Plan","Attach","5","LP","PPL"],"not_rendered":{"charts":0,"images":33,"macros":1,"external_links":1,"defined_names":1536,"comments":1,"pivot_tables":0},"unopened":[],"bounds":{"document_bytes":16777216,"sheet_cells":100000,"rows_first":2000,"rows_last":500,"rows_between":2000,"halvings":0,"cell_chars":16384,"cell_head_chars":4096},"cells_cut":0,"cells_raw":0,"read":"whole","date_system":"1900"}

{"sheet":"Start Here","index":0,"n_rows":259,"n_cols":15,"rows_kept":259,"cut":false,"hidden":false,"merged":[[16,9,16,11],[16,12,16,17],[16,4,16,8],[55,9,65,11],[69,9,71,11],[55,4,65,8],[69,12,71,17],[55,12,65,17],[69,4,71,8],[39,9,47,11],[48,4,54,8],[48,9,54,11],[251,2,252,17],[250,2,250,17],[18,2,21,3],[18,4,21,8],[17,4,17,8],[17,9,17,11],[17,12,17,17],[18,9,21,11],[31,9,38,11],[28,2,30,3],[28,4,30,8],[28,9,30,11],[22,2,27,3],[22,4,27,8],[22,9,27,11],[18,12,21,17],[22,12,27,17],[28,12,30,17],[31,12,38,17],[246,2,247,17],[170,2,170,16],[171,2,171,16],[172,2,172,16],[242,2,243,17],[248,2,249,17],[182,2,182,17],[180,2,181,17],[176,2,177,17],[201,3,201,5],[190,2,192,15],[168,2,168,16],[164,11,165,13],[164,6,165,7],[164,14,165,15],[164,8,165,10],[164,4,165,5],[169,2,169,16],[178,2,179,17],[175,2,175,16],[162,6,163,7],[162,4,163,5],[162,8,163,10],[160,11,161,13],[160,8,161,10],[162,11,163,13],[48,12,54,17],[153,3,157,5],[66,9,68,11],[66,12,68,17],[160,14,161,15],[160,4,161,5],[2,2,2,17],[16,2,16,3],[17,2,17,3],[153,6,155,15],[158,6,159,7],[139,2,140,17],[156,6,157,7],[156,11,157,13],[156,8,157,10],[156,14,157,15],[158,11,159,13],[158,14,159,15],[158,8,159,10],[101,2,102,14],[148,2,149,15],[55,2,65,3],[69,2,71,3],[31,2,38,3],[31,4,38,8],[48,2,54,3],[66,2,68,3],[66,4,68,8],[39,2,47,3],[39,4,47,8],[257,8,257,13],[258,2,262,16],[13,2,15,17],[240,2,241,17],[72,2,75,3],[72,4,75,8],[72,9,75,11],[72,12,75,17],[76,2,78,3],[76,4,78,8],[76,9,78,11],[76,12,78,17],[130,2,132,17],[158,4,159,5],[141,2,142,17],[121,2,122,17],[158,3,165,3],[160,6,161,7],[135,2,136,17],[126,2,127,17],[162,14,163,15],[39,12,47,17],[201,7,203,10],[203,3,203,4]]}
[]
[]
[null,null,"Welcome to the Construction Work Plan Tool"]
[]
[]
[null,null,"Introduction"]
[]
[null,null,"This Construction Work Plan tool was created to help you create better plans, faster and more easily."]
[null,null,"Please read this page to become familiar with the tool.  This page is also ready to print for reference."]
[null,null,"There are instructions throughout the tool to help answer questions and guide the plan creation process."]
[]
[]
[null,null,"Overview of Contents"]
[null,null,"The Project Team will edit a master copy of the file on all tabs as listed below with project level data.  \nThen they will create and edit a copy of that master with the work team's sequential number on tab 2, before sending the file to the Work Team.  "]
[]
[]
[null,null,"Tab Name",null,"Page Title",null,null,null,null,"Type",null,null,"Tab Purpose"]
[null,null,"Start Here",null,"Welcome to the Construction Work Plan Tool",null,null,null,null,"Instructions"]
[null,null,1,null," Project Safety & Environmental",null,null,null,null,"Data Entry",null,null,"Project team:  \nl Enter general project data\nl Add local targets and Method to Achieve for Environmental Aspects\nl Add new Environmental Aspects"]
[]
[]
[]
[null,null,2,null,"General Information",null,null,null,null,"Data Entry",null,null,"Project team:  \nl Add the Sequential Number for this work team\nWork team:\nl Enter plan data about the work team's activities\nl Create and save a revised version of the plan\nl Update Lessons Learned after work completion"]
[]
[]
[]
[]
[]
[null,null,3,null,"Triggers",null,null,null,null,"Data Entry",null,null,"Work team:\nl Select the task environments, equipment, tools and \n       materials to be used for the work activities"]
[]
[]
[null,null,4,null,"Hazards & Environmental Aspects",null,null,null,null,"Data Entry",null,null,"Project team:  \nl Select known project Hazards & Environmental Aspects that \n       pertain to every work team in the Additional column\nl Add hyperlinks to project, state and local regulations\nWork Team:\nl Review Hazards & Environmental Aspects triggered \n       in the plan, and select additional ones needed\nl Select Competent Persons\nl Click hyperlinks to review rules and regulations"]
[]
[]
[]
[]
[]
[]
[]
[null,null,"Links",null,"Triggers & Links",null,null,null,null,"Data",null,null,"Project Team:  \nl Add project specific links between triggers and their \n       Hazards & Environmental Aspects\nl Create new project triggers and link them to Hazards & EAs\nl Add project PPE specific to triggers\nWork Team:  \nl Review and add links between triggers and their \n       Hazards & Environmental Aspects\nl Create new triggers and link them to Hazards & EAs\nl Add PPE specific to triggers"]
[]
[]
[]
[]
[]
[]
[]
[]
[null,null,"Controls",null,"Hazards & Controls",null,null,null,null,"Data",null,null,"Project team:  \nl Add project, state & local controls and \n       hazard-specific PPE\nl Add new project Hazards and their Controls\nWork Team:\nl Review Hazards and their Controls\nl Add team controls and hazard-specific PPE\nl Add new Hazards and their Controls"]
[]
[]
[]
[]
[]
[]
[null,null,"Plan",null,"Construction Work Plan",null,null,null,null,"Print Page",null,null,"Work Team:\nl Review the generated plan for accuracy and\n       completeness\nl For each foreman:  select their name and print the \n       generated plan, then repeat with the next foreman.  \n       Optional:  Also select the Superintendent & EHS \n       Professional who will approve.\nl Obtain the necessary approvals\nl If you discover that the actual work is different from the \n      printed plan, write your changes on the Unforeseen\n      Conditions pages.\nl Evaluate your plan on the Lessons Learned page."]
[]
[]
[]
[]
[]
[]
[]
[]
[]
[]
[null,null,"Attach",null,"Attachments",null,null,null,null,"Print Page",null,null,"Work Team:\nl Insert or paste illustrations to support your plan\nl Print copies to accompany each printed Plan"]
[]
[]
[null,null,5,null,"Lift Information",null,null,null,null,"Data Entry",null,null,"Work Team:\nl Answer key questions to determine the Lift Classification\nl Provide crane plan details "]
[]
[]
[null,null,"LP",null,"Lift Plan (Standard / Major / Critical / Personnel)",null,null,null,null,"Print Page",null,null,"Work Team:\nl Insert the rigging illustration (or manually attach it to paper)\nl Review and print the generated Lift Plan\nl Complete the checklists & obtain the necessary approvals"]
[]
[]
[]
[null,null,"PPL",null,"Planned Personnel Lift Checklists",null,null,null,null,"Print Page",null,null,"Work Team:\nl Print the generated checklists\nl Complete the checklists & obtain the necessary approvals"]
[]
[]
[]
[]
[null,null,"Hazards"]
[]
[null,null,"What are Hazards?"]
[null,null,"A Hazard is a source of potential harm or a situation with a potential to cause loss to people, equipment, or property."]
[]
[null,null,"Hazard Types"]
[null,null,"Physical hazards such as noise, electricity, heat and cold"]
[null,null,"Chemical hazards such as toxic gases and corrosive liquids"]
[null,null,"Ergonomic hazards such as lifting heavy/awkward objects"]
[null,null,"Biological hazards such as waste water and animal feces"]
[]
[null,null,"Hazard Examples"]
[null,null,"Trucks and equipment moving around the jobsite could hit workers."]
[null,null,"A grinder without the proper guards could lacerate a worker's fingers/hand/arm."]
[null,null,"Silica dust created by chopping concrete could be inhaled by workers."]
[null,null,"A worker exposed to a height without protection could fall."]
[]
[]
[null,null,"Controls"]
[]
[null,null,"Controls provide a means by which risks can be systematically evaluated against a set of control levels to determine the most effective control methods for the risks associated with each hazard."]
[]
[]
[null,null,"Hierarchy of Controls"]
[null,null,"The following is the Hierarchy of Controls:"]
[null,null,null,"Level 1: Eliminate the hazard. "]
[null,null,null,"Level 2: Minimize the risk. "]
[null,null,null,null,"Substitute with a lesser hazard. "]
[null,null,null,null,"Modify the work system or process. "]
[null,null,null,null,"Isolate the hazard. "]
[null,null,null,null,"Introduce engineering controls. "]
[null,null,null,"Level 3: Institute back-up controls. "]
[null,null,null,null,"Implement administrative controls and safe work practices. "]
[null,null,null,null,"Require personal protective equipment to be used."]
[]
[null,null,"Eliminate the Hazard"]
[null,null,"The best way to protect the worker is to remove the hazard."]
[]
[null,null,"Engineering Controls"]
[null,null,"Defined as … \"Equipment, material, or process that reduces the source of hazardous exposure\""]
[null,null,"In this program, there are global and local controls. Global controls are set by the Skanska EHS Department and are not able to be modified. The local controls are left blank for users to fill out. Local controls are in addition to global controls, specific to the jobsite."]
[]
[]
[null,null,"Administrative Controls"]
[null,null,"Defined as … \"Policies, procedures, safety signs, training or supervision, or a combination of these, to control risk.\""]
[null,null,"Similar to Engineering Controls, there are global and local controls. Global controls are set by the Skanska EHS Department and are not able to be modified. The local controls are left blank for users to fill out. Local controls are in addition to global controls, specific to the jobsite."]
[]
[]
[null,null,"Competent Person"]
[null,null,"OSHA defines competent person in 29 CFR 1926.32(f) as “one who is capable of identifying existing and predictable hazards in the surroundings or working conditions which are unsanitary, hazardous, or dangerous to employees, and who has authorization to take prompt corrective measures to eliminate them.”"]
[]
[]
[]
[null,null,"Implementation"]
[null,null,"This section is about how the Competent Person will implement the controls to reduce the hazard and protect the workers. It also contains specific information from OSHA and the Skanska SHEMS on how to handle the hazard."]
[]
[]
[null,null,"Personal Protective Equipment"]
[null,null,"Using PPE is a back-up control, meaning that the hazard is still present and using Personal Protective Equipment is the only remaining defense. This control should only be used as a last resort or as a support to other control measures."]
[]
[null,null,"Remember that some PPE such as hard hats and safety glasses are to be worn by all employees at all times. Therefore these items do not need to be listed in the PPE section related to controlling a specific hazard."]
[]
[]
[]
[null,null,"Risk Assessment"]
[]
[null,null,"DEFINITIONS:"]
[null,null,"(Risk) Likelihood – The probability that an injury will result from the hazard occurring. When controls are implemented, the likelihood of the hazard occurring is reduced."]
[]
[null,null,"(Risk) Severity – The potential degree of harm of the hazard. Severity does not change when controls are implemented."]
[null,null,"Risk – The chance of injury or illness being caused by a hazard. Governed by likelihood and severity."]
[]
[null,null,null,"RISK ASSESSMENT \nMATRIX",null,null,"SEVERITY"]
[]
[]
[null,null,null,null,null,null,"Minor",null,"Moderate",null,null,"Major",null,null,"Catastrophic"]
[]
[null,null,null,"LIKELIHOOD","Very Likely",null,"M",null,"H",null,null,"H",null,null,"E"]
[]
[null,null,null,null,"Likely",null,"M",null,"M",null,null,"H",null,null,"H"]
[]
[null,null,null,null,"Seldom",null,"L",null,"M",null,null,"M",null,null,"H"]
[]
[null,null,null,null,"Unlikely",null,"L",null,"L",null,null,"M",null,null,"M"]
[]
[]
[null,null,"LIKELIHOOD:"]
[null,null,"What might be the consequence of a hazardous event or situation?"]
[null,null,"Very Likely: Will almost certainly happen during the activity; can be expected to occur continuously."]
[null,null,"Likely: Will probably happen at some time during the activity; can be expected to occur several times."]
[null,null,"Seldom: Could happen at some time during the activity; occurs only sporadically."]
[null,null,"Unlikely: Not expected to occur; happens only on rare occasions."]
[]
[null,null,"SEVERITY:"]
[null,null,"How likely is it that a hazardous event or situation will occur?"]
[null,null,"Catastrophic: Death or permanent total disability, high-value (>$1M) property damage, long -term (>1 year) environmental damage, project failure."]
[]
[null,null,"Major: Permanent partial disability, lost time injury greater than 1 month, significant ($100K-$1M) property damage, medium-term (1 month - 1 year) environmental damage, significant project delay."]
[]
[null,null,"Moderate: Lost-time injury and/or work restriction, equipment/property damage ($1K-$100K), short-term (1 day-1 month) environmental damage, non-critical path work interruption."]
[]
[null,null,"Minor: Minor injury/1st aid only, readily repairable (<$1K) property/equipment damage, minor (simultaneous/<1 day) environmental harm."]
[]
[null,null,"RISK LEVELS:"]
[null,null,"L: Low     M: Moderate     H: High     E: Extreme "]
[]
[]
[null,null,"Procedure to Create a New Plan"]
[]
[null,null,"To create a standard Construction Work Plan, Follow tabs 1 through 4 to input data. \nGo to the next tab \"Plan\" and print the plan.\nIf you need to make changes to the tool, see the instructions below."]
[]
[]
[null,null,"Data Entry"]
[null,null,"Follow tabs 1 through 4 to enter all the necessary information."]
[null,null,"See below for typical data entry page layout."]
[]
[null,null,"#","Page Title"]
[]
[null,null,null,"Description of Information Needed"]
[]
[null,null,null,"enter information here",null,null,null,"Refer to these guide sections for helpful tips on how to fill out the plan"]
[]
[null,null,null,"important information"]
[]
[]
[null,null,"Remember to fill out all the required information."]
[null,null,"Only what is shown in the orange box will print out on the final plan. If you write more than is shown in the box, it will not print."]
[null,null,"When writing in an orange box, use Alt+Enter to skip to the next line within the text box."]
[]
[null,null,"Print Plan"]
[null,null,"To print the plan, you will need to set the number of pages to print. Select 'File\" then print\" from the menus above."]
[null,null,"Set the print range to the one recommended at the top of the plan page."]
[null,null,"Always review the printed plan to verify it is correct."]
[null,null,"Remember that you can change the foreman name in the green box to print out plans specific to each crew."]
[]
[null,null,"Altering the Tool"]
[null,null,"Links and Control Tabs:"]
[null,null,"These tabs are designed to allow you to modify the tool."]
[null,null,"You can only enter or change data in \"green-colored\" cells."]
[null,null,"Do not \"move\" hazards since it will alter associations."]
[null,null,"While you can use the \"Copy\" and \"Paste\" commands in this tool, do not use \"Cut\" and \"Paste\". This can break the formulas."]
[]
[]
[null,null,"Technical Details"]
[]
[null,null,"Revision"]
[null,null,"Work Plan",null,null,"Rev 15","dated ","Feb 2016"]
[null,null,"Lift Plan",null,null,"Rev 8","dated ","Feb 2016"]
[null,null,"PPL Checklist",null,null,"Rev 4","dated ","Feb 2016"]
[]
[null,null,"General"]
[null,null,"You should fill out the pages in order to prevent problems. Start at 1 and follow through 4."]
[null,null,"The print margins are set to print in 8.5\"x11\" for all tabs."]
[null,null,"If you require more room for the scope of work, insert the scope as an attachment."]
[null,null,"To jump to the next line inside a formatted entry box, hold down \"Alt\" and press \"Enter\"."]
[]
[null,null,"Locking"]
[null,null,"The main structure of the workbook is locked. Therefore, you cannot change the format or alter formulas."]
[null,null,"The data entry sections (green boxes) are the only cells not locked. Yellow cells indicate important information."]
[null,null,"In the \"Plan\" tab, only three cells are unlocked. You can select the foreman's name (and optionally the Superintendent and EHS Professional) for printing purposes."]
[]
[null,null,"In the \"Links\" and \"Controls\" tabs, default hazards, controls and their links are locked.  However you can add additional links and controls where needed."]
[]
[]
[null,null,"Limitations"]
[null,null,"This work plan tool is only as good as the specific data entered, as well as the data preloaded. Tasks which are unique to a specific jobsite should have tailored hazards and controls. This tool is able to create such customization."]
[]
[null,null,"There is a set maximum for triggers and hazards. You cannot exceed the space provided. If necessary, you can delete items that are not needed and replace them with others."]
[]
[null,null,"Only 50 Hazards can be printed on a plan."]
[null,null,"If there are no Environmental Aspects, then 2 blank pages will be found in between the plan pages 4 and 5.  If there are fewer than 7 Environmental Aspects, then 1 blank page will be found between plan pages 5 and 6.  Only the first 12 Environmental Aspects will print in the plan."]
[]
[]
[]
[null,null,"Contact"]
[]
[null,null,"If you need assistance with this tool, please contact:",null,null,null,null,null,"Nicholas.Bishop@Skanska.com"]
[null,null,"Contact him with any questions, comments or concerns about this tool.  Note:  If you add more than 20 new hazards on the Controls tab, you will need him to \"unhide\" some rows on tab 4 and some columns on the Links tab, to expose all of the added entries.  \n \nIn addition, please email him about any new equipment, tools, materials, etc., as well as hazards, controls, and PPE that should be added to the tool. This will allow us to share approved changes with teams working on other projects. "]

{"sheet":"1","index":1,"n_rows":309,"n_cols":17,"rows_kept":309,"cut":false,"hidden":false,"merged":[[263,2,266,2],[263,3,266,6],[275,2,278,2],[275,3,278,6],[287,2,290,2],[287,3,290,6],[299,2,302,2],[299,3,302,6],[285,2,286,2],[285,3,286,6],[297,2,298,2],[297,3,298,6],[215,2,218,2],[215,3,218,6],[227,2,230,2],[227,3,230,6],[239,2,242,2],[239,3,242,6],[237,3,238,6],[251,2,254,2],[251,3,254,6],[141,3,142,6],[153,2,154,2],[153,3,154,6],[125,2,128,2],[125,3,128,6],[136,2,136,6],[83,2,86,2],[83,3,86,6],[95,2,98,2],[95,3,98,6],[107,2,110,2],[107,3,110,6],[119,2,122,2],[119,3,122,6],[131,2,134,2],[131,3,134,6],[117,3,118,6],[129,2,130,2],[129,3,130,6],[155,2,158,2],[155,3,158,6],[167,2,170,2],[167,3,170,6],[179,2,182,2],[179,3,182,6],[308,0,308,18],[0,0,0,1],[20,1,20,6],[22,1,24,6],[1,0,2,6],[8,3,8,4],[100,2,100,6],[101,2,104,2],[101,3,104,6],[112,2,112,6],[113,2,116,2],[113,3,116,6],[124,2,124,6],[165,2,166,2],[165,3,166,6],[148,2,148,6],[149,2,152,2],[149,3,152,6],[10,3,10,4],[28,1,39,4],[28,6,39,6],[12,3,12,4],[14,3,14,4],[10,1,14,2],[281,2,284,2],[281,3,284,6],[220,2,220,6],[221,2,224,2],[221,3,224,6],[269,3,272,6],[225,2,226,2],[225,3,226,6],[232,2,232,6],[257,3,260,6],[233,2,236,2],[233,3,236,6],[244,2,244,6],[245,2,248,2],[245,3,248,6],[237,2,238,2],[137,2,140,2],[137,3,140,6],[161,3,164,6],[172,2,172,6],[209,3,212,6],[196,2,196,6],[89,3,92,6],[197,2,200,2],[197,3,200,6],[208,2,208,6],[105,2,106,2],[105,3,106,6],[117,2,118,2],[189,2,190,2],[141,2,142,2],[173,2,176,2],[173,3,176,6],[184,2,184,6],[185,2,188,2],[185,3,188,6],[177,2,178,2],[177,3,178,6],[160,2,160,6],[161,2,164,2],[143,2,146,2],[143,3,146,6],[81,2,82,2],[81,3,82,6],[93,2,94,2],[93,3,94,6],[137,13,137,14],[77,2,80,2],[77,3,80,6],[88,2,88,6],[89,2,92,2],[42,5,56,6],[43,2,46,3],[48,2,51,3],[53,2,56,3],[65,2,68,2],[65,3,68,6],[60,1,63,6],[64,2,64,6],[76,2,76,6],[71,2,74,2],[71,3,74,6],[69,2,70,2],[69,3,70,6],[189,3,190,6],[201,2,202,2],[201,3,202,6],[213,2,214,2],[213,3,214,6],[292,2,292,6],[293,2,296,2],[293,3,296,6],[249,3,250,6],[261,2,262,2],[261,3,262,6],[268,2,268,6],[269,2,272,2],[280,2,280,6],[256,2,256,6],[257,2,260,2],[273,2,274,2],[273,3,274,6],[209,2,212,2],[249,2,250,2],[191,2,194,2],[191,3,194,6],[203,2,206,2],[203,3,206,6]]}
[1,null," Project Safety & Environmental",null,null,null,null,null,{"$f":"CONCATENATE('1'!B21,\", \",Plan!E82,Plan!L82,Plan!M82,Plan!N82)","v":"Hard Hat, Safety Glasses, Safety Toe Work Boots, Safety Vest, Task Appropriate Gloves, "},null,null,null,null,null,null,{"$f":"PROPER(CONCATENATE(Q35,Q65,Q125))","v":"Hard Hat, Safety Glasses, Safety Toe Work Boots, Safety Vest, Task Appropriate Gloves, "},{"$f":"MID(P1,1,P2-2)","v":"Hard Hat, Safety Glasses, Safety Toe Work Boots, Safety Vest, Task Appropriate Gloves"}]
["The information on this tab should be the same for all plans for the project. This tab should be filled out by the Site EHS Department for the template plan at each jobsite.",null,null,null,null,null,null,null,null,null,null,null,null,null,null,{"$f":"LEN(P1)","v":87}]
[null,null,null,null,null,null,null,null,"locations of commas","items between commas","spaces before","spaces after","unique?","removed spaces & lower",null,"removed doubles, added comma space"]
[null,null,null,null,null,null,null,null,{"$f":"FIND(\",\",I1,1)","v":9},{"$f":"LEFT(I1,I4-1)","v":"Hard Hat"},{"$f":"IF(LEFT(J4,5)=\"     \",5,IF(LEFT(J4,4)=\"    \",4,IF(LEFT(J4,3)=\"   \",3,IF(LEFT(J4,2)=\"  \",2,IF(LEFT(J4,1)=\" \",1,0)))))","v":0},{"$f":"IF(RIGHT(J4,5)=\"     \",5,IF(RIGHT(J4,4)=\"    \",4,IF(RIGHT(J4,3)=\"   \",3,IF(RIGHT(J4,2)=\"  \",2,IF(RIGHT(J4,1)=\" \",1,0)))))","v":0},{"$f":"IF(N4=\"\",0,1)","v":1},{"$f":"IF(K4+L4>LEN(J4),\"\",LOWER(MID(J4,K4+1,LEN(J4)-K4-L4)))","v":"hard hat"},1,{"$f":"IF(IF(O4>M$129,\"\",VLOOKUP(O4,$M$4:$N$127,2,FALSE))=\"\",\"\",CONCATENATE(IF(O4>M$129,\"\",VLOOKUP(O4,$M$4:$N$127,2,FALSE)),\", \"))","v":"hard hat, "}]
[null,"Business Unit",null,"Civil","   Select",{"$f":"IF(Business_Unit_Name=0,\"\",VLOOKUP(Business_Unit_Name,I139:K140,2,FALSE))","v":"C"},null,null,{"$f":"IF(I4=\"N/A\",\"N/A\",IF(I4+1=LEN(I$1),\"N/A\",FIND(\",\",I$1,I4+1)))","v":25},{"$f":"IF(I5=\"N/A\",\"\",MID(I$1,I4+1,I5-I4-1))","v":" Safety Glasses"},1,{"$f":"IF(RIGHT(J5,5)=\"     \",5,IF(RIGHT(J5,4)=\"    \",4,IF(RIGHT(J5,3)=\"   \",3,IF(RIGHT(J5,2)=\"  \",2,IF(RIGHT(J5,1)=\" \",1,0)))))","v":0},{"$f":"IF(N5=\"\",0,IF(COUNTIF(N$4:N4,N5)=0,MAX(M$4:M4)+1,0))","v":2},{"$f":"IF(K5+L5>LEN(J5),\"\",LOWER(MID(J5,K5+1,LEN(J5)-K5-L5)))","v":"safety glasses"},{"$f":"O4+1","v":2},"safety glasses, "]
[null,null,null,null,null,null,null,null,{"$f":"IF(I5=\"N/A\",\"N/A\",IF(I5+1=LEN(I$1),\"N/A\",FIND(\",\",I$1,I5+1)))","v":48},{"$f":"IF(I6=\"N/A\",\"\",MID(I$1,I5+1,I6-I5-1))","v":" Safety Toe Work Boots"},1,{"$f":"IF(RIGHT(J6,5)=\"     \",5,IF(RIGHT(J6,4)=\"    \",4,IF(RIGHT(J6,3)=\"   \",3,IF(RIGHT(J6,2)=\"  \",2,IF(RIGHT(J6,1)=\" \",1,0)))))","v":0},{"$f":"IF(N6=\"\",0,IF(COUNTIF(N$4:N5,N6)=0,MAX(M$4:M5)+1,0))","v":3},{"$f":"IF(K6+L6>LEN(J6),\"\",LOWER(MID(J6,K6+1,LEN(J6)-K6-L6)))","v":"safety toe work boots"},{"$f":"O5+1","v":3},"safety toe work boots, "]
[null,"Project Number",null,"1213126-"," ",null,null,null,{"$f":"IF(I6=\"N/A\",\"N/A\",IF(I6+1=LEN(I$1),\"N/A\",FIND(\",\",I$1,I6+1)))","v":61},{"$f":"IF(I7=\"N/A\",\"\",MID(I$1,I6+1,I7-I6-1))","v":" Safety Vest"},1,{"$f":"IF(RIGHT(J7,5)=\"     \",5,IF(RIGHT(J7,4)=\"    \",4,IF(RIGHT(J7,3)=\"   \",3,IF(RIGHT(J7,2)=\"  \",2,IF(RIGHT(J7,1)=\" \",1,0)))))","v":0},{"$f":"IF(N7=\"\",0,IF(COUNTIF(N$4:N6,N7)=0,MAX(M$4:M6)+1,0))","v":4},{"$f":"IF(K7+L7>LEN(J7),\"\",LOWER(MID(J7,K7+1,LEN(J7)-K7-L7)))","v":"safety vest"},{"$f":"O6+1","v":4},"safety vest, "]
[null,null,null,null,null,null,null,null,{"$f":"IF(I7=\"N/A\",\"N/A\",IF(I7+1=LEN(I$1),\"N/A\",FIND(\",\",I$1,I7+1)))","v":86},{"$f":"IF(I8=\"N/A\",\"\",MID(I$1,I7+1,I8-I7-1))","v":" Task Appropriate Gloves"},1,{"$f":"IF(RIGHT(J8,5)=\"     \",5,IF(RIGHT(J8,4)=\"    \",4,IF(RIGHT(J8,3)=\"   \",3,IF(RIGHT(J8,2)=\"  \",2,IF(RIGHT(J8,1)=\" \",1,0)))))","v":0},{"$f":"IF(N8=\"\",0,IF(COUNTIF(N$4:N7,N8)=0,MAX(M$4:M7)+1,0))","v":5},{"$f":"IF(K8+L8>LEN(J8),\"\",LOWER(MID(J8,K8+1,LEN(J8)-K8-L8)))","v":"task appropriate gloves"},{"$f":"O7+1","v":5},"task appropriate gloves, "]
[null,"Project Name",null,"LGA - Redevelopment",null,null,null,null,"N/A","",0,0,{"$f":"IF(N9=\"\",0,IF(COUNTIF(N$4:N8,N9)=0,MAX(M$4:M8)+1,0))","v":0},"",6,""]
[null,null,null,null,null,null,null,null,"N/A","",0,0,{"$f":"IF(N10=\"\",0,IF(COUNTIF(N$4:N9,N10)=0,MAX(M$4:M9)+1,0))","v":0},"",7,""]
[null,"Project Manager(s)",null,null,null,null,null,null,"N/A","",0,0,{"$f":"IF(N11=\"\",0,IF(COUNTIF(N$4:N10,N11)=0,MAX(M$4:M10)+1,0))","v":0},"",8,""]
[null,null,null,null,null,null,null,null,"N/A","",0,0,{"$f":"IF(N12=\"\",0,IF(COUNTIF(N$4:N11,N12)=0,MAX(M$4:M11)+1,0))","v":0},"",9,""]
[null,null,null,null,null,null,null,null,"N/A","",0,0,{"$f":"IF(N13=\"\",0,IF(COUNTIF(N$4:N12,N13)=0,MAX(M$4:M12)+1,0))","v":0},"",10,""]
[null,null,null,null,null,null,null,null,"N/A","",0,0,{"$f":"IF(N14=\"\",0,IF(COUNTIF(N$4:N13,N14)=0,MAX(M$4:M13)+1,0))","v":0},"",11,""]
[null,null,null,null,null,null,null," ","N/A","",0,0,{"$f":"IF(N15=\"\",0,IF(COUNTIF(N$4:N14,N15)=0,MAX(M$4:M14)+1,0))","v":0},"",12,""]
[null,null,null,null,null,null,null,null,"N/A","",0,0,{"$f":"IF(N16=\"\",0,IF(COUNTIF(N$4:N15,N16)=0,MAX(M$4:M15)+1,0))","v":0},"",13,""]
[null,"Project State",null,"New York","Select",{"$f":"IF(Project_State=0,\"\",VLOOKUP(Project_State,N139:O194,2,FALSE))","v":"NY"}]
[]
[null,"Standard Personal Protective Equipment",null,null,null,null,null,null,{"$f":"IF(I16=\"N/A\",\"N/A\",IF(I16+1=LEN(I$1),\"N/A\",FIND(\",\",I$1,I16+1)))","v":"N/A"},{"$f":"IF(I19=\"N/A\",\"\",MID(I$1,I16+1,I19-I16-1))","v":""},0,0,{"$f":"IF(N19=\"\",0,IF(COUNTIF(N$4:N16,N19)=0,MAX(M$4:M16)+1,0))","v":0},"",{"$f":"O16+1","v":14},{"$f":"IF(IF(O19>M$129,\"\",VLOOKUP(O19,$M$4:$N$127,2,FALSE))=\"\",\"\",CONCATENATE(IF(O19>M$129,\"\",VLOOKUP(O19,$M$4:$N$127,2,FALSE)),\", \"))","v":""}]
[null,null,null,null,null,null,null,null,"N/A","",0,0,{"$f":"IF(N20=\"\",0,IF(COUNTIF(N$4:N19,N20)=0,MAX(M$4:M19)+1,0))","v":0},"",15,""]
[null,"Hard Hat, Safety Glasses, Safety Toe Work Boots, Safety Vest, Task Appropriate Gloves",null,null,null,null,null,null,"N/A","",0,0,{"$f":"IF(N21=\"\",0,IF(COUNTIF(N$4:N20,N21)=0,MAX(M$4:M20)+1,0))","v":0},"",16,""]
[null,null,null,null,null,null,null,null,"N/A","",0,0,{"$f":"IF(N22=\"\",0,IF(COUNTIF(N$4:N21,N22)=0,MAX(M$4:M21)+1,0))","v":0},"",17,""]
[null,"This area is designated for all mandatory PPE required to work on site. Examples of the PPE that should be entered in this box are \"Hard Hat, Safety Glasses, Safety Toe Work Boots, Safety Vest, Task Appropriate Gloves.\" Hazard specific PPE (such as respirators and fall protection harnesses) will be added as the plan creation process continues.",null,null,null,null,null,null,"N/A","",0,0,{"$f":"IF(N23=\"\",0,IF(COUNTIF(N$4:N22,N23)=0,MAX(M$4:M22)+1,0))","v":0},"",18,""]
[null,null,null,null,null,null,null,null,"N/A","",0,0,{"$f":"IF(N24=\"\",0,IF(COUNTIF(N$4:N23,N24)=0,MAX(M$4:M23)+1,0))","v":0},"",19,""]
[null,null,null,null,null,null,null,null,"N/A","",0,0,{"$f":"IF(N25=\"\",0,IF(COUNTIF(N$4:N24,N25)=0,MAX(M$4:M24)+1,0))","v":0},"",20,""]
[null,null,null,null,null,null,null,null,"N/A","",0,0,{"$f":"IF(N26=\"\",0,IF(COUNTIF(N$4:N25,N26)=0,MAX(M$4:M25)+1,0))","v":0},"",21,""]
[null,"Emergency Action Plan",null,null,null,null,null,null,"N/A","",0,0,{"$f":"IF(N27=\"\",0,IF(COUNTIF(N$4:N26,N27)=0,MAX(M$4:M26)+1,0))","v":0},"",22,""]
[null,null,null,null,null,null,null,null,"N/A","",0,0,{"$f":"IF(N28=\"\",0,IF(COUNTIF(N$4:N27,N28)=0,MAX(M$4:M27)+1,0))","v":0},"",23,""]
[null,"For medical attention, alert supervisors\nMike Kelly 917-418-3559\nMike Ceglio 917-482-6669\nGreg Masciotti - 347-502-3070\nMuster point: Infront of the main office compound - directly across from P1. Grassy knoll.\n\nPAPD - 718-533-3911 *DO NOT CALL 911\nSWJV Emergency Hotline - 646-828-7958 \n\nCalmly make your way to the muster point location and report to your foreman. Foreman will then report to the head count adminster. The head count adminster will be incharge of ideniftying who is accounted for and who is missing.",null,null,null,null,"The “Emergency Action Plan” section is a condensed version of the full Emergency Action Plan. The plan is unique to each jobsite. Some typical pieces of information should be the relevant contact numbers in the order which they should be called, the relevant muster point for this work area, and any special instructions for special cases such as the owner’s emergency PA system.\n\nKeep in mind that this section should be concise, specific and contain information that is relevant to the workers in the field.\n\nPress F2 or double-click with a mouse to edit this box.  Use the down arrow key or a mouse click to go to a lower line in the box.  Press Alt / Enter to insert a \"carriage return\" to a new line.",null,"N/A","",0,0,{"$f":"IF(N29=\"\",0,IF(COUNTIF(N$4:N28,N29)=0,MAX(M$4:M28)+1,0))","v":0},"",24,""]
[null,null,null,null,null,null,null,null,"N/A","",0,0,{"$f":"IF(N30=\"\",0,IF(COUNTIF(N$4:N29,N30)=0,MAX(M$4:M29)+1,0))","v":0},"",25,""]
[null,null,null,null,null,null,null,null,"N/A","",0,0,{"$f":"IF(N31=\"\",0,IF(COUNTIF(N$4:N30,N31)=0,MAX(M$4:M30)+1,0))","v":0},"",26,""]
[null,null,null,null,null,null,null,null,"N/A","",0,0,{"$f":"IF(N32=\"\",0,IF(COUNTIF(N$4:N31,N32)=0,MAX(M$4:M31)+1,0))","v":0},"",27,""]
[null,null,null,null,null,null,null,null,"N/A","",0,0,{"$f":"IF(N33=\"\",0,IF(COUNTIF(N$4:N32,N33)=0,MAX(M$4:M32)+1,0))","v":0},"",28,""]
[null,null,null,null,null,null,null,null,"N/A","",0,0,{"$f":"IF(N34=\"\",0,IF(COUNTIF(N$4:N33,N34)=0,MAX(M$4:M33)+1,0))","v":0},"",29,""]
[null,null,null,null,null,null,null,null,"N/A","",0,0,{"$f":"IF(N35=\"\",0,IF(COUNTIF(N$4:N34,N35)=0,MAX(M$4:M34)+1,0))","v":0},"",30,"",{"$f":"CONCATENATE(P4,P5,P6,P7,P8,P9,P10,P11,P12,P13,P14,P15,P16,P19,P20,P21,P22,P23,P24,P25,P26,P27,P28,P29,P30,P31,P32,P33,P34,P35)","v":"hard hat, safety glasses, safety toe work boots, safety vest, task appropriate gloves, "}]
[null,null,null,null,null,null,null,null,"N/A","",0,0,{"$f":"IF(N36=\"\",0,IF(COUNTIF(N$4:N35,N36)=0,MAX(M$4:M35)+1,0))","v":0},"",31,""]
[null,null,null,null,null,null,null,null,"N/A","",0,0,{"$f":"IF(N37=\"\",0,IF(COUNTIF(N$4:N36,N37)=0,MAX(M$4:M36)+1,0))","v":0},"",32,""]
[null,null,null,null,null,null,null,null,"N/A","",0,0,{"$f":"IF(N38=\"\",0,IF(COUNTIF(N$4:N37,N38)=0,MAX(M$4:M37)+1,0))","v":0},"",33,""]
[null,null,null,null,null,null,null,null,"N/A","",0,0,{"$f":"IF(N39=\"\",0,IF(COUNTIF(N$4:N38,N39)=0,MAX(M$4:M38)+1,0))","v":0},"",34,""]
[null,null,null,null,null,null,null,null,"N/A","",0,0,{"$f":"IF(N40=\"\",0,IF(COUNTIF(N$4:N39,N40)=0,MAX(M$4:M39)+1,0))","v":0},"",35,""]
[null,null,null,null,null,null,null,null,"N/A","",0,0,{"$f":"IF(N41=\"\",0,IF(COUNTIF(N$4:N40,N41)=0,MAX(M$4:M40)+1,0))","v":0},"",36,""]
[null,"Site Specific Hazards & Controls",null,null,null,null,null,null,"N/A","",0,0,{"$f":"IF(N42=\"\",0,IF(COUNTIF(N$4:N41,N42)=0,MAX(M$4:M41)+1,0))","v":0},"",37,""]
[null,null,null,null,null,"This section is designated for Site Specific Hazards & Controls, meaning hazards that are present for every task on the project. Therefore, the entered information will appear on all plans for the jobsite.\n\nA typical example would be biological hazards at a sewage treatment plant job. All plans at this job site should address the health risk for working near sewage, and how to address. \n\nFurther detailed information would be found in the hazard analysis section. This area allows you to bring to everyone’s attention some key concerns on the front page of the plan. Please note that unused spaces can be left blank.",null,null,"N/A","",0,0,{"$f":"IF(N43=\"\",0,IF(COUNTIF(N$4:N42,N43)=0,MAX(M$4:M42)+1,0))","v":0},"",38,""]
[null,"1) ","Traffic and heavy equipment. Always use the cross walks and make eye contact with the operator before crossing a street or walking by equip.",null,null,null,null,null,"N/A","",0,0,{"$f":"IF(N44=\"\",0,IF(COUNTIF(N$4:N43,N44)=0,MAX(M$4:M43)+1,0))","v":0},"",39,""]
[null,null,null,null,null,null,null,null,"N/A","",0,0,{"$f":"IF(N45=\"\",0,IF(COUNTIF(N$4:N44,N45)=0,MAX(M$4:M44)+1,0))","v":0},"",40,""]
[null,null,null,null,null,null,null,null,"N/A","",0,0,{"$f":"IF(N46=\"\",0,IF(COUNTIF(N$4:N45,N46)=0,MAX(M$4:M45)+1,0))","v":0},"",41,""]
[null,null,null,null,null,null,null,null,"N/A","",0,0,{"$f":"IF(N47=\"\",0,IF(COUNTIF(N$4:N46,N47)=0,MAX(M$4:M46)+1,0))","v":0},"",42,""]
[null,null,null,null,null,null,null,null,"N/A","",0,0,{"$f":"IF(N48=\"\",0,IF(COUNTIF(N$4:N47,N48)=0,MAX(M$4:M47)+1,0))","v":0},"",43,""]
[null,"2) ","Fall Hazards- 100% tie off required whenever there is a fall hazard present. Always look at the RISK and NOT the RULE!",null,null,null,null,null,"N/A","",0,0,{"$f":"IF(N49=\"\",0,IF(COUNTIF(N$4:N48,N49)=0,MAX(M$4:M48)+1,0))","v":0},"",44,""]
[null,null,null,null,null,null,null,null,"N/A","",0,0,{"$f":"IF(N50=\"\",0,IF(COUNTIF(N$4:N49,N50)=0,MAX(M$4:M49)+1,0))","v":0},"",45,""]
[null,null,null,null,null,null,null,null,"N/A","",0,0,{"$f":"IF(N51=\"\",0,IF(COUNTIF(N$4:N50,N51)=0,MAX(M$4:M50)+1,0))","v":0},"",46,""]
[null,null,null,null,null,null,null,null,"N/A","",0,0,{"$f":"IF(N52=\"\",0,IF(COUNTIF(N$4:N51,N52)=0,MAX(M$4:M51)+1,0))","v":0},"",47,""]
[null,null,null,null,null,null,null,null,"N/A","",0,0,{"$f":"IF(N53=\"\",0,IF(COUNTIF(N$4:N52,N53)=0,MAX(M$4:M52)+1,0))","v":0},"",48,""]
[null,"3) ","Be aware of changing access points. Discuss access/egress during daily hazard analysis.",null,null,null,null,null,"N/A","",0,0,{"$f":"IF(N54=\"\",0,IF(COUNTIF(N$4:N53,N54)=0,MAX(M$4:M53)+1,0))","v":0},"",49,""]
[null,null,null,null,null,null,null,null,"N/A","",0,0,{"$f":"IF(N55=\"\",0,IF(COUNTIF(N$4:N54,N55)=0,MAX(M$4:M54)+1,0))","v":0},"",50,""]
[null,null,null,null,null,null,null,null,"N/A","",0,0,{"$f":"IF(N56=\"\",0,IF(COUNTIF(N$4:N55,N56)=0,MAX(M$4:M55)+1,0))","v":0},"",51,""]
[null,null,null,null,null,null,null,null,"N/A","",0,0,{"$f":"IF(N57=\"\",0,IF(COUNTIF(N$4:N56,N57)=0,MAX(M$4:M56)+1,0))","v":0},"",52,""]
[null,null,null,null,null,null,null,null,"N/A","",0,0,{"$f":"IF(N58=\"\",0,IF(COUNTIF(N$4:N57,N58)=0,MAX(M$4:M57)+1,0))","v":0},"",53,""]
[null,null,null,null,null,null,null,null,"N/A","",0,0,{"$f":"IF(N59=\"\",0,IF(COUNTIF(N$4:N58,N59)=0,MAX(M$4:M58)+1,0))","v":0},"",54,""]
[null,"Environmental Aspects",null,null,null,null,null,null,"N/A","",0,0,{"$f":"IF(N60=\"\",0,IF(COUNTIF(N$4:N59,N60)=0,MAX(M$4:M59)+1,0))","v":0},"",55,""]
[null,"This section holds the Objectives and Targets for specific Environmental Aspects. \n     The Objectives are set by the Skanska Corporate EHS Department. \n     Enter project specific targets that are measurable (where practical.)\n     You can enter additional Environmental Aspects in the fields below those provided.",null,null,null,null,null,null,"N/A","",0,0,{"$f":"IF(N61=\"\",0,IF(COUNTIF(N$4:N60,N61)=0,MAX(M$4:M60)+1,0))","v":0},"",56,""]
[null,null,null,null,null,null,null,null,"N/A","",0,0,{"$f":"IF(N62=\"\",0,IF(COUNTIF(N$4:N61,N62)=0,MAX(M$4:M61)+1,0))","v":0},"",57,""]
[null,null,null,null,null,null,null,null,"N/A","",0,0,{"$f":"IF(N63=\"\",0,IF(COUNTIF(N$4:N62,N63)=0,MAX(M$4:M62)+1,0))","v":0},"",58,""]
[null,null,null,null,null,null,null,null,"N/A","",0,0,{"$f":"IF(N64=\"\",0,IF(COUNTIF(N$4:N63,N64)=0,MAX(M$4:M63)+1,0))","v":0},"",59,""]
[null,null,"Archaeological, Cultural and Historic",null,null,null,null,null,"N/A","",0,0,{"$f":"IF(N65=\"\",0,IF(COUNTIF(N$4:N64,N65)=0,MAX(M$4:M64)+1,0))","v":0},"",60,"",{"$f":"CONCATENATE(P36,P37,P38,P39,P40,P41,P42,P43,P44,P45,P46,P47,P48,P49,P50,P51,P52,P53,P54,P55,P56,P57,P58,P59,P60,P61,P62,P63,P64,P65)","v":""}]
[null,null,"Objective","To prevent any negative impacts to and preserve all significant Archaeological, Cultural, and Historical sensitive areas on our projects while conducting construction-related activities",null,null,null,null,"N/A","",0,0,{"$f":"IF(N66=\"\",0,IF(COUNTIF(N$4:N65,N66)=0,MAX(M$4:M65)+1,0))","v":0},"",61,""]
[]
[null,null,null,null,null,null,null,null,{"$f":"IF(I66=\"N/A\",\"N/A\",IF(I66+1=LEN(I$1),\"N/A\",FIND(\",\",I$1,I66+1)))","v":"N/A"},{"$f":"IF(I68=\"N/A\",\"\",MID(I$1,I66+1,I68-I66-1))","v":""},0,0,{"$f":"IF(N68=\"\",0,IF(COUNTIF(N$4:N66,N68)=0,MAX(M$4:M66)+1,0))","v":0},"",{"$f":"O66+1","v":62},{"$f":"IF(IF(O68>M$129,\"\",VLOOKUP(O68,$M$4:$N$127,2,FALSE))=\"\",\"\",CONCATENATE(IF(O68>M$129,\"\",VLOOKUP(O68,$M$4:$N$127,2,FALSE)),\", \"))","v":""}]
[null,null,null,null,null,null,null,null,"N/A","",0,0,{"$f":"IF(N69=\"\",0,IF(COUNTIF(N$4:N68,N69)=0,MAX(M$4:M68)+1,0))","v":0},"",63,{"$f":"IF(IF(O69>M$129,\"\",VLOOKUP(O69,$M$4:$N$127,2,FALSE))=\"\",\"\",CONCATENATE(IF(O69>M$129,\"\",VLOOKUP(O69,$M$4:$N$127,2,FALSE)),\", \"))","v":""}]
[null,null,"Target","To have zero incidents involving all existing archaeological, cultural and historcal aspects of the project.",null,null,null,null,"N/A","",0,0,{"$f":"IF(N70=\"\",0,IF(COUNTIF(N$4:N69,N70)=0,MAX(M$4:M69)+1,0))","v":0},"",64,{"$f":"IF(IF(O70>M$129,\"\",VLOOKUP(O70,$M$4:$N$127,2,FALSE))=\"\",\"\",CONCATENATE(IF(O70>M$129,\"\",VLOOKUP(O70,$M$4:$N$127,2,FALSE)),\", \"))","v":""}]
[]
[null,null,"Method to Achieve","Create project-specific  Archaeological, Cultural and Historic TBT to communicate awareness to staff on a quarterly basis ."]
[]
[]
[]
[null,null,null,null,null,null,null,null,{"$f":"IF(I70=\"N/A\",\"N/A\",IF(I70+1=LEN(I$1),\"N/A\",FIND(\",\",I$1,I70+1)))","v":"N/A"},{"$f":"IF(I76=\"N/A\",\"\",MID(I$1,I70+1,I76-I70-1))","v":""},{"$f":"IF(LEFT(J76,5)=\"     \",5,IF(LEFT(J76,4)=\"    \",4,IF(LEFT(J76,3)=\"   \",3,IF(LEFT(J76,2)=\"  \",2,IF(LEFT(J76,1)=\" \",1,0)))))","v":0},0,{"$f":"IF(N76=\"\",0,IF(COUNTIF(N$4:N70,N76)=0,MAX(M$4:M70)+1,0))","v":0},"",{"$f":"O70+1","v":65},{"$f":"IF(IF(O76>M$129,\"\",VLOOKUP(O76,$M$4:$N$127,2,FALSE))=\"\",\"\",CONCATENATE(IF(O76>M$129,\"\",VLOOKUP(O76,$M$4:$N$127,2,FALSE)),\", \"))","v":""}]
[null,null,"Community Impacts:  Transportation, Traffic Circulation & Economic",null,null,null,null,null,"N/A","",0,0,{"$f":"IF(N77=\"\",0,IF(COUNTIF(N$4:N76,N77)=0,MAX(M$4:M76)+1,0))","v":0},"",66,{"$f":"IF(IF(O77>M$129,\"\",VLOOKUP(O77,$M$4:$N$127,2,FALSE))=\"\",\"\",CONCATENATE(IF(O77>M$129,\"\",VLOOKUP(O77,$M$4:$N$127,2,FALSE)),\", \"))","v":""}]
[null,null,"Objective","To ensure that we perform the necessary evaluation of construction-related activities in order to develop programs that will mitigate negative impacts to the local transportation systems, traffic patterns and the economic viability of the communities where we build",null,null,null,null,"N/A","",0,0,{"$f":"IF(N78=\"\",0,IF(COUNTIF(N$4:N77,N78)=0,MAX(M$4:M77)+1,0))","v":0},"",67,{"$f":"IF(IF(O78>M$129,\"\",VLOOKUP(O78,$M$4:$N$127,2,FALSE))=\"\",\"\",CONCATENATE(IF(O78>M$129,\"\",VLOOKUP(O78,$M$4:$N$127,2,FALSE)),\", \"))","v":""}]
[null,null,null,null,null,null,null,null,"N/A","",0,0,{"$f":"IF(N79=\"\",0,IF(COUNTIF(N$4:N78,N79)=0,MAX(M$4:M78)+1,0))","v":0},"",68,{"$f":"IF(IF(O79>M$129,\"\",VLOOKUP(O79,$M$4:$N$127,2,FALSE))=\"\",\"\",CONCATENATE(IF(O79>M$129,\"\",VLOOKUP(O79,$M$4:$N$127,2,FALSE)),\", \"))","v":""}]
[]
[null,null,null,null,null,null,null,null,{"$f":"IF(I79=\"N/A\",\"N/A\",IF(I79+1=LEN(I$1),\"N/A\",FIND(\",\",I$1,I79+1)))","v":"N/A"},{"$f":"IF(I81=\"N/A\",\"\",MID(I$1,I79+1,I81-I79-1))","v":""},0,{"$f":"IF(RIGHT(J81,5)=\"     \",5,IF(RIGHT(J81,4)=\"    \",4,IF(RIGHT(J81,3)=\"   \",3,IF(RIGHT(J81,2)=\"  \",2,IF(RIGHT(J81,1)=\" \",1,0)))))","v":0},{"$f":"IF(N81=\"\",0,IF(COUNTIF(N$4:N79,N81)=0,MAX(M$4:M79)+1,0))","v":0},{"$f":"IF(K81+L81>LEN(J81),\"\",LOWER(MID(J81,K81+1,LEN(J81)-K81-L81)))","v":""},{"$f":"O79+1","v":69},{"$f":"IF(IF(O81>M$129,\"\",VLOOKUP(O81,$M$4:$N$127,2,FALSE))=\"\",\"\",CONCATENATE(IF(O81>M$129,\"\",VLOOKUP(O81,$M$4:$N$127,2,FALSE)),\", \"))","v":""}]
[null,null,"Target","To have zero vehicle / equipment/pedestrian incidents as a result of our MPT throughout the Port Authority property and neighboring community streets.",null,null,null,null,{"$f":"IF(I81=\"N/A\",\"N/A\",IF(I81+1=LEN(I$1),\"N/A\",FIND(\",\",I$1,I81+1)))","v":"N/A"},{"$f":"IF(I82=\"N/A\",\"\",MID(I$1,I81+1,I82-I81-1))","v":""},0,0,{"$f":"IF(N82=\"\",0,IF(COUNTIF(N$4:N81,N82)=0,MAX(M$4:M81)+1,0))","v":0},"",{"$f":"O81+1","v":70},{"$f":"IF(IF(O82>M$129,\"\",VLOOKUP(O82,$M$4:$N$127,2,FALSE))=\"\",\"\",CONCATENATE(IF(O82>M$129,\"\",VLOOKUP(O82,$M$4:$N$127,2,FALSE)),\", \"))","v":""}]
[]
[null,null,"Method to Achieve","Create project-specific Transportation, Traffic Circulation and Economic TBT to communicate awareness to staff on a quarterly basis. Track and investigate each community complaint related to  Transportation, Traffic Circulation and Economic impacts."]
[]
[]
[]
[null,null,null,null,null,null,null,null,{"$f":"IF(I82=\"N/A\",\"N/A\",IF(I82+1=LEN(I$1),\"N/A\",FIND(\",\",I$1,I82+1)))","v":"N/A"},{"$f":"IF(I88=\"N/A\",\"\",MID(I$1,I82+1,I88-I82-1))","v":""},0,0,{"$f":"IF(N88=\"\",0,IF(COUNTIF(N$4:N82,N88)=0,MAX(M$4:M82)+1,0))","v":0},"",{"$f":"O82+1","v":71},{"$f":"IF(IF(O88>M$129,\"\",VLOOKUP(O88,$M$4:$N$127,2,FALSE))=\"\",\"\",CONCATENATE(IF(O88>M$129,\"\",VLOOKUP(O88,$M$4:$N$127,2,FALSE)),\", \"))","v":""}]
[null,null,"Community Impacts:  Utilities",null,null,null,null,null,"N/A","",0,0,{"$f":"IF(N89=\"\",0,IF(COUNTIF(N$4:N88,N89)=0,MAX(M$4:M88)+1,0))","v":0},"",72,{"$f":"IF(IF(O89>M$129,\"\",VLOOKUP(O89,$M$4:$N$127,2,FALSE))=\"\",\"\",CONCATENATE(IF(O89>M$129,\"\",VLOOKUP(O89,$M$4:$N$127,2,FALSE)),\", \"))","v":""}]
[null,null,"Objective","To ensure that we perform the necessary evaluation of construction-related activities in order to develop programs that will mitigate negative impacts to utility services, (e.g., water, power, sewage and fiber optics) and disruptions to the community throughout the duration of the project",null,null,null,null,"N/A","",0,0,{"$f":"IF(N90=\"\",0,IF(COUNTIF(N$4:N89,N90)=0,MAX(M$4:M89)+1,0))","v":0},"",73,{"$f":"IF(IF(O90>M$129,\"\",VLOOKUP(O90,$M$4:$N$127,2,FALSE))=\"\",\"\",CONCATENATE(IF(O90>M$129,\"\",VLOOKUP(O90,$M$4:$N$127,2,FALSE)),\", \"))","v":""}]
[null,null,null,null,null,null,null,null,"N/A","",0,0,{"$f":"IF(N91=\"\",0,IF(COUNTIF(N$4:N90,N91)=0,MAX(M$4:M90)+1,0))","v":0},"",74,{"$f":"IF(IF(O91>M$129,\"\",VLOOKUP(O91,$M$4:$N$127,2,FALSE))=\"\",\"\",CONCATENATE(IF(O91>M$129,\"\",VLOOKUP(O91,$M$4:$N$127,2,FALSE)),\", \"))","v":""}]
[]
[null,null,null,null,null,null,null,null,{"$f":"IF(I91=\"N/A\",\"N/A\",IF(I91+1=LEN(I$1),\"N/A\",FIND(\",\",I$1,I91+1)))","v":"N/A"},{"$f":"IF(I93=\"N/A\",\"\",MID(I$1,I91+1,I93-I91-1))","v":""},0,0,{"$f":"IF(N93=\"\",0,IF(COUNTIF(N$4:N91,N93)=0,MAX(M$4:M91)+1,0))","v":0},"",{"$f":"O91+1","v":75},{"$f":"IF(IF(O93>M$129,\"\",VLOOKUP(O93,$M$4:$N$127,2,FALSE))=\"\",\"\",CONCATENATE(IF(O93>M$129,\"\",VLOOKUP(O93,$M$4:$N$127,2,FALSE)),\", \"))","v":""}]
[null,null,"Target","To have zero incidents involving utitlities related to our construction activities.",null,null,null,null,"N/A","",0,0,{"$f":"IF(N94=\"\",0,IF(COUNTIF(N$4:N93,N94)=0,MAX(M$4:M93)+1,0))","v":0},"",76,{"$f":"IF(IF(O94>M$129,\"\",VLOOKUP(O94,$M$4:$N$127,2,FALSE))=\"\",\"\",CONCATENATE(IF(O94>M$129,\"\",VLOOKUP(O94,$M$4:$N$127,2,FALSE)),\", \"))","v":""}]
[]
[null,null,"Method to Achieve","Create project-specific Utilities TBT to communicate awareness to staff on a quarterly basis. Require completion of “Dig Permit” prior to the start of each discrete excavation."]
[]
[]
[]
[null,null,null,null,null,null,null,null,{"$f":"IF(I94=\"N/A\",\"N/A\",IF(I94+1=LEN(I$1),\"N/A\",FIND(\",\",I$1,I94+1)))","v":"N/A"},{"$f":"IF(I100=\"N/A\",\"\",MID(I$1,I94+1,I100-I94-1))","v":""},0,0,{"$f":"IF(N100=\"\",0,IF(COUNTIF(N$4:N94,N100)=0,MAX(M$4:M94)+1,0))","v":0},"",{"$f":"O94+1","v":77},{"$f":"IF(IF(O100>M$129,\"\",VLOOKUP(O100,$M$4:$N$127,2,FALSE))=\"\",\"\",CONCATENATE(IF(O100>M$129,\"\",VLOOKUP(O100,$M$4:$N$127,2,FALSE)),\", \"))","v":""}]
[null,null,"Dewatering",null,null,null,null,null,"N/A","",0,0,{"$f":"IF(N101=\"\",0,IF(COUNTIF(N$4:N100,N101)=0,MAX(M$4:M100)+1,0))","v":0},"",78,{"$f":"IF(IF(O101>M$129,\"\",VLOOKUP(O101,$M$4:$N$127,2,FALSE))=\"\",\"\",CONCATENATE(IF(O101>M$129,\"\",VLOOKUP(O101,$M$4:$N$127,2,FALSE)),\", \"))","v":""}]
[null,null,"Objective","To ensure that we perform the necessary evaluation of construction-related activities and identify where discharge  from existing dewatering operations can be utilized for site dust control or similar needs throughout the duration of the project. In addition to reducing the amount of water discharged directly/indirectly into waters of the United States as a result of our work",null,null,null,null,"N/A","",0,0,{"$f":"IF(N102=\"\",0,IF(COUNTIF(N$4:N101,N102)=0,MAX(M$4:M101)+1,0))","v":0},"",79,{"$f":"IF(IF(O102>M$129,\"\",VLOOKUP(O102,$M$4:$N$127,2,FALSE))=\"\",\"\",CONCATENATE(IF(O102>M$129,\"\",VLOOKUP(O102,$M$4:$N$127,2,FALSE)),\", \"))","v":""}]
[null,null,null,null,null,null,null,null,"N/A","",0,0,{"$f":"IF(N103=\"\",0,IF(COUNTIF(N$4:N102,N103)=0,MAX(M$4:M102)+1,0))","v":0},"",80,{"$f":"IF(IF(O103>M$129,\"\",VLOOKUP(O103,$M$4:$N$127,2,FALSE))=\"\",\"\",CONCATENATE(IF(O103>M$129,\"\",VLOOKUP(O103,$M$4:$N$127,2,FALSE)),\", \"))","v":""}]
[]
[null,null,null,null,null,null,null,null,{"$f":"IF(I103=\"N/A\",\"N/A\",IF(I103+1=LEN(I$1),\"N/A\",FIND(\",\",I$1,I103+1)))","v":"N/A"},{"$f":"IF(I105=\"N/A\",\"\",MID(I$1,I103+1,I105-I103-1))","v":""},0,0,{"$f":"IF(N105=\"\",0,IF(COUNTIF(N$4:N103,N105)=0,MAX(M$4:M103)+1,0))","v":0},"",{"$f":"O103+1","v":81},{"$f":"IF(IF(O105>M$129,\"\",VLOOKUP(O105,$M$4:$N$127,2,FALSE))=\"\",\"\",CONCATENATE(IF(O105>M$129,\"\",VLOOKUP(O105,$M$4:$N$127,2,FALSE)),\", \"))","v":""}]
[null,null,"Target","Discharge water within the required limits as specified on our dewatering permit. ",null,null,null,null,"N/A","",0,0,{"$f":"IF(N106=\"\",0,IF(COUNTIF(N$4:N105,N106)=0,MAX(M$4:M105)+1,0))","v":0},"",82,{"$f":"IF(IF(O106>M$129,\"\",VLOOKUP(O106,$M$4:$N$127,2,FALSE))=\"\",\"\",CONCATENATE(IF(O106>M$129,\"\",VLOOKUP(O106,$M$4:$N$127,2,FALSE)),\", \"))","v":""}]
[]
[null,null,"Method to Achieve","Create project-specific stormwater and dewatering TBT to communicate awareness to staff on a quarterly basis. Maintain temporary controls to prevent construction related runoff from entering storm sewer inlets & water courses."]
[]
[]
[]
[null,null,null,null,null,null,null,null,{"$f":"IF(I106=\"N/A\",\"N/A\",IF(I106+1=LEN(I$1),\"N/A\",FIND(\",\",I$1,I106+1)))","v":"N/A"},{"$f":"IF(I112=\"N/A\",\"\",MID(I$1,I106+1,I112-I106-1))","v":""},0,0,{"$f":"IF(N112=\"\",0,IF(COUNTIF(N$4:N106,N112)=0,MAX(M$4:M106)+1,0))","v":0},"",{"$f":"O106+1","v":83},{"$f":"IF(IF(O112>M$129,\"\",VLOOKUP(O112,$M$4:$N$127,2,FALSE))=\"\",\"\",CONCATENATE(IF(O112>M$129,\"\",VLOOKUP(O112,$M$4:$N$127,2,FALSE)),\", \"))","v":""}]
[null,null,"Flora, Fauna and Habitat Areas (Wetlands)",null,null,null,null,null,"N/A","",0,0,{"$f":"IF(N113=\"\",0,IF(COUNTIF(N$4:N112,N113)=0,MAX(M$4:M112)+1,0))","v":0},"",84,{"$f":"IF(IF(O113>M$129,\"\",VLOOKUP(O113,$M$4:$N$127,2,FALSE))=\"\",\"\",CONCATENATE(IF(O113>M$129,\"\",VLOOKUP(O113,$M$4:$N$127,2,FALSE)),\", \"))","v":""}]
[null,null,"Objective","To ensure that we perform the necessary evaluation of construction-related activities that have the potential to negatively impact wetland areas, plant and animal species and the habitats in which they exist on our projects",null,null,null,null,"N/A","",0,0,{"$f":"IF(N114=\"\",0,IF(COUNTIF(N$4:N113,N114)=0,MAX(M$4:M113)+1,0))","v":0},"",85,{"$f":"IF(IF(O114>M$129,\"\",VLOOKUP(O114,$M$4:$N$127,2,FALSE))=\"\",\"\",CONCATENATE(IF(O114>M$129,\"\",VLOOKUP(O114,$M$4:$N$127,2,FALSE)),\", \"))","v":""}]
[null,null,null,null,null,null,null,null,"N/A","",0,0,{"$f":"IF(N115=\"\",0,IF(COUNTIF(N$4:N114,N115)=0,MAX(M$4:M114)+1,0))","v":0},"",86,{"$f":"IF(IF(O115>M$129,\"\",VLOOKUP(O115,$M$4:$N$127,2,FALSE))=\"\",\"\",CONCATENATE(IF(O115>M$129,\"\",VLOOKUP(O115,$M$4:$N$127,2,FALSE)),\", \"))","v":""}]
[]
[null,null,null,null,null,null,null,null,{"$f":"IF(I115=\"N/A\",\"N/A\",IF(I115+1=LEN(I$1),\"N/A\",FIND(\",\",I$1,I115+1)))","v":"N/A"},{"$f":"IF(I117=\"N/A\",\"\",MID(I$1,I115+1,I117-I115-1))","v":""},0,0,{"$f":"IF(N117=\"\",0,IF(COUNTIF(N$4:N115,N117)=0,MAX(M$4:M115)+1,0))","v":0},"",{"$f":"O115+1","v":87},{"$f":"IF(IF(O117>M$129,\"\",VLOOKUP(O117,$M$4:$N$127,2,FALSE))=\"\",\"\",CONCATENATE(IF(O117>M$129,\"\",VLOOKUP(O117,$M$4:$N$127,2,FALSE)),\", \"))","v":""}]
[null,null,"Target","To have zero negative impacts on animal/plant life or wetlands related to our work operations.  ",null,null,null,null,"N/A","",0,0,{"$f":"IF(N118=\"\",0,IF(COUNTIF(N$4:N117,N118)=0,MAX(M$4:M117)+1,0))","v":0},"",88,{"$f":"IF(IF(O118>M$129,\"\",VLOOKUP(O118,$M$4:$N$127,2,FALSE))=\"\",\"\",CONCATENATE(IF(O118>M$129,\"\",VLOOKUP(O118,$M$4:$N$127,2,FALSE)),\", \"))","v":""}]
[]
[null,null,"Method to Achieve","Perform pre-construction surveys to determine if plant, animal or wetlands have the potential to be effected by our operations. If so, mitigate the risk thru engineering controls."]
[]
[]
[]
[null,null,null,null,null,null,null,null,{"$f":"IF(I118=\"N/A\",\"N/A\",IF(I118+1=LEN(I$1),\"N/A\",FIND(\",\",I$1,I118+1)))","v":"N/A"},{"$f":"IF(I124=\"N/A\",\"\",MID(I$1,I118+1,I124-I118-1))","v":""},0,0,{"$f":"IF(N124=\"\",0,IF(COUNTIF(N$4:N118,N124)=0,MAX(M$4:M118)+1,0))","v":0},"",{"$f":"O118+1","v":89},{"$f":"IF(IF(O124>M$129,\"\",VLOOKUP(O124,$M$4:$N$127,2,FALSE))=\"\",\"\",CONCATENATE(IF(O124>M$129,\"\",VLOOKUP(O124,$M$4:$N$127,2,FALSE)),\", \"))","v":""}]
[null,null,"Hazardous Materials and Waste Management",null,null,null,null,null,"N/A","",0,0,{"$f":"IF(N125=\"\",0,IF(COUNTIF(N$4:N124,N125)=0,MAX(M$4:M124)+1,0))","v":0},"",90,{"$f":"IF(IF(O125>M$129,\"\",VLOOKUP(O125,$M$4:$N$127,2,FALSE))=\"\",\"\",CONCATENATE(IF(O125>M$129,\"\",VLOOKUP(O125,$M$4:$N$127,2,FALSE)),\", \"))","v":""},{"$f":"CONCATENATE(P66,P68,P69,P70,P76,P77,P78,P79,P81,P82,P88,P89,P90,P91,P93,P94,P100,P101,P102,P103,P105,P106,P112,P113,P114,P115,P117,P118,P124,P125)","v":""}]
[null,null,"Objective","To ensure that we perform the necessary assessment of construction-related activities and institute work practices that minimizes the amount of hazardous materials used or hazardous waste generated on our projects. This includes specific programs that address the proper storage, handling and disposing of materials/waste that when not addressed may negatively impact the environment. ",null,null,null,null,"N/A","",0,0,{"$f":"IF(N126=\"\",0,IF(COUNTIF(N$4:N125,N126)=0,MAX(M$4:M125)+1,0))","v":0},"",91,{"$f":"IF(IF(O126>M$129,\"\",VLOOKUP(O126,$M$4:$N$127,2,FALSE))=\"\",\"\",CONCATENATE(IF(O126>M$129,\"\",VLOOKUP(O126,$M$4:$N$127,2,FALSE)),\", \"))","v":""}]
[null,null,null,null,null,null,null,null,"N/A","",0,0,{"$f":"IF(N127=\"\",0,IF(COUNTIF(N$4:N126,N127)=0,MAX(M$4:M126)+1,0))","v":0},"",92,{"$f":"IF(IF(O127>M$129,\"\",VLOOKUP(O127,$M$4:$N$127,2,FALSE))=\"\",\"\",CONCATENATE(IF(O127>M$129,\"\",VLOOKUP(O127,$M$4:$N$127,2,FALSE)),\", \"))","v":""}]
[]
[null,null,null,null,null,null,null,null,{"$f":"IF(I127=\"N/A\",\"N/A\",IF(I127+1=LEN(I$1),\"N/A\",FIND(\",\",I$1,I127+1)))","v":"N/A"},null,null,null,{"$f":"MAX(M4:M127)","v":5}]
[null,null,"Target","To reduce the amount of Hazardous waste generated on our projects by 5% annually and to properly store hazardous chemicals in double containment; to promptly clean up spills and manage resultant waste as per applicable regulation"]
[]
[null,null,"Method to Achieve","Always strive to find environmentally friendly alternatives for hazardous chemicals. Conduct daily visual inspections of all hazardous material and waste management storage and disposal areas"]
[]
[]
[]
[]
[null,null,"Indoor Air Quality"]
[null,null,"Objective","To perform the necessary assessment of construction-related activities and ensure that measures are implemented to preserve indoor environmental air quality during construction and into occupancy phase. Measures will be of proper magnitude to ensure that  workers, adjacent contractors and members of the public are not exposed to airborne contaminants as a result of construction.",null,null,null,null,"Business Units",null,null,null,null,"States"]
[null,null,null,null,null,null,null,null,"Building","B",null,null,null,"Alabama","AL"]
[null,null,null,null,null,null,null,null,"Civil","C",null,null,null,"Alaska","AK"]
[null,null,null,null,null,null,null,null,null,null,null,null,null,"Arizona","AZ"]
[null,null,"Target","Establish a Construction IAQ monitoring schedule for construction operations which have the ability to impact indoor air quality. Verify conformance to the IAQ monitoring schedule.",null,null,null,null,null,null,null,null,null,"Arkansas","AR"]
[null,null,null,null,null,null,null,null,null,null,null,null,null,"California","CA"]
[null,null,"Method to Achieve","Maintain IAQ Monitoring Tracking Log. Always notify the owner when an operation has the potential to effect indoor air quality so appropriate engineering/admininstrative controls can be put in place prior to the commencement of work.",null,null,null,null,null,null,null,null,null,"Colorado","CO"]
[null,null,null,null,null,null,null,null,null,null,null,null,null,"Connecticut","CT"]
[null,null,null,null,null,null,null,null,null,null,null,null,null,"Delaware","DE"]
[null,null,null,null,null,null,null,null,null,null,null,null,null,"District of Columbia","DC"]
[null,null,null,null,null,null,null,null,null,null,null,null,null,"Florida","FL"]
[null,null,"Materials and Waste Management",null,null,null,null,null,null,null,null,null,null,"Georgia","GA"]
[null,null,"Objective","To assess construction-related activities for the potential to reduce the upfront demand on materials placed into our projects and minimize the amount of solid waste generated on site through our activities. The reuse of materials will be evaluated and where reuse is not feasible it is intended that all waste materials that can be diverted from landfills will be.",null,null,null,null,null,null,null,null,null,"Hawaii","HI"]
[null,null,null,null,null,null,null,null,null,null,null,null,null,"Idaho","ID"]
[null,null,null,null,null,null,null,null,null,null,null,null,null,"Illinois","IL"]
[null,null,null,null,null,null,null,null,null,null,null,null,null,"Indiana","IN"]
[null,null,"Target","Achieve greater than 98% waste diversion from landfills.",null,null,null,null,null,null,null,null,null,"Iowa","IA"]
[null,null,null,null,null,null,null,null,null,null,null,null,null,"Kansas","KS"]
[null,null,"Method to Achieve","Set up separate solid waste containers for construction debris, concrete, soil, metal etc. Designated Debris Material Assessment Tracking Log will be maintained to monitor the target.",null,null,null,null,null,null,null,null,null,"Kentucky","KY"]
[null,null,null,null,null,null,null,null,null,null,null,null,null,"Louisiana","LA"]
[null,null,null,null,null,null,null,null,null,null,null,null,null,"Maine","ME"]
[null,null,null,null,null,null,null,null,null,null,null,null,null,"Maryland","MD"]
[null,null,null,null,null,null,null,null,null,null,null,null,null,"Massachusetts","MA"]
[null,null,"Noise and Vibration",null,null,null,null,null,null,null,null,null,null,"Michigan","MI"]
[null,null,"Objective","To ensure all construction-related activities that have the potential to generate noise or vibration that may affect surrounding habitat areas or communities are properly planned for and controls are implemented to mitigate any negative impacts",null,null,null,null,null,null,null,null,null,"Minnesota","MN"]
[null,null,null,null,null,null,null,null,null,null,null,null,null,"Mississippi","MS"]
[null,null,null,null,null,null,null,null,null,null,null,null,null,"Missouri","MO"]
[null,null,null,null,null,null,null,null,null,null,null,null,null,"Montana","MT"]
[null,null,"Target","Track and investigate each community complaint related to Noise and/or Vibration impacts.",null,null,null,null,null,null,null,null,null,"Nebraska","NE"]
[null,null,null,null,null,null,null,null,null,null,null,null,null,"Nevada","NV"]
[null,null,"Method to Achieve","Monitor and measure noise and vibration created by construction activities to ensure we are in compliance with all contract, local, state and federal laws.",null,null,null,null,null,null,null,null,null,"New Hampshire","NH"]
[null,null,null,null,null,null,null,null,null,null,null,null,null,"New Jersey","NJ"]
[null,null,null,null,null,null,null,null,null,null,null,null,null,"New Mexico","NM"]
[null,null,null,null,null,null,null,null,null,null,null,null,null,"New York","NY"]
[null,null,null,null,null,null,null,null,null,null,null,null,null,"North Carolina","NC"]
[null,null,"Outdoor Air Quality",null,null,null,null,null,null,null,null,null,null,"North Dakota","ND"]
[null,null,"Objective","To ensure our construction activities do not negatively affect the quality of air in the surrounding communities, the environment, and workers or adjacent contractors where we build or projects through effective programs and procedures",null,null,null,null,null,null,null,null,null,"Ohio","OH"]
[null,null,null,null,null,null,null,null,null,null,null,null,null,"Oklahoma","OK"]
[null,null,null,null,null,null,null,null,null,null,null,null,null,"Oregon","OR"]
[null,null,null,null,null,null,null,null,null,null,null,null,null,"Pennsylvania","PA"]
[null,null,"Target","Track 100% of non-road diesel powered equipment to ensure equipment is equipped with Best Available Technology (BAT) for controlling air emissions (where required)",null,null,null,null,null,null,null,null,null,"Rhode Island","RI"]
[null,null,null,null,null,null,null,null,null,null,null,null,null,"South Carolina","SC"]
[null,null,"Method to Achieve","Maintain Diesel Powered Equipment Tracking Log. Communicate requirements to all jobsite personnel.",null,null,null,null,null,null,null,null,null,"South Dakota","SD"]
[null,null,null,null,null,null,null,null,null,null,null,null,null,"Tennessee","TN"]
[null,null,null,null,null,null,null,null,null,null,null,null,null,"Texas","TX"]
[null,null,null,null,null,null,null,null,null,null,null,null,null,"Utah","UT"]
[null,null,null,null,null,null,null,null,null,null,null,null,null,"Vermont","VT"]
[null,null,"Potential & Unforeseen Upset Conditions (Spills / Leaks)",null,null,null,null,null,null,null,null,null,null,"Virginia","VA"]
[null,null,"Objective","To exercise caution when utilizing hazardous and non-hazardous material substances in our operations which has the potential to cause a negative environmental impact when released on land, into the atmosphere or in the water",null,null,null,null,null,null,null,null,null,"Washington","WA"]
[null,null,null,null,null,null,null,null,null,null,null,null,null,"West Virginia","WV"]
[null,null,null,null,null,null,null,null,null,null,null,null,null,"Wisconsin","WI"]
[null,null,null,null,null,null,null,null,null,null,null,null,null,"Wyoming","WY"]
[null,null,"Target","To have zero negative environmental impacts related to our construction operations.",null,null,null,null,null,null,null,null,null,"American Samoa","AS"]
[null,null,null,null,null,null,null,null,null,null,null,null,null,"Guam","GU"]
[null,null,"Method to Achieve","Complete pre-shift equipment inspections for non-road equipment as part of our equipment maintenance program. Always use secondary containment for the storage of hazardous and non-hazardous substances. Provide/maintain spill kits around the jobsite and train employees in spill response.",null,null,null,null,null,null,null,null,null,"Northern Mariana Islands","MP"]
[null,null,null,null,null,null,null,null,null,null,null,null,null,"Puerto Rico","PR"]
[null,null,null,null,null,null,null,null,null,null,null,null,null,"Virgin Islands","VI"]
[]
[]
[null,null,"Soil Erosion and Sediment Control"]
[null,null,"Objective","To implement best-management practices on our sites to minimize the amount of sediment from surface water run-off into sensitive receptors which cause the destruction of habitats or enter waterways and sewer systems"]
[]
[]
[]
[null,null,"Target","To comply with all local and state requirements as well as implement our best management practices to reduce sediment run off."]
[]
[null,null,"Method to Achieve","Perform Weekly SWWP compliance wakthrus when effecting areas less the 5 acres and perform two walkthrus a week when effecting over 5 acres."]
[]
[]
[]
[]
[null,null,"-"]
[null,null,"Objective","-"]
[]
[]
[]
[null,null,"Target","-"]
[]
[null,null,"Method to Achieve","-"]
[]
[]
[]
[]
[null,null,"-"]
[null,null,"Objective","-"]
[]
[]
[]
[null,null,"Target","-"]
[]
[null,null,"Method to Achieve","-"]
[]
[]
[]
[]
[null,null,"-"]
[null,null,"Objective","-"]
[]
[]
[]
[null,null,"Target","-"]
[]
[null,null,"Method to Achieve","-"]
[]
[]
[]
[]
[null,null,"-"]
[null,null,"Objective","-"]
[]
[]
[]
[null,null,"Target","-"]
[]
[null,null,"Method to Achieve","-"]
[]
[]
[]
[]
[null,null,"-"]
[null,null,"Objective","-"]
[]
[]
[]
[null,null,"Target","-"]
[]
[null,null,"Method to Achieve","-"]
[]
[]
[]
[]
[null,null,"-"]
[null,null,"Objective","-"]
[]
[]
[]
[null,null,"Target","-"]
[]
[null,null,"Method to Achieve","-"]
[]
[]
[]
[]
[null,null,"-"]
[null,null,"Objective","-"]
[]
[]
[]
[null,null,"Target","-"]
[]
[null,null,"Method to Achieve","-"]
[]
[]
[]
[]
[null,null,"-"]
[null,null,"Objective","-"]
[]
[]
[]
[null,null,"Target","-"]
[]
[null,null,"Method to Achieve","-"]
[]
[]
[]
[]
[]
[]
[]
[]
["End of Tab 1 / Project Safety & Environmental"]

{"sheet":"2","index":2,"n_rows":1378,"n_cols":22,"rows_kept":1378,"cut":false,"hidden":false,"merged":[[135,4,135,6],[139,4,139,6],[115,2,115,6],[137,4,137,6],[138,4,138,6],[132,2,133,10],[125,8,128,10],[136,4,136,6],[134,4,134,6],[229,0,229,18],[195,2,208,10],[211,2,224,10],[210,2,210,10],[194,2,194,10],[175,2,175,4],[176,2,176,10],[179,2,192,10],[178,2,178,10],[140,4,140,6],[150,2,173,19],[1,1,2,11],[59,5,59,6],[114,2,114,6],[109,2,110,2],[12,2,13,11],[65,8,73,11],[70,5,70,6],[47,5,47,11],[30,5,30,11],[52,5,54,11],[84,5,84,6],[41,3,42,4],[41,6,42,7],[32,2,32,11],[49,2,50,11],[90,5,90,6],[0,0,0,2],[95,5,95,6],[91,5,91,6],[88,5,88,6],[69,5,69,6],[67,5,67,6],[62,5,62,6],[65,5,65,6],[92,5,92,6],[85,5,85,6],[81,5,81,6],[80,5,80,6],[87,5,87,6],[73,5,73,6],[56,2,56,11],[66,5,66,6],[6,2,8,11],[18,2,19,11],[24,2,27,11],[16,6,16,8],[22,6,22,9],[44,3,44,4],[44,6,44,7],[75,5,75,6],[114,7,114,11],[62,8,63,11],[89,5,89,6],[97,5,97,6],[99,5,99,6],[96,5,96,6],[44,8,46,11],[35,4,35,7],[143,2,149,19],[125,2,128,6],[60,5,60,6],[71,5,71,6],[83,5,83,6],[79,5,79,6],[82,5,82,6],[74,5,74,6],[105,2,108,11],[78,8,92,11],[78,5,78,6],[86,5,86,6],[98,5,98,6],[95,8,99,11],[41,8,42,10]]}
[2,null,null," General Information"]
[null,"This General Information tab is a very important tab for maintaining and effectively using the Construction Work Plan Tool.  The information entered here is what will allow you to track, find and manage your plans."]
[]
[]
[null,null,"Sequential Number",null,null,null," ← Use a 4 digit number starting with \"0001\""]
[]
[null,null,"This should be a sequential number that is assigned to this work effort by the job site's EHS department.  They maintain a system for tracking these numbers for the job site. The actual plan number that will appear in the plan will be assembled by grouping the job number, cost code, and sequential number. Use a 4 digit number starting with 0001."]
[]
[]
[]
[null,null,"Sequential Revision",null,null,null," ← Use a single letter starting with \"A\""]
[]
[null,null,"This section allows for the plan creator to revise a plan without completely overwriting the old plan. The creator would find an existing plan and change the \"revision letter\" to designate the updated version."]
[]
[]
[]
[null,null,"Construction Work Plan Number",null,null,null,{"$f":"CONCATENATE(Business_Unit_Initial,\"-\",Project_Number,\"-\",Sequential_Number,\"-\",Sequential_Revision)","v":"C-1213126---"}]
[]
[null,null,"The Construction Work Plan number is a combination of the first letter of the Division Name, the Project Number, the Sequential Number and the Sequential Revision."]
[]
[]
[]
[null,null,"Construction Work Plan Name",null,null,null,null,null,null,null,null," "]
[]
[null,null,"The Construction Work Plan name should be short and specific to the task. The question you should ask yourself is, “would someone else on the job know what this refers to?”  Names such as “Concrete Demo” or “Form Wall” would not suffice for a proper plan. A plan name such as “Demo Existing Concrete Tank 4” will make it easier to find previously written plans that may apply to your task."]
[]
[]
[]
[]
[]
[null,null,"Suggested File Name",null,null,{"$f":"CONCATENATE(Plan_Number,\" \",Plan_Name,\".xlsm\")","v":"C-1213126--- .xlsm"}]
[]
[null,null,"Click on \"File\", then \"Save As\", then enter the Suggested File Name above in the \"File Name\" Box."]
[]
[]
[null,null,"Business Name",null,"Click on the  appropriate button."]
[]
[null,null,null,null,null,null,null,null,null,null,null,null,null,null,null,{"$f":"P40","v":"Subcontractor"}]
[null,null,null,null,null,null,null,null,null,null,null,null,null,null,null,"Skanska"]
[null,null,null,null,null,null,null,null,null,null,null,null,null,null,null,"Subcontractor"]
[]
[]
[]
[]
[null,null,null,"P",null,null,"P",null,"For a typed name, enter the name here for the work team.  \nFor a logo, insert the logo on the Plan page, fitting in cells A3 - C7, and on the LP and PPL pages, fitting in cells A4-G6."]
[]
[]
[null,null,"Work Area",null,null,null,null,null,null,null,null,null," "]
[]
[null,null,"This work area section should be a specific location on the jobsite. Elevations and column lines used in the description work best."]
[]
[]
[null,null,"Plan Revision Notes"]
[]
[]
[]
[null,null,"Use this space to briefly describe what changed in this revision of the plan."]
[]
[]
[null,null,"Activity Start Date",null,null,null,null," "]
[null,null,"Expiration Date"]
[]
[null,null,"Plan Creator",null,null,null,null," ","Enter your name or the name of the person for whom you are keying this plan."]
[]
[]
[null,null,"Engineer",null,null,null,null," ","The Engineer, Superintendent and EHS Professional is the team that will create the plan. All 3 of these people should participate in authoring and reviewing the plan.\n\nThere is room for 3 names for each position. All of these names will show up on the printed plan."]
[null,null,null,null,null,null,null," "]
[null,null,null,null,null,null,null," "]
[]
[null,null,"Superintendent",null,null,null,null," "]
[null,null,null,null,null,null,null," "]
[null,null,null,null,null,null,null," "]
[]
[null,null,"EHS Professional",null,null,"Mike Ceglio",null," "]
[null,null,null,null,null,"Greg Masciotti",null," "]
[null,null,null,null,null,null,null," "]
[]
[]
[null,null,"Foreman 1",null,null,null,null," ","This section allows you to enter the names of all the foremen using the plan. When you print the plan, you will see an orange drop-down box with each foreman's name. You can print an individual copy of the plan for each name selected.\n\nIf there is only one foreman using this plan, then enter only one name, and leave the rest blank."]
[null,null,"Foreman 2",null,null,null,null," "]
[null,null,"Foreman 3",null,null,null,null," "]
[null,null,"Foreman 4",null,null,null,null," "]
[null,null,"Foreman 5",null,null,null,null," "]
[null,null,"Foreman 6",null,null,null,null," "]
[null,null,"Foreman 7",null,null,null,null," "]
[null,null,"Foreman 8",null,null,null,null," "]
[null,null,"Foreman 9",null,null,null,null," "]
[null,null,"Foreman 10",null,null,null,null," "]
[null,null,"Foreman 11",null,null,null,null," "]
[null,null,"Foreman 12",null,null,null,null," "]
[null,null,"Foreman 13",null,null,null,null," "]
[null,null,"Foreman 14",null,null,null,null," "]
[null,null,"Foreman 15",null,null,null,null," "]
[]
[]
[null,null,"Competent Person 1",null,null,null,null," ","This section allows you to enter names of Competent Persons for this plan. You can follow through by selecting these names in tab 4.\nThe foreman is the default competent person for controlling all the hazards. If you will use the foreman as the competent person for controlling all the hazards, then you may leave these fields blank."]
[null,null,"Competent Person 2",null,null,null,null," "]
[null,null,"Competent Person 3",null,null,null,null," "]
[null,null,"Competent Person 4",null,null,null,null," "]
[null,null,"Competent Person 5",null,null,null,null," "]
[]
[]
[]
[]
[null,null,"Cost Code",null,"(Optional)"]
[null,null,"This section allows you to enter the cost code for the activity. It is understandable that many activities incorporate multiple cost codes. Use the code that best describes the work involved in the plan.\nTo enter the Cost Code, you can use either of two methods. Choose either 1 or 2 in the box below to select a method."]
[]
[]
[]
[null,null,null,"Option 1 - Enter Cost Code using the Civil Cost Code List"]
[null,null,null,"Option 2 - Enter Cost Code Manually instead of using the Cost Code List"]
[null,null,null,"Option 3 - Leave Blank"]
[null,null,"Enter Cost Code using the Cost Code List"]
[null,null,"Enter Cost Code Manually instead of using the Cost Code List"]
[null,null,null,null,null,null,null,"     Select a Cost Code from the List using the drop-down box"]
[null,null,null,null,null,null,null,"     Enter Cost Code Number & Description"]
[null,null,"name 1","conditional format option 1",null,"name 2","conditional format option 2",null,"cost code for plan"]
[null,null,{"$f":"IF(C110=1,\"\",C113)","v":"Enter Cost Code using the Cost Code List"},{"$f":"IF(C110=1,\"DIFFERENT VALUE\",C115)","v":0},null,{"$f":"IF(C110=2,\"\",C114)","v":"Enter Cost Code Manually instead of using the Cost Code List"},{"$f":"IF(C110=2,\"DIFFERENT VALUE\",C116)","v":0},null,{"$f":"IF(C110=1,C115,C116)","v":0}]
[null,null,null,"description 1",null,null,null,null,"description 2"]
[null,null,{"$f":"IF(C110=1,\"\",H115)","v":"     Select a Cost Code from the List using the drop-down box"},{"$f":"IF(I120=\"X\",H115,\"\")","v":""},null,{"$f":"IF(C110=2,\"\",H116)","v":"     Enter Cost Code Number & Description"}]
[]
[]
[]
[null,null,"Access To Area"]
[]
[null,null,null,null,null,null,null,null,"This access section is for existing safe pathways to the work area. If access needs to be created, then that work should be put in the Scope of Work (below) of this plan or a separate plan."]
[]
[]
[]
[]
[]
[null,null,"Scope of Work Categories"]
[null,null,"Select or enter as many different categories as describe the scope of work being completed.  This will allow users to search for similar plans.  ",null,null,null,null,null,null,null,null,null,null,null,null,null,null,null,null,null,null,"Scope of Work Category List for selection"]
[null,null,null,null,null,null,null,null,null,null,null,null,null,null,null,null,null,null,null,null,null,"Excavation"]
[null,null,null,null,null,null,null,null,null,null,null,null,null,null,null,null,null,null,null,null,null,"Exterior Finishes"]
[null,null,null,null,null,null,null,null,null,null,null,null,null,null,null,null,null,null,null,null,null,"Grading and Hauling"]
[null,null,null,null,null,null,null,null,null,null,null,null,null,null,null,null,null,null,null,null,null,"Hazardous Materials"]
[null,null,null,null,null,null,null,null,null,null,null,null,null,null,null,null,null,null,null,null,null,"Interior Fit Out"]
[null,null,null,null,null,null,null,null,null,null,null,null,null,null,null,null,null,null,null,null,null,"Liquid Fuels – Spill Prevention Controls and Countermeasures (SPCC)"]
[null,null,null,null,null,null,null,null,null,null,null,null,null,null,null,null,null,null,null,null,null,"Marine Work"]
[null,null,null,null,"Select from list",null,null,null,"Type new words",null,null,null,null,null,null,null,null,null,null,null,null,"Steel Erection"]
[null,null,null,null,null,null,null,null,null,null,null,null,null,null,null,null,null,null,null,null,null,"Storm water – SWWP"]
[null,null,"Scope Of Work",null,null,null,null,null,null,null,null,null,null,null,null,null,null,null,null,null,null,"Structures – Bridge and Highway"]
[null,null,"Describe the step-by-step sequence of work that will accomplish the task at hand. Keep the text simple and direct.  Include work needed: \n   R  to create access to the work area and other prep work\n   R     to make the area safe at the end of each day\n   R     to leave the area in its final state\nDon't leave gaps in your work plan.  Have another person read the plan to see if they can follow the steps without questions.\nIf you need more than 5 steps, consider whether the task may require more than one plan. \n\nPress F2 or double-click with a mouse to edit this box.  Use the down arrow key or a mouse click to go to a lower line in the box.  Press Alt / Enter to insert a \"carriage return\" to a new line.",null,null,null,null,null,null,null,null,null,null,null,null,null,null,null,null,null,null,"Structures - Vertical"]
[null,null,null,null,null,null,null,null,null,null,null,null,null,null,null,null,null,null,null,null,null,"Traffic Control and Circulation"]
[null,null,null,null,null,null,null,null,null,null,null,null,null,null,null,null,null,null,null,null,null,"Underground"]
[null,null,null,null,null,null,null,null,null,null,null,null,null,null,null,null,null,null,null,null,null,"Utilities"]
[]
[]
[]
[null,null,"Step 1:\n\nStep 2:\n\nStep 3:\n\nStep 4:\n\nStep 5:"]
[]
[]
[]
[]
[]
[]
[]
[]
[]
[]
[]
[]
[]
[]
[]
[]
[]
[]
[]
[]
[]
[]
[]
[]
[null,null,"Lessons Learned"]
[null,null,"Make notes during the work effort, and update this section after completion."]
[]
[null,null,"Things Done Well - - Keep Doing"]
[]
[]
[]
[]
[]
[]
[]
[]
[]
[]
[]
[]
[]
[]
[]
[null,null,"Things That Didn't Contribute - - Stop Doing"]
[]
[]
[]
[]
[]
[]
[]
[]
[]
[]
[]
[]
[]
[]
[]
[null,null,"Things We Could Do Better - - Start Doing"]
[]
[]
[]
[]
[]
[]
[]
[]
[]
[]
[]
[]
[]
[]
[]
[]
[]
[]
["End of Tab 2 / General Information"]
[]
[]
[]
[]
[]
[]
[]
[]
[]
[]
[]
[]
[]
[]
[]
[]
[]
[]
[]
[]
[]
[]
[]
[]
[]
[]
[]
[null,null,null,null,null,null,null,null,"Civil Cost Codes"]
[null,null,"X",null,null,null,null,null,"1.1.110  project management"]
[null,null,null,null,null,null,null,null,"1.1.120  project supervision"]
[null,null,null,null,null,null,null,null,"1.1.130  safety personnel"]
[null,null,null,null,null,null,null,null,"1.1.211  labor shop stwrd w/ pu"]
[null,null,null,null,null,null,null,null,"1.1.212  lab general fore w/ pu"]
[null,null,null,null,null,null,null,null,"1.1.221  carp steward w/ pu"]
[null,null,null,null,null,null,null,null,"1.1.222  carp gen foreman w/ pu"]
[null,null,null,null,null,null,null,null,"1.1.230  team stwrd w/ flat tr."]
[null,null,null,null,null,null,null,null,"1.1.240  master mech / maint tr."]
[null,null,null,null,null,null,null,null,"1.1.250  maintnce man / maint tr."]
[null,null,null,null,null,null,null,null,"1.1.260  dockbuilder gen foreman w/pu"]
[null,null,null,null,null,null,null,null,"1.1.275  tunnel workers shop steward"]
[null,null,null,null,null,null,null,null,"1.1.290  survey party w/ van"]
[null,null,null,null,null,null,null,null,"1.1.320  pickup truck"]
[null,null,null,null,null,null,null,null,"1.1.330  sweeper truck"]
[null,null,null,null,null,null,null,null,"1.1.340  water truck"]
[null,null,null,null,null,null,null,null,"1.1.350  light plants"]
[null,null,null,null,null,null,null,null,"1.1.420  equipment maintanence"]
[null,null,null,null,null,null,null,null,"1.1.425  fuel"]
[null,null,null,null,null,null,null,null,"1.1.450  mob / demob equipment"]
[null,null,null,null,null,null,null,null,"1.2.100  dumpsters"]
[null,null,null,null,null,null,null,null,"1.2.105  set up yard facilities"]
[null,null,null,null,null,null,null,null,"1.2.106  demob yard facilities"]
[null,null,null,null,null,null,null,null,"1.2.110  toilets"]
[null,null,null,null,null,null,null,null,"1.2.120  rodent control"]
[null,null,null,null,null,null,null,null,"1.2.130  permits"]
[null,null,null,null,null,null,null,null,"1.2.140  site security - watchman"]
[null,null,null,null,null,null,null,null,"1.2.150  photo ID system"]
[null,null,null,null,null,null,null,null,"1.2.160  flagman quarters"]
[null,null,null,null,null,null,null,null,"1.2.165  temporary heat"]
[null,null,null,null,null,null,null,null,"1.2.170  temporary elevator w/ operator"]
[null,null,null,null,null,null,null,null,"1.2.175  temporary material hoist w/ operator"]
[null,null,null,null,null,null,null,null,"1.2.177  warehouse/ material handling crew"]
[null,null,null,null,null,null,null,null,"1.2.180  site loader with laborer"]
[null,null,null,null,null,null,null,null,"1.2.181  site service crane"]
[null,null,null,null,null,null,null,null,"1.2.185  building clean up crew"]
[null,null,null,null,null,null,null,null,"1.2.190  punch list"]
[null,null,null,null,null,null,null,null,"1.2.195  final site clean up"]
[null,null,null,null,null,null,null,null,"1.2.310  personal protective equipment"]
[null,null,null,null,null,null,null,null,"1.2.320  rescue equipment & safety supplies"]
[null,null,null,null,null,null,null,null,"1.2.330  medical exams"]
[null,null,null,null,null,null,null,null,"1.2.340  safety incentives"]
[null,null,null,null,null,null,null,null,"1.2.350  safety training-offsite"]
[null,null,null,null,null,null,null,null,"1.2.360  first aid service (EMT)"]
[null,null,null,null,null,null,null,null,"1.2.410  material lab setup"]
[null,null,null,null,null,null,null,null,"1.2.420  material lab maintenance"]
[null,null,null,null,null,null,null,null,"1.2.510  electric hook ups"]
[null,null,null,null,null,null,null,null,"1.2.520  water hook ups"]
[null,null,null,null,null,null,null,null,"1.2.530  telephone hook ups"]
[null,null,null,null,null,null,null,null,"1.2.540  sanitary hook ups"]
[null,null,null,null,null,null,null,null,"1.2.710  provide temp lighting"]
[null,null,null,null,null,null,null,null,"1.2.720  energy charge temp l&p"]
[null,null,null,null,null,null,null,null,"1.2.730  electrician temp l&p"]
[null,null,null,null,null,null,null,null,"1.2.740  provide inspection l&p"]
[null,null,null,null,null,null,null,null,"1.2.750  elec service - insp l&p"]
[null,null,null,null,null,null,null,null,"1.2.800  setup field office"]
[null,null,null,null,null,null,null,null,"1.2.805  relocation & lodging costs"]
[null,null,null,null,null,null,null,null,"1.2.820  computers / IT"]
[null,null,null,null,null,null,null,null,"1.2.830  copier/fax purchase"]
[null,null,null,null,null,null,null,null,"1.2.840  furniture"]
[null,null,null,null,null,null,null,null,"1.2.850  setup engineers office"]
[null,null,null,null,null,null,null,null,"1.2.860  engineers office computers / IT"]
[null,null,null,null,null,null,null,null,"1.2.870  engineers office copier/fax purchase"]
[null,null,null,null,null,null,null,null,"1.2.880  engineers office furniture"]
[null,null,null,null,null,null,null,null,"1.2.890  demob site offices"]
[null,null,null,null,null,null,null,null,"1.2.910  field office rent"]
[null,null,null,null,null,null,null,null,"1.2.911  field office cleaning"]
[null,null,null,null,null,null,null,null,"1.2.912  field office DSL line"]
[null,null,null,null,null,null,null,null,"1.2.913  field office alarm system"]
[null,null,null,null,null,null,null,null,"1.2.914  field office postage / fed ex"]
[null,null,null,null,null,null,null,null,"1.2.915  field office petty cash"]
[null,null,null,null,null,null,null,null,"1.2.917  field office electric utility charges"]
[null,null,null,null,null,null,null,null,"1.2.919  field office telephone utility charges"]
[null,null,null,null,null,null,null,null,"1.2.930  field office supplies"]
[null,null,null,null,null,null,null,null,"1.2.940  parking"]
[null,null,null,null,null,null,null,null,"1.2.945  tolls"]
[null,null,null,null,null,null,null,null,"1.2.950  nextel charges"]
[null,null,null,null,null,null,null,null,"1.2.960  engineers office supplies"]
[null,null,null,null,null,null,null,null,"1.2.961  engineers office rent"]
[null,null,null,null,null,null,null,null,"1.2.962  engineers office cleaning"]
[null,null,null,null,null,null,null,null,"1.2.963  engineers office DSL line"]
[null,null,null,null,null,null,null,null,"1.2.964  engineers office alarm system"]
[null,null,null,null,null,null,null,null,"1.2.966  engineers office electric charges"]
[null,null,null,null,null,null,null,null,"1.2.967  engineers office water utility charges"]
[null,null,null,null,null,null,null,null,"1.2.968  engineers office telephone utility charges"]
[null,null,null,null,null,null,null,null,"1.3.210  workman's compensation"]
[null,null,null,null,null,null,null,null,"1.3.400  small tools"]
[null,null,null,null,null,null,null,null,"1.5.110  cpm schedule baseline & updates"]
[null,null,null,null,null,null,null,null,"1.5.210  progress photos"]
[null,null,null,null,null,null,null,null,"1.5.220  videos"]
[null,null,null,null,null,null,null,null,"1.5.230  arial photos"]
[null,null,null,null,null,null,null,null,"1.5.240  vibration monitoring"]
[null,null,null,null,null,null,null,null,"1.5.310  shop drawing prep"]
[null,null,null,null,null,null,null,null,"1.5.320  as built drawings"]
[null,null,null,null,null,null,null,null,"1.5.330  microfilm"]
[null,null,null,null,null,null,null,null,"1.5.335  reproduction costs"]
[null,null,null,null,null,null,null,null,"1.5.340  engineering drawings"]
[null,null,null,null,null,null,null,null,"1.5.350  engineering services - in house"]
[null,null,null,null,null,null,null,null,"1.5.360  engineering/consulting services - outside"]
[null,null,null,null,null,null,null,null,"1.5.365  partnering costs"]
[null,null,null,null,null,null,null,null,"1.5.370  legal fees"]
[null,null,null,null,null,null,null,null,"1.5.380  claim consultant"]
[null,null,null,null,null,null,null,null,"1.5.390  electrical consultant"]
[null,null,null,null,null,null,null,null,"1.7.000  management fee"]
[null,null,null,null,null,null,null,null,"1.7.100  uaoc"]
[null,null,null,null,null,null,null,null,"1.8.110  auto liability"]
[null,null,null,null,null,null,null,null,"1.8.120  general liability/umbrella allocated"]
[null,null,null,null,null,null,null,null,"1.8.125  general liability/umbrella job specific"]
[null,null,null,null,null,null,null,null,"1.8.130  builders risk"]
[null,null,null,null,null,null,null,null,"1.8.140  railroad insurance"]
[null,null,null,null,null,null,null,null,"1.8.150  Marine insurance"]
[null,null,null,null,null,null,null,null,"1.8.160  OCP Insurance"]
[null,null,null,null,null,null,null,null,"1.8.170  Errors &Omissions Insurance"]
[null,null,null,null,null,null,null,null,"1.8.180  Pollution insurance"]
[null,null,null,null,null,null,null,null,"1.8.181  Equipment Floater insurance"]
[null,null,null,null,null,null,null,null,"1.8.210  contract bond"]
[null,null,null,null,null,null,null,null,"1.8.220  subcontractor bonds"]
[null,null,null,null,null,null,null,null,"2.0.000  removal/repairs/maintain"]
[null,null,null,null,null,null,null,null,"2.1.000  maint + prot of traffic"]
[null,null,null,null,null,null,null,null,"2.1.100  signs / cones / drums"]
[null,null,null,null,null,null,null,null,"2.1.111  furn const signs"]
[null,null,null,null,null,null,null,null,"2.1.112  install & remove const signs"]
[null,null,null,null,null,null,null,null,"2.1.121  furn traffic drums"]
[null,null,null,null,null,null,null,null,"2.1.122  install & remove traffic drums"]
[null,null,null,null,null,null,null,null,"2.1.131  furn traffic cones"]
[null,null,null,null,null,null,null,null,"2.1.132  install & remove traffic cones"]
[null,null,null,null,null,null,null,null,"2.1.200  timber barricades / curbs"]
[null,null,null,null,null,null,null,null,"2.1.210  furn timber for barricade / curb"]
[null,null,null,null,null,null,null,null,"2.1.230  assemble timber barricade"]
[null,null,null,null,null,null,null,null,"2.1.240  i/r timber barricade / curb"]
[null,null,null,null,null,null,null,null,"2.1.300  breakaway barricades"]
[null,null,null,null,null,null,null,null,"2.1.310  f breakaway barricades"]
[null,null,null,null,null,null,null,null,"2.1.320  i&r breakaway barricades"]
[null,null,null,null,null,null,null,null,"2.1.400  concrete const barrier"]
[null,null,null,null,null,null,null,null,"2.1.410  f temporary conc barrier"]
[null,null,null,null,null,null,null,null,"2.1.420  place temp conc barrier"]
[null,null,null,null,null,null,null,null,"2.1.430  l+l temp conc barrier"]
[null,null,null,null,null,null,null,null,"2.1.440  shift prec conc barrier"]
[null,null,null,null,null,null,null,null,"2.1.450  haul conc barr on-site"]
[null,null,null,null,null,null,null,null,"2.1.460  haul conc barr off-site"]
[null,null,null,null,null,null,null,null,"2.1.500  construction lights"]
[null,null,null,null,null,null,null,null,"2.1.510  furn construction lights"]
[null,null,null,null,null,null,null,null,"2.1.530  furn batteries"]
[null,null,null,null,null,null,null,null,"2.1.540  i&r lights"]
[null,null,null,null,null,null,null,null,"2.1.600  flashing arrow boards"]
[null,null,null,null,null,null,null,null,"2.1.610  f flashing arrow board"]
[null,null,null,null,null,null,null,null,"2.1.620  fuel for arrow board"]
[null,null,null,null,null,null,null,null,"2.1.700  temp striping / paving"]
[null,null,null,null,null,null,null,null,"2.1.710  f+i  temp asphalt "]
[null,null,null,null,null,null,null,null,"2.1.730  install temp striping"]
[null,null,null,null,null,null,null,null,"2.1.740  remove temp striping"]
[null,null,null,null,null,null,null,null,"2.1.800  impact atten / inertial mod"]
[null,null,null,null,null,null,null,null,"2.1.810  f&i impact attenuators"]
[null,null,null,null,null,null,null,null,"2.1.820  f&i inertial barrier modules"]
[null,null,null,null,null,null,null,null,"2.1.850  reloc impact attenuators"]
[null,null,null,null,null,null,null,null,"2.1.860  reloc inertial barriers"]
[null,null,null,null,null,null,null,null,"2.1.870  rem impact attenuators"]
[null,null,null,null,null,null,null,null,"2.1.880  rem inertial barriers"]
[null,null,null,null,null,null,null,null,"2.1.900  mpt crews / equipment"]
[null,null,null,null,null,null,null,null,"2.1.910  backup trucks"]
[null,null,null,null,null,null,null,null,"2.1.920  mpt crews"]
[null,null,null,null,null,null,null,null,"2.1.930  street sweeper"]
[null,null,null,null,null,null,null,null,"2.1.950  snow / ice removal"]
[null,null,null,null,null,null,null,null,"2.2.000  site work clearing / demo"]
[null,null,null,null,null,null,null,null,"2.2.100  clearing and grubbing"]
[null,null,null,null,null,null,null,null,"2.2.120  clearing and grub (acre)"]
[null,null,null,null,null,null,null,null,"2.2.130  rem shrubs"]
[null,null,null,null,null,null,null,null,"2.2.140  rem trees"]
[null,null,null,null,null,null,null,null,"2.2.200  topsoil stripping"]
[null,null,null,null,null,null,null,null,"2.2.210  strip topsoil"]
[null,null,null,null,null,null,null,null,"2.2.220  l&l topsoil"]
[null,null,null,null,null,null,null,null,"2.2.300  pavment/curb/sidewalk rem"]
[null,null,null,null,null,null,null,null,"2.2.310  sawcutting"]
[null,null,null,null,null,null,null,null,"2.2.311  sawcut conc pav full depth"]
[null,null,null,null,null,null,null,null,"2.2.312  sawcut conc pav part depth"]
[null,null,null,null,null,null,null,null,"2.2.313  sawcut asph pav full depth"]
[null,null,null,null,null,null,null,null,"2.2.314  sawcut asph pav part depth"]
[null,null,null,null,null,null,null,null,"2.2.315  sawcut conc sidewalk"]
[null,null,null,null,null,null,null,null,"2.2.316  sawcut conc curbs"]
[null,null,null,null,null,null,null,null,"2.2.320  breaking pavement"]
[null,null,null,null,null,null,null,null,"2.2.321  breakup concrete pavement"]
[null,null,null,null,null,null,null,null,"2.2.322  breakup asph pavement"]
[null,null,null,null,null,null,null,null,"2.2.323  breakup conc sidewalks"]
[null,null,null,null,null,null,null,null,"2.2.324  breakup conc curbs"]
[null,null,null,null,null,null,null,null,"2.2.325  breakup conc barrier"]
[null,null,null,null,null,null,null,null,"2.2.330  milling / scarification"]
[null,null,null,null,null,null,null,null,"2.2.331  mill asphalt pavement"]
[null,null,null,null,null,null,null,null,"2.2.332  mill conc pavement"]
[null,null,null,null,null,null,null,null,"2.2.333  grinding conc pavement"]
[null,null,null,null,null,null,null,null,"2.2.334  scarify conc pavment"]
[null,null,null,null,null,null,null,null,"2.2.335  support to scarify / milling sub"]
[null,null,null,null,null,null,null,null,"2.2.360  removals"]
[null,null,null,null,null,null,null,null,"2.2.361  l+l asphalt pavement"]
[null,null,null,null,null,null,null,null,"2.2.362  l+l conc pavement rubble"]
[null,null,null,null,null,null,null,null,"2.2.363  l+l concrete rubble"]
[null,null,null,null,null,null,null,null,"2.2.366  l+l subbase"]
[null,null,null,null,null,null,null,null,"2.2.370  disposal"]
[null,null,null,null,null,null,null,null,"2.2.372  h+d conc rubble"]
[null,null,null,null,null,null,null,null,"2.2.373  h+d asph rubble"]
[null,null,null,null,null,null,null,null,"2.2.374  h+d subbase material"]
[null,null,null,null,null,null,null,null,"2.2.400  misc and site removals"]
[null,null,null,null,null,null,null,null,"2.2.410  demo precast conc structures"]
[null,null,null,null,null,null,null,null,"2.2.420  rem lightpole foundations"]
[null,null,null,null,null,null,null,null,"2.2.430  remove existing fencing"]
[null,null,null,null,null,null,null,null,"2.2.440  remove guide rail"]
[null,null,null,null,null,null,null,null,"2.3.000  shielding / protection"]
[null,null,null,null,null,null,null,null,"2.3.100  furn shielding/protection"]
[null,null,null,null,null,null,null,null,"2.3.110  furn timber shielding (bf)"]
[null,null,null,null,null,null,null,null,"2.3.120  furn timber shielding (sf)"]
[null,null,null,null,null,null,null,null,"2.3.150  furn vertical drapes"]
[null,null,null,null,null,null,null,null,"2.3.160  furn overhang brackets"]
[null,null,null,null,null,null,null,null,"2.3.200  install shield/prot"]
[null,null,null,null,null,null,null,null,"2.3.210  ins timbr undrbrdg shield"]
[null,null,null,null,null,null,null,null,"2.3.215  ins overhead shields"]
[null,null,null,null,null,null,null,null,"2.3.220  ins timbr overhang shield"]
[null,null,null,null,null,null,null,null,"2.3.230  ins overhang brackets"]
[null,null,null,null,null,null,null,null,"2.3.240  ins timbr vert  shielding"]
[null,null,null,null,null,null,null,null,"2.3.250  ins vert drapes"]
[null,null,null,null,null,null,null,null,"2.3.260  relocate shielding / protection"]
[null,null,null,null,null,null,null,null,"2.3.300  rem shielding / protection"]
[null,null,null,null,null,null,null,null,"2.3.310  rem timbr undbrdg shield"]
[null,null,null,null,null,null,null,null,"2.3.320  rem timbr overhng shield"]
[null,null,null,null,null,null,null,null,"2.3.330  rem overhang brackets"]
[null,null,null,null,null,null,null,null,"2.3.340  rem timber vert  shielding"]
[null,null,null,null,null,null,null,null,"2.3.350  rem vert drapes"]
[null,null,null,null,null,null,null,null,"2.4.000  conc repair/part removals"]
[null,null,null,null,null,null,null,null,"2.4.100  partial deck removals"]
[null,null,null,null,null,null,null,null,"2.4.120  hydrodemolition"]
[null,null,null,null,null,null,null,null,"2.4.121  hydrodemo conc deck"]
[null,null,null,null,null,null,null,null,"2.4.122  h+d hydrodemo slurry"]
[null,null,null,null,null,null,null,null,"2.4.123  support hydrodemo "]
[null,null,null,null,null,null,null,null,"2.4.200  concrete repairs"]
[null,null,null,null,null,null,null,null,"2.4.210  sawcutting  (2321)"]
[null,null,null,null,null,null,null,null,"2.4.211  sawcut conc overhead"]
[null,null,null,null,null,null,null,null,"2.4.212  sawcut conc vertical"]
[null,null,null,null,null,null,null,null,"2.4.213  sawcut conc deck / slab"]
[null,null,null,null,null,null,null,null,"2.4.220  concrete removal"]
[null,null,null,null,null,null,null,null,"2.4.221  chip overhead spalls"]
[null,null,null,null,null,null,null,null,"2.4.222  chip vertical spalls"]
[null,null,null,null,null,null,null,null,"2.4.223  chip deck / slab spalls"]
[null,null,null,null,null,null,null,null,"2.4.224  rebar exposure"]
[null,null,null,null,null,null,null,null,"2.4.230  cleaning / prep work"]
[null,null,null,null,null,null,null,null,"2.4.231  sand blast concrete"]
[null,null,null,null,null,null,null,null,"2.4.232  waterblast concrete"]
[null,null,null,null,null,null,null,null,"2.4.233  clean exposed rebar"]
[null,null,null,null,null,null,null,null,"2.4.234  apply rebar epoxy coating"]
[null,null,null,null,null,null,null,null,"2.4.235  apply bonding mortar"]
[null,null,null,null,null,null,null,null,"2.4.236  roughen exist conc surface"]
[null,null,null,null,null,null,null,null,"2.4.240  patching mortars"]
[null,null,null,null,null,null,null,null,"2.4.241  furnish patch materials"]
[null,null,null,null,null,null,null,null,"2.4.242  place patch material"]
[null,null,null,null,null,null,null,null,"2.5.000  concrete demo / removals"]
[null,null,null,null,null,null,null,null,"2.5.100  sawcutting / coredrill"]
[null,null,null,null,null,null,null,null,"2.5.110  sawcut conc slab"]
[null,null,null,null,null,null,null,null,"2.5.140  sawcut conc wall horz"]
[null,null,null,null,null,null,null,null,"2.5.150  sawcut conc wall vert"]
[null,null,null,null,null,null,null,null,"2.5.160  wiresaw concrete"]
[null,null,null,null,null,null,null,null,"2.5.170  support for wiresaw sub"]
[null,null,null,null,null,null,null,null,"2.5.180  core drilling concrete (ea)"]
[null,null,null,null,null,null,null,null,"2.5.190  core drilling concrete (lf)"]
[null,null,null,null,null,null,null,null,"2.5.300  break conc foundations"]
[null,null,null,null,null,null,null,null,"2.5.310  breakup conc footings"]
[null,null,null,null,null,null,null,null,"2.5.320  breakup conc grade beams"]
[null,null,null,null,null,null,null,null,"2.5.330  breakup foundation walls"]
[null,null,null,null,null,null,null,null,"2.5.340  breakup sign / light found"]
[null,null,null,null,null,null,null,null,"2.5.400  break concrete slabs"]
[null,null,null,null,null,null,null,null,"2.5.420  breakup conc slab on grade"]
[null,null,null,null,null,null,null,null,"2.5.430  breakup conc invert"]
[null,null,null,null,null,null,null,null,"2.5.440  breakup conc supp slab"]
[null,null,null,null,null,null,null,null,"2.5.450  hand demo conc slabs"]
[null,null,null,null,null,null,null,null,"2.5.500  break concrete walls"]
[null,null,null,null,null,null,null,null,"2.5.510  breakup structural walls"]
[null,null,null,null,null,null,null,null,"2.5.520  breakup retaining walls"]
[null,null,null,null,null,null,null,null,"2.5.530  breakup abutment walls"]
[null,null,null,null,null,null,null,null,"2.5.540  hand demo conc walls"]
[null,null,null,null,null,null,null,null,"2.5.600  break conc col/piers"]
[null,null,null,null,null,null,null,null,"2.5.610  breakup conc piers"]
[null,null,null,null,null,null,null,null,"2.5.620  breakup conc pier caps"]
[null,null,null,null,null,null,null,null,"2.5.630  breakup conc columns"]
[null,null,null,null,null,null,null,null,"2.5.660  hand demo conc col/piers"]
[null,null,null,null,null,null,null,null,"2.5.700  demo conc deck/parapet"]
[null,null,null,null,null,null,null,null,"2.5.710  breakup concrete deck"]
[null,null,null,null,null,null,null,null,"2.5.720  breakup concrete parapet"]
[null,null,null,null,null,null,null,null,"2.5.730  hand demo concrete deck"]
[null,null,null,null,null,null,null,null,"2.5.740  hand demo concrete parapet"]
[null,null,null,null,null,null,null,null,"2.5.750  hand chip beams"]
[null,null,null,null,null,null,null,null,"2.5.900  l+l / h+d conc rubble"]
[null,null,null,null,null,null,null,null,"2.5.911  l+l concrete rubble"]
[null,null,null,null,null,null,null,null,"2.5.912  l+l conc panels"]
[null,null,null,null,null,null,null,null,"2.5.913  l+l conc rubble by hand"]
[null,null,null,null,null,null,null,null,"2.5.921  h+d concrete rubble"]
[null,null,null,null,null,null,null,null,"2.5.922  h+d concrete panels"]
[null,null,null,null,null,null,null,null,"2.6.000  steel / misc metals demo"]
[null,null,null,null,null,null,null,null,"2.6.100  structural steel removal"]
[null,null,null,null,null,null,null,null,"2.6.110  rem steel beams"]
[null,null,null,null,null,null,null,null,"2.6.120  rem steel girders"]
[null,null,null,null,null,null,null,null,"2.6.130  rem steel columns"]
[null,null,null,null,null,null,null,null,"2.6.140  rem steel diaphragms"]
[null,null,null,null,null,null,null,null,"2.6.150  rem str steel bearings"]
[null,null,null,null,null,null,null,null,"2.6.160  rem str steel deck jts"]
[null,null,null,null,null,null,null,null,"2.6.170  rem shear studs"]
[null,null,null,null,null,null,null,null,"2.6.200  misc metals removal"]
[null,null,null,null,null,null,null,null,"2.6.210  rem handrails / railings"]
[null,null,null,null,null,null,null,null,"2.6.230  rem gratings"]
[null,null,null,null,null,null,null,null,"2.6.240  rem ladders"]
[null,null,null,null,null,null,null,null,"2.6.250  rem frames set in conc"]
[null,null,null,null,null,null,null,null,"2.6.260  rem metal stairs"]
[null,null,null,null,null,null,null,null,"2.6.270  rem misc steel"]
[null,null,null,null,null,null,null,null,"2.6.300  loading + disposal"]
[null,null,null,null,null,null,null,null,"2.6.310  l+l str steel"]
[null,null,null,null,null,null,null,null,"2.6.330  haul + dispose steel"]
[null,null,null,null,null,null,null,null,"2.7.000  architectural demoliton"]
[null,null,null,null,null,null,null,null,"2.7.100  removals"]
[null,null,null,null,null,null,null,null,"2.7.110  rem drywall partitions"]
[null,null,null,null,null,null,null,null,"2.7.120  demo masonry partitions"]
[null,null,null,null,null,null,null,null,"2.7.130  rem acoustical ceilings"]
[null,null,null,null,null,null,null,null,"2.7.140  rem toilets / sinks"]
[null,null,null,null,null,null,null,null,"2.7.150  rem tile flooring"]
[null,null,null,null,null,null,null,null,"2.7.160  rem door and frames"]
[null,null,null,null,null,null,null,null,"2.7.200  loading / disposing debris"]
[null,null,null,null,null,null,null,null,"2.7.210  l+l rubble"]
[null,null,null,null,null,null,null,null,"2.7.220  l+l debris by hand (cy)"]
[null,null,null,null,null,null,null,null,"2.7.230  l+l debris by hand (ls)"]
[null,null,null,null,null,null,null,null,"2.7.310  h+d rubble"]
[null,null,null,null,null,null,null,null,"2.7.320  h+d debris containers"]
[null,null,null,null,null,null,null,null,"2.9.000  haz/cont mat removals"]
[null,null,null,null,null,null,null,null,"2.9.100  asbestos removal"]
[null,null,null,null,null,null,null,null,"2.9.110  asbestos abatement"]
[null,null,null,null,null,null,null,null,"2.9.120  air monitoring"]
[null,null,null,null,null,null,null,null,"2.9.200  lead paint removal"]
[null,null,null,null,null,null,null,null,"2.9.210  remove lead paint"]
[null,null,null,null,null,null,null,null,"2.9.220  dispose lead cont waste"]
[null,null,null,null,null,null,null,null,"2.9.300  haz/cont soils"]
[null,null,null,null,null,null,null,null,"2.9.310  soil testing"]
[null,null,null,null,null,null,null,null,"2.9.320  decontaminate trucks & equip"]
[null,null,null,null,null,null,null,null,"2.9.330  decontaminate people"]
[null,null,null,null,null,null,null,null,"2.9.340  hazardous soil removals"]
[null,null,null,null,null,null,null,null,"2.9.341  excavate hazardous soil"]
[null,null,null,null,null,null,null,null,"2.9.342  l+l hazardous soil"]
[null,null,null,null,null,null,null,null,"2.9.343  trucking hazardous on site"]
[null,null,null,null,null,null,null,null,"2.9.344  stockpile hazardous soil"]
[null,null,null,null,null,null,null,null,"2.9.345  h+d hazardous soil"]
[null,null,null,null,null,null,null,null,"2.9.351  l+l contaminated soil"]
[null,null,null,null,null,null,null,null,"2.9.352  h+d contaminated soil"]
[null,null,null,null,null,null,null,null,"2.9.400  contaminated groundwater"]
[null,null,null,null,null,null,null,null,"2.9.410  ground water testing"]
[null,null,null,null,null,null,null,null,"2.9.420  ground water treatment"]
[null,null,null,null,null,null,null,null,"2.9.430  dispose cont. water"]
[null,null,null,null,null,null,null,null,"2.9.500  health and safety"]
[null,null,null,null,null,null,null,null,"2.9.510  health / safety plan"]
[null,null,null,null,null,null,null,null,"2.9.520  health / safety officer"]
[null,null,null,null,null,null,null,null,"2.9.530  pre & post medical exams"]
[null,null,null,null,null,null,null,null,"2.9.540  personal protective equipment"]
[null,null,null,null,null,null,null,null,"2.9.550  health & safety training"]
[null,null,null,null,null,null,null,null,"3.0.000  earthwork / substructures"]
[null,null,null,null,null,null,null,null,"3.1.000  support of excavation"]
[null,null,null,null,null,null,null,null,"3.1.100  soldier piles / lagging"]
[null,null,null,null,null,null,null,null,"3.1.110  furnish materials"]
[null,null,null,null,null,null,null,null,"3.1.111  furnish soldier piles"]
[null,null,null,null,null,null,null,null,"3.1.112  furnish timber lagging"]
[null,null,null,null,null,null,null,null,"3.1.120  install soldier piles"]
[null,null,null,null,null,null,null,null,"3.1.121  drive soldier piles"]
[null,null,null,null,null,null,null,null,"3.1.122  pre auger soldier piles"]
[null,null,null,null,null,null,null,null,"3.1.123  supp to auger sub"]
[null,null,null,null,null,null,null,null,"3.1.124  set soldier piles in hole"]
[null,null,null,null,null,null,null,null,"3.1.130  install timber lagging"]
[null,null,null,null,null,null,null,null,"3.1.140  remove soldier piles"]
[null,null,null,null,null,null,null,null,"3.1.141  pull soldier piles"]
[null,null,null,null,null,null,null,null,"3.1.142  cut off soldier piles"]
[null,null,null,null,null,null,null,null,"3.1.143  l+l soldier pile cut offs"]
[null,null,null,null,null,null,null,null,"3.1.144  l+l soldier piles"]
[null,null,null,null,null,null,null,null,"3.1.150  remove timber lagging"]
[null,null,null,null,null,null,null,null,"3.1.160  haul and salvage"]
[null,null,null,null,null,null,null,null,"3.1.162  h+d soldier pile cut offs"]
[null,null,null,null,null,null,null,null,"3.1.163  haul + sal soldier piles"]
[null,null,null,null,null,null,null,null,"3.1.200  underpin / approach pits"]
[null,null,null,null,null,null,null,null,"3.1.210  furnish timber lagging"]
[null,null,null,null,null,null,null,null,"3.1.230  exc/lag underpin pits"]
[null,null,null,null,null,null,null,null,"3.1.250  exc/lag approach pits"]
[null,null,null,null,null,null,null,null,"3.1.260  exc/lag support pits"]
[null,null,null,null,null,null,null,null,"3.1.300  slurry wall"]
[null,null,null,null,null,null,null,null,"3.1.310  f+i slurry wall"]
[null,null,null,null,null,null,null,null,"3.1.320  supp to slurry wall sub"]
[null,null,null,null,null,null,null,null,"3.1.400  jet grouting"]
[null,null,null,null,null,null,null,null,"3.1.410  f+i jet grout wall"]
[null,null,null,null,null,null,null,null,"3.1.420  supp to jet grouting sub"]
[null,null,null,null,null,null,null,null,"3.1.500  sheeting / bracing"]
[null,null,null,null,null,null,null,null,"3.1.510  furnish sheeting & bracing"]
[null,null,null,null,null,null,null,null,"3.1.511  f vert wood sheeting"]
[null,null,null,null,null,null,null,null,"3.1.512  f timber bracing"]
[null,null,null,null,null,null,null,null,"3.1.513  furn steel sheet piling"]
[null,null,null,null,null,null,null,null,"3.1.514  furn sheeting box"]
[null,null,null,null,null,null,null,null,"3.1.515  furn steel plates"]
[null,null,null,null,null,null,null,null,"3.1.516  furn steel bracing"]
[null,null,null,null,null,null,null,null,"3.1.517  furn pipe bracing"]
[null,null,null,null,null,null,null,null,"3.1.530  install steel sheeting"]
[null,null,null,null,null,null,null,null,"3.1.531  drive steel sheeting "]
[null,null,null,null,null,null,null,null,"3.1.536  ins steel plates"]
[null,null,null,null,null,null,null,null,"3.1.540  rem + load steel sheeting"]
[null,null,null,null,null,null,null,null,"3.1.541  pull steel sheeting"]
[null,null,null,null,null,null,null,null,"3.1.543  cut steel sheeting"]
[null,null,null,null,null,null,null,null,"3.1.544  l+l steel sheeting"]
[null,null,null,null,null,null,null,null,"3.1.545  l+l stl sheeting cut offs"]
[null,null,null,null,null,null,null,null,"3.1.546  haul + sal steel sheeting"]
[null,null,null,null,null,null,null,null,"3.1.547  haul sheeting on site"]
[null,null,null,null,null,null,null,null,"3.1.549  rem steel plates"]
[null,null,null,null,null,null,null,null,"3.1.550  install bracing"]
[null,null,null,null,null,null,null,null,"3.1.551  install steel bracing"]
[null,null,null,null,null,null,null,null,"3.1.552  install wales"]
[null,null,null,null,null,null,null,null,"3.1.553  install struts"]
[null,null,null,null,null,null,null,null,"3.1.554  install rakers"]
[null,null,null,null,null,null,null,null,"3.1.555  install timber bracing"]
[null,null,null,null,null,null,null,null,"3.1.560  remove  bracing"]
[null,null,null,null,null,null,null,null,"3.1.561  remove steel bracing"]
[null,null,null,null,null,null,null,null,"3.1.562  remove wales"]
[null,null,null,null,null,null,null,null,"3.1.563  remove struts"]
[null,null,null,null,null,null,null,null,"3.1.564  remove rakers"]
[null,null,null,null,null,null,null,null,"3.1.565  remove timber bracing"]
[null,null,null,null,null,null,null,null,"3.1.700  decking"]
[null,null,null,null,null,null,null,null,"3.1.710  furnish decking materials"]
[null,null,null,null,null,null,null,null,"3.1.711  furn timber decking"]
[null,null,null,null,null,null,null,null,"3.1.712  furn steel plates"]
[null,null,null,null,null,null,null,null,"3.1.713  furn conc decking"]
[null,null,null,null,null,null,null,null,"3.1.714  furn steel decking beams"]
[null,null,null,null,null,null,null,null,"3.1.715  furn steel decking girders"]
[null,null,null,null,null,null,null,null,"3.1.716  furn steel decking bracing"]
[null,null,null,null,null,null,null,null,"3.1.720  install decking"]
[null,null,null,null,null,null,null,null,"3.1.721  ins timber decking"]
[null,null,null,null,null,null,null,null,"3.1.722  ins roadway plates"]
[null,null,null,null,null,null,null,null,"3.1.723  ins conc decking"]
[null,null,null,null,null,null,null,null,"3.1.724  ins steel decking beams"]
[null,null,null,null,null,null,null,null,"3.1.725  ins steel decking girders"]
[null,null,null,null,null,null,null,null,"3.1.726  ins steel decking bracing"]
[null,null,null,null,null,null,null,null,"3.1.730  remove decking"]
[null,null,null,null,null,null,null,null,"3.1.731  rem timber decking"]
[null,null,null,null,null,null,null,null,"3.1.732  rem roadway plates"]
[null,null,null,null,null,null,null,null,"3.1.733  rem conc decking"]
[null,null,null,null,null,null,null,null,"3.1.734  rem stl decking beams"]
[null,null,null,null,null,null,null,null,"3.1.735  rem stl decking girders"]
[null,null,null,null,null,null,null,null,"3.1.736  rem stl decking bracing"]
[null,null,null,null,null,null,null,null,"3.1.740  haul + dispose  materials"]
[null,null,null,null,null,null,null,null,"3.1.741  haul + disp timber decking"]
[null,null,null,null,null,null,null,null,"3.1.742  haul + dispose rdwy plates"]
[null,null,null,null,null,null,null,null,"3.1.743  haul + dispose conc decking"]
[null,null,null,null,null,null,null,null,"3.1.744  haul + dispose dking beams"]
[null,null,null,null,null,null,null,null,"3.1.745  haul + dispose decking grdrs"]
[null,null,null,null,null,null,null,null,"3.1.746  haul + dispose dcking bracng"]
[null,null,null,null,null,null,null,null,"3.1.800  tie backs / anchors"]
[null,null,null,null,null,null,null,null,"3.1.810  f+i earth tie backs"]
[null,null,null,null,null,null,null,null,"3.1.820  f+i rock tie backs"]
[null,null,null,null,null,null,null,null,"3.1.830  f+i rock anchors"]
[null,null,null,null,null,null,null,null,"3.1.840  f+i soil nailing"]
[null,null,null,null,null,null,null,null,"3.1.850  support to tie back sub"]
[null,null,null,null,null,null,null,null,"3.3.000  dewatering"]
[null,null,null,null,null,null,null,null,"3.3.110  rent deep well equipment"]
[null,null,null,null,null,null,null,null,"3.3.120  inst deep wells"]
[null,null,null,null,null,null,null,null,"3.3.130  operate deep well pumps"]
[null,null,null,null,null,null,null,null,"3.3.140  remove deep wells"]
[null,null,null,null,null,null,null,null,"3.3.150  operate sumping system"]
[null,null,null,null,null,null,null,null,"3.3.310  rent well point equipment"]
[null,null,null,null,null,null,null,null,"3.3.320  inst well points"]
[null,null,null,null,null,null,null,null,"3.3.330  operate well pnt system"]
[null,null,null,null,null,null,null,null,"3.3.340  remove well points"]
[null,null,null,null,null,null,null,null,"3.3.350  rent temp sttlmnt basin"]
[null,null,null,null,null,null,null,null,"3.3.360  rent temp oil / water sep."]
[null,null,null,null,null,null,null,null,"3.3.370  water disposal"]
[null,null,null,null,null,null,null,null,"3.3.380  permits"]
[null,null,null,null,null,null,null,null,"3.4.000  excavation / grading"]
[null,null,null,null,null,null,null,null,"3.4.100  structure / pit"]
[null,null,null,null,null,null,null,null,"3.4.110  excavate mass cut"]
[null,null,null,null,null,null,null,null,"3.4.120  excavate open pit"]
[null,null,null,null,null,null,null,null,"3.4.130  excavate sheeted pit"]
[null,null,null,null,null,null,null,null,"3.4.140  hand excavation"]
[null,null,null,null,null,null,null,null,"3.4.150  excavate test pits"]
[null,null,null,null,null,null,null,null,"3.4.160  excavate muck"]
[null,null,null,null,null,null,null,null,"3.4.170  grade excavation bottom"]
[null,null,null,null,null,null,null,null,"3.4.200  trench"]
[null,null,null,null,null,null,null,null,"3.4.210  exc open trench"]
[null,null,null,null,null,null,null,null,"3.4.220  exc sheeted trench"]
[null,null,null,null,null,null,null,null,"3.4.230  exc + lag trench"]
[null,null,null,null,null,null,null,null,"3.4.240  exc/ins vert wood sheeting"]
[null,null,null,null,null,null,null,null,"3.4.250  exc trench by hand"]
[null,null,null,null,null,null,null,null,"3.4.270  exc w/ sheeting box"]
[null,null,null,null,null,null,null,null,"3.4.280  grade trench bottom"]
[null,null,null,null,null,null,null,null,"3.4.300  rock"]
[null,null,null,null,null,null,null,null,"3.4.310  f. blasting caps / explosives"]
[null,null,null,null,null,null,null,null,"3.4.320  support to blasting sub"]
[null,null,null,null,null,null,null,null,"3.4.330  line drill rock"]
[null,null,null,null,null,null,null,null,"3.4.340  drill blast holes"]
[null,null,null,null,null,null,null,null,"3.4.350  f&i blasting mats"]
[null,null,null,null,null,null,null,null,"3.4.360  blast rock"]
[null,null,null,null,null,null,null,null,"3.4.370  lift & load rock"]
[null,null,null,null,null,null,null,null,"3.4.380  clean rock surface"]
[null,null,null,null,null,null,null,null,"3.4.400  roadway"]
[null,null,null,null,null,null,null,null,"3.4.410  exc mass cut road/site"]
[null,null,null,null,null,null,null,null,"3.4.420  exc for roadway"]
[null,null,null,null,null,null,null,null,"3.4.430  grade slopes"]
[null,null,null,null,null,null,null,null,"3.4.440  grade roadway"]
[null,null,null,null,null,null,null,null,"3.4.600  load and hauling from exc"]
[null,null,null,null,null,null,null,null,"3.4.610  l+l at excavation"]
[null,null,null,null,null,null,null,null,"3.4.630  haul earth- onsite"]
[null,null,null,null,null,null,null,null,"3.4.650  h+d excess earth"]
[null,null,null,null,null,null,null,null,"3.4.660  h+d excavated rock"]
[null,null,null,null,null,null,null,null,"3.4.670  h+d unsuitable material"]
[null,null,null,null,null,null,null,null,"3.4.700  stockpile operations"]
[null,null,null,null,null,null,null,null,"3.4.710  stockpile support"]
[null,null,null,null,null,null,null,null,"3.4.720  screen matrl @ stockpile"]
[null,null,null,null,null,null,null,null,"3.4.730  l+l at stockpile"]
[null,null,null,null,null,null,null,null,"3.6.000  fills / backfills"]
[null,null,null,null,null,null,null,null,"3.6.100  furnish backfill materials"]
[null,null,null,null,null,null,null,null,"3.6.110  furnish fill material"]
[null,null,null,null,null,null,null,null,"3.6.111  furnish common fill"]
[null,null,null,null,null,null,null,null,"3.6.112  furnish porous fill"]
[null,null,null,null,null,null,null,null,"3.6.113  furnish crushed stone"]
[null,null,null,null,null,null,null,null,"3.6.114  furnish dga"]
[null,null,null,null,null,null,null,null,"3.6.115  furnish rca"]
[null,null,null,null,null,null,null,null,"3.6.116  furnish select fills"]
[null,null,null,null,null,null,null,null,"3.6.117  furnish sand"]
[null,null,null,null,null,null,null,null,"3.6.118  furnish rip rap"]
[null,null,null,null,null,null,null,null,"3.6.190  f+i  other materials"]
[null,null,null,null,null,null,null,null,"3.6.191  f+i geogrids"]
[null,null,null,null,null,null,null,null,"3.6.192  f+i geotextiles"]
[null,null,null,null,null,null,null,null,"3.6.193  f+i membrane liners"]
[null,null,null,null,null,null,null,null,"3.6.194  f+i filter fabric"]
[null,null,null,null,null,null,null,null,"3.6.195  f+i wire mesh form "]
[null,null,null,null,null,null,null,null,"3.6.196  f+i gabion baskets"]
[null,null,null,null,null,null,null,null,"3.6.197  f+i reno mattress"]
[null,null,null,null,null,null,null,null,"3.6.300  structural backfill"]
[null,null,null,null,null,null,null,null,"3.6.310  bkfill struct subbase material"]
[null,null,null,null,null,null,null,null,"3.6.320  bkfill at footings"]
[null,null,null,null,null,null,null,null,"3.6.330  bkfill at retaining walls"]
[null,null,null,null,null,null,null,null,"3.6.340  bkfill at sheeted pit"]
[null,null,null,null,null,null,null,null,"3.6.350  bkfill at underdrain"]
[null,null,null,null,null,null,null,null,"3.6.360  bkfill at structures"]
[null,null,null,null,null,null,null,null,"3.6.370  bkfill at modular walls"]
[null,null,null,null,null,null,null,null,"3.6.380  bkfill gabions"]
[null,null,null,null,null,null,null,null,"3.6.400  trench backfill"]
[null,null,null,null,null,null,null,null,"3.6.410  bkfill suit material"]
[null,null,null,null,null,null,null,null,"3.6.420  bkfill trench bedding"]
[null,null,null,null,null,null,null,null,"3.6.430  bkfill trench "]
[null,null,null,null,null,null,null,null,"3.6.450  bkfill rip rap"]
[null,null,null,null,null,null,null,null,"3.6.460  bkfill / rem vert wood"]
[null,null,null,null,null,null,null,null,"3.6.470  bkfill sheeted trench"]
[null,null,null,null,null,null,null,null,"3.6.480  bkfill / rem lagging"]
[null,null,null,null,null,null,null,null,"3.6.500  roadway / site backfill"]
[null,null,null,null,null,null,null,null,"3.6.510  bkfill to finish grade"]
[null,null,null,null,null,null,null,null,"3.6.540  mass site backfill"]
[null,null,null,null,null,null,null,null,"3.6.550  bkfill slope protection"]
[null,null,null,null,null,null,null,null,"3.6.560  bkfill at shoulders"]
[null,null,null,null,null,null,null,null,"3.6.570  bkfill subbase / dga"]
[null,null,null,null,null,null,null,null,"3.6.580  fine grading & compaction"]
[null,null,null,null,null,null,null,null,"3.6.700  bkfll insp/geotech instr"]
[null,null,null,null,null,null,null,null,"3.6.710  perf compaction testing"]
[null,null,null,null,null,null,null,null,"3.6.720  perf gradation testing"]
[null,null,null,null,null,null,null,null,"3.6.730  perf moist content test"]
[null,null,null,null,null,null,null,null,"3.6.740  inspection tech"]
[null,null,null,null,null,null,null,null,"3.6.760  geotech instrumentation"]
[null,null,null,null,null,null,null,null,"3.8.000  piles / caissons"]
[null,null,null,null,null,null,null,null,"3.8.100  h-piles"]
[null,null,null,null,null,null,null,null,"3.8.110  f+i h-piles"]
[null,null,null,null,null,null,null,null,"3.8.120  f+i coated h-piles"]
[null,null,null,null,null,null,null,null,"3.8.130  f+i pile points"]
[null,null,null,null,null,null,null,null,"3.8.132  f+i pile splices"]
[null,null,null,null,null,null,null,null,"3.8.133  cut off h-piles"]
[null,null,null,null,null,null,null,null,"3.8.134  l+l h-pile cut offs"]
[null,null,null,null,null,null,null,null,"3.8.135  h+d h-pile cut offs"]
[null,null,null,null,null,null,null,null,"3.8.200  caissons"]
[null,null,null,null,null,null,null,null,"3.8.210  f+i caissons"]
[null,null,null,null,null,null,null,null,"3.8.230  supp to caisson sub"]
[null,null,null,null,null,null,null,null,"3.8.240  l+l caisson spoil"]
[null,null,null,null,null,null,null,null,"3.8.250  h+d caisson spoil"]
[null,null,null,null,null,null,null,null,"3.8.260  caisson load test"]
[null,null,null,null,null,null,null,null,"3.8.300  concrete piles"]
[null,null,null,null,null,null,null,null,"3.8.310  f+i concrete piles"]
[null,null,null,null,null,null,null,null,"3.8.320  cut off concrete piles"]
[null,null,null,null,null,null,null,null,"3.8.330  l+l conc pile cut offs"]
[null,null,null,null,null,null,null,null,"3.8.340  h+d conc pile cut offs"]
[null,null,null,null,null,null,null,null,"3.8.400  pipe piles"]
[null,null,null,null,null,null,null,null,"3.8.410  f+i pipe piles"]
[null,null,null,null,null,null,null,null,"3.8.420  f+i coated pipe piles"]
[null,null,null,null,null,null,null,null,"3.8.430  f+i splice pipe piles"]
[null,null,null,null,null,null,null,null,"3.8.440  f+i pipe pile points"]
[null,null,null,null,null,null,null,null,"3.8.450  cut off pipe piles"]
[null,null,null,null,null,null,null,null,"3.8.460  l+l pipe pile cut offs"]
[null,null,null,null,null,null,null,null,"3.8.470  h+d pipe pile cut offs"]
[null,null,null,null,null,null,null,null,"3.8.500  timber piles"]
[null,null,null,null,null,null,null,null,"3.8.510  f+i timber piles"]
[null,null,null,null,null,null,null,null,"3.8.520  f+i monotube piles"]
[null,null,null,null,null,null,null,null,"3.8.530  cut off monotube piles"]
[null,null,null,null,null,null,null,null,"3.8.540  l+l monotube pile cut offs"]
[null,null,null,null,null,null,null,null,"3.8.550  h+d monotube pile cut offs"]
[null,null,null,null,null,null,null,null,"3.8.700  support pile sub"]
[null,null,null,null,null,null,null,null,"3.8.800  pile load tests"]
[null,null,null,null,null,null,null,null,"3.8.900  pile pda tests"]
[null,null,null,null,null,null,null,null,"4.0.000  utilities"]
[null,null,null,null,null,null,null,null,"4.1.100  pipe / fittings "]
[null,null,null,null,null,null,null,null,"4.1.110  f+i rcp pipe"]
[null,null,null,null,null,null,null,null,"4.1.120  f+i dip / cip + fittings"]
[null,null,null,null,null,null,null,null,"4.1.130  f+i pvc pipe and fittings"]
[null,null,null,null,null,null,null,null,"4.1.140  f+i prstr conc pipe + fitt"]
[null,null,null,null,null,null,null,null,"4.1.150  f+i vit clay pipe + fittings"]
[null,null,null,null,null,null,null,null,"4.1.160  f+i cmp pipe + fittings"]
[null,null,null,null,null,null,null,null,"4.1.170  f+i ellip rcp pipe "]
[null,null,null,null,null,null,null,null,"4.1.180  f+i steel pipe + fittings"]
[null,null,null,null,null,null,null,null,"4.1.190  f+i underdrain pipe + fittings"]
[null,null,null,null,null,null,null,null,"4.1.200  precast structures"]
[null,null,null,null,null,null,null,null,"4.1.210  f+i precast conc manholes"]
[null,null,null,null,null,null,null,null,"4.1.220  f+i pc inlets/catch basins"]
[null,null,null,null,null,null,null,null,"4.1.230  f+i prcst conc hand holes"]
[null,null,null,null,null,null,null,null,"4.1.240  f+i prcst conc track drains"]
[null,null,null,null,null,null,null,null,"4.1.250  f+i prcst conc valve pits"]
[null,null,null,null,null,null,null,null,"4.1.260  f+i prcst trench drains"]
[null,null,null,null,null,null,null,null,"4.1.270  f+i headwalls"]
[null,null,null,null,null,null,null,null,"4.1.280  f+i misc pc structures"]
[null,null,null,null,null,null,null,null,"4.1.290  f+p concrete inverts"]
[null,null,null,null,null,null,null,null,"4.1.295  f+i precast box culverts"]
[null,null,null,null,null,null,null,null,"4.1.300  castings"]
[null,null,null,null,null,null,null,null,"4.1.310  f+i frames and covers "]
[null,null,null,null,null,null,null,null,"4.1.320  f+i frames and grates"]
[null,null,null,null,null,null,null,null,"4.1.330  f+i frames + grates w/ curb"]
[null,null,null,null,null,null,null,null,"4.1.340  f+i hoods and hooks"]
[null,null,null,null,null,null,null,null,"4.1.350  f+i manhole rungs"]
[null,null,null,null,null,null,null,null,"4.1.360  f+i adjustment rings"]
[null,null,null,null,null,null,null,null,"4.1.370  adjust valve boxes"]
[null,null,null,null,null,null,null,null,"4.1.380  reset existing castings"]
[null,null,null,null,null,null,null,null,"4.1.400  conc / pvc / fbrgls ducts"]
[null,null,null,null,null,null,null,null,"4.1.410  f+i precast conc ducts"]
[null,null,null,null,null,null,null,null,"4.1.420  f+i pvc ducts"]
[null,null,null,null,null,null,null,null,"4.1.430  f+i fiberglass ducts"]
[null,null,null,null,null,null,null,null,"4.2.100  utility removals"]
[null,null,null,null,null,null,null,null,"4.2.110  rem existing large pipe"]
[null,null,null,null,null,null,null,null,"4.2.120  rem existing small piping"]
[null,null,null,null,null,null,null,null,"4.2.130  rem existing pipe specials"]
[null,null,null,null,null,null,null,null,"4.2.140  rem manholes & inlets"]
[null,null,null,null,null,null,null,null,"4.2.150  break utility structures"]
[null,null,null,null,null,null,null,null,"4.2.160  remove castings"]
[null,null,null,null,null,null,null,null,"4.2.170  rem precast conc ducts"]
[null,null,null,null,null,null,null,null,"4.2.180  rem pvc / fiberglass ducts"]
[null,null,null,null,null,null,null,null,"4.2.190  h+d utility removals"]
[null,null,null,null,null,null,null,null,"4.3.110  pipe jacking"]
[null,null,null,null,null,null,null,null,"4.3.115  support pipe jacking"]
[null,null,null,null,null,null,null,null,"4.3.120  pipe cleaning"]
[null,null,null,null,null,null,null,null,"4.3.130  video pipe inspection "]
[null,null,null,null,null,null,null,null,"4.3.140  clean exist structures"]
[null,null,null,null,null,null,null,null,"4.3.150  in situ pipe lining"]
[null,null,null,null,null,null,null,null,"4.3.200  support exist utilities"]
[null,null,null,null,null,null,null,null,"4.3.210  f+i utility supports"]
[null,null,null,null,null,null,null,null,"4.3.220  rem utility supports"]
[null,null,null,null,null,null,null,null,"5.0.000  sitework / roadwork"]
[null,null,null,null,null,null,null,null,"5.1.000  erosion control"]
[null,null,null,null,null,null,null,null,"5.1.100  f+i+r silt fence"]
[null,null,null,null,null,null,null,null,"5.1.200  f+i+r safety fence"]
[null,null,null,null,null,null,null,null,"5.2.000  fencing"]
[null,null,null,null,null,null,null,null,"5.2.110  f+i chain link fence"]
[null,null,null,null,null,null,null,null,"5.2.115  f+i gates"]
[null,null,null,null,null,null,null,null,"5.2.120  f+i+r temp chain link"]
[null,null,null,null,null,null,null,null,"5.2.125  f+i+r temp gates"]
[null,null,null,null,null,null,null,null,"5.2.130  relocate chain link fence"]
[null,null,null,null,null,null,null,null,"5.2.135  relocate gates"]
[null,null,null,null,null,null,null,null,"5.2.140  f+i+r tight board fence"]
[null,null,null,null,null,null,null,null,"5.2.150  f+i bridge fence straight"]
[null,null,null,null,null,null,null,null,"5.2.151  f+i bridge fence curved"]
[null,null,null,null,null,null,null,null,"5.2.152  f+i bridge fence wings"]
[null,null,null,null,null,null,null,null,"5.2.153  f+i picket fence"]
[null,null,null,null,null,null,null,null,"5.3.000  landscape / unit pavers"]
[null,null,null,null,null,null,null,null,"5.3.100  landscaping"]
[null,null,null,null,null,null,null,null,"5.3.110  f+i top soil (sy)"]
[null,null,null,null,null,null,null,null,"5.3.120  f+i top soil (cy)"]
[null,null,null,null,null,null,null,null,"5.3.130  f+i seed + fertilizer"]
[null,null,null,null,null,null,null,null,"5.3.140  f+i sod"]
[null,null,null,null,null,null,null,null,"5.3.150  f+i mulch"]
[null,null,null,null,null,null,null,null,"5.3.160  f+i trees & shrubs"]
[null,null,null,null,null,null,null,null,"5.3.170  f+i ground cover"]
[null,null,null,null,null,null,null,null,"5.3.180  maintenance & watering"]
[null,null,null,null,null,null,null,null,"5.3.190  f+i steel edging"]
[null,null,null,null,null,null,null,null,"5.3.200  unit pavers"]
[null,null,null,null,null,null,null,null,"5.3.210  f+i asphalt unit pavers"]
[null,null,null,null,null,null,null,null,"5.3.220  f+i granite/stone unit pavers"]
[null,null,null,null,null,null,null,null,"5.3.230  f+i belgian block pavers"]
[null,null,null,null,null,null,null,null,"5.3.240  f+i concrete/brick pavers"]
[null,null,null,null,null,null,null,null,"5.3.250  f+i setting beds"]
[null,null,null,null,null,null,null,null,"5.4.000  paving/grooving/striping"]
[null,null,null,null,null,null,null,null,"5.4.100  asphalt paving"]
[null,null,null,null,null,null,null,null,"5.4.110  f+i asph base/binder coure"]
[null,null,null,null,null,null,null,null,"5.4.120  f+i asph surface & levelling course"]
[null,null,null,null,null,null,null,null,"5.4.130  f+i asph top course"]
[null,null,null,null,null,null,null,null,"5.4.140  f+i asph open graded course"]
[null,null,null,null,null,null,null,null,"5.4.150  f+i asph mowing strip"]
[null,null,null,null,null,null,null,null,"5.4.160  f+i temp ashpalt"]
[null,null,null,null,null,null,null,null,"5.4.170  f+i tack coat"]
[null,null,null,null,null,null,null,null,"5.4.180  f+i prime coat"]
[null,null,null,null,null,null,null,null,"5.4.400  permanent striping"]
[null,null,null,null,null,null,null,null,"5.4.410  f+i painted striping"]
[null,null,null,null,null,null,null,null,"5.4.420  f+i therm plastic striping"]
[null,null,null,null,null,null,null,null,"5.4.430  f+i epoxy striping"]
[null,null,null,null,null,null,null,null,"5.4.440  f+i symbols"]
[null,null,null,null,null,null,null,null,"5.4.450  f+i reflectors/delineators"]
[null,null,null,null,null,null,null,null,"5.4.460  remove striping"]
[null,null,null,null,null,null,null,null,"5.4.470  remove symbols"]
[null,null,null,null,null,null,null,null,"5.4.610  transverse sawcut grooving"]
[null,null,null,null,null,null,null,null,"5.4.620  f+i rumble strips"]
[null,null,null,null,null,null,null,null,"5.4.630  support to grooving sub"]
[null,null,null,null,null,null,null,null,"5.5.000  precast barrier/curb"]
[null,null,null,null,null,null,null,null,"5.5.110  f+i precast conc curb"]
[null,null,null,null,null,null,null,null,"5.5.120  f+i granite curbs"]
[null,null,null,null,null,null,null,null,"5.5.130  f+i asphalt curbs"]
[null,null,null,null,null,null,null,null,"5.5.140  f+i precast conc barrier"]
[null,null,null,null,null,null,null,null,"5.6.000  signs / guardrails"]
[null,null,null,null,null,null,null,null,"5.6.110  rem of sign structures"]
[null,null,null,null,null,null,null,null,"5.6.120  f+i sign structures"]
[null,null,null,null,null,null,null,null,"5.6.210  f+i perm roadway signs"]
[null,null,null,null,null,null,null,null,"5.6.230  remove roadway signs"]
[null,null,null,null,null,null,null,null,"5.6.240  relocate roadway signs"]
[null,null,null,null,null,null,null,null,"5.6.300  guidedrails / anchors"]
[null,null,null,null,null,null,null,null,"5.6.310  f+i corr beam guide rail"]
[null,null,null,null,null,null,null,null,"5.6.320  f+i box beam guide rail"]
[null,null,null,null,null,null,null,null,"5.6.330  f+i guide rail anchors"]
[null,null,null,null,null,null,null,null,"5.6.340  f+i blocked out corr beam"]
[null,null,null,null,null,null,null,null,"5.6.350  f+i rub rail"]
[null,null,null,null,null,null,null,null,"5.6.360  f+i cable guide rail"]
[null,null,null,null,null,null,null,null,"5.6.370  f+i bridge railing"]
[null,null,null,null,null,null,null,null,"5.7.000  noise barrier"]
[null,null,null,null,null,null,null,null,"5.7.010  noise barrier foundations"]
[null,null,null,null,null,null,null,null,"5.7.020  f+i casings for auger holes"]
[null,null,null,null,null,null,null,null,"5.7.030  auger holes for posts"]
[null,null,null,null,null,null,null,null,"5.7.040  l+l auger spoil"]
[null,null,null,null,null,null,null,null,"5.7.050  h+d auger spoil"]
[null,null,null,null,null,null,null,null,"5.7.060  f+i bedding stone in auger hole"]
[null,null,null,null,null,null,null,null,"5.7.070  support auger sub"]
[null,null,null,null,null,null,null,null,"5.7.100  timber noise barrier"]
[null,null,null,null,null,null,null,null,"5.7.110  f timb noise barrier incl posts"]
[null,null,null,null,null,null,null,null,"5.7.130  set timber posts"]
[null,null,null,null,null,null,null,null,"5.7.140  install timber slats"]
[null,null,null,null,null,null,null,null,"5.7.150  f+i timber noise barrier"]
[null,null,null,null,null,null,null,null,"5.7.160  coat timber noise barrier"]
[null,null,null,null,null,null,null,null,"5.7.200  precast noise barrier"]
[null,null,null,null,null,null,null,null,"5.7.210  f pc noise barrier incl posts"]
[null,null,null,null,null,null,null,null,"5.7.230  set conc posts"]
[null,null,null,null,null,null,null,null,"5.7.240  install precast panels"]
[null,null,null,null,null,null,null,null,"5.7.250  f+i precast noise barrier"]
[null,null,null,null,null,null,null,null,"5.7.260  caulk precast noise panels"]
[null,null,null,null,null,null,null,null,"5.7.270  coat precast noise panels"]
[null,null,null,null,null,null,null,null,"5.8.000  modular retaining walls"]
[null,null,null,null,null,null,null,null,"5.8.010  f. t-walls"]
[null,null,null,null,null,null,null,null,"5.8.020  f. double walls"]
[null,null,null,null,null,null,null,null,"5.8.030  f. bin walls"]
[null,null,null,null,null,null,null,null,"5.8.040  f. reinforced earth walls"]
[null,null,null,null,null,null,null,null,"5.8.050  install modular ret'g wall units"]
[null,null,null,null,null,null,null,null,"5.8.060  f+i sel struct fill at ret'g wall"]
[null,null,null,null,null,null,null,null,"5.8.070  f+i pc ret'g wall parapet"]
[null,null,null,null,null,null,null,null,"5.9.000  trackwork"]
[null,null,null,null,null,null,null,null,"5.9.100  trackwork removals"]
[null,null,null,null,null,null,null,null,"5.9.200  track installation"]
[null,null,null,null,null,null,null,null,"6.0.000  concrete"]
[null,null,null,null,null,null,null,null,"6.0.100  concrete equipment supp"]
[null,null,null,null,null,null,null,null,"6.0.110  crane support"]
[null,null,null,null,null,null,null,null,"6.0.120  concrete pump"]
[null,null,null,null,null,null,null,null,"6.0.130  concrete conveyor"]
[null,null,null,null,null,null,null,null,"6.1.000  conc materials / supl"]
[null,null,null,null,null,null,null,null,"6.1.100  f. concrete + 7% waste"]
[null,null,null,null,null,null,null,null,"6.1.210  f. reinforcing steel"]
[null,null,null,null,null,null,null,null,"6.1.220  f. welded wire mesh"]
[null,null,null,null,null,null,null,null,"6.1.230  f. rebar couplers"]
[null,null,null,null,null,null,null,null,"6.1.240  f. rebar accessories"]
[null,null,null,null,null,null,null,null,"6.1.250  f. transverse roadway baskets"]
[null,null,null,null,null,null,null,null,"6.1.300  f. forms / forming supplies"]
[null,null,null,null,null,null,null,null,"6.1.400  f. misc conc supplies"]
[null,null,null,null,null,null,null,null,"6.1.510  f. waterstop"]
[null,null,null,null,null,null,null,null,"6.1.520  f. exp jt filler"]
[null,null,null,null,null,null,null,null,"6.1.900  unload/reload forms"]
[null,null,null,null,null,null,null,null,"6.2.000  forming"]
[null,null,null,null,null,null,null,null,"6.2.100  ftgs / caps / grade bms"]
[null,null,null,null,null,null,null,null,"6.2.110  e+s ftg / pile cap side forms"]
[null,null,null,null,null,null,null,null,"6.2.120  e+s grade beam side forms"]
[null,null,null,null,null,null,null,null,"6.2.130  e+s ftg / pile cap const jts"]
[null,null,null,null,null,null,null,null,"6.2.140  e+s hung ftg / pile cap forms"]
[null,null,null,null,null,null,null,null,"6.2.150  e+s rebar templates ftgs/gb"]
[null,null,null,null,null,null,null,null,"6.2.200  slabs on grade"]
[null,null,null,null,null,null,null,null,"6.2.210  mud mat"]
[null,null,null,null,null,null,null,null,"6.2.211  e+s mud mat edge forms"]
[null,null,null,null,null,null,null,null,"6.2.212  e+s mud mat hung edge forms"]
[null,null,null,null,null,null,null,null,"6.2.213  e+s mud mat const jts"]
[null,null,null,null,null,null,null,null,"6.2.220  invert/base slab"]
[null,null,null,null,null,null,null,null,"6.2.221  e+s inv/base edge forms"]
[null,null,null,null,null,null,null,null,"6.2.222  e+s inv/base hung edge forms"]
[null,null,null,null,null,null,null,null,"6.2.223  e+s inv/base const jts"]
[null,null,null,null,null,null,null,null,"6.2.224  e+s inv/base slab boxout forms"]
[null,null,null,null,null,null,null,null,"6.2.225  e+s inv/base rebar template"]
[null,null,null,null,null,null,null,null,"6.2.240  conc paving"]
[null,null,null,null,null,null,null,null,"6.2.241  e+s conc pav edge forms"]
[null,null,null,null,null,null,null,null,"6.2.242  e+s conc pav const jts"]
[null,null,null,null,null,null,null,null,"6.2.243  e+s hung conc pav forms"]
[null,null,null,null,null,null,null,null,"6.2.245  mob / demob screed machine"]
[null,null,null,null,null,null,null,null,"6.2.246  set transverse roadway baskets"]
[null,null,null,null,null,null,null,null,"6.2.247  set roadway dowel bars"]
[null,null,null,null,null,null,null,null,"6.2.250  concrete stairs "]
[null,null,null,null,null,null,null,null,"6.2.251  e+s tooth stair edge forms"]
[null,null,null,null,null,null,null,null,"6.2.252  e+s hung step forms"]
[null,null,null,null,null,null,null,null,"6.2.253  e+s stair edge forms"]
[null,null,null,null,null,null,null,null,"6.2.254  e+s stair soffits"]
[null,null,null,null,null,null,null,null,"6.2.255  stair nosings"]
[null,null,null,null,null,null,null,null,"6.2.300  piers / columns"]
[null,null,null,null,null,null,null,null,"6.2.310  e+s pier cap side forms"]
[null,null,null,null,null,null,null,null,"6.2.320  e+s pier cap bottom forms"]
[null,null,null,null,null,null,null,null,"6.2.330  e+s pier cap const jts"]
[null,null,null,null,null,null,null,null,"6.2.335  e+s pier shaft wall forms"]
[null,null,null,null,null,null,null,null,"6.2.340  e+s col forms"]
[null,null,null,null,null,null,null,null,"6.2.350  e+s circular col forms"]
[null,null,null,null,null,null,null,null,"6.2.360  e+s bearing pad forms"]
[null,null,null,null,null,null,null,null,"6.2.400  walls"]
[null,null,null,null,null,null,null,null,"6.2.410  one face wall forms"]
[null,null,null,null,null,null,null,null,"6.2.412  e+s 1f gang wall forms"]
[null,null,null,null,null,null,null,null,"6.2.413  e+s 1f wall forms"]
[null,null,null,null,null,null,null,null,"6.2.414  e+s 1f curved wall forms"]
[null,null,null,null,null,null,null,null,"6.2.420  two face wall forms"]
[null,null,null,null,null,null,null,null,"6.2.422  e+s 2f gang wall forms"]
[null,null,null,null,null,null,null,null,"6.2.423  e+s 2f wall forms"]
[null,null,null,null,null,null,null,null,"6.2.424  e+s 2f curved wall forms"]
[null,null,null,null,null,null,null,null,"6.2.425  e+s wall haunch forms"]
[null,null,null,null,null,null,null,null,"6.2.430  abut/wing+retain wall forms"]
[null,null,null,null,null,null,null,null,"6.2.431  e+s abutment wall forms"]
[null,null,null,null,null,null,null,null,"6.2.433  e+s wing wall forms"]
[null,null,null,null,null,null,null,null,"6.2.435  e+s retaining wall forms"]
[null,null,null,null,null,null,null,null,"6.2.437  e+s abutment backwall forms"]
[null,null,null,null,null,null,null,null,"6.2.438  e+s abutment header forms"]
[null,null,null,null,null,null,null,null,"6.2.460  jack arch wall forms"]
[null,null,null,null,null,null,null,null,"6.2.461  e+s metal jack arch forms"]
[null,null,null,null,null,null,null,null,"6.2.462  e+s wood jack arch forms"]
[null,null,null,null,null,null,null,null,"6.2.470  boxouts / const jts "]
[null,null,null,null,null,null,null,null,"6.2.471  e+s wall const jts"]
[null,null,null,null,null,null,null,null,"6.2.472  e+s wall const jt w/ keyway"]
[null,null,null,null,null,null,null,null,"6.2.473  e+s wall const jt w/ waterstop"]
[null,null,null,null,null,null,null,null,"6.2.474  e+s wall boxout forms"]
[null,null,null,null,null,null,null,null,"6.2.500  supp slabs  / beams"]
[null,null,null,null,null,null,null,null,"6.2.510  supported slabs"]
[null,null,null,null,null,null,null,null,"6.2.511  e+s supp slab edge forms"]
[null,null,null,null,null,null,null,null,"6.2.512  e+s supp slab soffit forms"]
[null,null,null,null,null,null,null,null,"6.2.513  e+s supp slab const jts"]
[null,null,null,null,null,null,null,null,"6.2.514  e+s supp slab boxout forms"]
[null,null,null,null,null,null,null,null,"6.2.515  e+s hung supp edge forms"]
[null,null,null,null,null,null,null,null,"6.2.520  supported beams"]
[null,null,null,null,null,null,null,null,"6.2.521  e+s supp beam side forms"]
[null,null,null,null,null,null,null,null,"6.2.522  e+s supp beam bottom forms"]
[null,null,null,null,null,null,null,null,"6.2.523  e+s supp beam const jts"]
[null,null,null,null,null,null,null,null,"6.2.524  e+s hung supp beam forms"]
[null,null,null,null,null,null,null,null,"6.2.530  e+s supp jack arch roof"]
[null,null,null,null,null,null,null,null,"6.2.600  bridge decks"]
[null,null,null,null,null,null,null,null,"6.2.610  side/const/haunch forms"]
[null,null,null,null,null,null,null,null,"6.2.611  e+s bridge deck side forms"]
[null,null,null,null,null,null,null,null,"6.2.612  e+s bridge deck const jts"]
[null,null,null,null,null,null,null,null,"6.2.613  e+s hung deck edge forms"]
[null,null,null,null,null,null,null,null,"6.2.614  e+s deck boxout forms"]
[null,null,null,null,null,null,null,null,"6.2.615  e+s deck haunch forms"]
[null,null,null,null,null,null,null,null,"6.2.616  e+s conc diaphrams"]
[null,null,null,null,null,null,null,null,"6.2.620  overhang forms"]
[null,null,null,null,null,null,null,null,"6.2.621  e+s overhang brackets"]
[null,null,null,null,null,null,null,null,"6.2.622  e+s overhang soffit forms"]
[null,null,null,null,null,null,null,null,"6.2.623  e+s overhang vert prot"]
[null,null,null,null,null,null,null,null,"6.2.624  e+s horizontal prot"]
[null,null,null,null,null,null,null,null,"6.2.630  screed work"]
[null,null,null,null,null,null,null,null,"6.2.633  f+i+r screed rails"]
[null,null,null,null,null,null,null,null,"6.2.634  mob/demob bridge finisher"]
[null,null,null,null,null,null,null,null,"6.2.700  barrier/parapet/curbs"]
[null,null,null,null,null,null,null,null,"6.2.710  e+s conc parapet forms"]
[null,null,null,null,null,null,null,null,"6.2.720  e+s conc barrier forms"]
[null,null,null,null,null,null,null,null,"6.2.730  e+s conc curb forms"]
[null,null,null,null,null,null,null,null,"6.2.810  e+s crad / encase forms"]
[null,null,null,null,null,null,null,null,"6.2.815  e+s railings/shields"]
[null,null,null,null,null,null,null,null,"6.2.900  keyway / waterstop / embeds"]
[null,null,null,null,null,null,null,null,"6.2.910  keyway forms"]
[null,null,null,null,null,null,null,null,"6.2.911  e+s hung keyway forms"]
[null,null,null,null,null,null,null,null,"6.2.912  e+s keyway forms"]
[null,null,null,null,null,null,null,null,"6.2.920  install waterstop"]
[null,null,null,null,null,null,null,null,"6.2.940  embedments (6294)"]
[null,null,null,null,null,null,null,null,"6.2.941  set anchor bolts"]
[null,null,null,null,null,null,null,null,"6.2.942  set steel angles / frames"]
[null,null,null,null,null,null,null,null,"6.2.944  set bollards"]
[null,null,null,null,null,null,null,null,"6.2.945  f+i pipe sleeves"]
[null,null,null,null,null,null,null,null,"6.4.000  reinforcing"]
[null,null,null,null,null,null,null,null,"6.4.100  inst rebars"]
[null,null,null,null,null,null,null,null,"6.4.200  inst wwm (flatwork)"]
[null,null,null,null,null,null,null,null,"6.4.300  inst wwm at beam / col wrap"]
[null,null,null,null,null,null,null,null,"6.4.400  drill + grout dowels / a.b."]
[null,null,null,null,null,null,null,null,"6.4.500  install rebar couplers"]
[null,null,null,null,null,null,null,null,"6.5.000  placing concrete"]
[null,null,null,null,null,null,null,null,"6.5.100  place conc ftgs / caps / gr bm"]
[null,null,null,null,null,null,null,null,"6.5.150  place noise wall fndns"]
[null,null,null,null,null,null,null,null,"6.5.160  place sign foundations"]
[null,null,null,null,null,null,null,null,"6.5.200  slabs / paving on grade"]
[null,null,null,null,null,null,null,null,"6.5.210  base/invert/mud slabs"]
[null,null,null,null,null,null,null,null,"6.5.211  pl conc mud mat"]
[null,null,null,null,null,null,null,null,"6.5.212  pl conc protection slab"]
[null,null,null,null,null,null,null,null,"6.5.213  pl conc invert / base slab"]
[null,null,null,null,null,null,null,null,"6.5.214  pl conc modular leveling ftg"]
[null,null,null,null,null,null,null,null,"6.5.220  conc paving / sidewalks"]
[null,null,null,null,null,null,null,null,"6.5.221  pl conc paving"]
[null,null,null,null,null,null,null,null,"6.5.223  pl street conc base course"]
[null,null,null,null,null,null,null,null,"6.5.225  pl conc sidewalks"]
[null,null,null,null,null,null,null,null,"6.5.227  f+i conc sidewalks"]
[null,null,null,null,null,null,null,null,"6.5.228  f+i concrete paving"]
[null,null,null,null,null,null,null,null,"6.5.300  piers / columns"]
[null,null,null,null,null,null,null,null,"6.5.310  place concrete piers"]
[null,null,null,null,null,null,null,null,"6.5.320  place conc pier caps"]
[null,null,null,null,null,null,null,null,"6.5.330  pl conc pier shaft walls"]
[null,null,null,null,null,null,null,null,"6.5.340  place conc cols"]
[null,null,null,null,null,null,null,null,"6.5.350  place conc col encasement"]
[null,null,null,null,null,null,null,null,"6.5.400  walls"]
[null,null,null,null,null,null,null,null,"6.5.420  pl struct conc wall "]
[null,null,null,null,null,null,null,null,"6.5.425  pl sand wall"]
[null,null,null,null,null,null,null,null,"6.5.431  pl conc abutement walls"]
[null,null,null,null,null,null,null,null,"6.5.432  pl conc abut header walls"]
[null,null,null,null,null,null,null,null,"6.5.433  pl conc abut back walls"]
[null,null,null,null,null,null,null,null,"6.5.434  pl conc wing walls"]
[null,null,null,null,null,null,null,null,"6.5.435  pl conc retaining walls"]
[null,null,null,null,null,null,null,null,"6.5.437  pl small pour conc walls"]
[null,null,null,null,null,null,null,null,"6.5.452  pl conc starter walls"]
[null,null,null,null,null,null,null,null,"6.5.454  pl conc crash walls"]
[null,null,null,null,null,null,null,null,"6.5.456  pl conc duct bench"]
[null,null,null,null,null,null,null,null,"6.5.457  pl conc toe bench"]
[null,null,null,null,null,null,null,null,"6.5.460  conc tank walls"]
[null,null,null,null,null,null,null,null,"6.5.462  pl conc tank walls"]
[null,null,null,null,null,null,null,null,"6.5.463  pl conc baffle walls"]
[null,null,null,null,null,null,null,null,"6.5.464  pl conc y walls"]
[null,null,null,null,null,null,null,null,"6.5.465  pl conc tank doghouse walls"]
[null,null,null,null,null,null,null,null,"6.5.500  supp slabs / beams /stairs"]
[null,null,null,null,null,null,null,null,"6.5.510  pl conc supp slab"]
[null,null,null,null,null,null,null,null,"6.5.520  pl conc beams"]
[null,null,null,null,null,null,null,null,"6.5.530  pl conc roof protection"]
[null,null,null,null,null,null,null,null,"6.5.540  pl conc stairs"]
[null,null,null,null,null,null,null,null,"6.5.600  bridge decks"]
[null,null,null,null,null,null,null,null,"6.5.610  sandblast / prep deck"]
[null,null,null,null,null,null,null,null,"6.5.620  pl conc bridge deck"]
[null,null,null,null,null,null,null,null,"6.5.630  pl bridge conc sidewalks"]
[null,null,null,null,null,null,null,null,"6.5.640  pl conc diaphrams"]
[null,null,null,null,null,null,null,null,"6.5.650  pl conc overlay"]
[null,null,null,null,null,null,null,null,"6.5.660  f+i microsilica overlay"]
[null,null,null,null,null,null,null,null,"6.5.670  f+i latex conc overlay"]
[null,null,null,null,null,null,null,null,"6.5.700  tremie / fill / pit conc"]
[null,null,null,null,null,null,null,null,"6.5.710  pl conc tremie"]
[null,null,null,null,null,null,null,null,"6.5.720  pl conc @ underpinning pits"]
[null,null,null,null,null,null,null,null,"6.5.730  pl conc fill"]
[null,null,null,null,null,null,null,null,"6.5.800  cradle/encasement/ductbanks"]
[null,null,null,null,null,null,null,null,"6.5.810  pl conc cradles"]
[null,null,null,null,null,null,null,null,"6.5.820  pl conc ductbanks"]
[null,null,null,null,null,null,null,null,"6.5.830  pl conc pipe encasement"]
[null,null,null,null,null,null,null,null,"6.5.840  pl equipment pads"]
[null,null,null,null,null,null,null,null,"6.5.900  barrier/curbs/parapet"]
[null,null,null,null,null,null,null,null,"6.5.910  pl concrete barrier"]
[null,null,null,null,null,null,null,null,"6.5.920  pl conc parapet"]
[null,null,null,null,null,null,null,null,"6.5.930  pl conc curbs"]
[null,null,null,null,null,null,null,null,"6.5.950  f+i concrete barrier"]
[null,null,null,null,null,null,null,null,"6.5.960  f+i concrete parapet"]
[null,null,null,null,null,null,null,null,"6.5.970  f+i concrete curbs"]
[null,null,null,null,null,null,null,null,"6.5.980  f+i steel faced conc curb"]
[null,null,null,null,null,null,null,null,"6.6.000  fin / c+p / r+p"]
[null,null,null,null,null,null,null,null,"6.6.100  finish concrete"]
[null,null,null,null,null,null,null,null,"6.6.110  finish concrete bridge deck"]
[null,null,null,null,null,null,null,null,"6.6.120  broom finish concrete"]
[null,null,null,null,null,null,null,null,"6.6.130  trowel finish concrete"]
[null,null,null,null,null,null,null,null,"6.6.140  finish walls/stairs"]
[null,null,null,null,null,null,null,null,"6.6.200  r+p concrete"]
[null,null,null,null,null,null,null,null,"6.6.300  cure and protect conc"]
[null,null,null,null,null,null,null,null,"6.7.000  concrete inspection"]
[null,null,null,null,null,null,null,null,"6.7.010  concrete inspection"]
[null,null,null,null,null,null,null,null,"6.7.020  perform cylinder tests"]
[null,null,null,null,null,null,null,null,"6.7.030  provide inspection tech"]
[null,null,null,null,null,null,null,null,"6.7.040  rebar inspection"]
[null,null,null,null,null,null,null,null,"6.8.000  grout"]
[null,null,null,null,null,null,null,null,"6.8.100  furn grout"]
[null,null,null,null,null,null,null,null,"6.8.210  place grout w/ pump"]
[null,null,null,null,null,null,null,null,"6.8.220  place grout by hand"]
[null,null,null,null,null,null,null,null,"6.9.000  precast/prestr concrete"]
[null,null,null,null,null,null,null,null,"6.9.110  f struct precast planks / slabs"]
[null,null,null,null,null,null,null,null,"6.9.120  f struct precast beams"]
[null,null,null,null,null,null,null,null,"6.9.200  set struct pc panels / slabs"]
[null,null,null,null,null,null,null,null,"6.9.300  set struct pc beams"]
[null,null,null,null,null,null,null,null,"6.9.400  f+i arch precast concrete"]
[null,null,null,null,null,null,null,null,"7.0.000  str steel / misc metals"]
[null,null,null,null,null,null,null,null,"7.1.120  furn steel materials"]
[null,null,null,null,null,null,null,null,"7.1.121  furn steel beams"]
[null,null,null,null,null,null,null,null,"7.1.122  furn steel girders"]
[null,null,null,null,null,null,null,null,"7.1.123  furn steel columns"]
[null,null,null,null,null,null,null,null,"7.1.124  furn steel diaphragms"]
[null,null,null,null,null,null,null,null,"7.1.125  furn str steel bearings"]
[null,null,null,null,null,null,null,null,"7.1.126  furn str steel deck jts"]
[null,null,null,null,null,null,null,null,"7.1.130  install structural steel"]
[null,null,null,null,null,null,null,null,"7.1.131  ins steel beams"]
[null,null,null,null,null,null,null,null,"7.1.132  ins steel girders"]
[null,null,null,null,null,null,null,null,"7.1.133  ins steel columns"]
[null,null,null,null,null,null,null,null,"7.1.134  ins steel diaphragms"]
[null,null,null,null,null,null,null,null,"7.1.135  ins str steel bearings"]
[null,null,null,null,null,null,null,null,"7.1.136  ins str steel deck jts"]
[null,null,null,null,null,null,null,null,"7.1.140  f+i structural steel"]
[null,null,null,null,null,null,null,null,"7.1.150  f+i steel bearings"]
[null,null,null,null,null,null,null,null,"7.1.160  f+i deck joints"]
[null,null,null,null,null,null,null,null,"7.1.170  f+i sip forms"]
[null,null,null,null,null,null,null,null,"7.1.180  f+i shear studs"]
[null,null,null,null,null,null,null,null,"7.2.000  misc metals"]
[null,null,null,null,null,null,null,null,"7.2.010  f+i railings"]
[null,null,null,null,null,null,null,null,"7.2.020  f+i handrails"]
[null,null,null,null,null,null,null,null,"7.2.030  f+i stairs"]
[null,null,null,null,null,null,null,null,"7.2.040  f+i ladders"]
[null,null,null,null,null,null,null,null,"7.2.050  f+i ships ladders"]
[null,null,null,null,null,null,null,null,"7.2.060  f+i angles"]
[null,null,null,null,null,null,null,null,"7.2.070  f+i gratings"]
[null,null,null,null,null,null,null,null,"7.2.080  f+i access hatches"]
[null,null,null,null,null,null,null,null,"7.2.090  f+i plates"]
[null,null,null,null,null,null,null,null,"7.2.100  f+i steel supports"]
[null,null,null,null,null,null,null,null,"7.2.110  f. only angles"]
[null,null,null,null,null,null,null,null,"7.2.120  f. anchor bolts"]
[null,null,null,null,null,null,null,null,"7.2.130  f. bollards"]
[null,null,null,null,null,null,null,null,"7.2.140  f. lintels"]
[null,null,null,null,null,null,null,null,"8.0.000  architectural"]
[null,null,null,null,null,null,null,null,"8.1.000  masonry / stone / pc"]
[null,null,null,null,null,null,null,null,"8.1.110  f+i block masonry units"]
[null,null,null,null,null,null,null,null,"8.1.120  f+i brick masonry units"]
[null,null,null,null,null,null,null,null,"8.1.130  f+i glass masonry units"]
[null,null,null,null,null,null,null,null,"8.1.200  f+i stone work"]
[null,null,null,null,null,null,null,null,"8.1.300  f+i arch precast panels"]
[null,null,null,null,null,null,null,null,"8.2.100  f+i rough carp / blocking strips"]
[null,null,null,null,null,null,null,null,"8.2.200  f+i arch woodwork"]
[null,null,null,null,null,null,null,null,"8.3.000  thermal / moist prot"]
[null,null,null,null,null,null,null,null,"8.3.100  roofing"]
[null,null,null,null,null,null,null,null,"8.3.110  f+i built up sheet roofing"]
[null,null,null,null,null,null,null,null,"8.3.115  f+i elastic sheet roofing"]
[null,null,null,null,null,null,null,null,"8.3.120  f+i metal roofing"]
[null,null,null,null,null,null,null,null,"8.3.125  f+i roofing pads"]
[null,null,null,null,null,null,null,null,"8.3.130  f+i roof flashing / coping"]
[null,null,null,null,null,null,null,null,"8.3.135  f+i prefab roof curbs"]
[null,null,null,null,null,null,null,null,"8.3.140  f+i roof hatches"]
[null,null,null,null,null,null,null,null,"8.3.145  f+i roof exp jts"]
[null,null,null,null,null,null,null,null,"8.3.150  waterproofing"]
[null,null,null,null,null,null,null,null,"8.3.160  f+i cementitious wp"]
[null,null,null,null,null,null,null,null,"8.3.165  f+i membrane waterproofing"]
[null,null,null,null,null,null,null,null,"8.3.170  f+i epoxy waterproofing"]
[null,null,null,null,null,null,null,null,"8.3.175  f+i capillary wtrprfing"]
[null,null,null,null,null,null,null,null,"8.3.180  f+i damproofing"]
[null,null,null,null,null,null,null,null,"8.3.200  insulation / fireproofing"]
[null,null,null,null,null,null,null,null,"8.3.210  f+i rigid insulation"]
[null,null,null,null,null,null,null,null,"8.3.220  f+i batt insulation"]
[null,null,null,null,null,null,null,null,"8.3.230  f+i sprayed insulation"]
[null,null,null,null,null,null,null,null,"8.3.240  f+i sprayed on fireproofing"]
[null,null,null,null,null,null,null,null,"8.3.320  f+i metal panel siding"]
[null,null,null,null,null,null,null,null,"8.3.330  f+i wood siding"]
[null,null,null,null,null,null,null,null,"8.3.600  f+i skylights"]
[null,null,null,null,null,null,null,null,"8.3.700  f+i caulking / sealants"]
[null,null,null,null,null,null,null,null,"8.4.000  doors / windows"]
[null,null,null,null,null,null,null,null,"8.4.110  f+i door leaves"]
[null,null,null,null,null,null,null,null,"8.4.120  f. only door frames"]
[null,null,null,null,null,null,null,null,"8.4.121  f+i door frames"]
[null,null,null,null,null,null,null,null,"8.4.122  f hardware sets"]
[null,null,null,null,null,null,null,null,"8.4.123  f+i vision lites/wire safety glass"]
[null,null,null,null,null,null,null,null,"8.4.200  roll up / coiling doors"]
[null,null,null,null,null,null,null,null,"8.4.210  f+i roll up doors"]
[null,null,null,null,null,null,null,null,"8.4.220  f+i coiling doors"]
[null,null,null,null,null,null,null,null,"8.4.230  f+i rollup door control wiring"]
[null,null,null,null,null,null,null,null,"8.4.400  fold / slide / rev doors"]
[null,null,null,null,null,null,null,null,"8.4.410  f+i folding doors"]
[null,null,null,null,null,null,null,null,"8.4.420  f+i sliding doors"]
[null,null,null,null,null,null,null,null,"8.4.430  f+i revolving doors"]
[null,null,null,null,null,null,null,null,"8.4.610  f+i storfronts"]
[null,null,null,null,null,null,null,null,"8.4.700  windows / glazing"]
[null,null,null,null,null,null,null,null,"8.4.710  f+i windows"]
[null,null,null,null,null,null,null,null,"8.4.720  f+i glass / glazing"]
[null,null,null,null,null,null,null,null,"8.4.800  f+i curtain walls"]
[null,null,null,null,null,null,null,null,"8.5.000  interior finishes"]
[null,null,null,null,null,null,null,null,"8.5.100  drywall / accoustic ceil"]
[null,null,null,null,null,null,null,null,"8.5.110  f+i drywall"]
[null,null,null,null,null,null,null,null,"8.5.120  f+i accoustical ceilings"]
[null,null,null,null,null,null,null,null,"8.5.130  f+i metal ceiling panels"]
[null,null,null,null,null,null,null,null,"8.5.200  f+i lath / plaster"]
[null,null,null,null,null,null,null,null,"8.5.300  tile / terrazzo / flooring"]
[null,null,null,null,null,null,null,null,"8.5.310  f+i vct"]
[null,null,null,null,null,null,null,null,"8.5.320  f+i quarry tile"]
[null,null,null,null,null,null,null,null,"8.5.330  f+i ceramic tile"]
[null,null,null,null,null,null,null,null,"8.5.340  f+i terrazzo"]
[null,null,null,null,null,null,null,null,"8.5.350  f+i stone tile"]
[null,null,null,null,null,null,null,null,"8.5.360  f+i wood flooring"]
[null,null,null,null,null,null,null,null,"8.5.370  f+i access flooring"]
[null,null,null,null,null,null,null,null,"8.5.380  f+i floor coatings"]
[null,null,null,null,null,null,null,null,"8.5.410  f+i wall coverings"]
[null,null,null,null,null,null,null,null,"8.5.420  f+i wood paneling"]
[null,null,null,null,null,null,null,null,"8.5.500  painting"]
[null,null,null,null,null,null,null,null,"8.5.510  building interior painting"]
[null,null,null,null,null,null,null,null,"8.5.520  bridge painting"]
[null,null,null,null,null,null,null,null,"8.5.530  bridge painting touch up"]
[null,null,null,null,null,null,null,null,"8.5.540  anti-graffitti coating"]
[null,null,null,null,null,null,null,null,"8.6.000  signs / specialties / equip"]
[null,null,null,null,null,null,null,null,"8.6.100  f+i signs / graphics"]
[null,null,null,null,null,null,null,null,"8.6.200  f+i toilet accessories"]
[null,null,null,null,null,null,null,null,"8.6.200  f+i toilet partitions"]
[null,null,null,null,null,null,null,null,"8.6.230  f+i louvers"]
[null,null,null,null,null,null,null,null,"8.6.240  f+i lockers"]
[null,null,null,null,null,null,null,null,"8.6.250  f+i locker benches"]
[null,null,null,null,null,null,null,null,"8.6.300  equipment"]
[null,null,null,null,null,null,null,null,"8.6.310  f+i lab equipment"]
[null,null,null,null,null,null,null,null,"8.6.320  f+i loading dock equip"]
[null,null,null,null,null,null,null,null,"8.6.330  f+i projection screens"]
[null,null,null,null,null,null,null,null,"8.6.340  f+i audio visual equip"]
[null,null,null,null,null,null,null,null,"8.6.360  f+i appliances"]
[null,null,null,null,null,null,null,null,"8.6.370  f+i unit kitchens"]
[null,null,null,null,null,null,null,null,"8.6.380  f+i fire extinguishers"]
[null,null,null,null,null,null,null,null,"8.6.390  f+i chalk / tack boards"]
[null,null,null,null,null,null,null,null,"8.6.400  furnishings / furniture"]
[null,null,null,null,null,null,null,null,"8.6.410  f+i lab casework"]
[null,null,null,null,null,null,null,null,"8.6.420  f+i floor mats"]
[null,null,null,null,null,null,null,null,"8.6.430  f+i furniture"]
[null,null,null,null,null,null,null,null,"8.6.500  prefab structures"]
[null,null,null,null,null,null,null,null,"8.6.510  f+i pre fab bldg"]
[null,null,null,null,null,null,null,null,"8.6.520  f+i pre eng structure"]
[null,null,null,null,null,null,null,null,"8.6.540  f+i canopies"]
[null,null,null,null,null,null,null,null,"8.6.550  f+i toll booths"]
[null,null,null,null,null,null,null,null,"8.6.600  conveying systems"]
[null,null,null,null,null,null,null,null,"8.6.610  f+i bridge cranes"]
[null,null,null,null,null,null,null,null,"8.6.620  f+i hand hoists"]
[null,null,null,null,null,null,null,null,"8.6.630  f+i overhead cranes"]
[null,null,null,null,null,null,null,null,"8.6.640  f+i monorial hoists"]
[null,null,null,null,null,null,null,null,"9.0.000  mechanical / electrical"]
[null,null,null,null,null,null,null,null,"9.1.000  mechanical"]
[null,null,null,null,null,null,null,null,"9.2.000  electrical"]

{"sheet":"3","index":3,"n_rows":182,"n_cols":21,"rows_kept":182,"cut":false,"hidden":false,"merged":[[26,4,26,11],[0,0,0,2],[181,1,181,19],[1,0,4,19]]}
[3,null,null," Triggers",null,null,null,null,null,null,null,null,null,null,null,null,null,null,null,null,"X"]
["This tab will allow you to select all of the Triggers associated with the Work Team's task. Select or type \"X\" into the green box to the left of each relevant Trigger Name.\nTo add more Task Environments, Equipment, Tools or Materials, go to the tab labeled \"Links\" and follow the instructions in that tab. Once you add the new name there, come back to this page where you will see the added name.  Select or type \"X\" in the green box to include your new entry on your Work Plan.    \nThese selections serve two purposes. First, they \"trigger\" Hazards and Controls for your Work Plan. Second, they create a Equipment, Tools & Materials lists on the Work Plan."]
[]
[]
[]
[]
[]
[]
[null,"Task Environment"]
[null,null,{"$f":"\"Add more Environments to this list via the Links tab.  Find this section starting on Line \"&ROW(Links!A4)&\".\"","v":"Add more Environments to this list via the Links tab.  Find this section starting on Line 4."}]
[]
[null,null,null,{"$f":"TaskEnv_1","v":"Asbestos"},null,null,null,{"$f":"TaskEnv_11","v":"Lead Paint"},null,null,null,{"$f":"TaskEnv_21","v":"Vehicular Emissions"},null,null,null,{"$f":"TaskEnv_31","v":"-"}]
[null,null,null,{"$f":"TaskEnv_2","v":"Bird Droppings"},null,null,null,{"$f":"TaskEnv_12","v":"Lightning"},null,null,null,{"$f":"TaskEnv_22","v":"Vehicular Noise"},null,null,null,{"$f":"TaskEnv_32","v":"-"}]
[null,null,null,{"$f":"TaskEnv_3","v":"Chemical Spill/Leak"},null,null,null,{"$f":"TaskEnv_13","v":"Low Lighting"},null,null,null,{"$f":"TaskEnv_23","v":"Vehicular Traffic"},null,null,null,{"$f":"TaskEnv_33","v":"-"}]
[null,null,null,{"$f":"TaskEnv_4","v":"Cold Weather"},null,null,null,{"$f":"TaskEnv_14","v":"Pedestrian Traffic"},null,null,null,{"$f":"TaskEnv_24","v":"Wet Ground"},null,null,null,{"$f":"TaskEnv_34","v":"-"}]
[null,null,null,{"$f":"TaskEnv_5","v":"Confined Space"},null,null,null,{"$f":"TaskEnv_15","v":"Scaling Rock"},null,null,null,{"$f":"TaskEnv_25","v":"-"},null,null,null,{"$f":"TaskEnv_35","v":"-"}]
[null,null,null,{"$f":"TaskEnv_6","v":"Elevated Work"},null,null,null,{"$f":"TaskEnv_16","v":"Snow / Ice"},null,null,null,{"$f":"TaskEnv_26","v":"-"},null,null,null,{"$f":"TaskEnv_36","v":"-"}]
[null,null,null,{"$f":"TaskEnv_7","v":"Enclosed Area"},null,null,null,{"$f":"TaskEnv_17","v":"Train Car"},null,null,null,{"$f":"TaskEnv_27","v":"-"},null,null,null,{"$f":"TaskEnv_37","v":"-"}]
[null,null,null,{"$f":"TaskEnv_8","v":"Excavation"},null,null,null,{"$f":"TaskEnv_18","v":"Underground Work"},null,null,null,{"$f":"TaskEnv_28","v":"-"},null,null,null,{"$f":"TaskEnv_38","v":"-"}]
[null,null,null,{"$f":"TaskEnv_9","v":"Fugitive Dust"},null,null,null,{"$f":"TaskEnv_19","v":"Utilities - above ground"},null,null,null,{"$f":"TaskEnv_29","v":"-"},null,null,null,{"$f":"TaskEnv_39","v":"-"}]
[null,null,null,{"$f":"TaskEnv_10","v":"Hot Weather"},null,null,null,{"$f":"TaskEnv_20","v":"Utilities - below ground"},null,null,null,{"$f":"TaskEnv_30","v":"-"},null,null,null,{"$f":"TaskEnv_40","v":"-"}]
[]
[]
[]
[]
[]
[null,"Equipment",null,null,{"$f":"IF(COUNTIF(F32:F43,\"X\")=0,\"\",\"***After creating this work plan, go to tab 5 to create a Lift Plan.***\")","v":""}]
[null,null,{"$f":"\"Add more Equipment to this list via the Links tab.  Find this section starting on Line \"&ROW(Links!A44)&\".\"","v":"Add more Equipment to this list via the Links tab.  Find this section starting on Line 44."}]
[]
[null,{"$f":"IF(Links!B44=0,\"\",Links!B44)","v":"Aerial Lifts"},null,null,null,{"$f":"Links!B56","v":"Lifting Equipment"},null,null,null,{"$f":"IF(Links!B77=0,\"\",Links!B77)","v":"Concrete"},null,null,null,{"$f":"IF(Links!B90=0,\"\",Links!B90)","v":"Demolition"}]
[]
[null,null,null,{"$f":"EquipAerial_1","v":"Lift - Aerial Work Platform"},null,null,null,{"$f":"EquipLift_1","v":"Crane - Carrydeck"},null,null,null,{"$f":"EquipConcr_1","v":"Concrete Buggy"},null,null,null,{"$f":"EquipDemo_1","v":"Backhoe With Hammer"}]
[null,null,null,{"$f":"EquipAerial_2","v":"Lift - Scissor"},null,null,null,{"$f":"EquipLift_2","v":"Crane - Cherry Picker"},null,null,null,{"$f":"EquipConcr_2","v":"Concrete Pump"},null,null,null,{"$f":"EquipDemo_2","v":"Bobcat"}]
[null,null,null,{"$f":"EquipAerial_3","v":"-"},null,null,null,{"$f":"EquipLift_3","v":"Crane - Crawler"},null,null,null,{"$f":"EquipConcr_3","v":"Concrete Truck"},null,null,null,{"$f":"EquipDemo_3","v":"Brokk"}]
[null,null,null,{"$f":"EquipAerial_4","v":"-"},null,null,null,{"$f":"EquipLift_4","v":"Crane - Gantry"},null,null,null,{"$f":"EquipConcr_4","v":"-"},null,null,null,{"$f":"EquipDemo_4","v":"Crane with wrecking ball"}]
[null,null,null,{"$f":"EquipAerial_5","v":"-"},null,null,null,{"$f":"EquipLift_5","v":"Crane - Mobile"},null,null,null,{"$f":"EquipConcr_5","v":"-"},null,null,null,{"$f":"EquipDemo_5","v":"Excavator w/ thumb or sheer"}]
[null,null,null,{"$f":"EquipAerial_6","v":"-"},null,null,null,{"$f":"EquipLift_6","v":"Crane - Mobile Floor Crane"},null,null,null,{"$f":"EquipConcr_6","v":"-"},null,null,null,{"$f":"EquipDemo_6","v":"Hydraulic Hammer"}]
[null,null,null,{"$f":"EquipAerial_7","v":"-"},null,null,null,{"$f":"EquipLift_7","v":"Crane - Overhead Hoist"},null,null,null,{"$f":"EquipConcr_7","v":"-"},null,null,null,{"$f":"EquipDemo_7","v":"Vermeer"}]
[null,null,null,{"$f":"EquipAerial_8","v":"-"},null,null,null,{"$f":"EquipLift_8","v":"Crane - Tower"},null,null,null,{"$f":"EquipConcr_8","v":"-"},null,null,null,{"$f":"EquipDemo_8","v":"-"}]
[null,null,null,{"$f":"EquipAerial_9","v":"-"},null,null,null,{"$f":"EquipLift_9","v":"Drill Rig (using hoist)"},null,null,null,{"$f":"EquipConcr_9","v":"-"},null,null,null,{"$f":"EquipDemo_9","v":"-"}]
[null,null,null,{"$f":"EquipAerial_10","v":"-"},null,null,null,{"$f":"EquipLift_10","v":"Excavator or Loader with Boom"},null,null,null,{"$f":"EquipConcr_10","v":"-"},null,null,null,{"$f":"EquipDemo_10","v":"-"}]
[null,null,null,{"$f":"EquipAerial_11","v":"-"},null,null,null,{"$f":"EquipLift_11","v":"Helicopter "},null,null,null,{"$f":"EquipConcr_11","v":"-"},null,null,null,{"$f":"EquipDemo_11","v":"-"}]
[null,null,null,{"$f":"EquipAerial_12","v":"-"},null,null,null,{"$f":"EquipLift_12","v":"-"},null,null,null,{"$f":"EquipConcr_12","v":"-"},null,null,null,{"$f":"EquipDemo_12","v":"-"}]
[null,null,null,null,null,null,null,{"$f":"EquipLift_13","v":"-"},null,null,null,{"$f":"EquipConcr_13","v":"-"},null,null,null,{"$f":"EquipDemo_13","v":"-"}]
[null,null,null,null,null,null,null,{"$f":"EquipLift_14","v":"-"},null,null,null,null,null,null,null,{"$f":"EquipDemo_14","v":"-"}]
[null,null,null,null,null,null,null,{"$f":"EquipLift_15","v":"-"},null,null,null,null,null,null,null,{"$f":"EquipDemo_15","v":"-"}]
[null,null,null,null,null,null,null,{"$f":"EquipLift_16","v":"-"},null,null,null,null,null,null,null,{"$f":"EquipDemo_16","v":"-"}]
[null,null,null,null,null,null,null,{"$f":"EquipLift_17","v":"-"},null,null,null,null,null,null,null,{"$f":"EquipDemo_17","v":"-"}]
[null,null,null,null,null,null,null,{"$f":"EquipLift_18","v":"-"}]
[null,null,null,null,null,null,null,{"$f":"EquipLift_19","v":"-"}]
[null,null,null,null,null,null,null,{"$f":"EquipLift_20","v":"-"}]
[null,null,null,null,null,null,null,{"$f":"EquipLift_21","v":"-"}]
[]
[null,{"$f":"IF(Links!B107=0,\"\",Links!B107)","v":"Earthmoving"},null,null,null,{"$f":"IF(Links!B125=0,\"\",Links!B125)","v":"Material Handling"},null,null,null,{"$f":"IF(Links!B142=0,\"\",Links!B142)","v":"Roadway/Compaction "},null,null,null,{"$f":"IF(Links!B157=0,\"\",Links!B157)","v":"Trucks"}]
[]
[null,null,null,{"$f":"EquipEarth_1","v":"Aggregate Crushing Machinery"},null,null,null,{"$f":"EquipMat_1","v":"Bobcat"},null,null,null,{"$f":"EquipRoad_1","v":"Asphalt Paving Equipment"},null,null,null,{"$f":"EquipTruck_1","v":"Truck - Attenuator"}]
[null,null,null,{"$f":"EquipEarth_2","v":"Backhoe"},null,null,null,{"$f":"EquipMat_2","v":"Forklift"},null,null,null,{"$f":"EquipRoad_2","v":"Compactor - Pneumatic Tires"},null,null,null,{"$f":"EquipTruck_2","v":"Truck - Boomlift"}]
[null,null,null,{"$f":"EquipEarth_3","v":"Bulldozer"},null,null,null,{"$f":"EquipMat_3","v":"Loader - Skid Steer"},null,null,null,{"$f":"EquipRoad_3","v":"Compactor - Vibratory Roller"},null,null,null,{"$f":"EquipTruck_3","v":"Truck - Concrete"}]
[null,null,null,{"$f":"EquipEarth_4","v":"Conveyor Aggregate Delivery Truck "},null,null,null,{"$f":"EquipMat_4","v":"Loader - Rubber Tire"},null,null,null,{"$f":"EquipRoad_4","v":"Motor Grader"},null,null,null,{"$f":"EquipTruck_4","v":"Truck - Dump"}]
[null,null,null,{"$f":"EquipEarth_5","v":"Excavator Rubber Tires"},null,null,null,{"$f":"EquipMat_5","v":"Loader - Tracks"},null,null,null,{"$f":"EquipRoad_5","v":"Pavement Milling Machine"},null,null,null,{"$f":"EquipTruck_5","v":"Truck - Flat Bed"}]
[null,null,null,{"$f":"EquipEarth_6","v":"Excavator Tracks"},null,null,null,{"$f":"EquipMat_6","v":"Telescopic Handler"},null,null,null,{"$f":"EquipRoad_6","v":"-"},null,null,null,{"$f":"EquipTruck_6","v":"Truck - Pickup"}]
[null,null,null,{"$f":"EquipEarth_7","v":"Hopper-Conveyor Belt"},null,null,null,{"$f":"EquipMat_7","v":"Truck - Boom (Drywall)"},null,null,null,{"$f":"EquipRoad_7","v":"-"},null,null,null,{"$f":"EquipTruck_7","v":"Truck - Trailer"}]
[null,null,null,{"$f":"EquipEarth_8","v":"Scraper"},null,null,null,{"$f":"EquipMat_8","v":"-"},null,null,null,{"$f":"EquipRoad_8","v":"-"},null,null,null,{"$f":"EquipTruck_8","v":"Truck - Vacuum"}]
[null,null,null,{"$f":"EquipEarth_9","v":"-"},null,null,null,{"$f":"EquipMat_9","v":"-"},null,null,null,{"$f":"EquipRoad_9","v":"-"},null,null,null,{"$f":"EquipTruck_9","v":"Truck - Water"}]
[null,null,null,{"$f":"EquipEarth_10","v":"-"},null,null,null,{"$f":"EquipMat_10","v":"-"},null,null,null,{"$f":"EquipRoad_10","v":"-"},null,null,null,{"$f":"EquipTruck_10","v":"-"}]
[null,null,null,{"$f":"EquipEarth_11","v":"-"},null,null,null,{"$f":"EquipMat_11","v":"-"},null,null,null,{"$f":"EquipRoad_11","v":"-"},null,null,null,{"$f":"EquipTruck_11","v":"-"}]
[null,null,null,{"$f":"EquipEarth_12","v":"-"},null,null,null,{"$f":"EquipMat_12","v":"-"},null,null,null,{"$f":"EquipRoad_12","v":"-"},null,null,null,{"$f":"EquipTruck_12","v":"-"}]
[null,null,null,{"$f":"EquipEarth_13","v":"-"},null,null,null,{"$f":"EquipMat_13","v":"-"},null,null,null,{"$f":"EquipRoad_13","v":"-"},null,null,null,{"$f":"EquipTruck_13","v":"-"}]
[null,null,null,{"$f":"EquipEarth_14","v":"-"},null,null,null,{"$f":"EquipMat_14","v":"-"},null,null,null,{"$f":"EquipRoad_14","v":"-"},null,null,null,{"$f":"EquipTruck_14","v":"-"}]
[null,null,null,{"$f":"EquipEarth_15","v":"-"},null,null,null,{"$f":"EquipMat_15","v":"-"},null,null,null,{"$f":"EquipRoad_15","v":"-"},null,null,null,{"$f":"EquipTruck_15","v":"-"}]
[null,null,null,{"$f":"EquipEarth_16","v":"-"},null,null,null,{"$f":"EquipMat_16","v":"-"},null,null,null,null,null,null,null,{"$f":"EquipTruck_16","v":"-"}]
[null,null,null,{"$f":"EquipEarth_17","v":"-"},null,null,null,{"$f":"EquipMat_17","v":"-"},null,null,null,null,null,null,null,{"$f":"EquipTruck_17","v":"-"}]
[null,null,null,{"$f":"EquipEarth_18","v":"-"},null,null,null,null,null,null,null,null,null,null,null,{"$f":"EquipTruck_18","v":"-"}]
[null,null,null,null,null,null,null,null,null,null,null,null,null,null,null,{"$f":"EquipTruck_19","v":"-"}]
[]
[null,{"$f":"IF(Links!B176=0,\"\",Links!B176)","v":"Underground/Mining "},null,null,null,{"$f":"IF(Links!B189=0,\"\",Links!B189)","v":"Other"},null,null,null,{"$f":"IF(Links!B197=0,\"\",Links!B197)","v":"Other"},null,null,null,{"$f":"IF(Links!B209=0,\"\",Links!B209)","v":"Other"}]
[]
[null,null,null,{"$f":"EquipUG_1","v":"Drill Jumbo"},null,null,null,{"$f":"EquipOth_1","v":"Air Compressor"},null,null,null,{"$f":"EquipOth_14","v":"-"},null,null,null,{"$f":"EquipOth_27","v":"-"}]
[null,null,null,{"$f":"EquipUG_2","v":"Drill Rig"},null,null,null,{"$f":"EquipOth_2","v":"Concrete Paving Equipment"},null,null,null,{"$f":"EquipOth_15","v":"-"},null,null,null,{"$f":"EquipOth_28","v":"-"}]
[null,null,null,{"$f":"EquipUG_3","v":"Tunnel Boring Machine"},null,null,null,{"$f":"EquipOth_3","v":"Floor Grinder"},null,null,null,{"$f":"EquipOth_16","v":"-"},null,null,null,{"$f":"EquipOth_29","v":"-"}]
[null,null,null,{"$f":"EquipUG_4","v":"-"},null,null,null,{"$f":"EquipOth_4","v":"Floor Polisher"},null,null,null,{"$f":"EquipOth_17","v":"-"},null,null,null,{"$f":"EquipOth_30","v":"-"}]
[null,null,null,{"$f":"EquipUG_5","v":"-"},null,null,null,{"$f":"EquipOth_5","v":"Floor Scraper / Terminator"},null,null,null,{"$f":"EquipOth_18","v":"-"}]
[null,null,null,{"$f":"EquipUG_6","v":"-"},null,null,null,{"$f":"EquipOth_6","v":"Hydraulic Pipe Bender"},null,null,null,{"$f":"EquipOth_19","v":"-"}]
[null,null,null,{"$f":"EquipUG_7","v":"-"},null,null,null,{"$f":"EquipOth_7","v":"Orbital Pipe Cutter"},null,null,null,{"$f":"EquipOth_20","v":"-"}]
[null,null,null,{"$f":"EquipUG_8","v":"-"},null,null,null,{"$f":"EquipOth_8","v":"Pile Driver"},null,null,null,{"$f":"EquipOth_21","v":"-"}]
[null,null,null,{"$f":"EquipUG_9","v":"-"},null,null,null,{"$f":"EquipOth_9","v":"Scarifier"},null,null,null,{"$f":"EquipOth_22","v":"-"}]
[null,null,null,{"$f":"EquipUG_10","v":"-"},null,null,null,{"$f":"EquipOth_10","v":"Shot Blaster"},null,null,null,{"$f":"EquipOth_23","v":"-"}]
[null,null,null,{"$f":"EquipUG_11","v":"-"},null,null,null,{"$f":"EquipOth_11","v":"Welding Machine"},null,null,null,{"$f":"EquipOth_24","v":"-"}]
[null,null,null,{"$f":"EquipUG_12","v":"-"},null,null,null,{"$f":"EquipOth_12","v":"Wood Chipper"},null,null,null,{"$f":"EquipOth_25","v":"-"}]
[null,null,null,{"$f":"EquipUG_13","v":"-"},null,null,null,{"$f":"EquipOth_13","v":"-"},null,null,null,{"$f":"EquipOth_26","v":"-"}]
[]
[]
[null,"Tools"]
[null,null,{"$f":"\"Add more Tools to this list via the Links tab.  Find this section starting on Line \"&ROW(Links!A219)&\".\"","v":"Add more Tools to this list via the Links tab.  Find this section starting on Line 219."}]
[]
[null,null,null,{"$f":"Tools_1","v":"Baker Scaffold"},null,null,null,{"$f":"Tools_37","v":"Hammer - Pneumatic"},null,null,null,{"$f":"Tools_73","v":"Pliers"},null,null,null,{"$f":"Tools_109","v":"Wire Rope"},null,null,null,{"$f":"Tools_145","v":"-"}]
[null,null,null,{"$f":"Tools_2","v":"Banding Machine"},null,null,null,{"$f":"Tools_38","v":"Hammer Drill"},null,null,null,{"$f":"Tools_74","v":"Port-A-John"},null,null,null,{"$f":"Tools_110","v":"Wrecking Bar"},null,null,null,{"$f":"Tools_146","v":"-"}]
[null,null,null,{"$f":"Tools_3","v":"Bolt Cutters"},null,null,null,{"$f":"Tools_39","v":"Hand Saw - Wood"},null,null,null,{"$f":"Tools_75","v":"Power Washer"},null,null,null,{"$f":"Tools_111","v":"Wrenches "},null,null,null,{"$f":"Tools_147","v":"-"}]
[null,null,null,{"$f":"Tools_4","v":"Breaker - 60lb"},null,null,null,{"$f":"Tools_40","v":"Hell Dog"},null,null,null,{"$f":"Tools_76","v":"Prybar"},null,null,null,{"$f":"Tools_112","v":"-"},null,null,null,{"$f":"Tools_148","v":"-"}]
[null,null,null,{"$f":"Tools_5","v":"Breaker - 90lb"},null,null,null,{"$f":"Tools_41","v":"High Pressure Spray Gun"},null,null,null,{"$f":"Tools_77","v":"Pulley"},null,null,null,{"$f":"Tools_113","v":"-"},null,null,null,{"$f":"Tools_149","v":"-"}]
[null,null,null,{"$f":"Tools_6","v":"Broom"},null,null,null,{"$f":"Tools_42","v":"Hoe Rake"},null,null,null,{"$f":"Tools_78","v":"Rail Cart"},null,null,null,{"$f":"Tools_114","v":"-"},null,null,null,{"$f":"Tools_150","v":"-"}]
[null,null,null,{"$f":"Tools_7","v":"Bucket"},null,null,null,{"$f":"Tools_43","v":"Hose - Compressed Air"},null,null,null,{"$f":"Tools_79","v":"Ratchet & Sockets"},null,null,null,{"$f":"Tools_115","v":"-"},null,null,null,{"$f":"Tools_151","v":"-"}]
[null,null,null,{"$f":"Tools_8","v":"Chain Fall"},null,null,null,{"$f":"Tools_44","v":"Hose - Manifold"},null,null,null,{"$f":"Tools_80","v":"Rock Splitter"},null,null,null,{"$f":"Tools_116","v":"-"},null,null,null,{"$f":"Tools_152","v":"-"}]
[null,null,null,{"$f":"Tools_9","v":"Chain Wrench"},null,null,null,{"$f":"Tools_45","v":"Hose - Water"},null,null,null,{"$f":"Tools_81","v":"Rope"},null,null,null,{"$f":"Tools_117","v":"-"},null,null,null,{"$f":"Tools_153","v":"-"}]
[null,null,null,{"$f":"Tools_10","v":"Chainsaw"},null,null,null,{"$f":"Tools_46","v":"Hose - Whip Check"},null,null,null,{"$f":"Tools_82","v":"Roto - Hammers"},null,null,null,{"$f":"Tools_118","v":"-"},null,null,null,{"$f":"Tools_154","v":"-"}]
[null,null,null,{"$f":"Tools_11","v":"Chemical Sprayer"},null,null,null,{"$f":"Tools_47","v":"Hydraulic Wrenches"},null,null,null,{"$f":"Tools_83","v":"Saw - Circular"},null,null,null,{"$f":"Tools_119","v":"-"},null,null,null,{"$f":"Tools_155","v":"-"}]
[null,null,null,{"$f":"Tools_12","v":"Chisel"},null,null,null,{"$f":"Tools_48","v":"Jackhammer"},null,null,null,{"$f":"Tools_84","v":"Saw - Gas Demolition"},null,null,null,{"$f":"Tools_120","v":"-"},null,null,null,{"$f":"Tools_156","v":"-"}]
[null,null,null,{"$f":"Tools_13","v":"Chop Saw"},null,null,null,{"$f":"Tools_49","v":"Knife"},null,null,null,{"$f":"Tools_85","v":"Saw - Reciprocating"},null,null,null,{"$f":"Tools_121","v":"-"},null,null,null,{"$f":"Tools_157","v":"-"}]
[null,null,null,{"$f":"Tools_14","v":"Come-A-Long"},null,null,null,{"$f":"Tools_50","v":"Ladder - Fiberglass A-Frame "},null,null,null,{"$f":"Tools_86","v":"Saw - Table"},null,null,null,{"$f":"Tools_122","v":"-"},null,null,null,{"$f":"Tools_158","v":"-"}]
[null,null,null,{"$f":"Tools_15","v":"Concrete Bucket"},null,null,null,{"$f":"Tools_51","v":"Ladder - Fiberglass Straight"},null,null,null,{"$f":"Tools_87","v":"Scaffold"},null,null,null,{"$f":"Tools_123","v":"-"},null,null,null,{"$f":"Tools_159","v":"-"}]
[null,null,null,{"$f":"Tools_16","v":"Concrete Mixer - Electric"},null,null,null,{"$f":"Tools_52","v":"Ladder - Wood - Job Built"},null,null,null,{"$f":"Tools_88","v":"Scale Box/Pan"},null,null,null,{"$f":"Tools_124","v":"-"},null,null,null,{"$f":"Tools_160","v":"-"}]
[null,null,null,{"$f":"Tools_17","v":"Concrete Mixer - Gas"},null,null,null,{"$f":"Tools_53","v":"Level"},null,null,null,{"$f":"Tools_89","v":"Screwdriver"},null,null,null,{"$f":"Tools_125","v":"-"},null,null,null,{"$f":"Tools_161","v":"-"}]
[null,null,null,{"$f":"Tools_18","v":"Concrete Saw"},null,null,null,{"$f":"Tools_54","v":"Light Plant"},null,null,null,{"$f":"Tools_90","v":"Shackle"},null,null,null,{"$f":"Tools_126","v":"-"},null,null,null,{"$f":"Tools_162","v":"-"}]
[null,null,null,{"$f":"Tools_19","v":"Concrete Vibrator - Stick/Pencil"},null,null,null,{"$f":"Tools_55","v":"Line Bar"},null,null,null,{"$f":"Tools_91","v":"Shovel"},null,null,null,{"$f":"Tools_127","v":"-"},null,null,null,{"$f":"Tools_163","v":"-"}]
[null,null,null,{"$f":"Tools_20","v":"Concrete Vibrator - Wall"},null,null,null,{"$f":"Tools_56","v":"Measuring Tape"},null,null,null,{"$f":"Tools_92","v":"Sledgehammer"},null,null,null,{"$f":"Tools_128","v":"-"},null,null,null,{"$f":"Tools_164","v":"-"}]
[null,null,null,{"$f":"Tools_21","v":"Cutting Torch"},null,null,null,{"$f":"Tools_57","v":"Nail Gun"},null,null,null,{"$f":"Tools_93","v":"Sling - Nylon"},null,null,null,{"$f":"Tools_129","v":"-"},null,null,null,{"$f":"Tools_165","v":"-"}]
[null,null,null,{"$f":"Tools_22","v":"Double Drum Vibratory Roller"},null,null,null,{"$f":"Tools_58","v":"Nolan Cart"},null,null,null,{"$f":"Tools_94","v":"Sling - Wire Rope"},null,null,null,{"$f":"Tools_130","v":"-"},null,null,null,{"$f":"Tools_166","v":"-"}]
[null,null,null,{"$f":"Tools_23","v":"Drill - Air"},null,null,null,{"$f":"Tools_59","v":"Oxy/Ace - Check Valves"},null,null,null,{"$f":"Tools_95","v":"Sponge"},null,null,null,{"$f":"Tools_131","v":"-"},null,null,null,{"$f":"Tools_167","v":"-"}]
[null,null,null,{"$f":"Tools_24","v":"Drill - Electric"},null,null,null,{"$f":"Tools_60","v":"Oxy/Ace - Current Probe"},null,null,null,{"$f":"Tools_96","v":"Sprayer"},null,null,null,{"$f":"Tools_132","v":"-"},null,null,null,{"$f":"Tools_168","v":"-"}]
[null,null,null,{"$f":"Tools_25","v":"Electric Chipping Gun"},null,null,null,{"$f":"Tools_61","v":"Oxy/Ace - Flash Arresters"},null,null,null,{"$f":"Tools_97","v":"Striker"},null,null,null,{"$f":"Tools_133","v":"-"},null,null,null,{"$f":"Tools_169","v":"-"}]
[null,null,null,{"$f":"Tools_26","v":"Extension Cord"},null,null,null,{"$f":"Tools_62","v":"Oxy/Ace - Regulators"},null,null,null,{"$f":"Tools_98","v":"Trowel"},null,null,null,{"$f":"Tools_134","v":"-"},null,null,null,{"$f":"Tools_170","v":"-"}]
[null,null,null,{"$f":"Tools_27","v":"Fire Extinguisher"},null,null,null,{"$f":"Tools_63","v":"Oxy/Ace - Tip Cleaner"},null,null,null,{"$f":"Tools_99","v":"Trowel Machine"},null,null,null,{"$f":"Tools_135","v":"-"},null,null,null,{"$f":"Tools_171","v":"-"}]
[null,null,null,{"$f":"Tools_28","v":"Float"},null,null,null,{"$f":"Tools_64","v":"Oxy/Ace - Torches"},null,null,null,{"$f":"Tools_100","v":"Vacuum - Electric"},null,null,null,{"$f":"Tools_136","v":"-"},null,null,null,{"$f":"Tools_172","v":"-"}]
[null,null,null,{"$f":"Tools_29","v":"Garden Hose"},null,null,null,{"$f":"Tools_65","v":"Oxy-Ace - Hoses"},null,null,null,{"$f":"Tools_101","v":"Ventilation Fan"},null,null,null,{"$f":"Tools_137","v":"-"},null,null,null,{"$f":"Tools_173","v":"-"}]
[null,null,null,{"$f":"Tools_30","v":"Gas Cylinder Carts"},null,null,null,{"$f":"Tools_66","v":"Paint Roller"},null,null,null,{"$f":"Tools_102","v":"Vibratory Tamper"},null,null,null,{"$f":"Tools_138","v":"-"},null,null,null,{"$f":"Tools_174","v":"-"}]
[null,null,null,{"$f":"Tools_31","v":"Generator"},null,null,null,{"$f":"Tools_67","v":"Pallet Jack"},null,null,null,{"$f":"Tools_103","v":"Water Pump"},null,null,null,{"$f":"Tools_139","v":"-"},null,null,null,{"$f":"Tools_175","v":"-"}]
[null,null,null,{"$f":"Tools_32","v":"Georgia Buggy"},null,null,null,{"$f":"Tools_68","v":"Pick Axe"},null,null,null,{"$f":"Tools_104","v":"Welding Lead"},null,null,null,{"$f":"Tools_140","v":"-"},null,null,null,{"$f":"Tools_176","v":"-"}]
[null,null,null,{"$f":"Tools_33","v":"GFCI"},null,null,null,{"$f":"Tools_69","v":"Pipe Cutters"},null,null,null,{"$f":"Tools_105","v":"Well Wheel"},null,null,null,{"$f":"Tools_141","v":"-"},null,null,null,{"$f":"Tools_177","v":"-"}]
[null,null,null,{"$f":"Tools_34","v":"Grinder"},null,null,null,{"$f":"Tools_70","v":"Pipe Wrench"},null,null,null,{"$f":"Tools_106","v":"Wheelbarrow"},null,null,null,{"$f":"Tools_142","v":"-"},null,null,null,{"$f":"Tools_178","v":"-"}]
[null,null,null,{"$f":"Tools_35","v":"Hacksaw"},null,null,null,{"$f":"Tools_71","v":"Plasma Cutter"},null,null,null,{"$f":"Tools_107","v":"Winch - Electric"},null,null,null,{"$f":"Tools_143","v":"-"},null,null,null,{"$f":"Tools_179","v":"-"}]
[null,null,null,{"$f":"Tools_36","v":"Hammer"},null,null,null,{"$f":"Tools_72","v":"Plate Compactor"},null,null,null,{"$f":"Tools_108","v":"Wire Cutters"},null,null,null,{"$f":"Tools_144","v":"-"},null,null,null,{"$f":"Tools_180","v":"-"}]
[]
[]
[]
[]
[]
[null,"Materials"]
[null,null,{"$f":"\"Add more Materials to this list via the Links tab.  Find this section starting on Line \"&ROW(Links!A399)&\".\"","v":"Add more Materials to this list via the Links tab.  Find this section starting on Line 399."}]
[]
[null,null,null,{"$f":"Mats_1","v":"Asphalt"},null,null,null,{"$f":"Mats_37","v":"Grass"},null,null,null,{"$f":"Mats_73","v":"Stone"},null,null,null,{"$f":"Mats_109","v":"-"},null,null,null,{"$f":"Mats_145","v":"-"}]
[null,null,null,{"$f":"Mats_2","v":"Backfill"},null,null,null,{"$f":"Mats_38","v":"Grout"},null,null,null,{"$f":"Mats_74","v":"Styrofoam"},null,null,null,{"$f":"Mats_110","v":"-"},null,null,null,{"$f":"Mats_146","v":"-"}]
[null,null,null,{"$f":"Mats_3","v":"Barriers"},null,null,null,{"$f":"Mats_39","v":"Halon"},null,null,null,{"$f":"Mats_75","v":"Super Plasticizer"},null,null,null,{"$f":"Mats_111","v":"-"},null,null,null,{"$f":"Mats_147","v":"-"}]
[null,null,null,{"$f":"Mats_4","v":"Blankets"},null,null,null,{"$f":"Mats_40","v":"Hay Bale"},null,null,null,{"$f":"Mats_76","v":"Tie Wire"},null,null,null,{"$f":"Mats_112","v":"-"},null,null,null,{"$f":"Mats_148","v":"-"}]
[null,null,null,{"$f":"Mats_5","v":"Bolts"},null,null,null,{"$f":"Mats_41","v":"Hydraulic Oil"},null,null,null,{"$f":"Mats_77","v":"Tie Wraps"},null,null,null,{"$f":"Mats_113","v":"-"},null,null,null,{"$f":"Mats_149","v":"-"}]
[null,null,null,{"$f":"Mats_6","v":"Burlap"},null,null,null,{"$f":"Mats_42","v":"Ice Melt"},null,null,null,{"$f":"Mats_78","v":"Timber - 12x12"},null,null,null,{"$f":"Mats_114","v":"-"},null,null,null,{"$f":"Mats_150","v":"-"}]
[null,null,null,{"$f":"Mats_7","v":"Cement"},null,null,null,{"$f":"Mats_43","v":"Lumber"},null,null,null,{"$f":"Mats_79","v":"Timber - 2x4"},null,null,null,{"$f":"Mats_115","v":"-"},null,null,null,{"$f":"Mats_151","v":"-"}]
[null,null,null,{"$f":"Mats_8","v":"Concrete"},null,null,null,{"$f":"Mats_44","v":"Masonry Blocks"},null,null,null,{"$f":"Mats_80","v":"Timber - Other"},null,null,null,{"$f":"Mats_116","v":"-"},null,null,null,{"$f":"Mats_152","v":"-"}]
[null,null,null,{"$f":"Mats_9","v":"Concrete Barrier"},null,null,null,{"$f":"Mats_45","v":"Masonry Bricks"},null,null,null,{"$f":"Mats_81","v":"Timber - Plywood"},null,null,null,{"$f":"Mats_117","v":"-"},null,null,null,{"$f":"Mats_153","v":"-"}]
[null,null,null,{"$f":"Mats_10","v":"Concrete Curing Compound"},null,null,null,{"$f":"Mats_46","v":"Metal Studs"},null,null,null,{"$f":"Mats_82","v":"Timber - Wedges"},null,null,null,{"$f":"Mats_118","v":"-"},null,null,null,{"$f":"Mats_154","v":"-"}]
[null,null,null,{"$f":"Mats_11","v":"Concrete Form Oil"},null,null,null,{"$f":"Mats_47","v":"Moisture Proofing Material"},null,null,null,{"$f":"Mats_83","v":"Topsoil"},null,null,null,{"$f":"Mats_119","v":"-"},null,null,null,{"$f":"Mats_155","v":"-"}]
[null,null,null,{"$f":"Mats_12","v":"Concrete Plank"},null,null,null,{"$f":"Mats_48","v":"Mortar"},null,null,null,{"$f":"Mats_84","v":"Traffic Barrel"},null,null,null,{"$f":"Mats_120","v":"-"},null,null,null,{"$f":"Mats_156","v":"-"}]
[null,null,null,{"$f":"Mats_13","v":"Conex Box"},null,null,null,{"$f":"Mats_49","v":"Nails/Screws"},null,null,null,{"$f":"Mats_85","v":"Traffic Cone"},null,null,null,{"$f":"Mats_121","v":"-"},null,null,null,{"$f":"Mats_157","v":"-"}]
[null,null,null,{"$f":"Mats_14","v":"Connecting Bar"},null,null,null,{"$f":"Mats_50","v":"Oxy - Acetylene"},null,null,null,{"$f":"Mats_86","v":"Traffic Protection Devices"},null,null,null,{"$f":"Mats_122","v":"-"},null,null,null,{"$f":"Mats_158","v":"-"}]
[null,null,null,{"$f":"Mats_15","v":"Debris - Concrete"},null,null,null,{"$f":"Mats_51","v":"Paint"},null,null,null,{"$f":"Mats_87","v":"Traffic Signs"},null,null,null,{"$f":"Mats_123","v":"-"},null,null,null,{"$f":"Mats_159","v":"-"}]
[null,null,null,{"$f":"Mats_16","v":"Debris - Garbage"},null,null,null,{"$f":"Mats_52","v":"Pipe - Concrete"},null,null,null,{"$f":"Mats_88","v":"Turbine Propeller"},null,null,null,{"$f":"Mats_124","v":"-"},null,null,null,{"$f":"Mats_160","v":"-"}]
[null,null,null,{"$f":"Mats_17","v":"Debris - Rock"},null,null,null,{"$f":"Mats_53","v":"Pipe - Metal"},null,null,null,{"$f":"Mats_89","v":"Water"},null,null,null,{"$f":"Mats_125","v":"-"},null,null,null,{"$f":"Mats_161","v":"-"}]
[null,null,null,{"$f":"Mats_18","v":"Debris - Soil"},null,null,null,{"$f":"Mats_54","v":"Pipe - Plastic"},null,null,null,{"$f":"Mats_90","v":"Welding Rod"},null,null,null,{"$f":"Mats_126","v":"-"},null,null,null,{"$f":"Mats_162","v":"-"}]
[null,null,null,{"$f":"Mats_19","v":"Debris - Steel"},null,null,null,{"$f":"Mats_55","v":"Pipe - Steel"},null,null,null,{"$f":"Mats_91","v":"White or Black Bags"},null,null,null,{"$f":"Mats_127","v":"-"},null,null,null,{"$f":"Mats_163","v":"-"}]
[null,null,null,{"$f":"Mats_20","v":"Debris - Wood"},null,null,null,{"$f":"Mats_56","v":"Plants"},null,null,null,{"$f":"Mats_92","v":"Wire Mesh"},null,null,null,{"$f":"Mats_128","v":"-"},null,null,null,{"$f":"Mats_164","v":"-"}]
[null,null,null,{"$f":"Mats_21","v":"Drywall"},null,null,null,{"$f":"Mats_57","v":"Plastic Sheet"},null,null,null,{"$f":"Mats_93","v":"-"},null,null,null,{"$f":"Mats_129","v":"-"},null,null,null,{"$f":"Mats_165","v":"-"}]
[null,null,null,{"$f":"Mats_22","v":"Dumpster"},null,null,null,{"$f":"Mats_58","v":"Polyethylene"},null,null,null,{"$f":"Mats_94","v":"-"},null,null,null,{"$f":"Mats_130","v":"-"},null,null,null,{"$f":"Mats_166","v":"-"}]
[null,null,null,{"$f":"Mats_23","v":"Elevator Counterweights"},null,null,null,{"$f":"Mats_59","v":"PVC Cement"},null,null,null,{"$f":"Mats_95","v":"-"},null,null,null,{"$f":"Mats_131","v":"-"},null,null,null,{"$f":"Mats_167","v":"-"}]
[null,null,null,{"$f":"Mats_24","v":"Elevator Rails"},null,null,null,{"$f":"Mats_60","v":"PVC Primer"},null,null,null,{"$f":"Mats_96","v":"-"},null,null,null,{"$f":"Mats_132","v":"-"},null,null,null,{"$f":"Mats_168","v":"-"}]
[null,null,null,{"$f":"Mats_25","v":"Fence Chain Link"},null,null,null,{"$f":"Mats_61","v":"Rebar"},null,null,null,{"$f":"Mats_97","v":"-"},null,null,null,{"$f":"Mats_133","v":"-"},null,null,null,{"$f":"Mats_169","v":"-"}]
[null,null,null,{"$f":"Mats_26","v":"Fence Panel"},null,null,null,{"$f":"Mats_62","v":"Refrigerant"},null,null,null,{"$f":"Mats_98","v":"-"},null,null,null,{"$f":"Mats_134","v":"-"},null,null,null,{"$f":"Mats_170","v":"-"}]
[null,null,null,{"$f":"Mats_27","v":"Flashing lights"},null,null,null,{"$f":"Mats_63","v":"Road Plate"},null,null,null,{"$f":"Mats_99","v":"-"},null,null,null,{"$f":"Mats_135","v":"-"},null,null,null,{"$f":"Mats_171","v":"-"}]
[null,null,null,{"$f":"Mats_28","v":"Forms - Metal"},null,null,null,{"$f":"Mats_64","v":"Sand"},null,null,null,{"$f":"Mats_100","v":"-"},null,null,null,{"$f":"Mats_136","v":"-"},null,null,null,{"$f":"Mats_172","v":"-"}]
[null,null,null,{"$f":"Mats_29","v":"Forms - Timber"},null,null,null,{"$f":"Mats_65","v":"Sealant"},null,null,null,{"$f":"Mats_101","v":"-"},null,null,null,{"$f":"Mats_137","v":"-"},null,null,null,{"$f":"Mats_173","v":"-"}]
[null,null,null,{"$f":"Mats_30","v":"Formwork Panels"},null,null,null,{"$f":"Mats_66","v":"Shotcrete"},null,null,null,{"$f":"Mats_102","v":"-"},null,null,null,{"$f":"Mats_138","v":"-"},null,null,null,{"$f":"Mats_174","v":"-"}]
[null,null,null,{"$f":"Mats_31","v":"Garbage Pail"},null,null,null,{"$f":"Mats_67","v":"Silt Fence"},null,null,null,{"$f":"Mats_103","v":"-"},null,null,null,{"$f":"Mats_139","v":"-"},null,null,null,{"$f":"Mats_175","v":"-"}]
[null,null,null,{"$f":"Mats_32","v":"Gas Cylinder"},null,null,null,{"$f":"Mats_68","v":"Snow Fence"},null,null,null,{"$f":"Mats_104","v":"-"},null,null,null,{"$f":"Mats_140","v":"-"},null,null,null,{"$f":"Mats_176","v":"-"}]
[null,null,null,{"$f":"Mats_33","v":"Gasoline - Diesel"},null,null,null,{"$f":"Mats_69","v":"Stayform"},null,null,null,{"$f":"Mats_105","v":"-"},null,null,null,{"$f":"Mats_141","v":"-"},null,null,null,{"$f":"Mats_177","v":"-"}]
[null,null,null,{"$f":"Mats_34","v":"Geo Textile"},null,null,null,{"$f":"Mats_70","v":"Steel - Beams"},null,null,null,{"$f":"Mats_106","v":"-"},null,null,null,{"$f":"Mats_142","v":"-"},null,null,null,{"$f":"Mats_178","v":"-"}]
[null,null,null,{"$f":"Mats_35","v":"Geogrid"},null,null,null,{"$f":"Mats_71","v":"Steel - Misc"},null,null,null,{"$f":"Mats_107","v":"-"},null,null,null,{"$f":"Mats_143","v":"-"},null,null,null,{"$f":"Mats_179","v":"-"}]
[null,null,null,{"$f":"Mats_36","v":"Glass"},null,null,null,{"$f":"Mats_72","v":"Steel - Plates"},null,null,null,{"$f":"Mats_108","v":"-"},null,null,null,{"$f":"Mats_144","v":"-"},null,null,null,{"$f":"Mats_180","v":"-"}]
[]
[]
[]
[]
[]
[]
[null,"End of Tab 3 / Triggers"]

{"sheet":"4","index":4,"n_rows":162,"n_cols":31,"rows_kept":162,"cut":false,"hidden":false,"merged":[[0,23,0,24],[1,26,8,31],[1,4,8,8],[1,9,8,17],[30,0,46,0],[10,26,10,31],[11,26,11,27],[11,28,11,29],[11,30,11,31],[161,0,161,18],[10,18,10,22],[113,3,113,22],[1,18,8,22],[1,0,8,3],[13,0,29,0]]}
[4,null,null," Hazards & Environmental Aspects"]
["All Hazards and Environmental Aspects in the tool are listed below. This section highlights each of the Hazards and Environmental Aspects that have been triggered in your plan. ",null,null,null,"\"Triggered\" designates which lines will automatically show up in the plan.  \"Additional\"  allows you to select which should be added to the plan, even though not triggered. If triggered or selected, the entire line will highlight gold to show it will be included.",null,null,null,null,"The \"Competent Person\" columns allow you to select a primary and (optional) alternate Competent Person for each triggered Hazard.  Both names will print on the plan with the triggered Hazard and its Controls.   The default setting is \"*Plan Foreman*\". This phrase \"*Plan Foreman*\" will not show up in the printed plan. The selected foreman's name will be printed on the plan.",null,null,null,null,null,null,null,null,"The OSHA Links are hyperlinks in the blue boxes that will allow you connect directly to the OSHA website to review rules and regulations related to the specific Hazard. Simply click the text in the blue box, and it will open up a web browser at osha.gov.  Enterable fields for links to other regulations are provided to the right.  ",null,null,null,null,null,null,null,"Project Team:  To Add a link's address, choose Insert -> Hyperlink, and copy / paste the URL in the \"Address\" field.  Type a name of the  \"Text to Display\" field."]
[]
[]
[]
[]
[]
[]
[]
[]
[null,"Plan #","Overall #","Hazard Name / Environmental Aspect",null,"Triggered",null,"Additional",null,"Competent Person","Competent Person",null,"Alternate Competent Person","Alt Comp Person","hazard name conditional formatting","column e&g&i&q cond formatting","column F cond formatting",null,"OSHA Links",null,null,null,null,null,null,null,"Links to Overriding or Relevant State, Project, & Local Regulations"]
[null,null,null,null,null,null,null,"Select",null,"Select",null,null,"Select",null,null,null,null,null,null,null,"Click to view",null,null,null,null,null,{"$f":"CONCATENATE(\"State Regulations - \",Project_State_Initials)","v":"State Regulations - NY"},null,"Project Requirements",null,"Local / Other Regulations"]
[]
["! Scroll down.  Environmental Aspects start on line 116",{"$f":"IF(F14=\"X\",1,IF(H14=\"X\",1,0))","v":0},1,{"$f":"HLOOKUP(C14,Controls!$C$1:$KN$2,2,FALSE)","v":"Fall From Height"},"HIDDEN",{"$f":"HLOOKUP(C14,Links!$DE$3:$GZ$599,597,FALSE)","v":""},"HIDDEN"," ","HIDDEN","*Plan Foreman*",{"$f":"IF(J14=\"*Plan Foreman*\",Foreman_selected,J14)","v":0},"HIDDEN",null,{"$f":"IF(M14=0,\"None Specified\",IF(M14=\"*Plan Foreman*\",Foreman_selected,M14))","v":"None Specified"},{"$f":"IF(F14=\"X\",D14,IF(H14=\"X\",D14,\"NO HAZARD ADDED\"))","v":"NO HAZARD ADDED"},{"$f":"IF(O14=\"NO HAZARD ADDED\",\"NO\",E14)","v":"NO"},{"$f":"IF(O14=\"NO HAZARD ADDED\",\"NO\",F14)","v":"NO"},"HIDDEN",1926.501,"1926.502","HIDDEN","HIDDEN","HIDDEN"]
[null,{"$f":"IF(F15=\"X\",MAX(B14:B$14)+1,IF(H15=\"X\",MAX(B$14:B14)+1,0))","v":0},{"$f":"C14+3","v":4},{"$f":"HLOOKUP(C15,Controls!$C$1:$KN$2,2,FALSE)","v":"Slips, Trips & Falls"},"HIDDEN",{"$f":"HLOOKUP(C15,Links!$DE$3:$GZ$599,597,FALSE)","v":""},"HIDDEN"," ","HIDDEN","*Plan Foreman*",0,"HIDDEN",null,"None Specified","NO HAZARD ADDED","NO","NO","HIDDEN","1926.25","HIDDEN","HIDDEN","HIDDEN","HIDDEN"]
[null,{"$f":"IF(F16=\"X\",MAX(B$14:B15)+1,IF(H16=\"X\",MAX(B$14:B15)+1,0))","v":0},{"$f":"C15+3","v":7},{"$f":"HLOOKUP(C16,Controls!$C$1:$KN$2,2,FALSE)","v":"Strains & Pulled Muscles"},"HIDDEN",{"$f":"HLOOKUP(C16,Links!$DE$3:$GZ$599,597,FALSE)","v":""},"HIDDEN"," ","HIDDEN","*Plan Foreman*",0,"HIDDEN",null,"None Specified","NO HAZARD ADDED","NO","NO","HIDDEN","HIDDEN","HIDDEN","HIDDEN","HIDDEN","HIDDEN"]
[null,{"$f":"IF(F17=\"X\",MAX(B$14:B16)+1,IF(H17=\"X\",MAX(B$14:B16)+1,0))","v":0},{"$f":"C16+3","v":10},{"$f":"HLOOKUP(C17,Controls!$C$1:$KN$2,2,FALSE)","v":"Power / Hand Tool Injuries"},"HIDDEN",{"$f":"HLOOKUP(C17,Links!$DE$3:$GZ$599,597,FALSE)","v":""},"HIDDEN"," ","HIDDEN","*Plan Foreman*",0,"HIDDEN",null,"None Specified","NO HAZARD ADDED","NO","NO","HIDDEN","1926.300","1926.301","1926.302","1926.303","1926.304"]
[null,{"$f":"IF(F18=\"X\",MAX(B$14:B17)+1,IF(H18=\"X\",MAX(B$14:B17)+1,0))","v":0},{"$f":"C17+3","v":13},{"$f":"HLOOKUP(C18,Controls!$C$1:$KN$2,2,FALSE)","v":"Struck By / Caught Between"},"HIDDEN",{"$f":"HLOOKUP(C18,Links!$DE$3:$GZ$599,597,FALSE)","v":""},"HIDDEN"," ","HIDDEN","*Plan Foreman*",0,"HIDDEN",null,"None Specified","NO HAZARD ADDED","NO","NO","HIDDEN","HIDDEN","HIDDEN","HIDDEN","HIDDEN","HIDDEN"]
[null,{"$f":"IF(F19=\"X\",MAX(B$14:B18)+1,IF(H19=\"X\",MAX(B$14:B18)+1,0))","v":0},16,{"$f":"HLOOKUP(C19,Controls!$C$1:$KN$2,2,FALSE)","v":"Flying Objects"},"HIDDEN",{"$f":"HLOOKUP(C19,Links!$DE$3:$GZ$599,597,FALSE)","v":""},"HIDDEN"," ","HIDDEN","*Plan Foreman*",0,"HIDDEN",null,"None Specified","NO HAZARD ADDED","NO","NO","HIDDEN","1926.102","HIDDEN","HIDDEN","HIDDEN","HIDDEN"]
[null,{"$f":"IF(F20=\"X\",MAX(B$14:B19)+1,IF(H20=\"X\",MAX(B$14:B19)+1,0))","v":0},19,{"$f":"HLOOKUP(C20,Controls!$C$1:$KN$2,2,FALSE)","v":"Rigging Failure (Slings / Shackles / Taglines)"},"HIDDEN",{"$f":"HLOOKUP(C20,Links!$DE$3:$GZ$599,597,FALSE)","v":""},"HIDDEN"," ","HIDDEN","*Plan Foreman*",0,"HIDDEN",null,"None Specified","NO HAZARD ADDED","NO","NO","HIDDEN","1926.251","1910.184","HIDDEN","HIDDEN","HIDDEN"]
[null,{"$f":"IF(F21=\"X\",MAX(B$14:B20)+1,IF(H21=\"X\",MAX(B$14:B20)+1,0))","v":0},22,{"$f":"HLOOKUP(C21,Controls!$C$1:$KN$2,2,FALSE)","v":"Noise Exposure"},"HIDDEN",{"$f":"HLOOKUP(C21,Links!$DE$3:$GZ$599,597,FALSE)","v":""},"HIDDEN"," ","HIDDEN","*Plan Foreman*",0,"HIDDEN",null,"None Specified","NO HAZARD ADDED","NO","NO","HIDDEN",1926.52,1910.95,"HIDDEN","HIDDEN","HIDDEN"]
[null,{"$f":"IF(F22=\"X\",MAX(B$14:B21)+1,IF(H22=\"X\",MAX(B$14:B21)+1,0))","v":0},25,{"$f":"HLOOKUP(C22,Controls!$C$1:$KN$2,2,FALSE)","v":"Silica Dust Exposure"},"HIDDEN",{"$f":"HLOOKUP(C22,Links!$DE$3:$GZ$599,597,FALSE)","v":""},"HIDDEN"," ","HIDDEN","*Plan Foreman*",0,"HIDDEN",null,"None Specified","NO HAZARD ADDED","NO","NO","HIDDEN","General","HIDDEN","HIDDEN","HIDDEN","HIDDEN"]
[null,{"$f":"IF(F23=\"X\",MAX(B$14:B22)+1,IF(H23=\"X\",MAX(B$14:B22)+1,0))","v":0},28,{"$f":"HLOOKUP(C23,Controls!$C$1:$KN$2,2,FALSE)","v":"Pickup Trucks / Flat Trucks"},"HIDDEN",{"$f":"HLOOKUP(C23,Links!$DE$3:$GZ$599,597,FALSE)","v":""},"HIDDEN"," ","HIDDEN","*Plan Foreman*",0,"HIDDEN",null,"None Specified","NO HAZARD ADDED","NO","NO","HIDDEN","1926.601","HIDDEN","HIDDEN","HIDDEN","HIDDEN"]
[null,{"$f":"IF(F24=\"X\",MAX(B$14:B23)+1,IF(H24=\"X\",MAX(B$14:B23)+1,0))","v":0},31,{"$f":"HLOOKUP(C24,Controls!$C$1:$KN$2,2,FALSE)","v":"Electrocution / Shock"},"HIDDEN",{"$f":"HLOOKUP(C24,Links!$DE$3:$GZ$599,597,FALSE)","v":""},"HIDDEN"," ","HIDDEN","*Plan Foreman*",0,"HIDDEN",null,"None Specified","NO HAZARD ADDED","NO","NO","HIDDEN","HIDDEN","HIDDEN","HIDDEN","HIDDEN","HIDDEN"]
[null,{"$f":"IF(F25=\"X\",MAX(B$14:B24)+1,IF(H25=\"X\",MAX(B$14:B24)+1,0))","v":0},34,{"$f":"HLOOKUP(C25,Controls!$C$1:$KN$2,2,FALSE)","v":"Confined Space"},"HIDDEN",{"$f":"HLOOKUP(C25,Links!$DE$3:$GZ$599,597,FALSE)","v":""},"HIDDEN"," ","HIDDEN","*Plan Foreman*",0,"HIDDEN",null,"None Specified","NO HAZARD ADDED","NO","NO","HIDDEN","1910.146","1926.AA","HIDDEN","HIDDEN","HIDDEN"]
[null,{"$f":"IF(F26=\"X\",MAX(B$14:B25)+1,IF(H26=\"X\",MAX(B$14:B25)+1,0))","v":0},37,{"$f":"HLOOKUP(C26,Controls!$C$1:$KN$2,2,FALSE)","v":"Aerial Work Platforms"},"HIDDEN",{"$f":"HLOOKUP(C26,Links!$DE$3:$GZ$599,597,FALSE)","v":""},"HIDDEN"," ","HIDDEN","*Plan Foreman*",0,"HIDDEN",null,"None Specified","NO HAZARD ADDED","NO","NO","HIDDEN","1926.453","HIDDEN","HIDDEN","HIDDEN","HIDDEN"]
[null,{"$f":"IF(F27=\"X\",MAX(B$14:B26)+1,IF(H27=\"X\",MAX(B$14:B26)+1,0))","v":0},40,{"$f":"HLOOKUP(C27,Controls!$C$1:$KN$2,2,FALSE)","v":"Hotwork (Burning / Welding / etc.)"},"HIDDEN",{"$f":"HLOOKUP(C27,Links!$DE$3:$GZ$599,597,FALSE)","v":""},"HIDDEN"," ","HIDDEN","*Plan Foreman*",0,"HIDDEN",null,"None Specified","NO HAZARD ADDED","NO","NO","HIDDEN","1926.350","1926.351",1926.3520000000001,1926.3530000000001,"HIDDEN"]
[null,{"$f":"IF(F28=\"X\",MAX(B$14:B27)+1,IF(H28=\"X\",MAX(B$14:B27)+1,0))","v":0},43,{"$f":"HLOOKUP(C28,Controls!$C$1:$KN$2,2,FALSE)","v":"Lead Exposure"},"HIDDEN",{"$f":"HLOOKUP(C28,Links!$DE$3:$GZ$599,597,FALSE)","v":""},"HIDDEN"," ","HIDDEN","*Plan Foreman*",0,"HIDDEN",null,"None Specified","NO HAZARD ADDED","NO","NO","HIDDEN",1926.62,"HIDDEN","HIDDEN","HIDDEN","HIDDEN"]
[null,{"$f":"IF(F29=\"X\",MAX(B$14:B28)+1,IF(H29=\"X\",MAX(B$14:B28)+1,0))","v":0},46,{"$f":"HLOOKUP(C29,Controls!$C$1:$KN$2,2,FALSE)","v":"Trenching & Excavation Cave-In / Utilities"},"HIDDEN",{"$f":"HLOOKUP(C29,Links!$DE$3:$GZ$599,597,FALSE)","v":""},"HIDDEN"," ","HIDDEN","*Plan Foreman*",0,"HIDDEN",null,"None Specified","NO HAZARD ADDED","NO","NO","HIDDEN","1926.650","1926.651","1926.652","HIDDEN","HIDDEN"]
[null,{"$f":"IF(F30=\"X\",MAX(B$14:B29)+1,IF(H30=\"X\",MAX(B$14:B29)+1,0))","v":0},49,{"$f":"HLOOKUP(C30,Controls!$C$1:$KN$2,2,FALSE)","v":"Spill / Leak"},"HIDDEN",{"$f":"HLOOKUP(C30,Links!$DE$3:$GZ$599,597,FALSE)","v":""},"HIDDEN"," ","HIDDEN","*Plan Foreman*",0,"HIDDEN",null,"None Specified","NO HAZARD ADDED","NO","NO","HIDDEN","HIDDEN","HIDDEN","HIDDEN","HIDDEN","HIDDEN"]
["! Scroll down.  Environmental Aspects start on line 116",{"$f":"IF(F31=\"X\",MAX(B$14:B30)+1,IF(H31=\"X\",MAX(B$14:B30)+1,0))","v":0},52,{"$f":"HLOOKUP(C31,Controls!$C$1:$KN$2,2,FALSE)","v":"Inadequate Illumination"},"HIDDEN",{"$f":"HLOOKUP(C31,Links!$DE$3:$GZ$599,597,FALSE)","v":""},"HIDDEN"," ","HIDDEN","*Plan Foreman*",0,"HIDDEN",null,"None Specified","NO HAZARD ADDED","NO","NO","HIDDEN",1926.56,"HIDDEN","HIDDEN","HIDDEN","HIDDEN"]
[null,{"$f":"IF(F32=\"X\",MAX(B$14:B31)+1,IF(H32=\"X\",MAX(B$14:B31)+1,0))","v":0},55,{"$f":"HLOOKUP(C32,Controls!$C$1:$KN$2,2,FALSE)","v":"Heat Illness  "},"HIDDEN",{"$f":"HLOOKUP(C32,Links!$DE$3:$GZ$599,597,FALSE)","v":""},"HIDDEN"," ","HIDDEN","*Plan Foreman*",0,"HIDDEN",null,"None Specified","NO HAZARD ADDED","NO","NO","HIDDEN","OTM","HIDDEN","HIDDEN","HIDDEN","HIDDEN"]
[null,{"$f":"IF(F33=\"X\",MAX(B$14:B32)+1,IF(H33=\"X\",MAX(B$14:B32)+1,0))","v":0},58,{"$f":"HLOOKUP(C33,Controls!$C$1:$KN$2,2,FALSE)","v":"Compressor / Air Pneumatic Tools"},"HIDDEN",{"$f":"HLOOKUP(C33,Links!$DE$3:$GZ$599,597,FALSE)","v":""},"HIDDEN"," ","HIDDEN","*Plan Foreman*",0,"HIDDEN",null,"None Specified","NO HAZARD ADDED","NO","NO","HIDDEN",1926.8030000000001,"1926.302","HIDDEN","HIDDEN","HIDDEN"]
[null,{"$f":"IF(F34=\"X\",MAX(B$14:B33)+1,IF(H34=\"X\",MAX(B$14:B33)+1,0))","v":0},61,{"$f":"HLOOKUP(C34,Controls!$C$1:$KN$2,2,FALSE)","v":"Hazardous Soil"},"HIDDEN",{"$f":"HLOOKUP(C34,Links!$DE$3:$GZ$599,597,FALSE)","v":""},"HIDDEN"," ","HIDDEN","*Plan Foreman*",0,"HIDDEN",null,"None Specified","NO HAZARD ADDED","NO","NO","HIDDEN","HIDDEN","HIDDEN","HIDDEN","HIDDEN","HIDDEN"]
[null,{"$f":"IF(F35=\"X\",MAX(B$14:B34)+1,IF(H35=\"X\",MAX(B$14:B34)+1,0))","v":0},64,{"$f":"HLOOKUP(C35,Controls!$C$1:$KN$2,2,FALSE)","v":"Scaffolds / Temporary Works"},"HIDDEN",{"$f":"HLOOKUP(C35,Links!$DE$3:$GZ$599,597,FALSE)","v":""},"HIDDEN"," ","HIDDEN","*Plan Foreman*",0,"HIDDEN",null,"None Specified","NO HAZARD ADDED","NO","NO","HIDDEN","1926.451","1926.452","HIDDEN","HIDDEN","HIDDEN"]
[null,{"$f":"IF(F36=\"X\",MAX(B$14:B35)+1,IF(H36=\"X\",MAX(B$14:B35)+1,0))","v":0},67,{"$f":"HLOOKUP(C36,Controls!$C$1:$KN$2,2,FALSE)","v":"Stairways / Ladders"},"HIDDEN",{"$f":"HLOOKUP(C36,Links!$DE$3:$GZ$599,597,FALSE)","v":""},"HIDDEN"," ","HIDDEN","*Plan Foreman*",0,"HIDDEN",null,"None Specified","NO HAZARD ADDED","NO","NO","HIDDEN","1926.1051","1926.1052",1926.1052999999999,"HIDDEN","HIDDEN"]
[null,{"$f":"IF(F37=\"X\",MAX(B$14:B36)+1,IF(H37=\"X\",MAX(B$14:B36)+1,0))","v":0},70,{"$f":"HLOOKUP(C37,Controls!$C$1:$KN$2,2,FALSE)","v":"Lifting equipment other than cranes"},"HIDDEN",{"$f":"HLOOKUP(C37,Links!$DE$3:$GZ$599,597,FALSE)","v":""},"HIDDEN"," ","HIDDEN","*Plan Foreman*",0,"HIDDEN",null,"None Specified","NO HAZARD ADDED","NO","NO","HIDDEN",1926.1501000000001,"HIDDEN","HIDDEN","HIDDEN","HIDDEN"]
[null,{"$f":"IF(F38=\"X\",MAX(B$14:B37)+1,IF(H38=\"X\",MAX(B$14:B37)+1,0))","v":0},73,{"$f":"HLOOKUP(C38,Controls!$C$1:$KN$2,2,FALSE)","v":"Train / Train Tracks"},"HIDDEN",{"$f":"HLOOKUP(C38,Links!$DE$3:$GZ$599,597,FALSE)","v":""},"HIDDEN"," ","HIDDEN","*Plan Foreman*",0,"HIDDEN",null,"None Specified","NO HAZARD ADDED","NO","NO","HIDDEN","HIDDEN","HIDDEN","HIDDEN","HIDDEN","HIDDEN"]
[null,{"$f":"IF(F39=\"X\",MAX(B$14:B38)+1,IF(H39=\"X\",MAX(B$14:B38)+1,0))","v":0},76,{"$f":"HLOOKUP(C39,Controls!$C$1:$KN$2,2,FALSE)","v":"Impalement hazards"},"HIDDEN",{"$f":"HLOOKUP(C39,Links!$DE$3:$GZ$599,597,FALSE)","v":""},"HIDDEN"," ","HIDDEN","*Plan Foreman*",0,"HIDDEN",null,"None Specified","NO HAZARD ADDED","NO","NO","HIDDEN","HIDDEN","HIDDEN","HIDDEN","HIDDEN","HIDDEN"]
[null,{"$f":"IF(F40=\"X\",MAX(B$14:B39)+1,IF(H40=\"X\",MAX(B$14:B39)+1,0))","v":0},79,{"$f":"HLOOKUP(C40,Controls!$C$1:$KN$2,2,FALSE)","v":"Lockout / Tagout"},"HIDDEN",{"$f":"HLOOKUP(C40,Links!$DE$3:$GZ$599,597,FALSE)","v":""},"HIDDEN"," ","HIDDEN","*Plan Foreman*",0,"HIDDEN",null,"None Specified","NO HAZARD ADDED","NO","NO","HIDDEN",1910.1469999999999,"HIDDEN","HIDDEN","HIDDEN","HIDDEN"]
[null,{"$f":"IF(F41=\"X\",MAX(B$14:B40)+1,IF(H41=\"X\",MAX(B$14:B40)+1,0))","v":0},82,{"$f":"HLOOKUP(C41,Controls!$C$1:$KN$2,2,FALSE)","v":"Asbestos"},"HIDDEN",{"$f":"HLOOKUP(C41,Links!$DE$3:$GZ$599,597,FALSE)","v":""},"HIDDEN"," ","HIDDEN","*Plan Foreman*",0,"HIDDEN",null,"None Specified","NO HAZARD ADDED","NO","NO","HIDDEN","HIDDEN","HIDDEN","HIDDEN","HIDDEN","HIDDEN"]
[null,{"$f":"IF(F42=\"X\",MAX(B$14:B41)+1,IF(H42=\"X\",MAX(B$14:B41)+1,0))","v":0},85,{"$f":"HLOOKUP(C42,Controls!$C$1:$KN$2,2,FALSE)","v":"Hazardous Material "},"HIDDEN",{"$f":"HLOOKUP(C42,Links!$DE$3:$GZ$599,597,FALSE)","v":""},"HIDDEN"," ","HIDDEN","*Plan Foreman*",0,"HIDDEN",null,"None Specified","NO HAZARD ADDED","NO","NO","HIDDEN","HIDDEN","HIDDEN","HIDDEN","HIDDEN","HIDDEN"]
[null,{"$f":"IF(F43=\"X\",MAX(B$14:B42)+1,IF(H43=\"X\",MAX(B$14:B42)+1,0))","v":0},88,{"$f":"HLOOKUP(C43,Controls!$C$1:$KN$2,2,FALSE)","v":"Chemicals"},"HIDDEN",{"$f":"HLOOKUP(C43,Links!$DE$3:$GZ$599,597,FALSE)","v":""},"HIDDEN"," ","HIDDEN","*Plan Foreman*",0,"HIDDEN",null,"None Specified","NO HAZARD ADDED","NO","NO","HIDDEN","HIDDEN","HIDDEN","HIDDEN","HIDDEN","HIDDEN"]
[null,{"$f":"IF(F44=\"X\",MAX(B$14:B43)+1,IF(H44=\"X\",MAX(B$14:B43)+1,0))","v":0},91,{"$f":"HLOOKUP(C44,Controls!$C$1:$KN$2,2,FALSE)","v":" -"},"HIDDEN",{"$f":"HLOOKUP(C44,Links!$DE$3:$GZ$599,597,FALSE)","v":""},"HIDDEN"," ","HIDDEN","*Plan Foreman*",0,"HIDDEN",null,"None Specified","NO HAZARD ADDED","NO","NO","HIDDEN","HIDDEN","HIDDEN","HIDDEN","HIDDEN","HIDDEN"]
[null,{"$f":"IF(F45=\"X\",MAX(B$14:B44)+1,IF(H45=\"X\",MAX(B$14:B44)+1,0))","v":0},94,{"$f":"HLOOKUP(C45,Controls!$C$1:$KN$2,2,FALSE)","v":" -"},"HIDDEN",{"$f":"HLOOKUP(C45,Links!$DE$3:$GZ$599,597,FALSE)","v":""},"HIDDEN"," ","HIDDEN","*Plan Foreman*",0,"HIDDEN",null,"None Specified","NO HAZARD ADDED","NO","NO","HIDDEN","HIDDEN","HIDDEN","HIDDEN","HIDDEN","HIDDEN"]
[null,{"$f":"IF(F46=\"X\",MAX(B$14:B45)+1,IF(H46=\"X\",MAX(B$14:B45)+1,0))","v":0},97,{"$f":"HLOOKUP(C46,Controls!$C$1:$KN$2,2,FALSE)","v":" -"},"HIDDEN",{"$f":"HLOOKUP(C46,Links!$DE$3:$GZ$599,597,FALSE)","v":""},"HIDDEN"," ","HIDDEN","*Plan Foreman*",{"$f":"IF(J46=\"*Plan Foreman*\",Foreman_selected,J46)","v":0},"HIDDEN",null,{"$f":"IF(M46=0,\"None Specified\",IF(M46=\"*Plan Foreman*\",Foreman_selected,M46))","v":"None Specified"},{"$f":"IF(F46=\"X\",D46,IF(H46=\"X\",D46,\"NO HAZARD ADDED\"))","v":"NO HAZARD ADDED"},{"$f":"IF(O46=\"NO HAZARD ADDED\",\"NO\",E46)","v":"NO"},{"$f":"IF(O46=\"NO HAZARD ADDED\",\"NO\",F46)","v":"NO"},"HIDDEN","HIDDEN","HIDDEN","HIDDEN","HIDDEN","HIDDEN"]
[null,{"$f":"IF(F47=\"X\",MAX(B$14:B46)+1,IF(H47=\"X\",MAX(B$14:B46)+1,0))","v":0},100,{"$f":"HLOOKUP(C47,Controls!$C$1:$KN$2,2,FALSE)","v":" -"},"HIDDEN",{"$f":"HLOOKUP(C47,Links!$DE$3:$GZ$599,597,FALSE)","v":""},"HIDDEN"," ","HIDDEN","*Plan Foreman*",0,"HIDDEN",null,"None Specified","NO HAZARD ADDED","NO","NO","HIDDEN","HIDDEN","HIDDEN","HIDDEN","HIDDEN","HIDDEN"]
[null,{"$f":"IF(F48=\"X\",MAX(B$14:B47)+1,IF(H48=\"X\",MAX(B$14:B47)+1,0))","v":0},103,{"$f":"HLOOKUP(C48,Controls!$C$1:$KN$2,2,FALSE)","v":" -"},"HIDDEN",{"$f":"HLOOKUP(C48,Links!$DE$3:$GZ$599,597,FALSE)","v":""},"HIDDEN"," ","HIDDEN","*Plan Foreman*",0,"HIDDEN",null,"None Specified","NO HAZARD ADDED","NO","NO","HIDDEN","HIDDEN","HIDDEN","HIDDEN","HIDDEN","HIDDEN"]
[null,{"$f":"IF(F49=\"X\",MAX(B$14:B48)+1,IF(H49=\"X\",MAX(B$14:B48)+1,0))","v":0},106,{"$f":"HLOOKUP(C49,Controls!$C$1:$KN$2,2,FALSE)","v":" -"},"HIDDEN",{"$f":"HLOOKUP(C49,Links!$DE$3:$GZ$599,597,FALSE)","v":""},"HIDDEN"," ","HIDDEN","*Plan Foreman*",0,"HIDDEN",null,"None Specified","NO HAZARD ADDED","NO","NO","HIDDEN","HIDDEN","HIDDEN","HIDDEN","HIDDEN","HIDDEN"]
[null,{"$f":"IF(F50=\"X\",MAX(B$14:B49)+1,IF(H50=\"X\",MAX(B$14:B49)+1,0))","v":0},109,{"$f":"HLOOKUP(C50,Controls!$C$1:$KN$2,2,FALSE)","v":" -"},"HIDDEN",{"$f":"HLOOKUP(C50,Links!$DE$3:$GZ$599,597,FALSE)","v":""},"HIDDEN"," ","HIDDEN","*Plan Foreman*",0,"HIDDEN",null,"None Specified","NO HAZARD ADDED","NO","NO","HIDDEN","HIDDEN","HIDDEN","HIDDEN","HIDDEN","HIDDEN"]
[null,{"$f":"IF(F51=\"X\",MAX(B$14:B50)+1,IF(H51=\"X\",MAX(B$14:B50)+1,0))","v":0},112,{"$f":"HLOOKUP(C51,Controls!$C$1:$KN$2,2,FALSE)","v":" -"},"HIDDEN",{"$f":"HLOOKUP(C51,Links!$DE$3:$GZ$599,597,FALSE)","v":""},"HIDDEN"," ","HIDDEN","*Plan Foreman*",0,"HIDDEN",null,"None Specified","NO HAZARD ADDED","NO","NO","HIDDEN","HIDDEN","HIDDEN","HIDDEN","HIDDEN","HIDDEN"]
[null,{"$f":"IF(F52=\"X\",MAX(B$14:B51)+1,IF(H52=\"X\",MAX(B$14:B51)+1,0))","v":0},115,{"$f":"HLOOKUP(C52,Controls!$C$1:$KN$2,2,FALSE)","v":" -"},"HIDDEN",{"$f":"HLOOKUP(C52,Links!$DE$3:$GZ$599,597,FALSE)","v":""},"HIDDEN"," ","HIDDEN","*Plan Foreman*",0,"HIDDEN",null,"None Specified","NO HAZARD ADDED","NO","NO","HIDDEN","HIDDEN","HIDDEN","HIDDEN","HIDDEN","HIDDEN"]
[null,{"$f":"IF(F53=\"X\",MAX(B$14:B52)+1,IF(H53=\"X\",MAX(B$14:B52)+1,0))","v":0},118,{"$f":"HLOOKUP(C53,Controls!$C$1:$KN$2,2,FALSE)","v":" -"},"HIDDEN",{"$f":"HLOOKUP(C53,Links!$DE$3:$GZ$599,597,FALSE)","v":""},"HIDDEN"," ","HIDDEN","*Plan Foreman*",0,"HIDDEN",null,"None Specified","NO HAZARD ADDED","NO","NO","HIDDEN","HIDDEN","HIDDEN","HIDDEN","HIDDEN","HIDDEN"]
[null,{"$f":"IF(F54=\"X\",MAX(B$14:B53)+1,IF(H54=\"X\",MAX(B$14:B53)+1,0))","v":0},121,{"$f":"HLOOKUP(C54,Controls!$C$1:$KN$2,2,FALSE)","v":" -"},"HIDDEN",{"$f":"HLOOKUP(C54,Links!$DE$3:$GZ$599,597,FALSE)","v":""},"HIDDEN"," ","HIDDEN","*Plan Foreman*",0,"HIDDEN",null,"None Specified","NO HAZARD ADDED","NO","NO","HIDDEN","HIDDEN","HIDDEN","HIDDEN","HIDDEN","HIDDEN"]
[null,{"$f":"IF(F55=\"X\",MAX(B$14:B54)+1,IF(H55=\"X\",MAX(B$14:B54)+1,0))","v":0},124,{"$f":"HLOOKUP(C55,Controls!$C$1:$KN$2,2,FALSE)","v":" -"},"HIDDEN",{"$f":"HLOOKUP(C55,Links!$DE$3:$GZ$599,597,FALSE)","v":""},"HIDDEN"," ","HIDDEN","*Plan Foreman*",0,"HIDDEN",null,"None Specified","NO HAZARD ADDED","NO","NO","HIDDEN","HIDDEN","HIDDEN","HIDDEN","HIDDEN","HIDDEN"]
[null,{"$f":"IF(F56=\"X\",MAX(B$14:B55)+1,IF(H56=\"X\",MAX(B$14:B55)+1,0))","v":0},127,{"$f":"HLOOKUP(C56,Controls!$C$1:$KN$2,2,FALSE)","v":" -"},"HIDDEN",{"$f":"HLOOKUP(C56,Links!$DE$3:$GZ$599,597,FALSE)","v":""},"HIDDEN"," ","HIDDEN","*Plan Foreman*",0,"HIDDEN",null,"None Specified","NO HAZARD ADDED","NO","NO","HIDDEN","HIDDEN","HIDDEN","HIDDEN","HIDDEN","HIDDEN"]
[null,{"$f":"IF(F57=\"X\",MAX(B$14:B56)+1,IF(H57=\"X\",MAX(B$14:B56)+1,0))","v":0},130,{"$f":"HLOOKUP(C57,Controls!$C$1:$KN$2,2,FALSE)","v":" -"},"HIDDEN",{"$f":"HLOOKUP(C57,Links!$DE$3:$GZ$599,597,FALSE)","v":""},"HIDDEN"," ","HIDDEN","*Plan Foreman*",0,"HIDDEN",null,"None Specified","NO HAZARD ADDED","NO","NO","HIDDEN","HIDDEN","HIDDEN","HIDDEN","HIDDEN","HIDDEN"]
[null,{"$f":"IF(F58=\"X\",MAX(B$14:B57)+1,IF(H58=\"X\",MAX(B$14:B57)+1,0))","v":0},133,{"$f":"HLOOKUP(C58,Controls!$C$1:$KN$2,2,FALSE)","v":" -"},"HIDDEN",{"$f":"HLOOKUP(C58,Links!$DE$3:$GZ$599,597,FALSE)","v":""},"HIDDEN"," ","HIDDEN","*Plan Foreman*",0,"HIDDEN",null,"None Specified","NO HAZARD ADDED","NO","NO","HIDDEN","HIDDEN","HIDDEN","HIDDEN","HIDDEN","HIDDEN"]
[null,{"$f":"IF(F59=\"X\",MAX(B$14:B58)+1,IF(H59=\"X\",MAX(B$14:B58)+1,0))","v":0},136,{"$f":"HLOOKUP(C59,Controls!$C$1:$KN$2,2,FALSE)","v":" -"},"HIDDEN",{"$f":"HLOOKUP(C59,Links!$DE$3:$GZ$599,597,FALSE)","v":""},"HIDDEN"," ","HIDDEN","*Plan Foreman*",0,"HIDDEN",null,"None Specified","NO HAZARD ADDED","NO","NO","HIDDEN","HIDDEN","HIDDEN","HIDDEN","HIDDEN","HIDDEN"]
[null,{"$f":"IF(F60=\"X\",MAX(B$14:B59)+1,IF(H60=\"X\",MAX(B$14:B59)+1,0))","v":0},139,{"$f":"HLOOKUP(C60,Controls!$C$1:$KN$2,2,FALSE)","v":" -"},"HIDDEN",{"$f":"HLOOKUP(C60,Links!$DE$3:$GZ$599,597,FALSE)","v":""},"HIDDEN"," ","HIDDEN","*Plan Foreman*",0,"HIDDEN",null,"None Specified","NO HAZARD ADDED","NO","NO","HIDDEN","HIDDEN","HIDDEN","HIDDEN","HIDDEN","HIDDEN"]
[null,{"$f":"IF(F61=\"X\",MAX(B$14:B60)+1,IF(H61=\"X\",MAX(B$14:B60)+1,0))","v":0},142,{"$f":"HLOOKUP(C61,Controls!$C$1:$KN$2,2,FALSE)","v":" -"},"HIDDEN",{"$f":"HLOOKUP(C61,Links!$DE$3:$GZ$599,597,FALSE)","v":""},"HIDDEN"," ","HIDDEN","*Plan Foreman*",0,"HIDDEN",null,"None Specified","NO HAZARD ADDED","NO","NO","HIDDEN","HIDDEN","HIDDEN","HIDDEN","HIDDEN","HIDDEN"]
[null,{"$f":"IF(F62=\"X\",MAX(B$14:B61)+1,IF(H62=\"X\",MAX(B$14:B61)+1,0))","v":0},145,{"$f":"HLOOKUP(C62,Controls!$C$1:$KN$2,2,FALSE)","v":" -"},"HIDDEN",{"$f":"HLOOKUP(C62,Links!$DE$3:$GZ$599,597,FALSE)","v":""},"HIDDEN"," ","HIDDEN","*Plan Foreman*",0,"HIDDEN",null,"None Specified","NO HAZARD ADDED","NO","NO","HIDDEN","HIDDEN","HIDDEN","HIDDEN","HIDDEN","HIDDEN"]
[null,{"$f":"IF(F63=\"X\",MAX(B$14:B62)+1,IF(H63=\"X\",MAX(B$14:B62)+1,0))","v":0},148,{"$f":"HLOOKUP(C63,Controls!$C$1:$KN$2,2,FALSE)","v":" -"},"HIDDEN",{"$f":"HLOOKUP(C63,Links!$DE$3:$GZ$599,597,FALSE)","v":""},"HIDDEN"," ","HIDDEN","*Plan Foreman*",0,"HIDDEN",null,"None Specified","NO HAZARD ADDED","NO","NO","HIDDEN","HIDDEN","HIDDEN","HIDDEN","HIDDEN","HIDDEN"]
[null,{"$f":"IF(F64=\"X\",MAX(B$14:B63)+1,IF(H64=\"X\",MAX(B$14:B63)+1,0))","v":0},151,{"$f":"HLOOKUP(C64,Controls!$C$1:$KN$2,2,FALSE)","v":" -"},"HIDDEN",{"$f":"HLOOKUP(C64,Links!$DE$3:$GZ$599,597,FALSE)","v":""},"HIDDEN"," ","HIDDEN","*Plan Foreman*",0,"HIDDEN",null,"None Specified","NO HAZARD ADDED","NO","NO","HIDDEN","HIDDEN","HIDDEN","HIDDEN","HIDDEN","HIDDEN"]
[null,{"$f":"IF(F65=\"X\",MAX(B$14:B64)+1,IF(H65=\"X\",MAX(B$14:B64)+1,0))","v":0},154,{"$f":"HLOOKUP(C65,Controls!$C$1:$KN$2,2,FALSE)","v":" -"},"HIDDEN",{"$f":"HLOOKUP(C65,Links!$DE$3:$GZ$599,597,FALSE)","v":""},"HIDDEN"," ","HIDDEN","*Plan Foreman*",0,"HIDDEN",null,"None Specified","NO HAZARD ADDED","NO","NO","HIDDEN","HIDDEN","HIDDEN","HIDDEN","HIDDEN","HIDDEN"]
[null,{"$f":"IF(F66=\"X\",MAX(B$14:B65)+1,IF(H66=\"X\",MAX(B$14:B65)+1,0))","v":0},157,{"$f":"HLOOKUP(C66,Controls!$C$1:$KN$2,2,FALSE)","v":" -"},"HIDDEN",{"$f":"HLOOKUP(C66,Links!$DE$3:$GZ$599,597,FALSE)","v":""},"HIDDEN"," ","HIDDEN","*Plan Foreman*",0,"HIDDEN",null,"None Specified","NO HAZARD ADDED","NO","NO","HIDDEN","HIDDEN","HIDDEN","HIDDEN","HIDDEN","HIDDEN"]
[null,{"$f":"IF(F67=\"X\",MAX(B$14:B66)+1,IF(H67=\"X\",MAX(B$14:B66)+1,0))","v":0},160,{"$f":"HLOOKUP(C67,Controls!$C$1:$KN$2,2,FALSE)","v":" -"},"HIDDEN",{"$f":"HLOOKUP(C67,Links!$DE$3:$GZ$599,597,FALSE)","v":""},"HIDDEN"," ","HIDDEN","*Plan Foreman*",0,"HIDDEN",null,"None Specified","NO HAZARD ADDED","NO","NO","HIDDEN","HIDDEN","HIDDEN","HIDDEN","HIDDEN","HIDDEN"]
[null,{"$f":"IF(F68=\"X\",MAX(B$14:B67)+1,IF(H68=\"X\",MAX(B$14:B67)+1,0))","v":0},163,{"$f":"HLOOKUP(C68,Controls!$C$1:$KN$2,2,FALSE)","v":" -"},"HIDDEN",{"$f":"HLOOKUP(C68,Links!$DE$3:$GZ$599,597,FALSE)","v":""},"HIDDEN"," ","HIDDEN","*Plan Foreman*",0,"HIDDEN",null,"None Specified","NO HAZARD ADDED","NO","NO","HIDDEN","HIDDEN","HIDDEN","HIDDEN","HIDDEN","HIDDEN"]
[null,{"$f":"IF(F69=\"X\",MAX(B$14:B68)+1,IF(H69=\"X\",MAX(B$14:B68)+1,0))","v":0},166,{"$f":"HLOOKUP(C69,Controls!$C$1:$KN$2,2,FALSE)","v":" -"},"HIDDEN",{"$f":"HLOOKUP(C69,Links!$DE$3:$GZ$599,597,FALSE)","v":""},"HIDDEN"," ","HIDDEN","*Plan Foreman*",0,"HIDDEN",null,"None Specified","NO HAZARD ADDED","NO","NO","HIDDEN","HIDDEN","HIDDEN","HIDDEN","HIDDEN","HIDDEN"]
[null,{"$f":"IF(F70=\"X\",MAX(B$14:B69)+1,IF(H70=\"X\",MAX(B$14:B69)+1,0))","v":0},169,{"$f":"HLOOKUP(C70,Controls!$C$1:$KN$2,2,FALSE)","v":" -"},"HIDDEN",{"$f":"HLOOKUP(C70,Links!$DE$3:$GZ$599,597,FALSE)","v":""},"HIDDEN"," ","HIDDEN","*Plan Foreman*",0,"HIDDEN",null,"None Specified","NO HAZARD ADDED","NO","NO","HIDDEN","HIDDEN","HIDDEN","HIDDEN","HIDDEN","HIDDEN"]
[null,{"$f":"IF(F71=\"X\",MAX(B$14:B70)+1,IF(H71=\"X\",MAX(B$14:B70)+1,0))","v":0},172,{"$f":"HLOOKUP(C71,Controls!$C$1:$KN$2,2,FALSE)","v":" -"},"HIDDEN",{"$f":"HLOOKUP(C71,Links!$DE$3:$GZ$599,597,FALSE)","v":""},"HIDDEN"," ","HIDDEN","*Plan Foreman*",0,"HIDDEN",null,"None Specified","NO HAZARD ADDED","NO","NO","HIDDEN","HIDDEN","HIDDEN","HIDDEN","HIDDEN","HIDDEN"]
[null,{"$f":"IF(F72=\"X\",MAX(B$14:B71)+1,IF(H72=\"X\",MAX(B$14:B71)+1,0))","v":0},175,{"$f":"HLOOKUP(C72,Controls!$C$1:$KN$2,2,FALSE)","v":" -"},"HIDDEN",{"$f":"HLOOKUP(C72,Links!$DE$3:$GZ$599,597,FALSE)","v":""},"HIDDEN"," ","HIDDEN","*Plan Foreman*",0,"HIDDEN",null,"None Specified","NO HAZARD ADDED","NO","NO","HIDDEN","HIDDEN","HIDDEN","HIDDEN","HIDDEN","HIDDEN"]
[null,{"$f":"IF(F73=\"X\",MAX(B$14:B72)+1,IF(H73=\"X\",MAX(B$14:B72)+1,0))","v":0},178,{"$f":"HLOOKUP(C73,Controls!$C$1:$KN$2,2,FALSE)","v":" -"},"HIDDEN",{"$f":"HLOOKUP(C73,Links!$DE$3:$GZ$599,597,FALSE)","v":""},"HIDDEN"," ","HIDDEN","*Plan Foreman*",0,"HIDDEN",null,"None Specified","NO HAZARD ADDED","NO","NO","HIDDEN","HIDDEN","HIDDEN","HIDDEN","HIDDEN","HIDDEN"]
[null,{"$f":"IF(F74=\"X\",MAX(B$14:B73)+1,IF(H74=\"X\",MAX(B$14:B73)+1,0))","v":0},181,{"$f":"HLOOKUP(C74,Controls!$C$1:$KN$2,2,FALSE)","v":" -"},"HIDDEN",{"$f":"HLOOKUP(C74,Links!$DE$3:$GZ$599,597,FALSE)","v":""},"HIDDEN"," ","HIDDEN","*Plan Foreman*",0,"HIDDEN",null,"None Specified","NO HAZARD ADDED","NO","NO","HIDDEN","HIDDEN","HIDDEN","HIDDEN","HIDDEN","HIDDEN"]
[null,{"$f":"IF(F75=\"X\",MAX(B$14:B74)+1,IF(H75=\"X\",MAX(B$14:B74)+1,0))","v":0},184,{"$f":"HLOOKUP(C75,Controls!$C$1:$KN$2,2,FALSE)","v":" -"},"HIDDEN",{"$f":"HLOOKUP(C75,Links!$DE$3:$GZ$599,597,FALSE)","v":""},"HIDDEN"," ","HIDDEN","*Plan Foreman*",0,"HIDDEN",null,"None Specified","NO HAZARD ADDED","NO","NO","HIDDEN","HIDDEN","HIDDEN","HIDDEN","HIDDEN","HIDDEN"]
[null,{"$f":"IF(F76=\"X\",MAX(B$14:B75)+1,IF(H76=\"X\",MAX(B$14:B75)+1,0))","v":0},187,{"$f":"HLOOKUP(C76,Controls!$C$1:$KN$2,2,FALSE)","v":" -"},"HIDDEN",{"$f":"HLOOKUP(C76,Links!$DE$3:$GZ$599,597,FALSE)","v":""},"HIDDEN"," ","HIDDEN","*Plan Foreman*",0,"HIDDEN",null,"None Specified","NO HAZARD ADDED","NO","NO","HIDDEN","HIDDEN","HIDDEN","HIDDEN","HIDDEN","HIDDEN"]
[null,{"$f":"IF(F77=\"X\",MAX(B$14:B76)+1,IF(H77=\"X\",MAX(B$14:B76)+1,0))","v":0},190,{"$f":"HLOOKUP(C77,Controls!$C$1:$KN$2,2,FALSE)","v":" -"},"HIDDEN",{"$f":"HLOOKUP(C77,Links!$DE$3:$GZ$599,597,FALSE)","v":""},"HIDDEN"," ","HIDDEN","*Plan Foreman*",0,"HIDDEN",null,"None Specified","NO HAZARD ADDED","NO","NO","HIDDEN","HIDDEN","HIDDEN","HIDDEN","HIDDEN","HIDDEN"]
[null,{"$f":"IF(F78=\"X\",MAX(B$14:B77)+1,IF(H78=\"X\",MAX(B$14:B77)+1,0))","v":0},193,{"$f":"HLOOKUP(C78,Controls!$C$1:$KN$2,2,FALSE)","v":" -"},"HIDDEN",{"$f":"HLOOKUP(C78,Links!$DE$3:$GZ$599,597,FALSE)","v":""},"HIDDEN"," ","HIDDEN","*Plan Foreman*",{"$f":"IF(J78=\"*Plan Foreman*\",Foreman_selected,J78)","v":0},"HIDDEN",null,{"$f":"IF(M78=0,\"None Specified\",IF(M78=\"*Plan Foreman*\",Foreman_selected,M78))","v":"None Specified"},{"$f":"IF(F78=\"X\",D78,IF(H78=\"X\",D78,\"NO HAZARD ADDED\"))","v":"NO HAZARD ADDED"},{"$f":"IF(O78=\"NO HAZARD ADDED\",\"NO\",E78)","v":"NO"},{"$f":"IF(O78=\"NO HAZARD ADDED\",\"NO\",F78)","v":"NO"},"HIDDEN","HIDDEN","HIDDEN","HIDDEN","HIDDEN","HIDDEN"]
[null,{"$f":"IF(F79=\"X\",MAX(B$14:B78)+1,IF(H79=\"X\",MAX(B$14:B78)+1,0))","v":0},196,{"$f":"HLOOKUP(C79,Controls!$C$1:$KN$2,2,FALSE)","v":" -"},"HIDDEN",{"$f":"HLOOKUP(C79,Links!$DE$3:$GZ$599,597,FALSE)","v":""},"HIDDEN"," ","HIDDEN","*Plan Foreman*",0,"HIDDEN",null,"None Specified","NO HAZARD ADDED","NO","NO","HIDDEN","HIDDEN","HIDDEN","HIDDEN","HIDDEN","HIDDEN"]
[null,{"$f":"IF(F80=\"X\",MAX(B$14:B79)+1,IF(H80=\"X\",MAX(B$14:B79)+1,0))","v":0},199,{"$f":"HLOOKUP(C80,Controls!$C$1:$KN$2,2,FALSE)","v":" -"},"HIDDEN",{"$f":"HLOOKUP(C80,Links!$DE$3:$GZ$599,597,FALSE)","v":""},"HIDDEN"," ","HIDDEN","*Plan Foreman*",0,"HIDDEN",null,"None Specified","NO HAZARD ADDED","NO","NO","HIDDEN","HIDDEN","HIDDEN","HIDDEN","HIDDEN","HIDDEN"]
[null,{"$f":"IF(F81=\"X\",MAX(B$14:B80)+1,IF(H81=\"X\",MAX(B$14:B80)+1,0))","v":0},202,{"$f":"HLOOKUP(C81,Controls!$C$1:$KN$2,2,FALSE)","v":" -"},"HIDDEN",{"$f":"HLOOKUP(C81,Links!$DE$3:$GZ$599,597,FALSE)","v":""},"HIDDEN"," ","HIDDEN","*Plan Foreman*",0,"HIDDEN",null,"None Specified","NO HAZARD ADDED","NO","NO","HIDDEN","HIDDEN","HIDDEN","HIDDEN","HIDDEN","HIDDEN"]
[null,{"$f":"IF(F82=\"X\",MAX(B$14:B81)+1,IF(H82=\"X\",MAX(B$14:B81)+1,0))","v":0},{"$f":"C81+3","v":205},{"$f":"HLOOKUP(C82,Controls!$C$1:$KN$2,2,FALSE)","v":" -"},"HIDDEN",{"$f":"HLOOKUP(C82,Links!$DE$3:$GZ$599,597,FALSE)","v":""},"HIDDEN"," ","HIDDEN","*Plan Foreman*",0,"HIDDEN",null,"None Specified","NO HAZARD ADDED","NO","NO","HIDDEN","HIDDEN","HIDDEN","HIDDEN","HIDDEN","HIDDEN"]
[null,{"$f":"IF(F83=\"X\",MAX(B$14:B82)+1,IF(H83=\"X\",MAX(B$14:B82)+1,0))","v":0},208,{"$f":"HLOOKUP(C83,Controls!$C$1:$KN$2,2,FALSE)","v":" -"},"HIDDEN",{"$f":"HLOOKUP(C83,Links!$DE$3:$GZ$599,597,FALSE)","v":""},"HIDDEN"," ","HIDDEN","*Plan Foreman*",0,"HIDDEN",null,"None Specified","NO HAZARD ADDED","NO","NO","HIDDEN","HIDDEN","HIDDEN","HIDDEN","HIDDEN","HIDDEN"]
[null,{"$f":"IF(F84=\"X\",MAX(B$14:B83)+1,IF(H84=\"X\",MAX(B$14:B83)+1,0))","v":0},211,{"$f":"HLOOKUP(C84,Controls!$C$1:$KN$2,2,FALSE)","v":" -"},"HIDDEN",{"$f":"HLOOKUP(C84,Links!$DE$3:$GZ$599,597,FALSE)","v":""},"HIDDEN"," ","HIDDEN","*Plan Foreman*",0,"HIDDEN",null,"None Specified","NO HAZARD ADDED","NO","NO","HIDDEN","HIDDEN","HIDDEN","HIDDEN","HIDDEN","HIDDEN"]
[null,{"$f":"IF(F85=\"X\",MAX(B$14:B84)+1,IF(H85=\"X\",MAX(B$14:B84)+1,0))","v":0},214,{"$f":"HLOOKUP(C85,Controls!$C$1:$KN$2,2,FALSE)","v":" -"},"HIDDEN",{"$f":"HLOOKUP(C85,Links!$DE$3:$GZ$599,597,FALSE)","v":""},"HIDDEN"," ","HIDDEN","*Plan Foreman*",0,"HIDDEN",null,"None Specified","NO HAZARD ADDED","NO","NO","HIDDEN","HIDDEN","HIDDEN","HIDDEN","HIDDEN","HIDDEN"]
[null,{"$f":"IF(F86=\"X\",MAX(B$14:B85)+1,IF(H86=\"X\",MAX(B$14:B85)+1,0))","v":0},217,{"$f":"HLOOKUP(C86,Controls!$C$1:$KN$2,2,FALSE)","v":" -"},"HIDDEN",{"$f":"HLOOKUP(C86,Links!$DE$3:$GZ$599,597,FALSE)","v":""},"HIDDEN"," ","HIDDEN","*Plan Foreman*",0,"HIDDEN",null,"None Specified","NO HAZARD ADDED","NO","NO","HIDDEN","HIDDEN","HIDDEN","HIDDEN","HIDDEN","HIDDEN"]
[null,{"$f":"IF(F87=\"X\",MAX(B$14:B86)+1,IF(H87=\"X\",MAX(B$14:B86)+1,0))","v":0},220,{"$f":"HLOOKUP(C87,Controls!$C$1:$KN$2,2,FALSE)","v":" -"},"HIDDEN",{"$f":"HLOOKUP(C87,Links!$DE$3:$GZ$599,597,FALSE)","v":""},"HIDDEN"," ","HIDDEN","*Plan Foreman*",0,"HIDDEN",null,"None Specified","NO HAZARD ADDED","NO","NO","HIDDEN","HIDDEN","HIDDEN","HIDDEN","HIDDEN","HIDDEN"]
[null,{"$f":"IF(F88=\"X\",MAX(B$14:B87)+1,IF(H88=\"X\",MAX(B$14:B87)+1,0))","v":0},223,{"$f":"HLOOKUP(C88,Controls!$C$1:$KN$2,2,FALSE)","v":" -"},"HIDDEN",{"$f":"HLOOKUP(C88,Links!$DE$3:$GZ$599,597,FALSE)","v":""},"HIDDEN"," ","HIDDEN","*Plan Foreman*",0,"HIDDEN",null,"None Specified","NO HAZARD ADDED","NO","NO","HIDDEN","HIDDEN","HIDDEN","HIDDEN","HIDDEN","HIDDEN"]
[null,{"$f":"IF(F89=\"X\",MAX(B$14:B88)+1,IF(H89=\"X\",MAX(B$14:B88)+1,0))","v":0},226,{"$f":"HLOOKUP(C89,Controls!$C$1:$KN$2,2,FALSE)","v":" -"},"HIDDEN",{"$f":"HLOOKUP(C89,Links!$DE$3:$GZ$599,597,FALSE)","v":""},"HIDDEN"," ","HIDDEN","*Plan Foreman*",0,"HIDDEN",null,"None Specified","NO HAZARD ADDED","NO","NO","HIDDEN","HIDDEN","HIDDEN","HIDDEN","HIDDEN","HIDDEN"]
[null,{"$f":"IF(F90=\"X\",MAX(B$14:B89)+1,IF(H90=\"X\",MAX(B$14:B89)+1,0))","v":0},229,{"$f":"HLOOKUP(C90,Controls!$C$1:$KN$2,2,FALSE)","v":" -"},"HIDDEN",{"$f":"HLOOKUP(C90,Links!$DE$3:$GZ$599,597,FALSE)","v":""},"HIDDEN"," ","HIDDEN","*Plan Foreman*",0,"HIDDEN",null,"None Specified","NO HAZARD ADDED","NO","NO","HIDDEN","HIDDEN","HIDDEN","HIDDEN","HIDDEN","HIDDEN"]
[null,{"$f":"IF(F91=\"X\",MAX(B$14:B90)+1,IF(H91=\"X\",MAX(B$14:B90)+1,0))","v":0},232,{"$f":"HLOOKUP(C91,Controls!$C$1:$KN$2,2,FALSE)","v":" -"},"HIDDEN",{"$f":"HLOOKUP(C91,Links!$DE$3:$GZ$599,597,FALSE)","v":""},"HIDDEN"," ","HIDDEN","*Plan Foreman*",0,"HIDDEN",null,"None Specified","NO HAZARD ADDED","NO","NO","HIDDEN","HIDDEN","HIDDEN","HIDDEN","HIDDEN","HIDDEN"]
[null,{"$f":"IF(F92=\"X\",MAX(B$14:B91)+1,IF(H92=\"X\",MAX(B$14:B91)+1,0))","v":0},235,{"$f":"HLOOKUP(C92,Controls!$C$1:$KN$2,2,FALSE)","v":" -"},"HIDDEN",{"$f":"HLOOKUP(C92,Links!$DE$3:$GZ$599,597,FALSE)","v":""},"HIDDEN"," ","HIDDEN","*Plan Foreman*",0,"HIDDEN",null,"None Specified","NO HAZARD ADDED","NO","NO","HIDDEN","HIDDEN","HIDDEN","HIDDEN","HIDDEN","HIDDEN"]
[null,{"$f":"IF(F93=\"X\",MAX(B$14:B92)+1,IF(H93=\"X\",MAX(B$14:B92)+1,0))","v":0},238,{"$f":"HLOOKUP(C93,Controls!$C$1:$KN$2,2,FALSE)","v":" -"},"HIDDEN",{"$f":"HLOOKUP(C93,Links!$DE$3:$GZ$599,597,FALSE)","v":""},"HIDDEN"," ","HIDDEN","*Plan Foreman*",0,"HIDDEN",null,"None Specified","NO HAZARD ADDED","NO","NO","HIDDEN","HIDDEN","HIDDEN","HIDDEN","HIDDEN","HIDDEN"]
[null,{"$f":"IF(F94=\"X\",MAX(B$14:B93)+1,IF(H94=\"X\",MAX(B$14:B93)+1,0))","v":0},241,{"$f":"HLOOKUP(C94,Controls!$C$1:$KN$2,2,FALSE)","v":" -"},"HIDDEN",{"$f":"HLOOKUP(C94,Links!$DE$3:$GZ$599,597,FALSE)","v":""},"HIDDEN"," ","HIDDEN","*Plan Foreman*",0,"HIDDEN",null,"None Specified","NO HAZARD ADDED","NO","NO","HIDDEN","HIDDEN","HIDDEN","HIDDEN","HIDDEN","HIDDEN"]
[null,{"$f":"IF(F95=\"X\",MAX(B$14:B94)+1,IF(H95=\"X\",MAX(B$14:B94)+1,0))","v":0},244,{"$f":"HLOOKUP(C95,Controls!$C$1:$KN$2,2,FALSE)","v":" -"},"HIDDEN",{"$f":"HLOOKUP(C95,Links!$DE$3:$GZ$599,597,FALSE)","v":""},"HIDDEN"," ","HIDDEN","*Plan Foreman*",0,"HIDDEN",null,"None Specified","NO HAZARD ADDED","NO","NO","HIDDEN","HIDDEN","HIDDEN","HIDDEN","HIDDEN","HIDDEN"]
[null,{"$f":"IF(F96=\"X\",MAX(B$14:B95)+1,IF(H96=\"X\",MAX(B$14:B95)+1,0))","v":0},247,{"$f":"HLOOKUP(C96,Controls!$C$1:$KN$2,2,FALSE)","v":" -"},"HIDDEN",{"$f":"HLOOKUP(C96,Links!$DE$3:$GZ$599,597,FALSE)","v":""},"HIDDEN"," ","HIDDEN","*Plan Foreman*",0,"HIDDEN",null,"None Specified","NO HAZARD ADDED","NO","NO","HIDDEN","HIDDEN","HIDDEN","HIDDEN","HIDDEN","HIDDEN"]
[null,{"$f":"IF(F97=\"X\",MAX(B$14:B96)+1,IF(H97=\"X\",MAX(B$14:B96)+1,0))","v":0},250,{"$f":"HLOOKUP(C97,Controls!$C$1:$KN$2,2,FALSE)","v":" -"},"HIDDEN",{"$f":"HLOOKUP(C97,Links!$DE$3:$GZ$599,597,FALSE)","v":""},"HIDDEN"," ","HIDDEN","*Plan Foreman*",0,"HIDDEN",null,"None Specified","NO HAZARD ADDED","NO","NO","HIDDEN","HIDDEN","HIDDEN","HIDDEN","HIDDEN","HIDDEN"]
[null,{"$f":"IF(F98=\"X\",MAX(B$14:B97)+1,IF(H98=\"X\",MAX(B$14:B97)+1,0))","v":0},253,{"$f":"HLOOKUP(C98,Controls!$C$1:$KN$2,2,FALSE)","v":" -"},"HIDDEN",{"$f":"HLOOKUP(C98,Links!$DE$3:$GZ$599,597,FALSE)","v":""},"HIDDEN"," ","HIDDEN","*Plan Foreman*",0,"HIDDEN",null,"None Specified","NO HAZARD ADDED","NO","NO","HIDDEN","HIDDEN","HIDDEN","HIDDEN","HIDDEN","HIDDEN"]
[null,{"$f":"IF(F99=\"X\",MAX(B$14:B98)+1,IF(H99=\"X\",MAX(B$14:B98)+1,0))","v":0},256,{"$f":"HLOOKUP(C99,Controls!$C$1:$KN$2,2,FALSE)","v":" -"},"HIDDEN",{"$f":"HLOOKUP(C99,Links!$DE$3:$GZ$599,597,FALSE)","v":""},"HIDDEN"," ","HIDDEN","*Plan Foreman*",0,"HIDDEN",null,"None Specified","NO HAZARD ADDED","NO","NO","HIDDEN","HIDDEN","HIDDEN","HIDDEN","HIDDEN","HIDDEN"]
[null,{"$f":"IF(F100=\"X\",MAX(B$14:B99)+1,IF(H100=\"X\",MAX(B$14:B99)+1,0))","v":0},259,{"$f":"HLOOKUP(C100,Controls!$C$1:$KN$2,2,FALSE)","v":" -"},"HIDDEN",{"$f":"HLOOKUP(C100,Links!$DE$3:$GZ$599,597,FALSE)","v":""},"HIDDEN"," ","HIDDEN","*Plan Foreman*",0,"HIDDEN",null,"None Specified","NO HAZARD ADDED","NO","NO","HIDDEN","HIDDEN","HIDDEN","HIDDEN","HIDDEN","HIDDEN"]
[null,{"$f":"IF(F101=\"X\",MAX(B$14:B100)+1,IF(H101=\"X\",MAX(B$14:B100)+1,0))","v":0},262,{"$f":"HLOOKUP(C101,Controls!$C$1:$KN$2,2,FALSE)","v":" -"},"HIDDEN",{"$f":"HLOOKUP(C101,Links!$DE$3:$GZ$599,597,FALSE)","v":""},"HIDDEN"," ","HIDDEN","*Plan Foreman*",0,"HIDDEN",null,"None Specified","NO HAZARD ADDED","NO","NO","HIDDEN","HIDDEN","HIDDEN","HIDDEN","HIDDEN","HIDDEN"]
[null,{"$f":"IF(F102=\"X\",MAX(B$14:B101)+1,IF(H102=\"X\",MAX(B$14:B101)+1,0))","v":0},265,{"$f":"HLOOKUP(C102,Controls!$C$1:$KN$2,2,FALSE)","v":" -"},"HIDDEN",{"$f":"HLOOKUP(C102,Links!$DE$3:$GZ$599,597,FALSE)","v":""},"HIDDEN"," ","HIDDEN","*Plan Foreman*",0,"HIDDEN",null,"None Specified","NO HAZARD ADDED","NO","NO","HIDDEN","HIDDEN","HIDDEN","HIDDEN","HIDDEN","HIDDEN"]
[null,{"$f":"IF(F103=\"X\",MAX(B$14:B102)+1,IF(H103=\"X\",MAX(B$14:B102)+1,0))","v":0},268,{"$f":"HLOOKUP(C103,Controls!$C$1:$KN$2,2,FALSE)","v":" -"},"HIDDEN",{"$f":"HLOOKUP(C103,Links!$DE$3:$GZ$599,597,FALSE)","v":""},"HIDDEN"," ","HIDDEN","*Plan Foreman*",0,"HIDDEN",null,"None Specified","NO HAZARD ADDED","NO","NO","HIDDEN","HIDDEN","HIDDEN","HIDDEN","HIDDEN","HIDDEN"]
[null,{"$f":"IF(F104=\"X\",MAX(B$14:B103)+1,IF(H104=\"X\",MAX(B$14:B103)+1,0))","v":0},271,{"$f":"HLOOKUP(C104,Controls!$C$1:$KN$2,2,FALSE)","v":" -"},"HIDDEN",{"$f":"HLOOKUP(C104,Links!$DE$3:$GZ$599,597,FALSE)","v":""},"HIDDEN"," ","HIDDEN","*Plan Foreman*",0,"HIDDEN",null,"None Specified","NO HAZARD ADDED","NO","NO","HIDDEN","HIDDEN","HIDDEN","HIDDEN","HIDDEN","HIDDEN"]
[null,{"$f":"IF(F105=\"X\",MAX(B$14:B104)+1,IF(H105=\"X\",MAX(B$14:B104)+1,0))","v":0},274,{"$f":"HLOOKUP(C105,Controls!$C$1:$KN$2,2,FALSE)","v":" -"},"HIDDEN",{"$f":"HLOOKUP(C105,Links!$DE$3:$GZ$599,597,FALSE)","v":""},"HIDDEN"," ","HIDDEN","*Plan Foreman*",0,"HIDDEN",null,"None Specified","NO HAZARD ADDED","NO","NO","HIDDEN","HIDDEN","HIDDEN","HIDDEN","HIDDEN","HIDDEN"]
[null,{"$f":"IF(F106=\"X\",MAX(B$14:B105)+1,IF(H106=\"X\",MAX(B$14:B105)+1,0))","v":0},277,{"$f":"HLOOKUP(C106,Controls!$C$1:$KN$2,2,FALSE)","v":" -"},"HIDDEN",{"$f":"HLOOKUP(C106,Links!$DE$3:$GZ$599,597,FALSE)","v":""},"HIDDEN"," ","HIDDEN","*Plan Foreman*",0,"HIDDEN",null,"None Specified","NO HAZARD ADDED","NO","NO","HIDDEN","HIDDEN","HIDDEN","HIDDEN","HIDDEN","HIDDEN"]
[null,{"$f":"IF(F107=\"X\",MAX(B$14:B106)+1,IF(H107=\"X\",MAX(B$14:B106)+1,0))","v":0},280,{"$f":"HLOOKUP(C107,Controls!$C$1:$KN$2,2,FALSE)","v":" -"},"HIDDEN",{"$f":"HLOOKUP(C107,Links!$DE$3:$GZ$599,597,FALSE)","v":""},"HIDDEN"," ","HIDDEN","*Plan Foreman*",0,"HIDDEN",null,"None Specified","NO HAZARD ADDED","NO","NO","HIDDEN","HIDDEN","HIDDEN","HIDDEN","HIDDEN","HIDDEN"]
[null,{"$f":"IF(F108=\"X\",MAX(B$14:B107)+1,IF(H108=\"X\",MAX(B$14:B107)+1,0))","v":0},283,{"$f":"HLOOKUP(C108,Controls!$C$1:$KN$2,2,FALSE)","v":" -"},"HIDDEN",{"$f":"HLOOKUP(C108,Links!$DE$3:$GZ$599,597,FALSE)","v":""},"HIDDEN"," ","HIDDEN","*Plan Foreman*",0,"HIDDEN",null,"None Specified","NO HAZARD ADDED","NO","NO","HIDDEN","HIDDEN","HIDDEN","HIDDEN","HIDDEN","HIDDEN"]
[null,{"$f":"IF(F109=\"X\",MAX(B$14:B108)+1,IF(H109=\"X\",MAX(B$14:B108)+1,0))","v":0},286,{"$f":"HLOOKUP(C109,Controls!$C$1:$KN$2,2,FALSE)","v":" -"},"HIDDEN",{"$f":"HLOOKUP(C109,Links!$DE$3:$GZ$599,597,FALSE)","v":""},"HIDDEN"," ","HIDDEN","*Plan Foreman*",0,"HIDDEN",null,"None Specified","NO HAZARD ADDED","NO","NO","HIDDEN","HIDDEN","HIDDEN","HIDDEN","HIDDEN","HIDDEN"]
[null,{"$f":"IF(F110=\"X\",MAX(B$14:B109)+1,IF(H110=\"X\",MAX(B$14:B109)+1,0))","v":0},289,{"$f":"HLOOKUP(C110,Controls!$C$1:$KN$2,2,FALSE)","v":" -"},"HIDDEN",{"$f":"HLOOKUP(C110,Links!$DE$3:$GZ$599,597,FALSE)","v":""},"HIDDEN"," ","HIDDEN","*Plan Foreman*",{"$f":"IF(J110=\"*Plan Foreman*\",Foreman_selected,J110)","v":0},"HIDDEN",null,{"$f":"IF(M110=0,\"None Specified\",IF(M110=\"*Plan Foreman*\",Foreman_selected,M110))","v":"None Specified"},"NO HAZARD ADDED",{"$f":"IF(O110=\"NO HAZARD ADDED\",\"NO\",E110)","v":"NO"},"NO","HIDDEN","HIDDEN","HIDDEN","HIDDEN","HIDDEN","HIDDEN"]
[null,{"$f":"IF(F111=\"X\",MAX(B$14:B110)+1,IF(H111=\"X\",MAX(B$14:B110)+1,0))","v":0},292,{"$f":"HLOOKUP(C111,Controls!$C$1:$KN$2,2,FALSE)","v":" -"},"HIDDEN",{"$f":"HLOOKUP(C111,Links!$DE$3:$GZ$599,597,FALSE)","v":""},"HIDDEN"," ","HIDDEN","*Plan Foreman*",{"$f":"IF(J111=\"*Plan Foreman*\",Foreman_selected,J111)","v":0},"HIDDEN",null,{"$f":"IF(M111=0,\"None Specified\",IF(M111=\"*Plan Foreman*\",Foreman_selected,M111))","v":"None Specified"},"NO HAZARD ADDED",{"$f":"IF(O111=\"NO HAZARD ADDED\",\"NO\",E111)","v":"NO"},"NO","HIDDEN","HIDDEN","HIDDEN","HIDDEN","HIDDEN","HIDDEN"]
[null,{"$f":"IF(F112=\"X\",MAX(B$14:B111)+1,IF(H112=\"X\",MAX(B$14:B111)+1,0))","v":0},295,{"$f":"HLOOKUP(C112,Controls!$C$1:$KN$2,2,FALSE)","v":" -"},"HIDDEN",{"$f":"HLOOKUP(C112,Links!$DE$3:$GZ$599,597,FALSE)","v":""},"HIDDEN"," ","HIDDEN","*Plan Foreman*",{"$f":"IF(J112=\"*Plan Foreman*\",Foreman_selected,J112)","v":0},"HIDDEN",null,{"$f":"IF(M112=0,\"None Specified\",IF(M112=\"*Plan Foreman*\",Foreman_selected,M112))","v":"None Specified"},"NO HAZARD ADDED",{"$f":"IF(O112=\"NO HAZARD ADDED\",\"NO\",E112)","v":"NO"},"NO","HIDDEN","HIDDEN","HIDDEN","HIDDEN","HIDDEN","HIDDEN"]
[null,{"$f":"IF(F113=\"X\",MAX(B$14:B112)+1,IF(H113=\"X\",MAX(B$14:B112)+1,0))","v":0},298,{"$f":"HLOOKUP(C113,Controls!$C$1:$KN$2,2,FALSE)","v":" -"},"HIDDEN",{"$f":"HLOOKUP(C113,Links!$DE$3:$GZ$599,597,FALSE)","v":""},"HIDDEN"," ","HIDDEN","*Plan Foreman*",{"$f":"IF(J113=\"*Plan Foreman*\",Foreman_selected,J113)","v":0},"HIDDEN",null,{"$f":"IF(M113=0,\"None Specified\",IF(M113=\"*Plan Foreman*\",Foreman_selected,M113))","v":"None Specified"},"NO HAZARD ADDED",{"$f":"IF(O113=\"NO HAZARD ADDED\",\"NO\",E113)","v":"NO"},"NO","HIDDEN","HIDDEN","HIDDEN","HIDDEN","HIDDEN","HIDDEN"]
[null,null,null,"If you have added more Hazards on the Controls tab than will display above, then email your file to the person listed on the Start Here tab.  That person can unhide the number of rows needed.  "]
[]
[null,"Plan #","Overall #","Environmental Aspect",null,"Triggered",null,"Additional",null,null,null,null,null,null,null,null,null,null,null,null,null,null,null,"Objective","Target","Method"]
[null,{"$f":"IF(F117=\"X\",1,IF(H117=\"X\",1,0))","v":0},1,{"$f":"'1'!C65","v":"Archaeological, Cultural and Historic"},"HIDDEN",{"$f":"IF(HLOOKUP(C117,Links!$HX$3:$IQ$579,577,FALSE)=0,\"\",\"X\")","v":""},"HIDDEN"," ","HIDDEN","HIDDEN",null,"HIDDEN","HIDDEN",null,{"$f":"IF(F117=\"X\",D117,IF(H117=\"X\",D117,\"NO HAZARD ADDED\"))","v":"NO HAZARD ADDED"},{"$f":"IF(O117=\"NO HAZARD ADDED\",\"NO\",E117)","v":"NO"},{"$f":"IF(O117=\"NO HAZARD ADDED\",\"NO\",F117)","v":"NO"},"HIDDEN","HIDDEN","HIDDEN","HIDDEN","HIDDEN","HIDDEN",{"$f":"Envir_Aspect_1_Objective","v":"To prevent any negative impacts to and preserve all significant Archaeological, Cultural, and Historical sensitive areas on our projects while conducting construction-related activities"},{"$f":"Envir_Aspect_1_Target","v":"To have zero incidents involving all existing archaeological, cultural and historcal aspects of the project."},{"$f":"Envir_Aspect_1_MethodtoAchieve","v":"Create project-specific  Archaeological, Cultural and Historic TBT to communicate awareness to staff on a quarterly basis ."}]
[null,{"$f":"IF(F118=\"X\",MAX(B$117:B117)+1,IF(H118=\"X\",MAX(B$117:B117)+1,0))","v":0},{"$f":"C117+1","v":2},{"$f":"'1'!C77","v":"Community Impacts:  Transportation, Traffic Circulation & Economic"},"HIDDEN",{"$f":"IF(HLOOKUP(C118,Links!$HX$3:$IQ$579,577,FALSE)=0,\"\",\"X\")","v":""},"HIDDEN"," ","HIDDEN","HIDDEN",null,"HIDDEN","HIDDEN",null,"NO HAZARD ADDED","NO","NO","HIDDEN","HIDDEN","HIDDEN","HIDDEN","HIDDEN","HIDDEN",{"$f":"Envir_Aspect_2_Objective","v":"To ensure that we perform the necessary evaluation of construction-related activities in order to develop programs that will mitigate negative impacts to the local transportation systems, traffic patterns and the economic viability of the communities where we build"},{"$f":"Envir_Aspect_2_Target","v":"To have zero vehicle / equipment/pedestrian incidents as a result of our MPT throughout the Port Authority property and neighboring community streets."},{"$f":"Envir_Aspect_2_MethodtoAchieve","v":"Create project-specific Transportation, Traffic Circulation and Economic TBT to communicate awareness to staff on a quarterly basis. Track and investigate each community complaint related to  Transportation, Traffic Circulation and Economic impacts."}]
[null,{"$f":"IF(F119=\"X\",MAX(B$117:B118)+1,IF(H119=\"X\",MAX(B$117:B118)+1,0))","v":0},3,{"$f":"'1'!C89","v":"Community Impacts:  Utilities"},"HIDDEN",{"$f":"IF(HLOOKUP(C119,Links!$HX$3:$IQ$579,577,FALSE)=0,\"\",\"X\")","v":""},"HIDDEN"," ","HIDDEN","HIDDEN",null,"HIDDEN","HIDDEN",null,"NO HAZARD ADDED","NO","NO","HIDDEN","HIDDEN","HIDDEN","HIDDEN","HIDDEN","HIDDEN",{"$f":"Envir_Aspect_3_Objective","v":"To ensure that we perform the necessary evaluation of construction-related activities in order to develop programs that will mitigate negative impacts to utility services, (e.g., water, power, sewage and fiber optics) and disruptions to the community throughout the duration of the project"},{"$f":"Envir_Aspect_3_Target","v":"To have zero incidents involving utitlities related to our construction activities."},{"$f":"Envir_Aspect_3_MethodtoAchieve","v":"Create project-specific Utilities TBT to communicate awareness to staff on a quarterly basis. Require completion of “Dig Permit” prior to the start of each discrete excavation."}]
[null,{"$f":"IF(F120=\"X\",MAX(B$117:B119)+1,IF(H120=\"X\",MAX(B$117:B119)+1,0))","v":0},4,{"$f":"'1'!C101","v":"Dewatering"},"HIDDEN",{"$f":"IF(HLOOKUP(C120,Links!$HX$3:$IQ$579,577,FALSE)=0,\"\",\"X\")","v":""},"HIDDEN"," ","HIDDEN","HIDDEN",null,"HIDDEN","HIDDEN",null,"NO HAZARD ADDED","NO","NO","HIDDEN","HIDDEN","HIDDEN","HIDDEN","HIDDEN","HIDDEN",{"$f":"Envir_Aspect_4_Objective","v":"To ensure that we perform the necessary evaluation of construction-related activities and identify where discharge  from existing dewatering operations can be utilized for site dust control or similar needs throughout the duration of the project. In addition to reducing the amount of water discharged directly/indirectly into waters of the United States as a result of our work"},{"$f":"Envir_Aspect_4_Target","v":"Discharge water within the required limits as specified on our dewatering permit. "},{"$f":"Envir_Aspect_4_MethodtoAchieve","v":"Create project-specific stormwater and dewatering TBT to communicate awareness to staff on a quarterly basis. Maintain temporary controls to prevent construction related runoff from entering storm sewer inlets & water courses."}]
[null,{"$f":"IF(F121=\"X\",MAX(B$117:B120)+1,IF(H121=\"X\",MAX(B$117:B120)+1,0))","v":0},5,{"$f":"'1'!C113","v":"Flora, Fauna and Habitat Areas (Wetlands)"},"HIDDEN",{"$f":"IF(HLOOKUP(C121,Links!$HX$3:$IQ$579,577,FALSE)=0,\"\",\"X\")","v":""},"HIDDEN"," ","HIDDEN","HIDDEN",null,"HIDDEN","HIDDEN",null,"NO HAZARD ADDED","NO","NO","HIDDEN","HIDDEN","HIDDEN","HIDDEN","HIDDEN","HIDDEN",{"$f":"Envir_Aspect_5_Objective","v":"To ensure that we perform the necessary evaluation of construction-related activities that have the potential to negatively impact wetland areas, plant and animal species and the habitats in which they exist on our projects"},{"$f":"Envir_Aspect_5_Target","v":"To have zero negative impacts on animal/plant life or wetlands related to our work operations.  "},{"$f":"Envir_Aspect_5_MethodtoAchieve","v":"Perform pre-construction surveys to determine if plant, animal or wetlands have the potential to be effected by our operations. If so, mitigate the risk thru engineering controls."}]
[null,{"$f":"IF(F122=\"X\",MAX(B$117:B121)+1,IF(H122=\"X\",MAX(B$117:B121)+1,0))","v":0},6,{"$f":"'1'!C125","v":"Hazardous Materials and Waste Management"},"HIDDEN",{"$f":"IF(HLOOKUP(C122,Links!$HX$3:$IQ$579,577,FALSE)=0,\"\",\"X\")","v":""},"HIDDEN"," ","HIDDEN","HIDDEN",null,"HIDDEN","HIDDEN",null,"NO HAZARD ADDED","NO","NO","HIDDEN","HIDDEN","HIDDEN","HIDDEN","HIDDEN","HIDDEN",{"$f":"Envir_Aspect_6_Objective","v":"To ensure that we perform the necessary assessment of construction-related activities and institute work practices that minimizes the amount of hazardous materials used or hazardous waste generated on our projects. This includes specific programs that address the proper storage, handling and disposing of materials/waste that when not addressed may negatively impact the environment. "},{"$f":"Envir_Aspect_6_Target","v":"To reduce the amount of Hazardous waste generated on our projects by 5% annually and to properly store hazardous chemicals in double containment; to promptly clean up spills and manage resultant waste as per applicable regulation"},{"$f":"Envir_Aspect_6_MethodtoAchieve","v":"Always strive to find environmentally friendly alternatives for hazardous chemicals. Conduct daily visual inspections of all hazardous material and waste management storage and disposal areas"}]
[null,{"$f":"IF(F123=\"X\",MAX(B$117:B122)+1,IF(H123=\"X\",MAX(B$117:B122)+1,0))","v":0},7,{"$f":"'1'!C137","v":"Indoor Air Quality"},"HIDDEN",{"$f":"IF(HLOOKUP(C123,Links!$HX$3:$IQ$579,577,FALSE)=0,\"\",\"X\")","v":""},"HIDDEN"," ","HIDDEN","HIDDEN",null,"HIDDEN","HIDDEN",null,"NO HAZARD ADDED","NO","NO","HIDDEN","HIDDEN","HIDDEN","HIDDEN","HIDDEN","HIDDEN",{"$f":"Envir_Aspect_7_Objective","v":"To perform the necessary assessment of construction-related activities and ensure that measures are implemented to preserve indoor environmental air quality during construction and into occupancy phase. Measures will be of proper magnitude to ensure that  workers, adjacent contractors and members of the public are not exposed to airborne contaminants as a result of construction."},{"$f":"Envir_Aspect_7_Target","v":"Establish a Construction IAQ monitoring schedule for construction operations which have the ability to impact indoor air quality. Verify conformance to the IAQ monitoring schedule."},{"$f":"Envir_Aspect_7_MethodtoAchieve","v":"Maintain IAQ Monitoring Tracking Log. Always notify the owner when an operation has the potential to effect indoor air quality so appropriate engineering/admininstrative controls can be put in place prior to the commencement of work."}]
[null,{"$f":"IF(F124=\"X\",MAX(B$117:B123)+1,IF(H124=\"X\",MAX(B$117:B123)+1,0))","v":0},8,{"$f":"'1'!C149","v":"Materials and Waste Management"},"HIDDEN",{"$f":"IF(HLOOKUP(C124,Links!$HX$3:$IQ$579,577,FALSE)=0,\"\",\"X\")","v":""},"HIDDEN"," ","HIDDEN","HIDDEN",null,"HIDDEN","HIDDEN",null,"NO HAZARD ADDED","NO","NO","HIDDEN","HIDDEN","HIDDEN","HIDDEN","HIDDEN","HIDDEN",{"$f":"Envir_Aspect_8_Objective","v":"To assess construction-related activities for the potential to reduce the upfront demand on materials placed into our projects and minimize the amount of solid waste generated on site through our activities. The reuse of materials will be evaluated and where reuse is not feasible it is intended that all waste materials that can be diverted from landfills will be."},{"$f":"Envir_Aspect_8_Target","v":"Achieve greater than 98% waste diversion from landfills."},{"$f":"Envir_Aspect_8_MethodtoAchieve","v":"Set up separate solid waste containers for construction debris, concrete, soil, metal etc. Designated Debris Material Assessment Tracking Log will be maintained to monitor the target."}]
[null,{"$f":"IF(F125=\"X\",MAX(B$117:B124)+1,IF(H125=\"X\",MAX(B$117:B124)+1,0))","v":0},9,{"$f":"'1'!C161","v":"Noise and Vibration"},"HIDDEN",{"$f":"IF(HLOOKUP(C125,Links!$HX$3:$IQ$579,577,FALSE)=0,\"\",\"X\")","v":""},"HIDDEN"," ","HIDDEN","HIDDEN",null,"HIDDEN","HIDDEN",null,"NO HAZARD ADDED","NO","NO","HIDDEN","HIDDEN","HIDDEN","HIDDEN","HIDDEN","HIDDEN",{"$f":"Envir_Aspect_9_Objective","v":"To ensure all construction-related activities that have the potential to generate noise or vibration that may affect surrounding habitat areas or communities are properly planned for and controls are implemented to mitigate any negative impacts"},{"$f":"Envir_Aspect_9_Target","v":"Track and investigate each community complaint related to Noise and/or Vibration impacts."},{"$f":"Envir_Aspect_9_MethodtoAchieve","v":"Monitor and measure noise and vibration created by construction activities to ensure we are in compliance with all contract, local, state and federal laws."}]
[null,{"$f":"IF(F126=\"X\",MAX(B$117:B125)+1,IF(H126=\"X\",MAX(B$117:B125)+1,0))","v":0},10,{"$f":"'1'!C173","v":"Outdoor Air Quality"},"HIDDEN",{"$f":"IF(HLOOKUP(C126,Links!$HX$3:$IQ$579,577,FALSE)=0,\"\",\"X\")","v":""},"HIDDEN"," ","HIDDEN","HIDDEN",null,"HIDDEN","HIDDEN",null,"NO HAZARD ADDED","NO","NO","HIDDEN","HIDDEN","HIDDEN","HIDDEN","HIDDEN","HIDDEN",{"$f":"Envir_Aspect_10_Objective","v":"To ensure our construction activities do not negatively affect the quality of air in the surrounding communities, the environment, and workers or adjacent contractors where we build or projects through effective programs and procedures"},{"$f":"Envir_Aspect_10_Target","v":"Track 100% of non-road diesel powered equipment to ensure equipment is equipped with Best Available Technology (BAT) for controlling air emissions (where required)"},{"$f":"Envir_Aspect_10_MethodtoAchieve","v":"Maintain Diesel Powered Equipment Tracking Log. Communicate requirements to all jobsite personnel."}]
[null,{"$f":"IF(F127=\"X\",MAX(B$117:B126)+1,IF(H127=\"X\",MAX(B$117:B126)+1,0))","v":0},11,{"$f":"'1'!C185","v":"Potential & Unforeseen Upset Conditions (Spills / Leaks)"},"HIDDEN",{"$f":"IF(HLOOKUP(C127,Links!$HX$3:$IQ$579,577,FALSE)=0,\"\",\"X\")","v":""},"HIDDEN"," ","HIDDEN","HIDDEN",null,"HIDDEN","HIDDEN",null,"NO HAZARD ADDED","NO","NO","HIDDEN","HIDDEN","HIDDEN","HIDDEN","HIDDEN","HIDDEN",{"$f":"Envir_Aspect_11_Objective","v":"To exercise caution when utilizing hazardous and non-hazardous material substances in our operations which has the potential to cause a negative environmental impact when released on land, into the atmosphere or in the water"},{"$f":"Envir_Aspect_11_Target","v":"To have zero negative environmental impacts related to our construction operations."},{"$f":"Envir_Aspect_11_MethodtoAchieve","v":"Complete pre-shift equipment inspections for non-road equipment as part of our equipment maintenance program. Always use secondary containment for the storage of hazardous and non-hazardous substances. Provide/maintain spill kits around the jobsite and train employees in spill response."}]
[null,{"$f":"IF(F128=\"X\",MAX(B$117:B127)+1,IF(H128=\"X\",MAX(B$117:B127)+1,0))","v":0},12,{"$f":"'1'!C197","v":"Soil Erosion and Sediment Control"},"HIDDEN",{"$f":"IF(HLOOKUP(C128,Links!$HX$3:$IQ$579,577,FALSE)=0,\"\",\"X\")","v":""},"HIDDEN"," ","HIDDEN","HIDDEN",null,"HIDDEN","HIDDEN",null,"NO HAZARD ADDED","NO","NO","HIDDEN","HIDDEN","HIDDEN","HIDDEN","HIDDEN","HIDDEN",{"$f":"Envir_Aspect_12_Objective","v":"To implement best-management practices on our sites to minimize the amount of sediment from surface water run-off into sensitive receptors which cause the destruction of habitats or enter waterways and sewer systems"},{"$f":"Envir_Aspect_12_Target","v":"To comply with all local and state requirements as well as implement our best management practices to reduce sediment run off."},{"$f":"Envir_Aspect_12_MethodtoAchieve","v":"Perform Weekly SWWP compliance wakthrus when effecting areas less the 5 acres and perform two walkthrus a week when effecting over 5 acres."}]
[null,{"$f":"IF(F129=\"X\",MAX(B$117:B128)+1,IF(H129=\"X\",MAX(B$117:B128)+1,0))","v":0},13,{"$f":"'1'!C209","v":"-"},"HIDDEN",{"$f":"IF(HLOOKUP(C129,Links!$HX$3:$IQ$579,577,FALSE)=0,\"\",\"X\")","v":""},"HIDDEN"," ","HIDDEN","HIDDEN",null,"HIDDEN","HIDDEN",null,"NO HAZARD ADDED","NO","NO","HIDDEN","HIDDEN","HIDDEN","HIDDEN","HIDDEN","HIDDEN",{"$f":"Envir_Aspect_13_Objective","v":"-"},{"$f":"Envir_Aspect_13_Target","v":"-"},{"$f":"Envir_Aspect_13_MethodtoAchieve","v":"-"}]
[null,{"$f":"IF(F130=\"X\",MAX(B$117:B129)+1,IF(H130=\"X\",MAX(B$117:B129)+1,0))","v":0},14,{"$f":"'1'!C221","v":"-"},"HIDDEN",{"$f":"IF(HLOOKUP(C130,Links!$HX$3:$IQ$579,577,FALSE)=0,\"\",\"X\")","v":""},"HIDDEN"," ","HIDDEN","HIDDEN",null,"HIDDEN","HIDDEN",null,"NO HAZARD ADDED","NO","NO","HIDDEN","HIDDEN","HIDDEN","HIDDEN","HIDDEN","HIDDEN",{"$f":"Envir_Aspect_14_Objective","v":"-"},{"$f":"Envir_Aspect_14_Target","v":"-"},{"$f":"Envir_Aspect_14_MethodtoAchieve","v":"-"}]
[null,{"$f":"IF(F131=\"X\",MAX(B$117:B130)+1,IF(H131=\"X\",MAX(B$117:B130)+1,0))","v":0},15,{"$f":"'1'!C233","v":"-"},"HIDDEN",{"$f":"IF(HLOOKUP(C131,Links!$HX$3:$IQ$579,577,FALSE)=0,\"\",\"X\")","v":""},"HIDDEN"," ","HIDDEN","HIDDEN",null,"HIDDEN","HIDDEN",null,"NO HAZARD ADDED","NO","NO","HIDDEN","HIDDEN","HIDDEN","HIDDEN","HIDDEN","HIDDEN",{"$f":"Envir_Aspect_15_Objective","v":"-"},{"$f":"Envir_Aspect_15_Target","v":"-"},{"$f":"Envir_Aspect_15_MethodtoAchieve","v":"-"}]
[null,{"$f":"IF(F132=\"X\",MAX(B$117:B131)+1,IF(H132=\"X\",MAX(B$117:B131)+1,0))","v":0},16,{"$f":"'1'!C245","v":"-"},"HIDDEN",{"$f":"IF(HLOOKUP(C132,Links!$HX$3:$IQ$579,577,FALSE)=0,\"\",\"X\")","v":""},"HIDDEN"," ","HIDDEN","HIDDEN",null,"HIDDEN","HIDDEN",null,"NO HAZARD ADDED","NO","NO","HIDDEN","HIDDEN","HIDDEN","HIDDEN","HIDDEN","HIDDEN",{"$f":"Envir_Aspect_16_Objective","v":"-"},{"$f":"Envir_Aspect_16_Target","v":"-"},{"$f":"Envir_Aspect_16_MethodtoAchieve","v":"-"}]
[null,{"$f":"IF(F133=\"X\",MAX(B$117:B132)+1,IF(H133=\"X\",MAX(B$117:B132)+1,0))","v":0},17,{"$f":"'1'!C257","v":"-"},"HIDDEN",{"$f":"IF(HLOOKUP(C133,Links!$HX$3:$IQ$579,577,FALSE)=0,\"\",\"X\")","v":""},"HIDDEN"," ","HIDDEN","HIDDEN",null,"HIDDEN","HIDDEN",null,"NO HAZARD ADDED","NO","NO","HIDDEN","HIDDEN","HIDDEN","HIDDEN","HIDDEN","HIDDEN",{"$f":"Envir_Aspect_17_Objective","v":"-"},{"$f":"Envir_Aspect_17_Target","v":"-"},{"$f":"Envir_Aspect_17_MethodtoAchieve","v":"-"}]
[null,{"$f":"IF(F134=\"X\",MAX(B$117:B133)+1,IF(H134=\"X\",MAX(B$117:B133)+1,0))","v":0},18,{"$f":"'1'!C269","v":"-"},"HIDDEN",{"$f":"IF(HLOOKUP(C134,Links!$HX$3:$IQ$579,577,FALSE)=0,\"\",\"X\")","v":""},"HIDDEN"," ","HIDDEN","HIDDEN",null,"HIDDEN","HIDDEN",null,"NO HAZARD ADDED","NO","NO","HIDDEN","HIDDEN","HIDDEN","HIDDEN","HIDDEN","HIDDEN",{"$f":"Envir_Aspect_18_Objective","v":"-"},{"$f":"Envir_Aspect_18_Target","v":"-"},{"$f":"Envir_Aspect_18_MethodtoAchieve","v":"-"}]
[null,{"$f":"IF(F135=\"X\",MAX(B$117:B134)+1,IF(H135=\"X\",MAX(B$117:B134)+1,0))","v":0},19,{"$f":"'1'!C281","v":"-"},"HIDDEN",{"$f":"IF(HLOOKUP(C135,Links!$HX$3:$IQ$579,577,FALSE)=0,\"\",\"X\")","v":""},"HIDDEN"," ","HIDDEN","HIDDEN",null,"HIDDEN","HIDDEN",null,"NO HAZARD ADDED","NO","NO","HIDDEN","HIDDEN","HIDDEN","HIDDEN","HIDDEN","HIDDEN",{"$f":"Envir_Aspect_19_Objective","v":"-"},{"$f":"Envir_Aspect_19_Target","v":"-"},{"$f":"Envir_Aspect_19_MethodtoAchieve","v":"-"}]
[null,{"$f":"IF(F136=\"X\",MAX(B$117:B135)+1,IF(H136=\"X\",MAX(B$117:B135)+1,0))","v":0},20,{"$f":"'1'!C293","v":"-"},"HIDDEN",{"$f":"IF(HLOOKUP(C136,Links!$HX$3:$IQ$579,577,FALSE)=0,\"\",\"X\")","v":""},"HIDDEN"," ","HIDDEN","HIDDEN",null,"HIDDEN","HIDDEN",null,"NO HAZARD ADDED","NO","NO","HIDDEN","HIDDEN","HIDDEN","HIDDEN","HIDDEN","HIDDEN",{"$f":"Envir_Aspect_20_Objective","v":"-"},{"$f":"Envir_Aspect_20_Target","v":"-"},{"$f":"Envir_Aspect_20_MethodtoAchieve","v":"-"}]
[]
[null,{"$f":"MAX(B13:B112)","v":0}]
[null,{"$f":"MAX(B14:B113)","v":0},null,null,null,null,null,"X",null,"*Plan Foreman*"]
[null,"total plan hazards",null,null,null,null,null," ",null,{"$f":"Comp_Person_1","v":0}]
[null,null,null,null,null,null,null,null,null,{"$f":"Comp_Person_2","v":0}]
[null,{"$f":"MAX(B117:B136)","v":0},null,null,null,null,null,null,null,{"$f":"Comp_Person_3","v":0}]
[null,"total plan env.",null,null,null,null,null,null,null,{"$f":"Comp_Person_4","v":0}]
[null,null,null,null,null,null,null,null,null,{"$f":"Comp_Person_5","v":0}]
[null,null,null,null,null,null,null,null,null,{"$f":"Foreman_1","v":0}]
[null,null,null,null,null,null,null,null,null,{"$f":"Foreman_2","v":0}]
[null,null,null,null,null,null,null,null,null,{"$f":"Foreman_3","v":0}]
[null,null,null,null,null,null,null,null,null,{"$f":"Foreman_4","v":0}]
[null,null,null,null,null,null,null,null,null,{"$f":"Foreman_5","v":0}]
[null,null,null,null,null,null,null,null,null,{"$f":"Foreman_6","v":0}]
[null,null,null,null,null,null,null,null,null,{"$f":"Foreman_7","v":0}]
[null,null,null,null,null,null,null,null,null,{"$f":"Foreman_8","v":0}]
[null,null,null,null,null,null,null,null,null,{"$f":"Foreman_9","v":0}]
[null,null,null,null,null,null,null,null,null,{"$f":"Foreman_10","v":0}]
[null,null,null,null,null,null,null,null,null,{"$f":"Foreman_11","v":0}]
[null,null,null,null,null,null,null,null,null,{"$f":"Foreman_12","v":0}]
[null,null,null,null,null,null,null,null,null,{"$f":"Foreman_13","v":0}]
[null,null,null,null,null,null,null,null,null,{"$f":"Foreman_14","v":0}]
[null,null,null,null,null,null,null,null,null,{"$f":"Foreman_15","v":0}]
[]
[]
["End of Tab 4 / Hazards & Environmental Aspects"]

{"sheet":"Links","index":5,"n_rows":604,"n_cols":253,"rows_kept":281,"cut":true,"hidden":false,"merged":[[399,252,408,252],[429,252,438,252],[459,252,468,252],[489,252,498,252],[519,252,528,252],[549,252,558,252],[76,252,85,252],[106,252,115,252],[136,252,145,252],[166,252,175,252],[196,252,205,252],[249,252,258,252],[279,252,288,252],[309,252,318,252],[339,252,348,252],[166,1,174,1],[369,252,378,252],[325,0,329,1],[330,0,334,1],[284,0,288,1],[289,0,293,1],[294,0,299,1],[300,0,304,1],[305,0,309,1],[0,7,0,41],[0,42,0,56],[0,211,0,230],[228,0,232,1],[43,0,51,0],[188,1,191,1],[192,1,195,1],[196,1,199,1],[175,1,184,1],[55,1,66,1],[89,1,98,1],[106,1,115,1],[156,1,165,1],[124,1,133,1],[52,0,62,0],[63,0,80,0],[81,0,92,0],[93,0,108,0],[109,0,125,0],[126,0,141,0],[212,1,217,1],[23,0,32,1],[33,0,42,1],[218,0,222,1],[0,0,0,1],[1,0,1,3],[3,0,12,1],[13,0,22,1],[269,0,273,1],[274,0,278,1],[279,0,283,1],[204,0,217,0],[142,0,150,0],[156,0,164,0],[165,0,182,0],[183,0,194,0],[195,0,203,0],[200,1,203,1],[204,1,207,1],[208,1,211,1],[223,0,227,1],[43,1,54,1],[67,1,75,1],[76,1,88,1],[99,1,105,1],[116,1,123,1],[134,1,140,1],[141,1,155,1],[566,252,575,252],[6,252,15,252],[45,252,56,252],[219,252,228,252],[551,0,559,1],[560,0,568,1],[569,0,577,1],[488,0,496,1],[497,0,505,1],[416,0,424,1],[425,0,433,1],[434,0,442,1],[443,0,451,1],[452,0,460,1],[385,0,389,1],[390,0,394,1],[395,0,397,1],[398,0,406,1],[345,0,349,1],[350,0,354,1],[355,0,359,1],[310,0,314,1],[315,0,319,1],[320,0,324,1],[603,0,603,3],[233,0,237,1],[238,0,243,1],[244,0,248,1],[249,0,253,1],[254,0,258,1],[259,0,263,1],[264,0,268,1],[506,0,514,1],[515,0,523,1],[524,0,532,1],[533,0,541,1],[542,0,550,1],[461,0,469,1],[470,0,478,1],[479,0,487,1],[407,0,415,1],[360,0,364,1],[365,0,369,1],[370,0,374,1],[375,0,379,1],[380,0,384,1],[335,0,339,1],[340,0,344,1]],"bounds":{"rows_first":125,"rows_last":31,"rows_between":125,"halvings":4}}
["Links",null,"Triggers","Specific PPE",null,null,null,"Links Between Triggers & Hazards   *   Links Between Triggers & Hazards   *   g Scroll Right for Envir. Aspects gg",null,null,null,null,null,null,null,null,null,null,null,null,null,null,null,null,null,null,null,null,null,null,null,null,null,null,null,null,null,null,null,null,null,null,"If you have added more Hazards on the Controls tab than will display here, then email your file to the person listed on the Start Here tab.  \nThat person can unhide the number of columns needed.  ",null,null,null,null,null,null,null,null,null,null,null,null,null,null,null,null,null,null,null,null,null,null,null,null,null,null,null,null,null,null,null,null,null,null,null,null,null,null,null,null,null,null,null,null,null,null,null,null,null,null,null,null,null,null,null,null,null,null,null,null,null,null,null,null,null,null,null,null,null,null,null,null,null,null,null,null,null,null,null,null,null,null,null,null,null,null,null,null,null,null,null,null,null,null,null,null,null,null,null,null,null,null,null,null,null,null,null,null,null,null,null,null,null,null,null,null,null,null,null,null,null,null,null,null,null,null,null,null,null,null,null,null,null,null,null,null,null,null,null,null,null,null,null,null,null,null,null,null,null,null,null,null,null,null,null,null,null,null,null,null,null,null,null,null,null,null,null,null,"Links Between Triggers & Environmental Aspects"]
["This page lists the triggers by group on the left side (in column C,) specific PPE for each trigger beside them (in column D,) and the hazards and environmental aspects across the top (in row 2.)  Each X links a trigger to a hazard or environmental aspect, determining which ones to print when a trigger is selected on tab 3. Those selected by multiple Triggers are printed only once. You can add links to hazards or environmental aspects for a particular trigger, by adding an ‘X’ in that row and column.\nThe green rows in column C are where new triggers can be added. Go to the next green box in the appropriate category and type the name. Once you add the new item, link it to its hazards and environmental aspects by putting an ‘X’ on that row in the related column.  Once a new trigger is added to this section, that label will appear on tab 3, and you will be able to select it for inclusion.  \nNew Hazards can be added on the Controls tab.  New Environmental Aspects can be added on tab 1. ",null,null,null,"Has Specific PPE?","Combines:  Name of Specific PPE (name of trigger)","Has X?",{"$f":"HLOOKUP(H3,Controls!$C$1:$KN$2,2,FALSE)","v":"Fall From Height"},{"$f":"HLOOKUP(I3,Controls!$C$1:$KN$2,2,FALSE)","v":"Slips, Trips & Falls"},{"$f":"HLOOKUP(J3,Controls!$C$1:$KN$2,2,FALSE)","v":"Strains & Pulled Muscles"},{"$f":"HLOOKUP(K3,Controls!$C$1:$KN$2,2,FALSE)","v":"Power / Hand Tool Injuries"},{"$f":"HLOOKUP(L3,Controls!$C$1:$KN$2,2,FALSE)","v":"Struck By / Caught Between"},{"$f":"HLOOKUP(M3,Controls!$C$1:$KN$2,2,FALSE)","v":"Flying Objects"},{"$f":"HLOOKUP(N3,Controls!$C$1:$KN$2,2,FALSE)","v":"Rigging Failure (Slings / Shackles / Taglines)"},{"$f":"HLOOKUP(O3,Controls!$C$1:$KN$2,2,FALSE)","v":"Noise Exposure"},{"$f":"HLOOKUP(P3,Controls!$C$1:$KN$2,2,FALSE)","v":"Silica Dust Exposure"},{"$f":"HLOOKUP(Q3,Controls!$C$1:$KN$2,2,FALSE)","v":"Pickup Trucks / Flat Trucks"},{"$f":"HLOOKUP(R3,Controls!$C$1:$KN$2,2,FALSE)","v":"Electrocution / Shock"},{"$f":"HLOOKUP(S3,Controls!$C$1:$KN$2,2,FALSE)","v":"Confined Space"},{"$f":"HLOOKUP(T3,Controls!$C$1:$KN$2,2,FALSE)","v":"Aerial Work Platforms"},{"$f":"HLOOKUP(U3,Controls!$C$1:$KN$2,2,FALSE)","v":"Hotwork (Burning / Welding / etc.)"},{"$f":"HLOOKUP(V3,Controls!$C$1:$KN$2,2,FALSE)","v":"Lead Exposure"},{"$f":"HLOOKUP(W3,Controls!$C$1:$KN$2,2,FALSE)","v":"Trenching & Excavation Cave-In / Utilities"},{"$f":"HLOOKUP(X3,Controls!$C$1:$KN$2,2,FALSE)","v":"Spill / Leak"},{"$f":"HLOOKUP(Y3,Controls!$C$1:$KN$2,2,FALSE)","v":"Inadequate Illumination"},{"$f":"HLOOKUP(Z3,Controls!$C$1:$KN$2,2,FALSE)","v":"Heat Illness  "},{"$f":"HLOOKUP(AA3,Controls!$C$1:$KN$2,2,FALSE)","v":"Compressor / Air Pneumatic Tools"},{"$f":"HLOOKUP(AB3,Controls!$C$1:$KN$2,2,FALSE)","v":"Hazardous Soil"},{"$f":"HLOOKUP(AC3,Controls!$C$1:$KN$2,2,FALSE)","v":"Scaffolds / Temporary Works"},{"$f":"HLOOKUP(AD3,Controls!$C$1:$KN$2,2,FALSE)","v":"Stairways / Ladders"},{"$f":"HLOOKUP(AE3,Controls!$C$1:$KN$2,2,FALSE)","v":"Lifting equipment other than cranes"},{"$f":"HLOOKUP(AF3,Controls!$C$1:$KN$2,2,FALSE)","v":"Train / Train Tracks"},{"$f":"HLOOKUP(AG3,Controls!$C$1:$KN$2,2,FALSE)","v":"Impalement hazards"},{"$f":"HLOOKUP(AH3,Controls!$C$1:$KN$2,2,FALSE)","v":"Lockout / Tagout"},{"$f":"HLOOKUP(AI3,Controls!$C$1:$KN$2,2,FALSE)","v":"Asbestos"},{"$f":"HLOOKUP(AJ3,Controls!$C$1:$KN$2,2,FALSE)","v":"Hazardous Material "},{"$f":"HLOOKUP(AK3,Controls!$C$1:$KN$2,2,FALSE)","v":"Chemicals"},{"$f":"HLOOKUP(AL3,Controls!$C$1:$KN$2,2,FALSE)","v":" -"},{"$f":"HLOOKUP(AM3,Controls!$C$1:$KN$2,2,FALSE)","v":" -"},{"$f":"HLOOKUP(AN3,Controls!$C$1:$KN$2,2,FALSE)","v":" -"},{"$f":"HLOOKUP(AO3,Controls!$C$1:$KN$2,2,FALSE)","v":" -"},{"$f":"HLOOKUP(AP3,Controls!$C$1:$KN$2,2,FALSE)","v":" -"},{"$f":"HLOOKUP(AQ3,Controls!$C$1:$KN$2,2,FALSE)","v":" -"},{"$f":"HLOOKUP(AR3,Controls!$C$1:$KN$2,2,FALSE)","v":" -"},{"$f":"HLOOKUP(AS3,Controls!$C$1:$KN$2,2,FALSE)","v":" -"},{"$f":"HLOOKUP(AT3,Controls!$C$1:$KN$2,2,FALSE)","v":" -"},{"$f":"HLOOKUP(AU3,Controls!$C$1:$KN$2,2,FALSE)","v":" -"},{"$f":"HLOOKUP(AV3,Controls!$C$1:$KN$2,2,FALSE)","v":" -"},{"$f":"HLOOKUP(AW3,Controls!$C$1:$KN$2,2,FALSE)","v":" -"},{"$f":"HLOOKUP(AX3,Controls!$C$1:$KN$2,2,FALSE)","v":" -"},{"$f":"HLOOKUP(AY3,Controls!$C$1:$KN$2,2,FALSE)","v":" -"},{"$f":"HLOOKUP(AZ3,Controls!$C$1:$KN$2,2,FALSE)","v":" -"},{"$f":"HLOOKUP(BA3,Controls!$C$1:$KN$2,2,FALSE)","v":" -"},{"$f":"HLOOKUP(BB3,Controls!$C$1:$KN$2,2,FALSE)","v":" -"},{"$f":"HLOOKUP(BC3,Controls!$C$1:$KN$2,2,FALSE)","v":" -"},{"$f":"HLOOKUP(BD3,Controls!$C$1:$KN$2,2,FALSE)","v":" -"},{"$f":"HLOOKUP(BE3,Controls!$C$1:$KN$2,2,FALSE)","v":" -"},{"$f":"HLOOKUP(BF3,Controls!$C$1:$KN$2,2,FALSE)","v":" -"},{"$f":"HLOOKUP(BG3,Controls!$C$1:$KN$2,2,FALSE)","v":" -"},{"$f":"HLOOKUP(BH3,Controls!$C$1:$KN$2,2,FALSE)","v":" -"},{"$f":"HLOOKUP(BI3,Controls!$C$1:$KN$2,2,FALSE)","v":" -"},{"$f":"HLOOKUP(BJ3,Controls!$C$1:$KN$2,2,FALSE)","v":" -"},{"$f":"HLOOKUP(BK3,Controls!$C$1:$KN$2,2,FALSE)","v":" -"},{"$f":"HLOOKUP(BL3,Controls!$C$1:$KN$2,2,FALSE)","v":" -"},{"$f":"HLOOKUP(BM3,Controls!$C$1:$KN$2,2,FALSE)","v":" -"},{"$f":"HLOOKUP(BN3,Controls!$C$1:$KN$2,2,FALSE)","v":" -"},{"$f":"HLOOKUP(BO3,Controls!$C$1:$KN$2,2,FALSE)","v":" -"},{"$f":"HLOOKUP(BP3,Controls!$C$1:$KN$2,2,FALSE)","v":" -"},{"$f":"HLOOKUP(BQ3,Controls!$C$1:$KN$2,2,FALSE)","v":" -"},{"$f":"HLOOKUP(BR3,Controls!$C$1:$KN$2,2,FALSE)","v":" -"},{"$f":"HLOOKUP(BS3,Controls!$C$1:$KN$2,2,FALSE)","v":" -"},{"$f":"HLOOKUP(BT3,Controls!$C$1:$KN$2,2,FALSE)","v":" -"},{"$f":"HLOOKUP(BU3,Controls!$C$1:$KN$2,2,FALSE)","v":" -"},{"$f":"HLOOKUP(BV3,Controls!$C$1:$KN$2,2,FALSE)","v":" -"},{"$f":"HLOOKUP(BW3,Controls!$C$1:$KN$2,2,FALSE)","v":" -"},{"$f":"HLOOKUP(BX3,Controls!$C$1:$KN$2,2,FALSE)","v":" -"},{"$f":"HLOOKUP(BY3,Controls!$C$1:$KN$2,2,FALSE)","v":" -"},{"$f":"HLOOKUP(BZ3,Controls!$C$1:$KN$2,2,FALSE)","v":" -"},{"$f":"HLOOKUP(CA3,Controls!$C$1:$KN$2,2,FALSE)","v":" -"},{"$f":"HLOOKUP(CB3,Controls!$C$1:$KN$2,2,FALSE)","v":" -"},{"$f":"HLOOKUP(CC3,Controls!$C$1:$KN$2,2,FALSE)","v":" -"},{"$f":"HLOOKUP(CD3,Controls!$C$1:$KN$2,2,FALSE)","v":" -"},{"$f":"HLOOKUP(CE3,Controls!$C$1:$KN$2,2,FALSE)","v":" -"},{"$f":"HLOOKUP(CF3,Controls!$C$1:$KN$2,2,FALSE)","v":" -"},{"$f":"HLOOKUP(CG3,Controls!$C$1:$KN$2,2,FALSE)","v":" -"},{"$f":"HLOOKUP(CH3,Controls!$C$1:$KN$2,2,FALSE)","v":" -"},{"$f":"HLOOKUP(CI3,Controls!$C$1:$KN$2,2,FALSE)","v":" -"},{"$f":"HLOOKUP(CJ3,Controls!$C$1:$KN$2,2,FALSE)","v":" -"},{"$f":"HLOOKUP(CK3,Controls!$C$1:$KN$2,2,FALSE)","v":" -"},{"$f":"HLOOKUP(CL3,Controls!$C$1:$KN$2,2,FALSE)","v":" -"},{"$f":"HLOOKUP(CM3,Controls!$C$1:$KN$2,2,FALSE)","v":" -"},{"$f":"HLOOKUP(CN3,Controls!$C$1:$KN$2,2,FALSE)","v":" -"},{"$f":"HLOOKUP(CO3,Controls!$C$1:$KN$2,2,FALSE)","v":" -"},{"$f":"HLOOKUP(CP3,Controls!$C$1:$KN$2,2,FALSE)","v":" -"},{"$f":"HLOOKUP(CQ3,Controls!$C$1:$KN$2,2,FALSE)","v":" -"},{"$f":"HLOOKUP(CR3,Controls!$C$1:$KN$2,2,FALSE)","v":" -"},{"$f":"HLOOKUP(CS3,Controls!$C$1:$KN$2,2,FALSE)","v":" -"},{"$f":"HLOOKUP(CT3,Controls!$C$1:$KN$2,2,FALSE)","v":" -"},{"$f":"HLOOKUP(CU3,Controls!$C$1:$KN$2,2,FALSE)","v":" -"},{"$f":"HLOOKUP(CV3,Controls!$C$1:$KN$2,2,FALSE)","v":" -"},{"$f":"HLOOKUP(CW3,Controls!$C$1:$KN$2,2,FALSE)","v":" -"},{"$f":"HLOOKUP(CX3,Controls!$C$1:$KN$2,2,FALSE)","v":" -"},{"$f":"HLOOKUP(CY3,Controls!$C$1:$KN$2,2,FALSE)","v":" -"},{"$f":"HLOOKUP(CZ3,Controls!$C$1:$KN$2,2,FALSE)","v":" -"},{"$f":"HLOOKUP(DA3,Controls!$C$1:$KN$2,2,FALSE)","v":" -"},{"$f":"HLOOKUP(DB3,Controls!$C$1:$KN$2,2,FALSE)","v":" -"},{"$f":"HLOOKUP(DC3,Controls!$C$1:$KN$2,2,FALSE)","v":" -"},"Is the Trigger Selected? (DO NOT DRAG FORMULA DOWN)",{"$f":"H2","v":"Fall From Height"},{"$f":"I2","v":"Slips, Trips & Falls"},"Strains & Pulled Muscles","Power / Hand Tool Injuries","Struck By / Caught Between","Flying Objects","Rigging Failure (Slings / Shackles / Taglines)","Noise Exposure","Silica Dust Exposure","Pickup Trucks / Flat Trucks","Electrocution / Shock","Confined Space","Aerial Work Platforms","Hotwork (Burning / Welding / etc.)","Lead Exposure","Trenching & Excavation Cave-In / Utilities","Spill / Leak","Inadequate Illumination","Heat Illness  ","Compressor / Air Pneumatic Tools","Hazardous Soil","Scaffolds / Temporary Works","Stairways / Ladders","Lifting equipment other than cranes","Train / Train Tracks","Impalement hazards","Lockout / Tagout","Asbestos","Hazardous Material ","Chemicals"," -"," -"," -"," -"," -"," -"," -"," -"," -"," -"," -"," -"," -"," -"," -"," -"," -"," -"," -"," -"," -"," -"," -"," -"," -"," -"," -"," -"," -"," -"," -"," -"," -"," -"," -",{"$f":"BU2","v":" -"}," -"," -"," -"," -"," -"," -"," -"," -"," -"," -"," -"," -"," -"," -"," -"," -"," -"," -"," -"," -"," -"," -"," -"," -"," -"," -"," -"," -"," -"," -"," -"," -"," -"," -","Format trigger names for list with comma and space","Combine list of formatted triggers","Combine  lists in category, remove extra comma and space from end",{"$f":"VLOOKUP(HD3,'4'!$C$117:$D$136,2,FALSE)","v":"Archaeological, Cultural and Historic"},{"$f":"VLOOKUP(HE3,'4'!$C$117:$D$136,2,FALSE)","v":"Community Impacts:  Transportation, Traffic Circulation & Economic"},{"$f":"VLOOKUP(HF3,'4'!$C$117:$D$136,2,FALSE)","v":"Community Impacts:  Utilities"},{"$f":"VLOOKUP(HG3,'4'!$C$117:$D$136,2,FALSE)","v":"Dewatering"},{"$f":"VLOOKUP(HH3,'4'!$C$117:$D$136,2,FALSE)","v":"Flora, Fauna and Habitat Areas (Wetlands)"},{"$f":"VLOOKUP(HI3,'4'!$C$117:$D$136,2,FALSE)","v":"Hazardous Materials and Waste Management"},{"$f":"VLOOKUP(HJ3,'4'!$C$117:$D$136,2,FALSE)","v":"Indoor Air Quality"},{"$f":"VLOOKUP(HK3,'4'!$C$117:$D$136,2,FALSE)","v":"Materials and Waste Management"},{"$f":"VLOOKUP(HL3,'4'!$C$117:$D$136,2,FALSE)","v":"Noise and Vibration"},{"$f":"VLOOKUP(HM3,'4'!$C$117:$D$136,2,FALSE)","v":"Outdoor Air Quality"},{"$f":"VLOOKUP(HN3,'4'!$C$117:$D$136,2,FALSE)","v":"Potential & Unforeseen Upset Conditions (Spills / Leaks)"},{"$f":"VLOOKUP(HO3,'4'!$C$117:$D$136,2,FALSE)","v":"Soil Erosion and Sediment Control"},{"$f":"VLOOKUP(HP3,'4'!$C$117:$D$136,2,FALSE)","v":"-"},{"$f":"VLOOKUP(HQ3,'4'!$C$117:$D$136,2,FALSE)","v":"-"},{"$f":"VLOOKUP(HR3,'4'!$C$117:$D$136,2,FALSE)","v":"-"},{"$f":"VLOOKUP(HS3,'4'!$C$117:$D$136,2,FALSE)","v":"-"},{"$f":"VLOOKUP(HT3,'4'!$C$117:$D$136,2,FALSE)","v":"-"},{"$f":"VLOOKUP(HU3,'4'!$C$117:$D$136,2,FALSE)","v":"-"},{"$f":"VLOOKUP(HV3,'4'!$C$117:$D$136,2,FALSE)","v":"-"},{"$f":"VLOOKUP(HW3,'4'!$C$117:$D$136,2,FALSE)","v":"-"},{"$f":"VLOOKUP(HX3,'4'!$C$117:$D$136,2,FALSE)","v":"Archaeological, Cultural and Historic"},{"$f":"VLOOKUP(HY3,'4'!$C$117:$D$136,2,FALSE)","v":"Community Impacts:  Transportation, Traffic Circulation & Economic"},{"$f":"VLOOKUP(HZ3,'4'!$C$117:$D$136,2,FALSE)","v":"Community Impacts:  Utilities"},{"$f":"VLOOKUP(IA3,'4'!$C$117:$D$136,2,FALSE)","v":"Dewatering"},{"$f":"VLOOKUP(IB3,'4'!$C$117:$D$136,2,FALSE)","v":"Flora, Fauna and Habitat Areas (Wetlands)"},{"$f":"VLOOKUP(IC3,'4'!$C$117:$D$136,2,FALSE)","v":"Hazardous Materials and Waste Management"},{"$f":"VLOOKUP(ID3,'4'!$C$117:$D$136,2,FALSE)","v":"Indoor Air Quality"},{"$f":"VLOOKUP(IE3,'4'!$C$117:$D$136,2,FALSE)","v":"Materials and Waste Management"},{"$f":"VLOOKUP(IF3,'4'!$C$117:$D$136,2,FALSE)","v":"Noise and Vibration"},{"$f":"VLOOKUP(IG3,'4'!$C$117:$D$136,2,FALSE)","v":"Outdoor Air Quality"},{"$f":"VLOOKUP(IH3,'4'!$C$117:$D$136,2,FALSE)","v":"Potential & Unforeseen Upset Conditions (Spills / Leaks)"},{"$f":"VLOOKUP(II3,'4'!$C$117:$D$136,2,FALSE)","v":"Soil Erosion and Sediment Control"},{"$f":"VLOOKUP(IJ3,'4'!$C$117:$D$136,2,FALSE)","v":"-"},{"$f":"VLOOKUP(IK3,'4'!$C$117:$D$136,2,FALSE)","v":"-"},{"$f":"VLOOKUP(IL3,'4'!$C$117:$D$136,2,FALSE)","v":"-"},{"$f":"VLOOKUP(IM3,'4'!$C$117:$D$136,2,FALSE)","v":"-"},{"$f":"VLOOKUP(IN3,'4'!$C$117:$D$136,2,FALSE)","v":"-"},{"$f":"VLOOKUP(IO3,'4'!$C$117:$D$136,2,FALSE)","v":"-"},{"$f":"VLOOKUP(IP3,'4'!$C$117:$D$136,2,FALSE)","v":"-"},{"$f":"VLOOKUP(IQ3,'4'!$C$117:$D$136,2,FALSE)","v":"-"}]
[null,null,null,null,null,null,null,1,{"$f":"H3+3","v":4},{"$f":"I3+3","v":7},10,13,16,19,22,25,28,31,34,37,40,43,46,49,52,55,58,61,64,67,70,73,76,79,82,85,88,91,94,97,100,103,106,109,112,115,118,121,124,127,130,133,136,139,142,145,148,151,154,157,160,163,166,169,172,175,178,181,184,187,190,193,196,{"$f":"BU3+3","v":199},202,205,208,211,214,217,220,223,226,229,232,235,238,241,244,247,250,253,256,259,262,265,268,271,274,277,280,283,286,289,292,295,298,null,{"$f":"H3","v":1},4,7,10,13,16,19,22,25,28,31,34,37,40,43,46,49,52,55,58,61,64,67,70,73,76,79,82,85,88,91,94,97,100,103,106,109,112,115,118,121,124,127,130,133,136,139,142,145,148,151,154,157,160,163,166,169,172,175,178,181,184,187,190,193,196,199,202,205,208,211,214,217,220,223,226,229,232,235,238,241,244,247,250,253,256,259,262,265,268,271,274,277,280,283,286,289,292,295,298,null,null,null,1,{"$f":"HD3+1","v":2},{"$f":"HE3+1","v":3},4,5,6,7,8,9,10,11,12,13,14,15,16,17,18,19,20,1,{"$f":"HX3+1","v":2},{"$f":"HY3+1","v":3},4,5,6,7,8,9,10,11,12,13,14,15,16,17,18,19,20]
["Task Environment",null,"Asbestos",null,{"$f":"IF(F4=\"\",0,1)","v":0},{"$f":"IF(D4=\"\",\"\",IF(DD4=\"N\",\"\",CONCATENATE(D4,\" (\",C4,\"), \")))","v":""},{"$f":"COUNTIF(H4:HH4,\"x\")","v":1},null,null,null,null,null,null,null,null,null,null,null,null,null,null,null,null,null,null,null,null,null,null,null,null,null,null,null,"X",null,null,null,null,null,null,null,null,null,null,null,null,null,null,null,null,null,null,null,null,null,null,null,null,null,null,null,null,null,null,null,null,null,null,null,null,null,null,null,null,null,null,null,null,null,null,null,null,null,null,null,null,null,null,null,null,null,null,null,null,null,null,null,null,null,null,null,null,null,null,null,null,{"$f":"IF(TaskEnv_1=\"-\",\"N\",IF(TaskEnv_1=\"\",\"N\",IF(TaskEnv_1_Sel=\"\",\"N\",\"Y\")))","v":"N"},{"$f":"IF($DD4=\"Y\",IF(H4=\"X\",CONCATENATE($C4,\", \"),\"\"),\"\")","v":""},{"$f":"IF($DD4=\"Y\",IF(I4=\"X\",CONCATENATE($C4,\", \"),\"\"),\"\")","v":""},{"$f":"IF($DD4=\"Y\",IF(J4=\"X\",CONCATENATE($C4,\", \"),\"\"),\"\")","v":""},{"$f":"IF($DD4=\"Y\",IF(K4=\"X\",CONCATENATE($C4,\", \"),\"\"),\"\")","v":""},{"$f":"IF($DD4=\"Y\",IF(L4=\"X\",CONCATENATE($C4,\", \"),\"\"),\"\")","v":""},{"$f":"IF($DD4=\"Y\",IF(M4=\"X\",CONCATENATE($C4,\", \"),\"\"),\"\")","v":""},{"$f":"IF($DD4=\"Y\",IF(N4=\"X\",CONCATENATE($C4,\", \"),\"\"),\"\")","v":""},{"$f":"IF($DD4=\"Y\",IF(O4=\"X\",CONCATENATE($C4,\", \"),\"\"),\"\")","v":""},{"$f":"IF($DD4=\"Y\",IF(P4=\"X\",CONCATENATE($C4,\", \"),\"\"),\"\")","v":""},{"$f":"IF($DD4=\"Y\",IF(Q4=\"X\",CONCATENATE($C4,\", \"),\"\"),\"\")","v":""},{"$f":"IF($DD4=\"Y\",IF(R4=\"X\",CONCATENATE($C4,\", \"),\"\"),\"\")","v":""},{"$f":"IF($DD4=\"Y\",IF(S4=\"X\",CONCATENATE($C4,\", \"),\"\"),\"\")","v":""},{"$f":"IF($DD4=\"Y\",IF(T4=\"X\",CONCATENATE($C4,\", \"),\"\"),\"\")","v":""},{"$f":"IF($DD4=\"Y\",IF(U4=\"X\",CONCATENATE($C4,\", \"),\"\"),\"\")","v":""},{"$f":"IF($DD4=\"Y\",IF(V4=\"X\",CONCATENATE($C4,\", \"),\"\"),\"\")","v":""},{"$f":"IF($DD4=\"Y\",IF(W4=\"X\",CONCATENATE($C4,\", \"),\"\"),\"\")","v":""},{"$f":"IF($DD4=\"Y\",IF(X4=\"X\",CONCATENATE($C4,\", \"),\"\"),\"\")","v":""},{"$f":"IF($DD4=\"Y\",IF(Y4=\"X\",CONCATENATE($C4,\", \"),\"\"),\"\")","v":""},{"$f":"IF($DD4=\"Y\",IF(Z4=\"X\",CONCATENATE($C4,\", \"),\"\"),\"\")","v":""},{"$f":"IF($DD4=\"Y\",IF(AA4=\"X\",CONCATENATE($C4,\", \"),\"\"),\"\")","v":""},{"$f":"IF($DD4=\"Y\",IF(AB4=\"X\",CONCATENATE($C4,\", \"),\"\"),\"\")","v":""},{"$f":"IF($DD4=\"Y\",IF(AC4=\"X\",CONCATENATE($C4,\", \"),\"\"),\"\")","v":""},{"$f":"IF($DD4=\"Y\",IF(AD4=\"X\",CONCATENATE($C4,\", \"),\"\"),\"\")","v":""},{"$f":"IF($DD4=\"Y\",IF(AE4=\"X\",CONCATENATE($C4,\", \"),\"\"),\"\")","v":""},{"$f":"IF($DD4=\"Y\",IF(AF4=\"X\",CONCATENATE($C4,\", \"),\"\"),\"\")","v":""},{"$f":"IF($DD4=\"Y\",IF(AG4=\"X\",CONCATENATE($C4,\", \"),\"\"),\"\")","v":""},{"$f":"IF($DD4=\"Y\",IF(AH4=\"X\",CONCATENATE($C4,\", \"),\"\"),\"\")","v":""},{"$f":"IF($DD4=\"Y\",IF(AI4=\"X\",CONCATENATE($C4,\", \"),\"\"),\"\")","v":""},{"$f":"IF($DD4=\"Y\",IF(AJ4=\"X\",CONCATENATE($C4,\", \"),\"\"),\"\")","v":""},{"$f":"IF($DD4=\"Y\",IF(AK4=\"X\",CONCATENATE($C4,\", \"),\"\"),\"\")","v":""},{"$f":"IF($DD4=\"Y\",IF(AL4=\"X\",CONCATENATE($C4,\", \"),\"\"),\"\")","v":""},{"$f":"IF($DD4=\"Y\",IF(AM4=\"X\",CONCATENATE($C4,\", \"),\"\"),\"\")","v":""},{"$f":"IF($DD4=\"Y\",IF(AN4=\"X\",CONCATENATE($C4,\", \"),\"\"),\"\")","v":""},{"$f":"IF($DD4=\"Y\",IF(AO4=\"X\",CONCATENATE($C4,\", \"),\"\"),\"\")","v":""},{"$f":"IF($DD4=\"Y\",IF(AP4=\"X\",CONCATENATE($C4,\", \"),\"\"),\"\")","v":""},{"$f":"IF($DD4=\"Y\",IF(AQ4=\"X\",CONCATENATE($C4,\", \"),\"\"),\"\")","v":""},{"$f":"IF($DD4=\"Y\",IF(AR4=\"X\",CONCATENATE($C4,\", \"),\"\"),\"\")","v":""},{"$f":"IF($DD4=\"Y\",IF(AS4=\"X\",CONCATENATE($C4,\", \"),\"\"),\"\")","v":""},{"$f":"IF($DD4=\"Y\",IF(AT4=\"X\",CONCATENATE($C4,\", \"),\"\"),\"\")","v":""},{"$f":"IF($DD4=\"Y\",IF(AU4=\"X\",CONCATENATE($C4,\", \"),\"\"),\"\")","v":""},{"$f":"IF($DD4=\"Y\",IF(AV4=\"X\",CONCATENATE($C4,\", \"),\"\"),\"\")","v":""},{"$f":"IF($DD4=\"Y\",IF(AW4=\"X\",CONCATENATE($C4,\", \"),\"\"),\"\")","v":""},{"$f":"IF($DD4=\"Y\",IF(AX4=\"X\",CONCATENATE($C4,\", \"),\"\"),\"\")","v":""},{"$f":"IF($DD4=\"Y\",IF(AY4=\"X\",CONCATENATE($C4,\", \"),\"\"),\"\")","v":""},{"$f":"IF($DD4=\"Y\",IF(AZ4=\"X\",CONCATENATE($C4,\", \"),\"\"),\"\")","v":""},{"$f":"IF($DD4=\"Y\",IF(BA4=\"X\",CONCATENATE($C4,\", \"),\"\"),\"\")","v":""},{"$f":"IF($DD4=\"Y\",IF(BB4=\"X\",CONCATENATE($C4,\", \"),\"\"),\"\")","v":""},{"$f":"IF($DD4=\"Y\",IF(BC4=\"X\",CONCATENATE($C4,\", \"),\"\"),\"\")","v":""},{"$f":"IF($DD4=\"Y\",IF(BD4=\"X\",CONCATENATE($C4,\", \"),\"\"),\"\")","v":""},{"$f":"IF($DD4=\"Y\",IF(BE4=\"X\",CONCATENATE($C4,\", \"),\"\"),\"\")","v":""},{"$f":"IF($DD4=\"Y\",IF(BF4=\"X\",CONCATENATE($C4,\", \"),\"\"),\"\")","v":""},{"$f":"IF($DD4=\"Y\",IF(BG4=\"X\",CONCATENATE($C4,\", \"),\"\"),\"\")","v":""},{"$f":"IF($DD4=\"Y\",IF(BH4=\"X\",CONCATENATE($C4,\", \"),\"\"),\"\")","v":""},{"$f":"IF($DD4=\"Y\",IF(BI4=\"X\",CONCATENATE($C4,\", \"),\"\"),\"\")","v":""},{"$f":"IF($DD4=\"Y\",IF(BJ4=\"X\",CONCATENATE($C4,\", \"),\"\"),\"\")","v":""},{"$f":"IF($DD4=\"Y\",IF(BK4=\"X\",CONCATENATE($C4,\", \"),\"\"),\"\")","v":""},{"$f":"IF($DD4=\"Y\",IF(BL4=\"X\",CONCATENATE($C4,\", \"),\"\"),\"\")","v":""},{"$f":"IF($DD4=\"Y\",IF(BM4=\"X\",CONCATENATE($C4,\", \"),\"\"),\"\")","v":""},{"$f":"IF($DD4=\"Y\",IF(BN4=\"X\",CONCATENATE($C4,\", \"),\"\"),\"\")","v":""},{"$f":"IF($DD4=\"Y\",IF(BO4=\"X\",CONCATENATE($C4,\", \"),\"\"),\"\")","v":""},{"$f":"IF($DD4=\"Y\",IF(BP4=\"X\",CONCATENATE($C4,\", \"),\"\"),\"\")","v":""},{"$f":"IF($DD4=\"Y\",IF(BQ4=\"X\",CONCATENATE($C4,\", \"),\"\"),\"\")","v":""},{"$f":"IF($DD4=\"Y\",IF(BR4=\"X\",CONCATENATE($C4,\", \"),\"\"),\"\")","v":""},{"$f":"IF($DD4=\"Y\",IF(BS4=\"X\",CONCATENATE($C4,\", \"),\"\"),\"\")","v":""},{"$f":"IF($DD4=\"Y\",IF(BT4=\"X\",CONCATENATE($C4,\", \"),\"\"),\"\")","v":""},{"$f":"IF($DD4=\"Y\",IF(BU4=\"X\",CONCATENATE($C4,\", \"),\"\"),\"\")","v":""},{"$f":"IF($DD4=\"Y\",IF(BV4=\"X\",CONCATENATE($C4,\", \"),\"\"),\"\")","v":""},{"$f":"IF($DD4=\"Y\",IF(BW4=\"X\",CONCATENATE($C4,\", \"),\"\"),\"\")","v":""},{"$f":"IF($DD4=\"Y\",IF(BX4=\"X\",CONCATENATE($C4,\", \"),\"\"),\"\")","v":""},{"$f":"IF($DD4=\"Y\",IF(BY4=\"X\",CONCATENATE($C4,\", \"),\"\"),\"\")","v":""},{"$f":"IF($DD4=\"Y\",IF(BZ4=\"X\",CONCATENATE($C4,\", \"),\"\"),\"\")","v":""},{"$f":"IF($DD4=\"Y\",IF(CA4=\"X\",CONCATENATE($C4,\", \"),\"\"),\"\")","v":""},{"$f":"IF($DD4=\"Y\",IF(CB4=\"X\",CONCATENATE($C4,\", \"),\"\"),\"\")","v":""},{"$f":"IF($DD4=\"Y\",IF(CC4=\"X\",CONCATENATE($C4,\", \"),\"\"),\"\")","v":""},{"$f":"IF($DD4=\"Y\",IF(CD4=\"X\",CONCATENATE($C4,\", \"),\"\"),\"\")","v":""},{"$f":"IF($DD4=\"Y\",IF(CE4=\"X\",CONCATENATE($C4,\", \"),\"\"),\"\")","v":""},{"$f":"IF($DD4=\"Y\",IF(CF4=\"X\",CONCATENATE($C4,\", \"),\"\"),\"\")","v":""},{"$f":"IF($DD4=\"Y\",IF(CG4=\"X\",CONCATENATE($C4,\", \"),\"\"),\"\")","v":""},{"$f":"IF($DD4=\"Y\",IF(CH4=\"X\",CONCATENATE($C4,\", \"),\"\"),\"\")","v":""},{"$f":"IF($DD4=\"Y\",IF(CI4=\"X\",CONCATENATE($C4,\", \"),\"\"),\"\")","v":""},{"$f":"IF($DD4=\"Y\",IF(CJ4=\"X\",CONCATENATE($C4,\", \"),\"\"),\"\")","v":""},{"$f":"IF($DD4=\"Y\",IF(CK4=\"X\",CONCATENATE($C4,\", \"),\"\"),\"\")","v":""},{"$f":"IF($DD4=\"Y\",IF(CL4=\"X\",CONCATENATE($C4,\", \"),\"\"),\"\")","v":""},{"$f":"IF($DD4=\"Y\",IF(CM4=\"X\",CONCATENATE($C4,\", \"),\"\"),\"\")","v":""},{"$f":"IF($DD4=\"Y\",IF(CN4=\"X\",CONCATENATE($C4,\", \"),\"\"),\"\")","v":""},{"$f":"IF($DD4=\"Y\",IF(CO4=\"X\",CONCATENATE($C4,\", \"),\"\"),\"\")","v":""},{"$f":"IF($DD4=\"Y\",IF(CP4=\"X\",CONCATENATE($C4,\", \"),\"\"),\"\")","v":""},{"$f":"IF($DD4=\"Y\",IF(CQ4=\"X\",CONCATENATE($C4,\", \"),\"\"),\"\")","v":""},{"$f":"IF($DD4=\"Y\",IF(CR4=\"X\",CONCATENATE($C4,\", \"),\"\"),\"\")","v":""},{"$f":"IF($DD4=\"Y\",IF(CS4=\"X\",CONCATENATE($C4,\", \"),\"\"),\"\")","v":""},{"$f":"IF($DD4=\"Y\",IF(CT4=\"X\",CONCATENATE($C4,\", \"),\"\"),\"\")","v":""},{"$f":"IF($DD4=\"Y\",IF(CU4=\"X\",CONCATENATE($C4,\", \"),\"\"),\"\")","v":""},{"$f":"IF($DD4=\"Y\",IF(CV4=\"X\",CONCATENATE($C4,\", \"),\"\"),\"\")","v":""},{"$f":"IF($DD4=\"Y\",IF(CW4=\"X\",CONCATENATE($C4,\", \"),\"\"),\"\")","v":""},{"$f":"IF($DD4=\"Y\",IF(CX4=\"X\",CONCATENATE($C4,\", \"),\"\"),\"\")","v":""},{"$f":"IF($DD4=\"Y\",IF(CY4=\"X\",CONCATENATE($C4,\", \"),\"\"),\"\")","v":""},{"$f":"IF($DD4=\"Y\",IF(CZ4=\"X\",CONCATENATE($C4,\", \"),\"\"),\"\")","v":""},{"$f":"IF($DD4=\"Y\",IF(DA4=\"X\",CONCATENATE($C4,\", \"),\"\"),\"\")","v":""},{"$f":"IF($DD4=\"Y\",IF(DB4=\"X\",CONCATENATE($C4,\", \"),\"\"),\"\")","v":""},{"$f":"IF($DD4=\"Y\",IF(DC4=\"X\",CONCATENATE($C4,\", \"),\"\"),\"\")","v":""},{"$f":"IF(DD4=\"Y\",CONCATENATE(C4,\", \"),\"\")","v":""},{"$f":"CONCATENATE(HA4,HA5,HA6,HA7,HA8,HA9,HA10,HA11,HA12,HA13,HA14,HA15,HA16,HA17,HA18,HA19,HA20,HA21,HA22,HA23,HA24,HA25,HA26,HA27,HA28,HA29,HA30,HA31,HA32,HA33)","v":""},{"$f":"IF(LEN(CONCATENATE(HB4,HB34))=0,\"\",LEFT(CONCATENATE(HB4,HB34),LEN(CONCATENATE(HB4,HB34))-2))","v":""},null,null,null,null,null,"X","X",null,null,"X",null,null,null,null,null,null,null,null,null,null,{"$f":"IF($DD4=\"Y\",HD4,\"\")","v":""},{"$f":"IF($DD4=\"Y\",HE4,\"\")","v":""},{"$f":"IF($DD4=\"Y\",HF4,\"\")","v":""},{"$f":"IF($DD4=\"Y\",HG4,\"\")","v":""},{"$f":"IF($DD4=\"Y\",HH4,\"\")","v":""},{"$f":"IF($DD4=\"Y\",HI4,\"\")","v":""},{"$f":"IF($DD4=\"Y\",HJ4,\"\")","v":""},{"$f":"IF($DD4=\"Y\",HK4,\"\")","v":""},{"$f":"IF($DD4=\"Y\",HL4,\"\")","v":""},{"$f":"IF($DD4=\"Y\",HM4,\"\")","v":""},{"$f":"IF($DD4=\"Y\",HN4,\"\")","v":""},{"$f":"IF($DD4=\"Y\",HO4,\"\")","v":""},{"$f":"IF($DD4=\"Y\",HP4,\"\")","v":""},{"$f":"IF($DD4=\"Y\",HQ4,\"\")","v":""},{"$f":"IF($DD4=\"Y\",HR4,\"\")","v":""},{"$f":"IF($DD4=\"Y\",HS4,\"\")","v":""},{"$f":"IF($DD4=\"Y\",HT4,\"\")","v":""},{"$f":"IF($DD4=\"Y\",HU4,\"\")","v":""},{"$f":"IF($DD4=\"Y\",HV4,\"\")","v":""},{"$f":"IF($DD4=\"Y\",HW4,\"\")","v":""}]
[null,null,"Bird Droppings",null,{"$f":"IF(F5=\"\",0,MAX(E$4:E4)+1)","v":0},"",1,null,null,null,null,null,null,null,null,null,null,null,null,null,null,null,null,null,null,null,null,null,null,null,null,null,null,null,null,null,null,null,null,null,null,null,null,null,null,null,null,null,null,null,null,null,null,null,null,null,null,null,null,null,null,null,null,null,null,null,null,null,null,null,null,null,null,null,null,null,null,null,null,null,null,null,null,null,null,null,null,null,null,null,null,null,null,null,null,null,null,null,null,null,null,null,null,null,null,null,null,{"$f":"IF(TaskEnv_2=\"-\",\"N\",IF(TaskEnv_2=\"\",\"N\",IF(TaskEnv_2_Sel=\"\",\"N\",\"Y\")))","v":"N"},"","","","","","","","","","","","","","","","","","","","","","","","","","","","","","","","","","","","","","","","","","","","","","","","","","","","","","","","","","","","","","","","","","","","","","","","","","","","","","","","","","","","","","","","","","","","","","","","","","","","","",null,null,null,null,null,null,"X",null,null,null,null,null,null,null,null,null,null,null,null,null,null,null,"","","","","","","","","","","","","","","","","","","",""]
[null,null,"Chemical Spill/Leak",null,{"$f":"IF(F6=\"\",0,MAX(E$4:E5)+1)","v":0},"",3,null,null,null,null,null,null,null,null,null,null,null,null,null,null,null,null,"X",null,null,null,"X",null,null,null,null,null,null,null,null,"X",null,null,null,null,null,null,null,null,null,null,null,null,null,null,null,null,null,null,null,null,null,null,null,null,null,null,null,null,null,null,null,null,null,null,null,null,null,null,null,null,null,null,null,null,null,null,null,null,null,null,null,null,null,null,null,null,null,null,null,null,null,null,null,null,null,null,null,null,null,null,{"$f":"IF(TaskEnv_3=\"-\",\"N\",IF(TaskEnv_3=\"\",\"N\",IF(TaskEnv_3_Sel=\"\",\"N\",\"Y\")))","v":"N"},"","","","","","","","","","","","","","","","","","","","","","","","","","","","","","","","","","","","","","","","","","","","","","","","","","","","","","","","","","","","","","","","","","","","","","","","","","","","","","","","","","","","","","","","","","","","","","","","","","","","","",null,null,null,null,null,null,null,"X",null,null,null,null,"X",null,null,null," "," ",null,null,null,null,"","","","","","","","","","","","","","","","","","","",""]
[null,null,"Cold Weather",null,{"$f":"IF(F7=\"\",0,MAX(E$4:E6)+1)","v":0},"",1,null,"X",null,null,null,null,null,null,null,null,null,null,null,null,null,null,null,null,null,null,null,null,null,null,null,null,null,null,null,null,null,null,null,null,null,null,null,null,null,null,null,null,null,null,null,null,null,null,null,null,null,null,null,null,null,null,null,null,null,null,null,null,null,null,null,null,null,null,null,null,null,null,null,null,null,null,null,null,null,null,null,null,null,null,null,null,null,null,null,null,null,null,null,null,null,null,null,null,null,null,{"$f":"IF(TaskEnv_4=\"-\",\"N\",IF(TaskEnv_4=\"\",\"N\",IF(TaskEnv_4_Sel=\"\",\"N\",\"Y\")))","v":"N"},"","","","","","","","","","","","","","","","","","","","","","","","","","","","","","","","","","","","","","","","","","","","","","","","","","","","","","","","","","","","","","","","","","","","","","","","","","","","","","","","","","","","","","","","","","","","","","","","","","","","","",null,null,null,null,null,null,null,null,null,null,null,null,null,null,null,null,null,null,null,null,null,null,"","","","","","","","","","","","","","","","","","","","",null,"End of Links Tab"]
[null,null,"Confined Space",null,{"$f":"IF(F8=\"\",0,MAX(E$4:E7)+1)","v":0},"",4,null,null,null,null,null,null,null,"X",null,null,"X","X",null,null,null,null,null,"X",null,null,null,null,null,null,null,null,null,null,null,null,null,null,null,null,null,null,null,null,null,null,null,null,null,null,null,null,null,null,null,null,null,null,null,null,null,null,null,null,null,null,null,null,null,null,null,null,null,null,null,null,null,null,null,null,null,null,null,null,null,null,null,null,null,null,null,null,null,null,null,null,null,null,null,null,null,null,null,null,null,null,{"$f":"IF(TaskEnv_5=\"-\",\"N\",IF(TaskEnv_5=\"\",\"N\",IF(TaskEnv_5_Sel=\"\",\"N\",\"Y\")))","v":"N"},"","","","","","","","","","","","","","","","","","","","","","","","","","","","","","","","","","","","","","","","","","","","","","","","","","","","","","","","","","","","","","","","","","","","","","","","","","","","","","","","","","","","","","","","","","","","","","","","","","","","","",null,null,null,null,null,null,null,null,null,null,null,null,null,null,null,null,null,null,null,null,null,null,"","","","","","","","","","","","","","","","","","","",""]
[null,null,"Elevated Work",null,{"$f":"IF(F9=\"\",0,MAX(E$4:E8)+1)","v":0},"",1,"X",null,null,null,null,null,null,null,null,null,null,null,null,null,null,null,null,null,null,null,null,null,null,null,null,null,null,null,null,null,null,null,null,null,null,null,null,null,null,null,null,null,null,null,null,null,null,null,null,null,null,null,null,null,null,null,null,null,null,null,null,null,null,null,null,null,null,null,null,null,null,null,null,null,null,null,null,null,null,null,null,null,null,null,null,null,null,null,null,null,null,null,null,null,null,null,null,null,null,null,{"$f":"IF(TaskEnv_6=\"-\",\"N\",IF(TaskEnv_6=\"\",\"N\",IF(TaskEnv_6_Sel=\"\",\"N\",\"Y\")))","v":"N"},"","","","","","","","","","","","","","","","","","","","","","","","","","","","","","","","","","","","","","","","","","","","","","","","","","","","","","","","","","","","","","","","","","","","","","","","","","","","","","","","","","","","","","","","","","","","","","","","","","","","","",null,null,null,null,null,null,null,null,null,null,null,null,null,null,null,null,null,null,null,null,null,null,"","","","","","","","","","","","","","","","","","","",""]
[null,null,"Enclosed Area",null,{"$f":"IF(F10=\"\",0,MAX(E$4:E9)+1)","v":0},"",0,null,null,null,null,null,null,null,null,null,null,null,null,null,null,null,null,null,null,null,null,null,null,null,null,null,null,null,null,null,null,null,null,null,null,null,null,null,null,null,null,null,null,null,null,null,null,null,null,null,null,null,null,null,null,null,null,null,null,null,null,null,null,null,null,null,null,null,null,null,null,null,null,null,null,null,null,null,null,null,null,null,null,null,null,null,null,null,null,null,null,null,null,null,null,null,null,null,null,null,null,{"$f":"IF(TaskEnv_7=\"-\",\"N\",IF(TaskEnv_7=\"\",\"N\",IF(TaskEnv_7_Sel=\"\",\"N\",\"Y\")))","v":"N"},"","","","","","","","","","","","","","","","","","","","","","","","","","","","","","","","","","","","","","","","","","","","","","","","","","","","","","","","","","","","","","","","","","","","","","","","","","","","","","","","","","","","","","","","","","","","","","","","","","","","","",null,null,null,null,null,null,null,null,null,null,null,null,null,null,null,null,null,null,null,null,null,null,"","","","","","","","","","","","","","","","","","","",""]
[null,null,"Excavation",null,{"$f":"IF(F11=\"\",0,MAX(E$4:E10)+1)","v":0},"",2,null,null,null,null,null,null,null,null,null,null,null,null,null,null,null,"X",null,null,null,null,null,null,null,null,null,null,null,null,null,null,null,null,null,null,null,null,null,null,null,null,null,null,null,null,null,null,null,null,null,null,null,null,null,null,null,null,null,null,null,null,null,null,null,null,null,null,null,null,null,null,null,null,null,null,null,null,null,null,null,null,null,null,null,null,null,null,null,null,null,null,null,null,null,null,null,null,null,null,null,null,{"$f":"IF(TaskEnv_8=\"-\",\"N\",IF(TaskEnv_8=\"\",\"N\",IF(TaskEnv_8_Sel=\"\",\"N\",\"Y\")))","v":"N"},"","","","","","","","","","","","","","","","","","","","","","","","","","","","","","","","","","","","","","","","","","","","","","","","","","","","","","","","","","","","","","","","","","","","","","","","","","","","","","","","","","","","","","","","","","","","","","","","","","","","","",null,null,null,null,null,"X",null,null,null,null,null,null,null,"X",null,null,null,null,null,null,null,null,"","","","","","","","","","","","","","","","","","","",""]
[null,null,"Fugitive Dust",null,{"$f":"IF(F12=\"\",0,MAX(E$4:E11)+1)","v":0},"",1,null,null,null,null,null,null,null,null,"X",null,null,null,null,null,null,null,null,null,null,null,null,null,null,null,null,null,null,null,null,null,null,null,null,null,null,null,null,null,null,null,null,null,null,null,null,null,null,null,null,null,null,null,null,null,null,null,null,null,null,null,null,null,null,null,null,null,null,null,null,null,null,null,null,null,null,null,null,null,null,null,null,null,null,null,null,null,null,null,null,null,null,null,null,null,null,null,null,null,null,null,{"$f":"IF(TaskEnv_9=\"-\",\"N\",IF(TaskEnv_9=\"\",\"N\",IF(TaskEnv_9_Sel=\"\",\"N\",\"Y\")))","v":"N"},"","","","","","","","","","","","","","","","","","","","","","","","","","","","","","","","","","","","","","","","","","","","","","","","","","","","","","","","","","","","","","","","","","","","","","","","","","","","","","","","","","","","","","","","","","","","","","","","","","","","","",null,null,null,null,null,null,null,null,"X",null,null,"X",null,"X",null,null,null,null,null,null,null,null,"","","","","","","","","","","","","","","","","","","",""]
[null,null,"Hot Weather",null,{"$f":"IF(F13=\"\",0,MAX(E$4:E12)+1)","v":0},"",1,null,null,null,null,null,null,null,null,null,null,null,null,null,null,null,null,null,null,"X",null,null,null,null,null,null,null,null,null,null,null,null,null,null,null,null,null,null,null,null,null,null,null,null,null,null,null,null,null,null,null,null,null,null,null,null,null,null,null,null,null,null,null,null,null,null,null,null,null,null,null,null,null,null,null,null,null,null,null,null,null,null,null,null,null,null,null,null,null,null,null,null,null,null,null,null,null,null,null,null,null,{"$f":"IF(TaskEnv_10=\"-\",\"N\",IF(TaskEnv_10=\"\",\"N\",IF(TaskEnv_10_Sel=\"\",\"N\",\"Y\")))","v":"N"},"","","","","","","","","","","","","","","","","","","","","","","","","","","","","","","","","","","","","","","","","","","","","","","","","","","","","","","","","","","","","","","","","","","","","","","","","","","","","","","","","","","","","","","","","","","","","","","","","","","","","",null,null,null,null,null,null,null,null,null,null,null,null,null,null,null,null,null,null,null,null,null,null,"","","","","","","","","","","","","","","","","","","",""]
["Task Environment",null,"Lead Paint",null,{"$f":"IF(F14=\"\",0,MAX(E$4:E13)+1)","v":0},"",2,null,null,null,null,null,null,null,null,null,null,null,null,null,null,"X",null,null,null,null,null,"X",null,null,null,null,null,null,null,null,null,null,null,null,null,null,null,null,null,null,null,null,null,null,null,null,null,null,null,null,null,null,null,null,null,null,null,null,null,null,null,null,null,null,null,null,null,null,null,null,null,null,null,null,null,null,null,null,null,null,null,null,null,null,null,null,null,null,null,null,null,null,null,null,null,null,null,null,null,null,null,{"$f":"IF(TaskEnv_11=\"-\",\"N\",IF(TaskEnv_11=\"\",\"N\",IF(TaskEnv_11_Sel=\"\",\"N\",\"Y\")))","v":"N"},"","","","","","","","","","","","","","","","","","","","","","","","","","","","","","","","","","","","","","","","","","","","","","","","","","","","","","","","","","","","","","","","","","","","","","","","","","","","","","","","","","","","","","","","","","","","","","","","","","","","","",null,null,null,null,null,null,null,"X",null,null,null,null,null,null,null,null,null," ",null,null,null,null,"","","","","","","","","","","","","","","","","","","",""]
[null,null,"Lightning",null,{"$f":"IF(F15=\"\",0,MAX(E$4:E14)+1)","v":0},"",0,null,null,null,null,null,null,null,null,null,null,null,null,null,null,null,null,null,null,null,null,null,null,null,null,null,null,null,null,null,null,null,null,null,null,null,null,null,null,null,null,null,null,null,null,null,null,null,null,null,null,null,null,null,null,null,null,null,null,null,null,null,null,null,null,null,null,null,null,null,null,null,null,null,null,null,null,null,null,null,null,null,null,null,null,null,null,null,null,null,null,null,null,null,null,null,null,null,null,null,null,{"$f":"IF(TaskEnv_12=\"-\",\"N\",IF(TaskEnv_12=\"\",\"N\",IF(TaskEnv_12_Sel=\"\",\"N\",\"Y\")))","v":"N"},"","","","","","","","","","","","","","","","","","","","","","","","","","","","","","","","","","","","","","","","","","","","","","","","","","","","","","","","","","","","","","","","","","","","","","","","","","","","","","","","","","","","","","","","","","","","","","","","","","","","","",null,null,null,null,null,null,null,null,null,null,null,null,null,null,null,null,null,null,null,null,null,null,"","","","","","","","","","","","","","","","","","","",""]
[null,null,"Low Lighting",null,{"$f":"IF(F16=\"\",0,MAX(E$4:E15)+1)","v":0},"",1,null,null,null,null,null,null,null,null,null,null,null,null,null,null,null,null,null,"X",null,null,null,null,null,null,null,null,null,null,null,null,null,null,null,null,null,null,null,null,null,null,null,null,null,null,null,null,null,null,null,null,null,null,null,null,null,null,null,null,null,null,null,null,null,null,null,null,null,null,null,null,null,null,null,null,null,null,null,null,null,null,null,null,null,null,null,null,null,null,null,null,null,null,null,null,null,null,null,null,null,null,{"$f":"IF(TaskEnv_13=\"-\",\"N\",IF(TaskEnv_13=\"\",\"N\",IF(TaskEnv_13_Sel=\"\",\"N\",\"Y\")))","v":"N"},"","","","","","","","","","","","","","","","","","","","","","","","","","","","","","","","","","","","","","","","","","","","","","","","","","","","","","","","","","","","","","","","","","","","","","","","","","","","","","","","","","","","","","","","","","","","","","","","","","","","","",null,null,null,null,null,null,null,null,null,null,null,null,null,null,null,null,null,null,null,null,null,null,"","","","","","","","","","","","","","","","","","","",""]
[null,null,"Pedestrian Traffic",null,{"$f":"IF(F17=\"\",0,MAX(E$4:E16)+1)","v":0},"",2,null,null,null,null,"X",null,null,null,null,null,null,null,null,null,null,null,null,null,null,null,null,null,null,null,null,null,null,null,null,null,null,null,null,null,null,null,null,null,null,null,null,null,null,null,null,null,null,null,null,null,null,null,null,null,null,null,null,null,null,null,null,null,null,null,null,null,null,null,null,null,null,null,null,null,null,null,null,null,null,null,null,null,null,null,null,null,null,null,null,null,null,null,null,null,null,null,null,null,null,null,{"$f":"IF(TaskEnv_14=\"-\",\"N\",IF(TaskEnv_14=\"\",\"N\",IF(TaskEnv_14_Sel=\"\",\"N\",\"Y\")))","v":"N"},"","","","","","","","","","","","","","","","","","","","","","","","","","","","","","","","","","","","","","","","","","","","","","","","","","","","","","","","","","","","","","","","","","","","","","","","","","","","","","","","","","","","","","","","","","","","","","","","","","","","","",null,null,null,"X",null,null,null,null,null,null,null,null,null,null,null,null,null,null,null,null,null,null,"","","","","","","","","","","","","","","","","","","",""]
[null,null,"Scaling Rock",null,{"$f":"IF(F18=\"\",0,MAX(E$4:E17)+1)","v":0},"",2,null,null,null,null,null,null,null,"X",null,null,null,null,null,null,null,"X",null,null,null,null,null,null,null,null,null,null,null,null,null,null,null,null,null,null,null,null,null,null,null,null,null,null,null,null,null,null,null,null,null,null,null,null,null,null,null,null,null,null,null,null,null,null,null,null,null,null,null,null,null,null,null,null,null,null,null,null,null,null,null,null,null,null,null,null,null,null,null,null,null,null,null,null,null,null,null,null,null,null,null,null,{"$f":"IF(TaskEnv_15=\"-\",\"N\",IF(TaskEnv_15=\"\",\"N\",IF(TaskEnv_15_Sel=\"\",\"N\",\"Y\")))","v":"N"},"","","","","","","","","","","","","","","","","","","","","","","","","","","","","","","","","","","","","","","","","","","","","","","","","","","","","","","","","","","","","","","","","","","","","","","","","","","","","","","","","","","","","","","","","","","","","","","","","","","","","",null,null,null,null,null,null,null,null,null,null,"X",null,null,"X",null,null,null,null,null,null,null,null,"","","","","","","","","","","","","","","","","","","",""]
[null,null,"Snow / Ice",null,{"$f":"IF(F19=\"\",0,MAX(E$4:E18)+1)","v":0},"",1,null,"X",null,null,null,null,null,null,null,null,null,null,null,null,null,null,null,null,null,null,null,null,null,null,null,null,null,null,null,null,null,null,null,null,null,null,null,null,null,null,null,null,null,null,null,null,null,null,null,null,null,null,null,null,null,null,null,null,null,null,null,null,null,null,null,null,null,null,null,null,null,null,null,null,null,null,null,null,null,null,null,null,null,null,null,null,null,null,null,null,null,null,null,null,null,null,null,null,null,null,{"$f":"IF(TaskEnv_16=\"-\",\"N\",IF(TaskEnv_16=\"\",\"N\",IF(TaskEnv_16_Sel=\"\",\"N\",\"Y\")))","v":"N"},"","","","","","","","","","","","","","","","","","","","","","","","","","","","","","","","","","","","","","","","","","","","","","","","","","","","","","","","","","","","","","","","","","","","","","","","","","","","","","","","","","","","","","","","","","","","","","","","","","","","","",null,null,null,null,null,null,null,null,null,null,null,null,null,null,null,null,null,null,null,null,null,null,"","","","","","","","","","","","","","","","","","","",""]
[null,null,"Train Car",null,{"$f":"IF(F20=\"\",0,MAX(E$4:E19)+1)","v":0},"",3,null,null,null,null,"X",null,null,null,null,null,null,null,null,null,null,null,null,null,null,null,null,null,null,null,"X",null,null,null,null,null,null,null,null,null,null,null,null,null,null,null,null,null,null,null,null,null,null,null,null,null,null,null,null,null,null,null,null,null,null,null,null,null,null,null,null,null,null,null,null,null,null,null,null,null,null,null,null,null,null,null,null,null,null,null,null,null,null,null,null,null,null,null,null,null,null,null,null,null,null,null,{"$f":"IF(TaskEnv_17=\"-\",\"N\",IF(TaskEnv_17=\"\",\"N\",IF(TaskEnv_17_Sel=\"\",\"N\",\"Y\")))","v":"N"},"","","","","","","","","","","","","","","","","","","","","","","","","","","","","","","","","","","","","","","","","","","","","","","","","","","","","","","","","","","","","","","","","","","","","","","","","","","","","","","","","","","","","","","","","","","","","","","","","","","","","",null,null,null,"X",null,null,null,null,null,null,"X",null,null,null,null,null,null,null,null,null,null,null,"","","","","","","","","","","","","","","","","","","",""]
[null,null,"Underground Work",null,{"$f":"IF(F21=\"\",0,MAX(E$4:E20)+1)","v":0},"",4,null,null,null,null,null,null,null,null,null,null,null,null,null,null,null,"X",null,null,null,null,null,null,null,null,null,null,null,null,null,null,null,null,null,null,null,null,null,null,null,null,null,null,null,null,null,null,null,null,null,null,null,null,null,null,null,null,null,null,null,null,null,null,null,null,null,null,null,null,null,null,null,null,null,null,null,null,null,null,null,null,null,null,null,null,null,null,null,null,null,null,null,null,null,null,null,null,null,null,null,null,{"$f":"IF(TaskEnv_18=\"-\",\"N\",IF(TaskEnv_18=\"\",\"N\",IF(TaskEnv_18_Sel=\"\",\"N\",\"Y\")))","v":"N"},"","","","","","","","","","","","","","","","","","","","","","","","","","","","","","","","","","","","","","","","","","","","","","","","","","","","","","","","","","","","","","","","","","","","","","","","","","","","","","","","","","","","","","","","","","","","","","","","","","","","","",null,null,"X",null,"X","X",null,null,null,null,"X",null,null,"X",null,null,null,null,null,null,null,null,"","","","","","","","","","","","","","","","","","","",""]
[null,null,"Utilities - above ground",null,{"$f":"IF(F22=\"\",0,MAX(E$4:E21)+1)","v":0},"",1,null,null,null,null,null,null,null,null,null,null,null,null,null,null,null,null,null,null,null,null,null,null,null,null,null,null,null,null,null,null,null,null,null,null,null,null,null,null,null,null,null,null,null,null,null,null,null,null,null,null,null,null,null,null,null,null,null,null,null,null,null,null,null,null,null,null,null,null,null,null,null,null,null,null,null,null,null,null,null,null,null,null,null,null,null,null,null,null,null,null,null,null,null,null,null,null,null,null,null,null,{"$f":"IF(TaskEnv_19=\"-\",\"N\",IF(TaskEnv_19=\"\",\"N\",IF(TaskEnv_19_Sel=\"\",\"N\",\"Y\")))","v":"N"},"","","","","","","","","","","","","","","","","","","","","","","","","","","","","","","","","","","","","","","","","","","","","","","","","","","","","","","","","","","","","","","","","","","","","","","","","","","","","","","","","","","","","","","","","","","","","","","","","","","","","",null,null,null,null,"X",null,null,null,null,null,null,null,null,null,null,null,null,null,null,null,null,null,"","","","","","","","","","","","","","","","","","","",""]
[null,null,"Utilities - below ground",null,{"$f":"IF(F23=\"\",0,MAX(E$4:E22)+1)","v":0},"",3,null,null,null,null,null,null,null,null,null,null,"X",null,null,null,null,"X",null,null,null,null,null,null,null,null,null,null,null,null,null,null,null,null,null,null,null,null,null,null,null,null,null,null,null,null,null,null,null,null,null,null,null,null,null,null,null,null,null,null,null,null,null,null,null,null,null,null,null,null,null,null,null,null,null,null,null,null,null,null,null,null,null,null,null,null,null,null,null,null,null,null,null,null,null,null,null,null,null,null,null,null,{"$f":"IF(TaskEnv_20=\"-\",\"N\",IF(TaskEnv_20=\"\",\"N\",IF(TaskEnv_20_Sel=\"\",\"N\",\"Y\")))","v":"N"},"","","","","","","","","","","","","","","","","","","","","","","","","","","","","","","","","","","","","","","","","","","","","","","","","","","","","","","","","","","","","","","","","","","","","","","","","","","","","","","","","","","","","","","","","","","","","","","","","","","","","",null,null,null,null,"X",null,null,null,null,null,null,null,null,null,null,null,null,null,null,null,null,null,"","","","","","","","","","","","","","","","","","","",""]
["Task Environment",null,"Vehicular Emissions",null,{"$f":"IF(F24=\"\",0,MAX(E$4:E23)+1)","v":0},"",1,null,null,null,null,null,null,null,null,null,"X",null,null,null,null,null,null,null,null,null,null,null,null,null,null,null,null,null,null,null,null,null,null,null,null,null,null,null,null,null,null,null,null,null,null,null,null,null,null,null,null,null,null,null,null,null,null,null,null,null,null,null,null,null,null,null,null,null,null,null,null,null,null,null,null,null,null,null,null,null,null,null,null,null,null,null,null,null,null,null,null,null,null,null,null,null,null,null,null,null,null,{"$f":"IF(TaskEnv_21=\"-\",\"N\",IF(TaskEnv_21=\"\",\"N\",IF(TaskEnv_21_Sel=\"\",\"N\",\"Y\")))","v":"N"},"","","","","","","","","","","","","","","","","","","","","","","","","","","","","","","","","","","","","","","","","","","","","","","","","","","","","","","","","","","","","","","","","","","","","","","","","","","","","","","","","","","","","","","","","","","","","","","","","","","","","",null,null,null,null,null,null,null,null,null,null,null,"X",null,null,null,null,null,null,null,null,null,null,"","","","","","","","","","","","","","","","","","","",""]
[null,null,"Vehicular Noise",null,{"$f":"IF(F25=\"\",0,MAX(E$4:E24)+1)","v":0},"",2,null,null,null,null,null,null,null,"X",null,"X",null,null,null,null,null,null,null,null,null,null,null,null,null,null,null,null,null,null,null,null,null,null,null,null,null,null,null,null,null,null,null,null,null,null,null,null,null,null,null,null,null,null,null,null,null,null,null,null,null,null,null,null,null,null,null,null,null,null,null,null,null,null,null,null,null,null,null,null,null,null,null,null,null,null,null,null,null,null,null,null,null,null,null,null,null,null,null,null,null,null,{"$f":"IF(TaskEnv_22=\"-\",\"N\",IF(TaskEnv_22=\"\",\"N\",IF(TaskEnv_22_Sel=\"\",\"N\",\"Y\")))","v":"N"},"","","","","","","","","","","","","","","","","","","","","","","","","","","","","","","","","","","","","","","","","","","","","","","","","","","","","","","","","","","","","","","","","","","","","","","","","","","","","","","","","","","","","","","","","","","","","","","","","","","","","",null,null,null,null,null,null,null,null,null,null,"X",null,null,null,null,null,null,null,null,null,null,null,"","","","","","","","","","","","","","","","","","","",""]
[null,null,"Vehicular Traffic",null,{"$f":"IF(F26=\"\",0,MAX(E$4:E25)+1)","v":0},"",4,null,null,null,null,"X",null,null,null,null,"X",null,null,null,null,null,null,"X",null,null,null,null,null,null,null,null,null,null,null,null,null,null,null,null,null,null,null,null,null,null,null,null,null,null,null,null,null,null,null,null,null,null,null,null,null,null,null,null,null,null,null,null,null,null,null,null,null,null,null,null,null,null,null,null,null,null,null,null,null,null,null,null,null,null,null,null,null,null,null,null,null,null,null,null,null,null,null,null,null,null,null,{"$f":"IF(TaskEnv_23=\"-\",\"N\",IF(TaskEnv_23=\"\",\"N\",IF(TaskEnv_23_Sel=\"\",\"N\",\"Y\")))","v":"N"},"","","","","","","","","","","","","","","","","","","","","","","","","","","","","","","","","","","","","","","","","","","","","","","","","","","","","","","","","","","","","","","","","","","","","","","","","","","","","","","","","","","","","","","","","","","","","","","","","","","","","",null,null,null,"X",null,null,null,null,null,null,null,null,null,null,null,null,null,null,null,null,null,null,"","","","","","","","","","","","","","","","","","","",""]
[null,null,"Wet Ground",null,{"$f":"IF(F27=\"\",0,MAX(E$4:E26)+1)","v":0},"",1,null,"X",null,null,null,null,null,null,null,null,null,null,null,null,null,null,null,null,null,null,null,null,null,null,null,null,null,null,null,null,null,null,null,null,null,null,null,null,null,null,null,null,null,null,null,null,null,null,null,null,null,null,null,null,null,null,null,null,null,null,null,null,null,null,null,null,null,null,null,null,null,null,null,null,null,null,null,null,null,null,null,null,null,null,null,null,null,null,null,null,null,null,null,null,null,null,null,null,null,null,{"$f":"IF(TaskEnv_24=\"-\",\"N\",IF(TaskEnv_24=\"\",\"N\",IF(TaskEnv_24_Sel=\"\",\"N\",\"Y\")))","v":"N"},"","","","","","","","","","","","","","","","","","","","","","","","","","","","","","","","","","","","","","","","","","","","","","","","","","","","","","","","","","","","","","","","","","","","","","","","","","","","","","","","","","","","","","","","","","","","","","","","","","","","","",null,null,null,null,null,null,null,null,null,null,null,null,null,"X",null,null,null,null,null,null,null,null,"","","","","","","","","","","","","","","","","","","",""]
[null,null,"-",null,{"$f":"IF(F28=\"\",0,MAX(E$4:E27)+1)","v":0},{"$f":"IF(D28=\"\",\"\",IF(DD28=\"N\",\"\",CONCATENATE(D28,\" (\",C28,\"), \")))","v":""},{"$f":"COUNTIF(H28:HH28,\"x\")","v":0},null,null,null,null,null,null,null,null,null,null,null,null,null,null,null,null,null,null,null,null,null,null,null,null,null,null,null,null,null,null,null,null,null,null,null,null,null,null,null,null,null,null,null,null,null,null,null,null,null,null,null,null,null,null,null,null,null,null,null,null,null,null,null,null,null,null,null,null,null,null,null,null,null,null,null,null,null,null,null,null,null,null,null,null,null,null,null,null,null,null,null,null,null,null,null,null,null,null,null,null,{"$f":"IF(TaskEnv_25=\"-\",\"N\",IF(TaskEnv_25=\"\",\"N\",IF(TaskEnv_25_Sel=\"\",\"N\",\"Y\")))","v":"N"},{"$f":"IF($DD28=\"Y\",IF(H28=\"X\",CONCATENATE($C28,\", \"),\"\"),\"\")","v":""},{"$f":"IF($DD28=\"Y\",IF(I28=\"X\",CONCATENATE($C28,\", \"),\"\"),\"\")","v":""},{"$f":"IF($DD28=\"Y\",IF(J28=\"X\",CONCATENATE($C28,\", \"),\"\"),\"\")","v":""},{"$f":"IF($DD28=\"Y\",IF(K28=\"X\",CONCATENATE($C28,\", \"),\"\"),\"\")","v":""},{"$f":"IF($DD28=\"Y\",IF(L28=\"X\",CONCATENATE($C28,\", \"),\"\"),\"\")","v":""},{"$f":"IF($DD28=\"Y\",IF(M28=\"X\",CONCATENATE($C28,\", \"),\"\"),\"\")","v":""},{"$f":"IF($DD28=\"Y\",IF(N28=\"X\",CONCATENATE($C28,\", \"),\"\"),\"\")","v":""},{"$f":"IF($DD28=\"Y\",IF(O28=\"X\",CONCATENATE($C28,\", \"),\"\"),\"\")","v":""},{"$f":"IF($DD28=\"Y\",IF(P28=\"X\",CONCATENATE($C28,\", \"),\"\"),\"\")","v":""},{"$f":"IF($DD28=\"Y\",IF(Q28=\"X\",CONCATENATE($C28,\", \"),\"\"),\"\")","v":""},{"$f":"IF($DD28=\"Y\",IF(R28=\"X\",CONCATENATE($C28,\", \"),\"\"),\"\")","v":""},{"$f":"IF($DD28=\"Y\",IF(S28=\"X\",CONCATENATE($C28,\", \"),\"\"),\"\")","v":""},{"$f":"IF($DD28=\"Y\",IF(T28=\"X\",CONCATENATE($C28,\", \"),\"\"),\"\")","v":""},{"$f":"IF($DD28=\"Y\",IF(U28=\"X\",CONCATENATE($C28,\", \"),\"\"),\"\")","v":""},{"$f":"IF($DD28=\"Y\",IF(V28=\"X\",CONCATENATE($C28,\", \"),\"\"),\"\")","v":""},{"$f":"IF($DD28=\"Y\",IF(W28=\"X\",CONCATENATE($C28,\", \"),\"\"),\"\")","v":""},{"$f":"IF($DD28=\"Y\",IF(X28=\"X\",CONCATENATE($C28,\", \"),\"\"),\"\")","v":""},{"$f":"IF($DD28=\"Y\",IF(Y28=\"X\",CONCATENATE($C28,\", \"),\"\"),\"\")","v":""},{"$f":"IF($DD28=\"Y\",IF(Z28=\"X\",CONCATENATE($C28,\", \"),\"\"),\"\")","v":""},{"$f":"IF($DD28=\"Y\",IF(AA28=\"X\",CONCATENATE($C28,\", \"),\"\"),\"\")","v":""},{"$f":"IF($DD28=\"Y\",IF(AB28=\"X\",CONCATENATE($C28,\", \"),\"\"),\"\")","v":""},{"$f":"IF($DD28=\"Y\",IF(AC28=\"X\",CONCATENATE($C28,\", \"),\"\"),\"\")","v":""},{"$f":"IF($DD28=\"Y\",IF(AD28=\"X\",CONCATENATE($C28,\", \"),\"\"),\"\")","v":""},{"$f":"IF($DD28=\"Y\",IF(AE28=\"X\",CONCATENATE($C28,\", \"),\"\"),\"\")","v":""},{"$f":"IF($DD28=\"Y\",IF(AF28=\"X\",CONCATENATE($C28,\", \"),\"\"),\"\")","v":""},{"$f":"IF($DD28=\"Y\",IF(AG28=\"X\",CONCATENATE($C28,\", \"),\"\"),\"\")","v":""},{"$f":"IF($DD28=\"Y\",IF(AH28=\"X\",CONCATENATE($C28,\", \"),\"\"),\"\")","v":""},{"$f":"IF($DD28=\"Y\",IF(AI28=\"X\",CONCATENATE($C28,\", \"),\"\"),\"\")","v":""},{"$f":"IF($DD28=\"Y\",IF(AJ28=\"X\",CONCATENATE($C28,\", \"),\"\"),\"\")","v":""},{"$f":"IF($DD28=\"Y\",IF(AK28=\"X\",CONCATENATE($C28,\", \"),\"\"),\"\")","v":""},{"$f":"IF($DD28=\"Y\",IF(AL28=\"X\",CONCATENATE($C28,\", \"),\"\"),\"\")","v":""},{"$f":"IF($DD28=\"Y\",IF(AM28=\"X\",CONCATENATE($C28,\", \"),\"\"),\"\")","v":""},{"$f":"IF($DD28=\"Y\",IF(AN28=\"X\",CONCATENATE($C28,\", \"),\"\"),\"\")","v":""},{"$f":"IF($DD28=\"Y\",IF(AO28=\"X\",CONCATENATE($C28,\", \"),\"\"),\"\")","v":""},{"$f":"IF($DD28=\"Y\",IF(AP28=\"X\",CONCATENATE($C28,\", \"),\"\"),\"\")","v":""},{"$f":"IF($DD28=\"Y\",IF(AQ28=\"X\",CONCATENATE($C28,\", \"),\"\"),\"\")","v":""},{"$f":"IF($DD28=\"Y\",IF(AR28=\"X\",CONCATENATE($C28,\", \"),\"\"),\"\")","v":""},{"$f":"IF($DD28=\"Y\",IF(AS28=\"X\",CONCATENATE($C28,\", \"),\"\"),\"\")","v":""},{"$f":"IF($DD28=\"Y\",IF(AT28=\"X\",CONCATENATE($C28,\", \"),\"\"),\"\")","v":""},{"$f":"IF($DD28=\"Y\",IF(AU28=\"X\",CONCATENATE($C28,\", \"),\"\"),\"\")","v":""},{"$f":"IF($DD28=\"Y\",IF(AV28=\"X\",CONCATENATE($C28,\", \"),\"\"),\"\")","v":""},{"$f":"IF($DD28=\"Y\",IF(AW28=\"X\",CONCATENATE($C28,\", \"),\"\"),\"\")","v":""},{"$f":"IF($DD28=\"Y\",IF(AX28=\"X\",CONCATENATE($C28,\", \"),\"\"),\"\")","v":""},{"$f":"IF($DD28=\"Y\",IF(AY28=\"X\",CONCATENATE($C28,\", \"),\"\"),\"\")","v":""},{"$f":"IF($DD28=\"Y\",IF(AZ28=\"X\",CONCATENATE($C28,\", \"),\"\"),\"\")","v":""},{"$f":"IF($DD28=\"Y\",IF(BA28=\"X\",CONCATENATE($C28,\", \"),\"\"),\"\")","v":""},{"$f":"IF($DD28=\"Y\",IF(BB28=\"X\",CONCATENATE($C28,\", \"),\"\"),\"\")","v":""},{"$f":"IF($DD28=\"Y\",IF(BC28=\"X\",CONCATENATE($C28,\", \"),\"\"),\"\")","v":""},{"$f":"IF($DD28=\"Y\",IF(BD28=\"X\",CONCATENATE($C28,\", \"),\"\"),\"\")","v":""},{"$f":"IF($DD28=\"Y\",IF(BE28=\"X\",CONCATENATE($C28,\", \"),\"\"),\"\")","v":""},{"$f":"IF($DD28=\"Y\",IF(BF28=\"X\",CONCATENATE($C28,\", \"),\"\"),\"\")","v":""},{"$f":"IF($DD28=\"Y\",IF(BG28=\"X\",CONCATENATE($C28,\", \"),\"\"),\"\")","v":""},{"$f":"IF($DD28=\"Y\",IF(BH28=\"X\",CONCATENATE($C28,\", \"),\"\"),\"\")","v":""},{"$f":"IF($DD28=\"Y\",IF(BI28=\"X\",CONCATENATE($C28,\", \"),\"\"),\"\")","v":""},{"$f":"IF($DD28=\"Y\",IF(BJ28=\"X\",CONCATENATE($C28,\", \"),\"\"),\"\")","v":""},{"$f":"IF($DD28=\"Y\",IF(BK28=\"X\",CONCATENATE($C28,\", \"),\"\"),\"\")","v":""},{"$f":"IF($DD28=\"Y\",IF(BL28=\"X\",CONCATENATE($C28,\", \"),\"\"),\"\")","v":""},{"$f":"IF($DD28=\"Y\",IF(BM28=\"X\",CONCATENATE($C28,\", \"),\"\"),\"\")","v":""},{"$f":"IF($DD28=\"Y\",IF(BN28=\"X\",CONCATENATE($C28,\", \"),\"\"),\"\")","v":""},{"$f":"IF($DD28=\"Y\",IF(BO28=\"X\",CONCATENATE($C28,\", \"),\"\"),\"\")","v":""},{"$f":"IF($DD28=\"Y\",IF(BP28=\"X\",CONCATENATE($C28,\", \"),\"\"),\"\")","v":""},{"$f":"IF($DD28=\"Y\",IF(BQ28=\"X\",CONCATENATE($C28,\", \"),\"\"),\"\")","v":""},{"$f":"IF($DD28=\"Y\",IF(BR28=\"X\",CONCATENATE($C28,\", \"),\"\"),\"\")","v":""},{"$f":"IF($DD28=\"Y\",IF(BS28=\"X\",CONCATENATE($C28,\", \"),\"\"),\"\")","v":""},{"$f":"IF($DD28=\"Y\",IF(BT28=\"X\",CONCATENATE($C28,\", \"),\"\"),\"\")","v":""},{"$f":"IF($DD28=\"Y\",IF(BU28=\"X\",CONCATENATE($C28,\", \"),\"\"),\"\")","v":""},{"$f":"IF($DD28=\"Y\",IF(BV28=\"X\",CONCATENATE($C28,\", \"),\"\"),\"\")","v":""},{"$f":"IF($DD28=\"Y\",IF(BW28=\"X\",CONCATENATE($C28,\", \"),\"\"),\"\")","v":""},{"$f":"IF($DD28=\"Y\",IF(BX28=\"X\",CONCATENATE($C28,\", \"),\"\"),\"\")","v":""},{"$f":"IF($DD28=\"Y\",IF(BY28=\"X\",CONCATENATE($C28,\", \"),\"\"),\"\")","v":""},{"$f":"IF($DD28=\"Y\",IF(BZ28=\"X\",CONCATENATE($C28,\", \"),\"\"),\"\")","v":""},{"$f":"IF($DD28=\"Y\",IF(CA28=\"X\",CONCATENATE($C28,\", \"),\"\"),\"\")","v":""},{"$f":"IF($DD28=\"Y\",IF(CB28=\"X\",CONCATENATE($C28,\", \"),\"\"),\"\")","v":""},{"$f":"IF($DD28=\"Y\",IF(CC28=\"X\",CONCATENATE($C28,\", \"),\"\"),\"\")","v":""},{"$f":"IF($DD28=\"Y\",IF(CD28=\"X\",CONCATENATE($C28,\", \"),\"\"),\"\")","v":""},{"$f":"IF($DD28=\"Y\",IF(CE28=\"X\",CONCATENATE($C28,\", \"),\"\"),\"\")","v":""},{"$f":"IF($DD28=\"Y\",IF(CF28=\"X\",CONCATENATE($C28,\", \"),\"\"),\"\")","v":""},{"$f":"IF($DD28=\"Y\",IF(CG28=\"X\",CONCATENATE($C28,\", \"),\"\"),\"\")","v":""},{"$f":"IF($DD28=\"Y\",IF(CH28=\"X\",CONCATENATE($C28,\", \"),\"\"),\"\")","v":""},{"$f":"IF($DD28=\"Y\",IF(CI28=\"X\",CONCATENATE($C28,\", \"),\"\"),\"\")","v":""},{"$f":"IF($DD28=\"Y\",IF(CJ28=\"X\",CONCATENATE($C28,\", \"),\"\"),\"\")","v":""},{"$f":"IF($DD28=\"Y\",IF(CK28=\"X\",CONCATENATE($C28,\", \"),\"\"),\"\")","v":""},{"$f":"IF($DD28=\"Y\",IF(CL28=\"X\",CONCATENATE($C28,\", \"),\"\"),\"\")","v":""},{"$f":"IF($DD28=\"Y\",IF(CM28=\"X\",CONCATENATE($C28,\", \"),\"\"),\"\")","v":""},{"$f":"IF($DD28=\"Y\",IF(CN28=\"X\",CONCATENATE($C28,\", \"),\"\"),\"\")","v":""},{"$f":"IF($DD28=\"Y\",IF(CO28=\"X\",CONCATENATE($C28,\", \"),\"\"),\"\")","v":""},{"$f":"IF($DD28=\"Y\",IF(CP28=\"X\",CONCATENATE($C28,\", \"),\"\"),\"\")","v":""},{"$f":"IF($DD28=\"Y\",IF(CQ28=\"X\",CONCATENATE($C28,\", \"),\"\"),\"\")","v":""},{"$f":"IF($DD28=\"Y\",IF(CR28=\"X\",CONCATENATE($C28,\", \"),\"\"),\"\")","v":""},{"$f":"IF($DD28=\"Y\",IF(CS28=\"X\",CONCATENATE($C28,\", \"),\"\"),\"\")","v":""},{"$f":"IF($DD28=\"Y\",IF(CT28=\"X\",CONCATENATE($C28,\", \"),\"\"),\"\")","v":""},{"$f":"IF($DD28=\"Y\",IF(CU28=\"X\",CONCATENATE($C28,\", \"),\"\"),\"\")","v":""},{"$f":"IF($DD28=\"Y\",IF(CV28=\"X\",CONCATENATE($C28,\", \"),\"\"),\"\")","v":""},{"$f":"IF($DD28=\"Y\",IF(CW28=\"X\",CONCATENATE($C28,\", \"),\"\"),\"\")","v":""},{"$f":"IF($DD28=\"Y\",IF(CX28=\"X\",CONCATENATE($C28,\", \"),\"\"),\"\")","v":""},{"$f":"IF($DD28=\"Y\",IF(CY28=\"X\",CONCATENATE($C28,\", \"),\"\"),\"\")","v":""},{"$f":"IF($DD28=\"Y\",IF(CZ28=\"X\",CONCATENATE($C28,\", \"),\"\"),\"\")","v":""},{"$f":"IF($DD28=\"Y\",IF(DA28=\"X\",CONCATENATE($C28,\", \"),\"\"),\"\")","v":""},{"$f":"IF($DD28=\"Y\",IF(DB28=\"X\",CONCATENATE($C28,\", \"),\"\"),\"\")","v":""},{"$f":"IF($DD28=\"Y\",IF(DC28=\"X\",CONCATENATE($C28,\", \"),\"\"),\"\")","v":""},{"$f":"IF(DD28=\"Y\",CONCATENATE(C28,\", \"),\"\")","v":""},null,null,null,null,null,null,null,null,null,null,null,null,null,null,null,null,null,null,null,null,null,null,{"$f":"IF($DD28=\"Y\",HD28,\"\")","v":""},{"$f":"IF($DD28=\"Y\",HE28,\"\")","v":""},{"$f":"IF($DD28=\"Y\",HF28,\"\")","v":""},{"$f":"IF($DD28=\"Y\",HG28,\"\")","v":""},{"$f":"IF($DD28=\"Y\",HH28,\"\")","v":""},{"$f":"IF($DD28=\"Y\",HI28,\"\")","v":""},{"$f":"IF($DD28=\"Y\",HJ28,\"\")","v":""},{"$f":"IF($DD28=\"Y\",HK28,\"\")","v":""},{"$f":"IF($DD28=\"Y\",HL28,\"\")","v":""},{"$f":"IF($DD28=\"Y\",HM28,\"\")","v":""},{"$f":"IF($DD28=\"Y\",HN28,\"\")","v":""},{"$f":"IF($DD28=\"Y\",HO28,\"\")","v":""},{"$f":"IF($DD28=\"Y\",HP28,\"\")","v":""},{"$f":"IF($DD28=\"Y\",HQ28,\"\")","v":""},{"$f":"IF($DD28=\"Y\",HR28,\"\")","v":""},{"$f":"IF($DD28=\"Y\",HS28,\"\")","v":""},{"$f":"IF($DD28=\"Y\",HT28,\"\")","v":""},{"$f":"IF($DD28=\"Y\",HU28,\"\")","v":""},{"$f":"IF($DD28=\"Y\",HV28,\"\")","v":""},{"$f":"IF($DD28=\"Y\",HW28,\"\")","v":""}]
[null,null,"-",null,{"$f":"IF(F29=\"\",0,MAX(E$4:E28)+1)","v":0},"",0,null,null,null,null,null,null,null,null,null,null,null,null,null,null,null,null,null,null,null,null,null,null,null,null,null,null,null,null,null,null,null,null,null,null,null,null,null,null,null,null,null,null,null,null,null,null,null,null,null,null,null,null,null,null,null,null,null,null,null,null,null,null,null,null,null,null,null,null,null,null,null,null,null,null,null,null,null,null,null,null,null,null,null,null,null,null,null,null,null,null,null,null,null,null,null,null,null,null,null,null,{"$f":"IF(TaskEnv_26=\"-\",\"N\",IF(TaskEnv_26=\"\",\"N\",IF(TaskEnv_26_Sel=\"\",\"N\",\"Y\")))","v":"N"},"","","","","","","","","","","","","","","","","","","","","","","","","","","","","","","","","","","","","","","","","","","","","","","","","","","","","","","","","","","","","","","","","","","","","","","","","","","","","","","","","","","","","","","","","","","","","","","","","","","","","",null,null,null,null,null,null,null,null,null,null,null,null,null,null,null,null,null,null,null,null,null,null,"","","","","","","","","","","","","","","","","","","",""]
[null,null,"-",null,{"$f":"IF(F30=\"\",0,MAX(E$4:E29)+1)","v":0},"",0,null,null,null,null,null,null,null,null,null,null,null,null,null,null,null,null,null,null,null,null,null,null,null,null,null,null,null,null,null,null,null,null,null,null,null,null,null,null,null,null,null,null,null,null,null,null,null,null,null,null,null,null,null,null,null,null,null,null,null,null,null,null,null,null,null,null,null,null,null,null,null,null,null,null,null,null,null,null,null,null,null,null,null,null,null,null,null,null,null,null,null,null,null,null,null,null,null,null,null,null,{"$f":"IF(TaskEnv_27=\"-\",\"N\",IF(TaskEnv_27=\"\",\"N\",IF(TaskEnv_27_Sel=\"\",\"N\",\"Y\")))","v":"N"},"","","","","","","","","","","","","","","","","","","","","","","","","","","","","","","","","","","","","","","","","","","","","","","","","","","","","","","","","","","","","","","","","","","","","","","","","","","","","","","","","","","","","","","","","","","","","","","","","","","","","",null,null,null,null,null,null,null,null,null,null,null,null,null,null,null,null,null,null,null,null,null,null,"","","","","","","","","","","","","","","","","","","",""]
[null,null,"-",null,{"$f":"IF(F31=\"\",0,MAX(E$4:E30)+1)","v":0},"",0,null,null,null,null,null,null,null,null,null,null,null,null,null,null,null,null,null,null,null,null,null,null,null,null,null,null,null,null,null,null,null,null,null,null,null,null,null,null,null,null,null,null,null,null,null,null,null,null,null,null,null,null,null,null,null,null,null,null,null,null,null,null,null,null,null,null,null,null,null,null,null,null,null,null,null,null,null,null,null,null,null,null,null,null,null,null,null,null,null,null,null,null,null,null,null,null,null,null,null,null,{"$f":"IF(TaskEnv_28=\"-\",\"N\",IF(TaskEnv_28=\"\",\"N\",IF(TaskEnv_28_Sel=\"\",\"N\",\"Y\")))","v":"N"},"","","","","","","","","","","","","","","","","","","","","","","","","","","","","","","","","","","","","","","","","","","","","","","","","","","","","","","","","","","","","","","","","","","","","","","","","","","","","","","","","","","","","","","","","","","","","","","","","","","","","",null,null,null,null,null,null,null,null,null,null,null,null,null,null,null,null,null,null,null,null,null,null,"","","","","","","","","","","","","","","","","","","",""]
[null,null,"-",null,{"$f":"IF(F32=\"\",0,MAX(E$4:E31)+1)","v":0},"",0,null,null,null,null,null,null,null,null,null,null,null,null,null,null,null,null,null,null,null,null,null,null,null,null,null,null,null,null,null,null,null,null,null,null,null,null,null,null,null,null,null,null,null,null,null,null,null,null,null,null,null,null,null,null,null,null,null,null,null,null,null,null,null,null,null,null,null,null,null,null,null,null,null,null,null,null,null,null,null,null,null,null,null,null,null,null,null,null,null,null,null,null,null,null,null,null,null,null,null,null,{"$f":"IF(TaskEnv_29=\"-\",\"N\",IF(TaskEnv_29=\"\",\"N\",IF(TaskEnv_29_Sel=\"\",\"N\",\"Y\")))","v":"N"},"","","","","","","","","","","","","","","","","","","","","","","","","","","","","","","","","","","","","","","","","","","","","","","","","","","","","","","","","","","","","","","","","","","","","","","","","","","","","","","","","","","","","","","","","","","","","","","","","","","","","",null,null,null,null,null,null,null,null,null,null,null,null,null,null,null,null,null,null,null,null,null,null,"","","","","","","","","","","","","","","","","","","",""]
[null,null,"-",null,{"$f":"IF(F33=\"\",0,MAX(E$4:E32)+1)","v":0},"",0,null,null,null,null,null,null,null,null,null,null,null,null,null,null,null,null,null,null,null,null,null,null,null,null,null,null,null,null,null,null,null,null,null,null,null,null,null,null,null,null,null,null,null,null,null,null,null,null,null,null,null,null,null,null,null,null,null,null,null,null,null,null,null,null,null,null,null,null,null,null,null,null,null,null,null,null,null,null,null,null,null,null,null,null,null,null,null,null,null,null,null,null,null,null,null,null,null,null,null,null,{"$f":"IF(TaskEnv_30=\"-\",\"N\",IF(TaskEnv_30=\"\",\"N\",IF(TaskEnv_30_Sel=\"\",\"N\",\"Y\")))","v":"N"},"","","","","","","","","","","","","","","","","","","","","","","","","","","","","","","","","","","","","","","","","","","","","","","","","","","","","","","","","","","","","","","","","","","","","","","","","","","","","","","","","","","","","","","","","","","","","","","","","","","","","",null,null,null,null,null,null,null,null,null,null,null,null,null,null,null,null,null,null,null,null,null,null,"","","","","","","","","","","","","","","","","","","",""]
["Task Environment",null,"-",null,{"$f":"IF(F34=\"\",0,MAX(E$4:E33)+1)","v":0},"",0,null,null,null,null,null,null,null,null,null,null,null,null,null,null,null,null,null,null,null,null,null,null,null,null,null,null,null,null,null,null,null,null,null,null,null,null,null,null,null,null,null,null,null,null,null,null,null,null,null,null,null,null,null,null,null,null,null,null,null,null,null,null,null,null,null,null,null,null,null,null,null,null,null,null,null,null,null,null,null,null,null,null,null,null,null,null,null,null,null,null,null,null,null,null,null,null,null,null,null,null,{"$f":"IF(TaskEnv_31=\"-\",\"N\",IF(TaskEnv_31=\"\",\"N\",IF(TaskEnv_31_Sel=\"\",\"N\",\"Y\")))","v":"N"},"","","","","","","","","","","","","","","","","","","","","","","","","","","","","","","","","","","","","","","","","","","","","","","","","","","","","","","","","","","","","","","","","","","","","","","","","","","","","","","","","","","","","","","","","","","","","","","","","","","","","",{"$f":"CONCATENATE(HA34,HA35,HA36,HA37,HA38,HA39,HA40,HA41,HA42,HA43)","v":""},null,null,null,null,null,null,null,null,null,null,null,null,null,null,null,null,null,null,null,null,null,"","","","","","","","","","","","","","","","","","","",""]
[null,null,"-",null,{"$f":"IF(F35=\"\",0,MAX(E$4:E34)+1)","v":0},"",0,null,null,null,null,null,null,null,null,null,null,null,null,null,null,null,null,null,null,null,null,null,null,null,null,null,null,null,null,null,null,null,null,null,null,null,null,null,null,null,null,null,null,null,null,null,null,null,null,null,null,null,null,null,null,null,null,null,null,null,null,null,null,null,null,null,null,null,null,null,null,null,null,null,null,null,null,null,null,null,null,null,null,null,null,null,null,null,null,null,null,null,null,null,null,null,null,null,null,null,null,{"$f":"IF(TaskEnv_32=\"-\",\"N\",IF(TaskEnv_32=\"\",\"N\",IF(TaskEnv_32_Sel=\"\",\"N\",\"Y\")))","v":"N"},"","","","","","","","","","","","","","","","","","","","","","","","","","","","","","","","","","","","","","","","","","","","","","","","","","","","","","","","","","","","","","","","","","","","","","","","","","","","","","","","","","","","","","","","","","","","","","","","","","","","","",null,null,null,null,null,null,null,null,null,null,null,null,null,null,null,null,null,null,null,null,null,null,"","","","","","","","","","","","","","","","","","","",""]
[null,null,"-",null,{"$f":"IF(F36=\"\",0,MAX(E$4:E35)+1)","v":0},"",0,null,null,null,null,null,null,null,null,null,null,null,null,null,null,null,null,null,null,null,null,null,null,null,null,null,null,null,null,null,null,null,null,null,null,null,null,null,null,null,null,null,null,null,null,null,null,null,null,null,null,null,null,null,null,null,null,null,null,null,null,null,null,null,null,null,null,null,null,null,null,null,null,null,null,null,null,null,null,null,null,null,null,null,null,null,null,null,null,null,null,null,null,null,null,null,null,null,null,null,null,{"$f":"IF(TaskEnv_33=\"-\",\"N\",IF(TaskEnv_33=\"\",\"N\",IF(TaskEnv_33_Sel=\"\",\"N\",\"Y\")))","v":"N"},"","","","","","","","","","","","","","","","","","","","","","","","","","","","","","","","","","","","","","","","","","","","","","","","","","","","","","","","","","","","","","","","","","","","","","","","","","","","","","","","","","","","","","","","","","","","","","","","","","","","","",null,null,null,null,null,null,null,null,null,null,null,null,null,null,null,null,null,null,null,null,null,null,"","","","","","","","","","","","","","","","","","","",""]
[null,null,"-",null,{"$f":"IF(F37=\"\",0,MAX(E$4:E36)+1)","v":0},"",0,null,null,null,null,null,null,null,null,null,null,null,null,null,null,null,null,null,null,null,null,null,null,null,null,null,null,null,null,null,null,null,null,null,null,null,null,null,null,null,null,null,null,null,null,null,null,null,null,null,null,null,null,null,null,null,null,null,null,null,null,null,null,null,null,null,null,null,null,null,null,null,null,null,null,null,null,null,null,null,null,null,null,null,null,null,null,null,null,null,null,null,null,null,null,null,null,null,null,null,null,{"$f":"IF(TaskEnv_34=\"-\",\"N\",IF(TaskEnv_34=\"\",\"N\",IF(TaskEnv_34_Sel=\"\",\"N\",\"Y\")))","v":"N"},"","","","","","","","","","","","","","","","","","","","","","","","","","","","","","","","","","","","","","","","","","","","","","","","","","","","","","","","","","","","","","","","","","","","","","","","","","","","","","","","","","","","","","","","","","","","","","","","","","","","","",null,null,null,null,null,null,null,null,null,null,null,null,null,null,null,null,null,null,null,null,null,null,"","","","","","","","","","","","","","","","","","","",""]
[null,null,"-",null,{"$f":"IF(F38=\"\",0,MAX(E$4:E37)+1)","v":0},"",0,null,null,null,null,null,null,null,null,null,null,null,null,null,null,null,null,null,null,null,null,null,null,null,null,null,null,null,null,null,null,null,null,null,null,null,null,null,null,null,null,null,null,null,null,null,null,null,null,null,null,null,null,null,null,null,null,null,null,null,null,null,null,null,null,null,null,null,null,null,null,null,null,null,null,null,null,null,null,null,null,null,null,null,null,null,null,null,null,null,null,null,null,null,null,null,null,null,null,null,null,{"$f":"IF(TaskEnv_35=\"-\",\"N\",IF(TaskEnv_35=\"\",\"N\",IF(TaskEnv_35_Sel=\"\",\"N\",\"Y\")))","v":"N"},"","","","","","","","","","","","","","","","","","","","","","","","","","","","","","","","","","","","","","","","","","","","","","","","","","","","","","","","","","","","","","","","","","","","","","","","","","","","","","","","","","","","","","","","","","","","","","","","","","","","","",null,null,null,null,null,null,null,null,null,null,null,null,null,null,null,null,null,null,null,null,null,null,"","","","","","","","","","","","","","","","","","","",""]
[null,null,"-",null,{"$f":"IF(F39=\"\",0,MAX(E$4:E38)+1)","v":0},"",0,null,null,null,null,null,null,null,null,null,null,null,null,null,null,null,null,null,null,null,null,null,null,null,null,null,null,null,null,null,null,null,null,null,null,null,null,null,null,null,null,null,null,null,null,null,null,null,null,null,null,null,null,null,null,null,null,null,null,null,null,null,null,null,null,null,null,null,null,null,null,null,null,null,null,null,null,null,null,null,null,null,null,null,null,null,null,null,null,null,null,null,null,null,null,null,null,null,null,null,null,{"$f":"IF(TaskEnv_36=\"-\",\"N\",IF(TaskEnv_36=\"\",\"N\",IF(TaskEnv_36_Sel=\"\",\"N\",\"Y\")))","v":"N"},"","","","","","","","","","","","","","","","","","","","","","","","","","","","","","","","","","","","","","","","","","","","","","","","","","","","","","","","","","","","","","","",{"$f":"IF($DD39=\"Y\",IF(BS39=\"X\",CONCATENATE($C39,\", \"),\"\"),\"\")","v":""},"","","","","","","","","","","","","","","","","","","","","","","","","","","","","","","","","","","","","",null,null,null,null,null,null,null,null,null,null,null,null,null,null,null,null,null,null,null,null,null,null,"","","","","","","","","","","","","","","","","","","",""]
[null,null,"-",null,{"$f":"IF(F40=\"\",0,MAX(E$4:E39)+1)","v":0},"",0,null,null,null,null,null,null,null,null,null,null,null,null,null,null,null,null,null,null,null,null,null,null,null,null,null,null,null,null,null,null,null,null,null,null,null,null,null,null,null,null,null,null,null,null,null,null,null,null,null,null,null,null,null,null,null,null,null,null,null,null,null,null,null,null,null,null,null,null,null,null,null,null,null,null,null,null,null,null,null,null,null,null,null,null,null,null,null,null,null,null,null,null,null,null,null,null,null,null,null,null,{"$f":"IF(TaskEnv_37=\"-\",\"N\",IF(TaskEnv_37=\"\",\"N\",IF(TaskEnv_37_Sel=\"\",\"N\",\"Y\")))","v":"N"},{"$f":"IF($DD40=\"Y\",IF(H40=\"X\",CONCATENATE($C40,\", \"),\"\"),\"\")","v":""},{"$f":"IF($DD40=\"Y\",IF(I40=\"X\",CONCATENATE($C40,\", \"),\"\"),\"\")","v":""},{"$f":"IF($DD40=\"Y\",IF(J40=\"X\",CONCATENATE($C40,\", \"),\"\"),\"\")","v":""},{"$f":"IF($DD40=\"Y\",IF(K40=\"X\",CONCATENATE($C40,\", \"),\"\"),\"\")","v":""},{"$f":"IF($DD40=\"Y\",IF(L40=\"X\",CONCATENATE($C40,\", \"),\"\"),\"\")","v":""},{"$f":"IF($DD40=\"Y\",IF(M40=\"X\",CONCATENATE($C40,\", \"),\"\"),\"\")","v":""},{"$f":"IF($DD40=\"Y\",IF(N40=\"X\",CONCATENATE($C40,\", \"),\"\"),\"\")","v":""},{"$f":"IF($DD40=\"Y\",IF(O40=\"X\",CONCATENATE($C40,\", \"),\"\"),\"\")","v":""},{"$f":"IF($DD40=\"Y\",IF(P40=\"X\",CONCATENATE($C40,\", \"),\"\"),\"\")","v":""},{"$f":"IF($DD40=\"Y\",IF(Q40=\"X\",CONCATENATE($C40,\", \"),\"\"),\"\")","v":""},{"$f":"IF($DD40=\"Y\",IF(R40=\"X\",CONCATENATE($C40,\", \"),\"\"),\"\")","v":""},{"$f":"IF($DD40=\"Y\",IF(S40=\"X\",CONCATENATE($C40,\", \"),\"\"),\"\")","v":""},{"$f":"IF($DD40=\"Y\",IF(T40=\"X\",CONCATENATE($C40,\", \"),\"\"),\"\")","v":""},{"$f":"IF($DD40=\"Y\",IF(U40=\"X\",CONCATENATE($C40,\", \"),\"\"),\"\")","v":""},{"$f":"IF($DD40=\"Y\",IF(V40=\"X\",CONCATENATE($C40,\", \"),\"\"),\"\")","v":""},{"$f":"IF($DD40=\"Y\",IF(W40=\"X\",CONCATENATE($C40,\", \"),\"\"),\"\")","v":""},{"$f":"IF($DD40=\"Y\",IF(X40=\"X\",CONCATENATE($C40,\", \"),\"\"),\"\")","v":""},{"$f":"IF($DD40=\"Y\",IF(Y40=\"X\",CONCATENATE($C40,\", \"),\"\"),\"\")","v":""},{"$f":"IF($DD40=\"Y\",IF(Z40=\"X\",CONCATENATE($C40,\", \"),\"\"),\"\")","v":""},{"$f":"IF($DD40=\"Y\",IF(AA40=\"X\",CONCATENATE($C40,\", \"),\"\"),\"\")","v":""},{"$f":"IF($DD40=\"Y\",IF(AB40=\"X\",CONCATENATE($C40,\", \"),\"\"),\"\")","v":""},{"$f":"IF($DD40=\"Y\",IF(AC40=\"X\",CONCATENATE($C40,\", \"),\"\"),\"\")","v":""},{"$f":"IF($DD40=\"Y\",IF(AD40=\"X\",CONCATENATE($C40,\", \"),\"\"),\"\")","v":""},{"$f":"IF($DD40=\"Y\",IF(AE40=\"X\",CONCATENATE($C40,\", \"),\"\"),\"\")","v":""},{"$f":"IF($DD40=\"Y\",IF(AF40=\"X\",CONCATENATE($C40,\", \"),\"\"),\"\")","v":""},{"$f":"IF($DD40=\"Y\",IF(AG40=\"X\",CONCATENATE($C40,\", \"),\"\"),\"\")","v":""},{"$f":"IF($DD40=\"Y\",IF(AH40=\"X\",CONCATENATE($C40,\", \"),\"\"),\"\")","v":""},{"$f":"IF($DD40=\"Y\",IF(AI40=\"X\",CONCATENATE($C40,\", \"),\"\"),\"\")","v":""},{"$f":"IF($DD40=\"Y\",IF(AJ40=\"X\",CONCATENATE($C40,\", \"),\"\"),\"\")","v":""},{"$f":"IF($DD40=\"Y\",IF(AK40=\"X\",CONCATENATE($C40,\", \"),\"\"),\"\")","v":""},{"$f":"IF($DD40=\"Y\",IF(AL40=\"X\",CONCATENATE($C40,\", \"),\"\"),\"\")","v":""},{"$f":"IF($DD40=\"Y\",IF(AM40=\"X\",CONCATENATE($C40,\", \"),\"\"),\"\")","v":""},{"$f":"IF($DD40=\"Y\",IF(AN40=\"X\",CONCATENATE($C40,\", \"),\"\"),\"\")","v":""},{"$f":"IF($DD40=\"Y\",IF(AO40=\"X\",CONCATENATE($C40,\", \"),\"\"),\"\")","v":""},{"$f":"IF($DD40=\"Y\",IF(AP40=\"X\",CONCATENATE($C40,\", \"),\"\"),\"\")","v":""},{"$f":"IF($DD40=\"Y\",IF(AQ40=\"X\",CONCATENATE($C40,\", \"),\"\"),\"\")","v":""},{"$f":"IF($DD40=\"Y\",IF(AR40=\"X\",CONCATENATE($C40,\", \"),\"\"),\"\")","v":""},{"$f":"IF($DD40=\"Y\",IF(AS40=\"X\",CONCATENATE($C40,\", \"),\"\"),\"\")","v":""},{"$f":"IF($DD40=\"Y\",IF(AT40=\"X\",CONCATENATE($C40,\", \"),\"\"),\"\")","v":""},{"$f":"IF($DD40=\"Y\",IF(AU40=\"X\",CONCATENATE($C40,\", \"),\"\"),\"\")","v":""},{"$f":"IF($DD40=\"Y\",IF(AV40=\"X\",CONCATENATE($C40,\", \"),\"\"),\"\")","v":""},{"$f":"IF($DD40=\"Y\",IF(AW40=\"X\",CONCATENATE($C40,\", \"),\"\"),\"\")","v":""},{"$f":"IF($DD40=\"Y\",IF(AX40=\"X\",CONCATENATE($C40,\", \"),\"\"),\"\")","v":""},{"$f":"IF($DD40=\"Y\",IF(AY40=\"X\",CONCATENATE($C40,\", \"),\"\"),\"\")","v":""},{"$f":"IF($DD40=\"Y\",IF(AZ40=\"X\",CONCATENATE($C40,\", \"),\"\"),\"\")","v":""},{"$f":"IF($DD40=\"Y\",IF(BA40=\"X\",CONCATENATE($C40,\", \"),\"\"),\"\")","v":""},{"$f":"IF($DD40=\"Y\",IF(BB40=\"X\",CONCATENATE($C40,\", \"),\"\"),\"\")","v":""},{"$f":"IF($DD40=\"Y\",IF(BC40=\"X\",CONCATENATE($C40,\", \"),\"\"),\"\")","v":""},{"$f":"IF($DD40=\"Y\",IF(BD40=\"X\",CONCATENATE($C40,\", \"),\"\"),\"\")","v":""},{"$f":"IF($DD40=\"Y\",IF(BE40=\"X\",CONCATENATE($C40,\", \"),\"\"),\"\")","v":""},{"$f":"IF($DD40=\"Y\",IF(BF40=\"X\",CONCATENATE($C40,\", \"),\"\"),\"\")","v":""},{"$f":"IF($DD40=\"Y\",IF(BG40=\"X\",CONCATENATE($C40,\", \"),\"\"),\"\")","v":""},{"$f":"IF($DD40=\"Y\",IF(BH40=\"X\",CONCATENATE($C40,\", \"),\"\"),\"\")","v":""},{"$f":"IF($DD40=\"Y\",IF(BI40=\"X\",CONCATENATE($C40,\", \"),\"\"),\"\")","v":""},{"$f":"IF($DD40=\"Y\",IF(BJ40=\"X\",CONCATENATE($C40,\", \"),\"\"),\"\")","v":""},{"$f":"IF($DD40=\"Y\",IF(BK40=\"X\",CONCATENATE($C40,\", \"),\"\"),\"\")","v":""},{"$f":"IF($DD40=\"Y\",IF(BL40=\"X\",CONCATENATE($C40,\", \"),\"\"),\"\")","v":""},{"$f":"IF($DD40=\"Y\",IF(BM40=\"X\",CONCATENATE($C40,\", \"),\"\"),\"\")","v":""},{"$f":"IF($DD40=\"Y\",IF(BN40=\"X\",CONCATENATE($C40,\", \"),\"\"),\"\")","v":""},{"$f":"IF($DD40=\"Y\",IF(BO40=\"X\",CONCATENATE($C40,\", \"),\"\"),\"\")","v":""},{"$f":"IF($DD40=\"Y\",IF(BP40=\"X\",CONCATENATE($C40,\", \"),\"\"),\"\")","v":""},{"$f":"IF($DD40=\"Y\",IF(BQ40=\"X\",CONCATENATE($C40,\", \"),\"\"),\"\")","v":""},{"$f":"IF($DD40=\"Y\",IF(BR40=\"X\",CONCATENATE($C40,\", \"),\"\"),\"\")","v":""},"","","","","","","","","","","","","","","","","","","","","","","","","","","","","","","","","","","","","","",null,null,null,null,null,null,null,null,null,null,null,null,null,null,null,null,null,null,null,null,null,null,"","","","","","","","","","","","","","","","","","","",""]
[null,null,"-",null,{"$f":"IF(F41=\"\",0,MAX(E$4:E40)+1)","v":0},"",0,null,null,null,null,null,null,null,null,null,null,null,null,null,null,null,null,null,null,null,null,null,null,null,null,null,null,null,null,null,null,null,null,null,null,null,null,null,null,null,null,null,null,null,null,null,null,null,null,null,null,null,null,null,null,null,null,null,null,null,null,null,null,null,null,null,null,null,null,null,null,null,null,null,null,null,null,null,null,null,null,null,null,null,null,null,null,null,null,null,null,null,null,null,null,null,null,null,null,null,null,{"$f":"IF(TaskEnv_38=\"-\",\"N\",IF(TaskEnv_38=\"\",\"N\",IF(TaskEnv_38_Sel=\"\",\"N\",\"Y\")))","v":"N"},"","","","","","","","","","","","","","","","","","","","","","","","","","","","","","","","","","","","","","","","","","","","","","","","","","","","","","","","","","","","","","","","","","","","","","","","","","","","","","","","","","","","","","","","","","","","","","","","","","","","","",null,null,null,null,null,null,null,null,null,null,null,null,null,null,null,null,null,null,null,null,null,null,"","","","","","","","","","","","","","","","","","","",""]
[null,null,"-",null,{"$f":"IF(F42=\"\",0,MAX(E$4:E41)+1)","v":0},"",0,null,null,null,null,null,null,null,null,null,null,null,null,null,null,null,null,null,null,null,null,null,null,null,null,null,null,null,null,null,null,null,null,null,null,null,null,null,null,null,null,null,null,null,null,null,null,null,null,null,null,null,null,null,null,null,null,null,null,null,null,null,null,null,null,null,null,null,null,null,null,null,null,null,null,null,null,null,null,null,null,null,null,null,null,null,null,null,null,null,null,null,null,null,null,null,null,null,null,null,null,{"$f":"IF(TaskEnv_39=\"-\",\"N\",IF(TaskEnv_39=\"\",\"N\",IF(TaskEnv_39_Sel=\"\",\"N\",\"Y\")))","v":"N"},"","","","","","","","","","","","","","","","","","","","","","","","","","","","","","","","","","","","","","","","","","","","","","","","","","","","","","","","","","","","","","","","","","","","","","","","","","","","","","","","","","","","","","","","","","","","","","","","","","","","","",null,null,null,null,null,null,null,null,null,null,null,null,null,null,null,null,null,null,null,null,null,null,"","","","","","","","","","","","","","","","","","","",""]
[null,null,"-",null,{"$f":"IF(F43=\"\",0,MAX(E$4:E42)+1)","v":0},"",0,null,null,null,null,null,null,null,null,null,null,null,null,null,null,null,null,null,null,null,null,null,null,null,null,null,null,null,null,null,null,null,null,null,null,null,null,null,null,null,null,null,null,null,null,null,null,null,null,null,null,null,null,null,null,null,null,null,null,null,null,null,null,null,null,null,null,null,null,null,null,null,null,null,null,null,null,null,null,null,null,null,null,null,null,null,null,null,null,null,null,null,null,null,null,null,null,null,null,null,null,{"$f":"IF(TaskEnv_40=\"-\",\"N\",IF(TaskEnv_40=\"\",\"N\",IF(TaskEnv_40_Sel=\"\",\"N\",\"Y\")))","v":"N"},"","","","","","","","","","","","","","","","","","","","","","","","","","","","","","","","","","","","","","","","","","","","","","","","","","","","","","","","","","","","","","","","","","","","","","","","","","","","","","","","","","","","","","","","","","","","","","","","","","","","","",null,null,null,null,null,null,null,null,null,null,null,null,null,null,null,null,null,null,null,null,null,null,"","","","","","","","","","","","","","","","","","","",""]
["Equipment","Aerial Lifts","Lift - Aerial Work Platform",null,{"$f":"IF(F44=\"\",0,MAX(E$4:E43)+1)","v":0},"",3,"X",null,null,null,"X",null,null,null,null,null,null,null,"X",null,null,null,null,null,null,null,null,null,null,null,null,null,null,null,null,null,null,null,null,null,null,null,null,null,null,null,null,null,null,null,null,null,null,null,null,null,null,null,null,null,null,null,null,null,null,null,null,null,null,null,null,null,null,null,null,null,null,null,null,null,null,null,null,null,null,null,null,null,null,null,null,null,null,null,null,null,null,null,null,null,null,null,null,null,null,null,{"$f":"IF(EquipAerial_1=\"-\",\"N\",IF(EquipAerial_1=\"\",\"N\",IF(EquipAerial_1_Sel=\"\",\"N\",\"Y\")))","v":"N"},"","","","","","","","","","","","","","","","","","","","","","","","","","","","","","","","","","","","","","","","","","","","","","","","","","","","","","","","","","","","","","","","",{"$f":"IF($DD44=\"Y\",IF(BT44=\"X\",CONCATENATE($C44,\", \"),\"\"),\"\")","v":""},"","","","","","","","","",{"$f":"IF($DD44=\"Y\",IF(CD44=\"X\",CONCATENATE($C44,\", \"),\"\"),\"\")","v":""},"","","","","","","",{"$f":"IF($DD44=\"Y\",IF(CL44=\"X\",CONCATENATE($C44,\", \"),\"\"),\"\")","v":""},{"$f":"IF($DD44=\"Y\",IF(CM44=\"X\",CONCATENATE($C44,\", \"),\"\"),\"\")","v":""},{"$f":"IF($DD44=\"Y\",IF(CN44=\"X\",CONCATENATE($C44,\", \"),\"\"),\"\")","v":""},{"$f":"IF($DD44=\"Y\",IF(CO44=\"X\",CONCATENATE($C44,\", \"),\"\"),\"\")","v":""},{"$f":"IF($DD44=\"Y\",IF(CP44=\"X\",CONCATENATE($C44,\", \"),\"\"),\"\")","v":""},{"$f":"IF($DD44=\"Y\",IF(CQ44=\"X\",CONCATENATE($C44,\", \"),\"\"),\"\")","v":""},{"$f":"IF($DD44=\"Y\",IF(CR44=\"X\",CONCATENATE($C44,\", \"),\"\"),\"\")","v":""},{"$f":"IF($DD44=\"Y\",IF(CS44=\"X\",CONCATENATE($C44,\", \"),\"\"),\"\")","v":""},{"$f":"IF($DD44=\"Y\",IF(CT44=\"X\",CONCATENATE($C44,\", \"),\"\"),\"\")","v":""},{"$f":"IF($DD44=\"Y\",IF(CU44=\"X\",CONCATENATE($C44,\", \"),\"\"),\"\")","v":""},{"$f":"IF($DD44=\"Y\",IF(CV44=\"X\",CONCATENATE($C44,\", \"),\"\"),\"\")","v":""},{"$f":"IF($DD44=\"Y\",IF(CW44=\"X\",CONCATENATE($C44,\", \"),\"\"),\"\")","v":""},{"$f":"IF($DD44=\"Y\",IF(CX44=\"X\",CONCATENATE($C44,\", \"),\"\"),\"\")","v":""},"","","","","","",{"$f":"CONCATENATE(HA44,HA45,HA46,HA47,HA48,HA49,HA50,HA51,HA52,HA53,HA54,HA55,HA56,HA57,HA58,HA59,HA60,HA61,HA62,HA63,HA64,HA65,HA66,HA67,HA68,HA69,HA70,HA71,HA72,HA73,HA74,HA75,HA76,HA77,HA78,HA79,HA80,HA81,HA82,HA83,HA84,HA85,HA86,HA87,HA88,HA89,)","v":""},{"$f":"IF(LEN(CONCATENATE(HB44,HB90,HB142,HB189))=0,\"\",LEFT(CONCATENATE(HB44,HB90,HB142,HB189),LEN(CONCATENATE(HB44,HB90,HB142,HB189))-2))","v":""},null,null,null,null,null,null,null,null,null,null,"X",null,null,null,null,null,null,null,null,null,"","","","","","","","","","","","","","","","","","","",""]
[null,null,"Lift - Scissor",null,{"$f":"IF(F45=\"\",0,MAX(E$4:E44)+1)","v":0},"",4,"X",null,null,null,"X",null,null,null,null,null,null,null,"X",null,null,null,null,null,null,null,null,"X",null,null,null,null,null,null,null,null,null,null,null,null,null,null,null,null,null,null,null,null,null,null,null,null,null,null,null,null,null,null,null,null,null,null,null,null,null,null,null,null,null,null,null,null,null,null,null,null,null,null,null,null,null,null,null,null,null,null,null,null,null,null,null,null,null,null,null,null,null,null,null,null,null,null,null,null,null,null,{"$f":"IF(EquipAerial_2=\"-\",\"N\",IF(EquipAerial_2=\"\",\"N\",IF(EquipAerial_2_Sel=\"\",\"N\",\"Y\")))","v":"N"},"","","","","","","","","","","","","","","","","","","","","","","","","","","","","","","","","","","","","","","","","","","","","","","","","","","","","","","","","","","","","","","","","","","","","","","","","","","","","","","","","","","","","","","","","","","","","","","","","","","","","",null,null,null,null,null,null,null,null,null,null,null,null,"X",null,null,null,null,null,null,null,null,null,"","","","","","","","","","","","","","","","","","","",""]
[null,null,"-",null,{"$f":"IF(F46=\"\",0,MAX(E$4:E45)+1)","v":0},"",0,null,null,null,null,null,null,null,null,null,null,null,null,null,null,null,null,null,null,null,null,null,null,null,null,null,null,null,null,null,null,null,null,null,null,null,null,null,null,null,null,null,null,null,null,null,null,null,null,null,null,null,null,null,null,null,null,null,null,null,null,null,null,null,null,null,null,null,null,null,null,null,null,null,null,null,null,null,null,null,null,null,null,null,null,null,null,null,null,null,null,null,null,null,null,null,null,null,null,null,null,{"$f":"IF(EquipAerial_3=\"-\",\"N\",IF(EquipAerial_3=\"\",\"N\",IF(EquipAerial_3_Sel=\"\",\"N\",\"Y\")))","v":"N"},"","","","","","","","","","","","","","","","","","","","","","","","","","","","","","","","","","","","","","","","","","","","","","","","","","","","","","","","","","","","","","","","","","","","","","","","","","","","","","","","","","","","","","","","","","","","","","","","","","","","","",null,null,null,null,null,null,null,null,null,null,null,null,null,null,null,null,null,null,null,null,null,null,"","","","","","","","","","","","","","","","","","","","",null,"End of Links Tab"]
[null,null,"-",null,{"$f":"IF(F47=\"\",0,MAX(E$4:E46)+1)","v":0},"",0,null,null,null,null,null,null,null,null,null,null,null,null,null,null,null,null,null,null,null,null,null,null,null,null,null,null,null,null,null,null,null,null,null,null,null,null,null,null,null,null,null,null,null,null,null,null,null,null,null,null,null,null,null,null,null,null,null,null,null,null,null,null,null,null,null,null,null,null,null,null,null,null,null,null,null,null,null,null,null,null,null,null,null,null,null,null,null,null,null,null,null,null,null,null,null,null,null,null,null,null,{"$f":"IF(EquipAerial_4=\"-\",\"N\",IF(EquipAerial_4=\"\",\"N\",IF(EquipAerial_4_Sel=\"\",\"N\",\"Y\")))","v":"N"},"","","","","","","","","","","","","","","","","","","","","","","","","","","","","","","","","","","","","","","","","","","","","","","","","","","","","","","","","","","","","","","","","","","","","","","","","","","","","","","","","","","","","","","","","","","","","","","","","","","","","",null,null,null,null,null,null,null,null,null,null,null,null,null,null,null,null,null,null,null,null,null,null,"","","","","","","","","","","","","","","","","","","",""]
[null,null,"-",null,{"$f":"IF(F48=\"\",0,MAX(E$4:E47)+1)","v":0},"",0,null,null,null,null,null,null,null,null,null,null,null,null,null,null,null,null,null,null,null,null,null,null,null,null,null,null,null,null,null,null,null,null,null,null,null,null,null,null,null,null,null,null,null,null,null,null,null,null,null,null,null,null,null,null,null,null,null,null,null,null,null,null,null,null,null,null,null,null,null,null,null,null,null,null,null,null,null,null,null,null,null,null,null,null,null,null,null,null,null,null,null,null,null,null,null,null,null,null,null,null,{"$f":"IF(EquipAerial_5=\"-\",\"N\",IF(EquipAerial_5=\"\",\"N\",IF(EquipAerial_5_Sel=\"\",\"N\",\"Y\")))","v":"N"},"","","","","","","","","","","","","","","","","","","","","","","","","","","","","","","","","","","","","","","","","","","","","","","","","","","","","","","","","","","","","","","","","","","","","","","","","","","","","","","","","","","","","","","","","","","","","","","","","","","","","",null,null,null,null,null,null,null,null,null,null,null,null,null,null,null,null,null,null,null,null,null,null,"","","","","","","","","","","","","","","","","","","",""]
[null,null,"-",null,{"$f":"IF(F49=\"\",0,MAX(E$4:E48)+1)","v":0},"",0,null,null,null,null,null,null,null,null,null,null,null,null,null,null,null,null,null,null,null,null,null,null,null,null,null,null,null,null,null,null,null,null,null,null,null,null,null,null,null,null,null,null,null,null,null,null,null,null,null,null,null,null,null,null,null,null,null,null,null,null,null,null,null,null,null,null,null,null,null,null,null,null,null,null,null,null,null,null,null,null,null,null,null,null,null,null,null,null,null,null,null,null,null,null,null,null,null,null,null,null,{"$f":"IF(EquipAerial_6=\"-\",\"N\",IF(EquipAerial_6=\"\",\"N\",IF(EquipAerial_6_Sel=\"\",\"N\",\"Y\")))","v":"N"},"","","","","","","","","","","","","","","","","","","","","","","","","","","","","","","","","","","","","","","","","","","","","","","","","","","","","","","","","","","","","","","","","","","","","","","","","","","","","","","","","","","","","","","","","","","","","","","","",{"$f":"IF($DD49=\"Y\",IF(CZ49=\"X\",CONCATENATE($C49,\", \"),\"\"),\"\")","v":""},{"$f":"IF($DD49=\"Y\",IF(DA49=\"X\",CONCATENATE($C49,\", \"),\"\"),\"\")","v":""},{"$f":"IF($DD49=\"Y\",IF(DB49=\"X\",CONCATENATE($C49,\", \"),\"\"),\"\")","v":""},{"$f":"IF($DD49=\"Y\",IF(DC49=\"X\",CONCATENATE($C49,\", \"),\"\"),\"\")","v":""},"",null,null,null,null,null,null,null,null,null,null,null,null,null,null,null,null,null,null,null,null,null,null,"","","","","","","","","","","","","","","","","","","",""]
[null,null,"-",null,{"$f":"IF(F50=\"\",0,MAX(E$4:E49)+1)","v":0},"",0,null,null,null,null,null,null,null,null,null,null,null,null,null,null,null,null,null,null,null,null,null,null,null,null,null,null,null,null,null,null,null,null,null,null,null,null,null,null,null,null,null,null,null,null,null,null,null,null,null,null,null,null,null,null,null,null,null,null,null,null,null,null,null,null,null,null,null,null,null,null,null,null,null,null,null,null,null,null,null,null,null,null,null,null,null,null,null,null,null,null,null,null,null,null,null,null,null,null,null,null,{"$f":"IF(EquipAerial_7=\"-\",\"N\",IF(EquipAerial_7=\"\",\"N\",IF(EquipAerial_7_Sel=\"\",\"N\",\"Y\")))","v":"N"},"","","","","","","","","","","","","","","","","","","","","","","","","","","","","","","","","","","","","","","","","","","","","","","","","","","","","","","","","","","","","","","","",{"$f":"IF($DD50=\"Y\",IF(BT50=\"X\",CONCATENATE($C50,\", \"),\"\"),\"\")","v":""},{"$f":"IF($DD50=\"Y\",IF(BU50=\"X\",CONCATENATE($C50,\", \"),\"\"),\"\")","v":""},{"$f":"IF($DD50=\"Y\",IF(BV50=\"X\",CONCATENATE($C50,\", \"),\"\"),\"\")","v":""},{"$f":"IF($DD50=\"Y\",IF(BW50=\"X\",CONCATENATE($C50,\", \"),\"\"),\"\")","v":""},{"$f":"IF($DD50=\"Y\",IF(BX50=\"X\",CONCATENATE($C50,\", \"),\"\"),\"\")","v":""},{"$f":"IF($DD50=\"Y\",IF(BY50=\"X\",CONCATENATE($C50,\", \"),\"\"),\"\")","v":""},{"$f":"IF($DD50=\"Y\",IF(BZ50=\"X\",CONCATENATE($C50,\", \"),\"\"),\"\")","v":""},{"$f":"IF($DD50=\"Y\",IF(CA50=\"X\",CONCATENATE($C50,\", \"),\"\"),\"\")","v":""},{"$f":"IF($DD50=\"Y\",IF(CB50=\"X\",CONCATENATE($C50,\", \"),\"\"),\"\")","v":""},{"$f":"IF($DD50=\"Y\",IF(CC50=\"X\",CONCATENATE($C50,\", \"),\"\"),\"\")","v":""},{"$f":"IF($DD50=\"Y\",IF(CD50=\"X\",CONCATENATE($C50,\", \"),\"\"),\"\")","v":""},{"$f":"IF($DD50=\"Y\",IF(CE50=\"X\",CONCATENATE($C50,\", \"),\"\"),\"\")","v":""},{"$f":"IF($DD50=\"Y\",IF(CF50=\"X\",CONCATENATE($C50,\", \"),\"\"),\"\")","v":""},{"$f":"IF($DD50=\"Y\",IF(CG50=\"X\",CONCATENATE($C50,\", \"),\"\"),\"\")","v":""},{"$f":"IF($DD50=\"Y\",IF(CH50=\"X\",CONCATENATE($C50,\", \"),\"\"),\"\")","v":""},{"$f":"IF($DD50=\"Y\",IF(CI50=\"X\",CONCATENATE($C50,\", \"),\"\"),\"\")","v":""},{"$f":"IF($DD50=\"Y\",IF(CJ50=\"X\",CONCATENATE($C50,\", \"),\"\"),\"\")","v":""},{"$f":"IF($DD50=\"Y\",IF(CK50=\"X\",CONCATENATE($C50,\", \"),\"\"),\"\")","v":""},"","","","","","","","","","","","","","","","","","","",null,null,null,null,null,null,null,null,null,null,null,null,null,null,null,null,null,null,null,null,null,null,"","","","","","","","","","","","","","","","","","","",""]
[null,null,"-",null,{"$f":"IF(F51=\"\",0,MAX(E$4:E50)+1)","v":0},"",0,null,null,null,null,null,null,null,null,null,null,null,null,null,null,null,null,null,null,null,null,null,null,null,null,null,null,null,null,null,null,null,null,null,null,null,null,null,null,null,null,null,null,null,null,null,null,null,null,null,null,null,null,null,null,null,null,null,null,null,null,null,null,null,null,null,null,null,null,null,null,null,null,null,null,null,null,null,null,null,null,null,null,null,null,null,null,null,null,null,null,null,null,null,null,null,null,null,null,null,null,{"$f":"IF(EquipAerial_8=\"-\",\"N\",IF(EquipAerial_8=\"\",\"N\",IF(EquipAerial_8_Sel=\"\",\"N\",\"Y\")))","v":"N"},"","","","","","","","","","","","","","","","","","","","","","","","","","","","","","","","","","","","","","","","","","","","","","","","","","","","","","","","","","","","","","","","","","","","","","","","","","","","","","","","","","","","","","","","","","","","","","","","","","","","","",null,null,null,null,null,null,null,null,null,null,null,null,null,null,null,null,null,null,null,null,null,null,"","","","","","","","","","","","","","","","","","","",""]
[null,null,"-",null,{"$f":"IF(F52=\"\",0,MAX(E$4:E51)+1)","v":0},"",0,null,null,null,null,null,null,null,null,null,null,null,null,null,null,null,null,null,null,null,null,null,null,null,null,null,null,null,null,null,null,null,null,null,null,null,null,null,null,null,null,null,null,null,null,null,null,null,null,null,null,null,null,null,null,null,null,null,null,null,null,null,null,null,null,null,null,null,null,null,null,null,null,null,null,null,null,null,null,null,null,null,null,null,null,null,null,null,null,null,null,null,null,null,null,null,null,null,null,null,null,{"$f":"IF(EquipAerial_9=\"-\",\"N\",IF(EquipAerial_9=\"\",\"N\",IF(EquipAerial_9_Sel=\"\",\"N\",\"Y\")))","v":"N"},"","","","","","","","","","","","","","","","","","","","","","","","","","","","","","","","","","","","","","","","","","","","","","","","","","","","","","","","","","","","","","","","","","","","","","","","","","","","","","","","","","","","","","","","","","","","","","","","","","","","","",null,null,null,null,null,null,null,null,null,null,null,null,null,null,null,null,null,null,null,null,null,null,"","","","","","","","","","","","","","","","","","","",""]
["Equipment",null,"-",null,{"$f":"IF(F53=\"\",0,MAX(E$4:E52)+1)","v":0},"",0,null,null,null,null,null,null,null,null,null,null,null,null,null,null,null,null,null,null,null,null,null,null,null,null,null,null,null,null,null,null,null,null,null,null,null,null,null,null,null,null,null,null,null,null,null,null,null,null,null,null,null,null,null,null,null,null,null,null,null,null,null,null,null,null,null,null,null,null,null,null,null,null,null,null,null,null,null,null,null,null,null,null,null,null,null,null,null,null,null,null,null,null,null,null,null,null,null,null,null,null,{"$f":"IF(EquipAerial_10=\"-\",\"N\",IF(EquipAerial_10=\"\",\"N\",IF(EquipAerial_10_Sel=\"\",\"N\",\"Y\")))","v":"N"},"","","","","","","","","","","","","","","","","","","","","","","","","","","","","","","","","","","","","","","","","","","","","","","","","","","","","","","","","","","","","","","","","","","","","","","","","","","","","","","","","","","","","","","","","","","","","","","","","","","","","",null,null,null,null,null,null,null,null,null,null,null,null,null,null,null,null,null,null,null,null,null,null,"","","","","","","","","","","","","","","","","","","",""]
[null,null,"-",null,{"$f":"IF(F54=\"\",0,MAX(E$4:E53)+1)","v":0},{"$f":"IF(D54=\"\",\"\",IF(DD54=\"N\",\"\",CONCATENATE(D54,\" (\",C54,\"), \")))","v":""},{"$f":"COUNTIF(H54:HH54,\"x\")","v":0},null,null,null,null,null,null,null,null,null,null,null,null,null,null,null,null,null,null,null,null,null,null,null,null,null,null,null,null,null,null,null,null,null,null,null,null,null,null,null,null,null,null,null,null,null,null,null,null,null,null,null,null,null,null,null,null,null,null,null,null,null,null,null,null,null,null,null,null,null,null,null,null,null,null,null,null,null,null,null,null,null,null,null,null,null,null,null,null,null,null,null,null,null,null,null,null,null,null,null,null,{"$f":"IF(EquipAerial_11=\"-\",\"N\",IF(EquipAerial_11=\"\",\"N\",IF(EquipAerial_11_Sel=\"\",\"N\",\"Y\")))","v":"N"},{"$f":"IF($DD54=\"Y\",IF(H54=\"X\",CONCATENATE($C54,\", \"),\"\"),\"\")","v":""},{"$f":"IF($DD54=\"Y\",IF(I54=\"X\",CONCATENATE($C54,\", \"),\"\"),\"\")","v":""},{"$f":"IF($DD54=\"Y\",IF(J54=\"X\",CONCATENATE($C54,\", \"),\"\"),\"\")","v":""},{"$f":"IF($DD54=\"Y\",IF(K54=\"X\",CONCATENATE($C54,\", \"),\"\"),\"\")","v":""},{"$f":"IF($DD54=\"Y\",IF(L54=\"X\",CONCATENATE($C54,\", \"),\"\"),\"\")","v":""},{"$f":"IF($DD54=\"Y\",IF(M54=\"X\",CONCATENATE($C54,\", \"),\"\"),\"\")","v":""},{"$f":"IF($DD54=\"Y\",IF(N54=\"X\",CONCATENATE($C54,\", \"),\"\"),\"\")","v":""},{"$f":"IF($DD54=\"Y\",IF(O54=\"X\",CONCATENATE($C54,\", \"),\"\"),\"\")","v":""},{"$f":"IF($DD54=\"Y\",IF(P54=\"X\",CONCATENATE($C54,\", \"),\"\"),\"\")","v":""},{"$f":"IF($DD54=\"Y\",IF(Q54=\"X\",CONCATENATE($C54,\", \"),\"\"),\"\")","v":""},{"$f":"IF($DD54=\"Y\",IF(R54=\"X\",CONCATENATE($C54,\", \"),\"\"),\"\")","v":""},{"$f":"IF($DD54=\"Y\",IF(S54=\"X\",CONCATENATE($C54,\", \"),\"\"),\"\")","v":""},{"$f":"IF($DD54=\"Y\",IF(T54=\"X\",CONCATENATE($C54,\", \"),\"\"),\"\")","v":""},{"$f":"IF($DD54=\"Y\",IF(U54=\"X\",CONCATENATE($C54,\", \"),\"\"),\"\")","v":""},{"$f":"IF($DD54=\"Y\",IF(V54=\"X\",CONCATENATE($C54,\", \"),\"\"),\"\")","v":""},{"$f":"IF($DD54=\"Y\",IF(W54=\"X\",CONCATENATE($C54,\", \"),\"\"),\"\")","v":""},{"$f":"IF($DD54=\"Y\",IF(X54=\"X\",CONCATENATE($C54,\", \"),\"\"),\"\")","v":""},{"$f":"IF($DD54=\"Y\",IF(Y54=\"X\",CONCATENATE($C54,\", \"),\"\"),\"\")","v":""},{"$f":"IF($DD54=\"Y\",IF(Z54=\"X\",CONCATENATE($C54,\", \"),\"\"),\"\")","v":""},{"$f":"IF($DD54=\"Y\",IF(AA54=\"X\",CONCATENATE($C54,\", \"),\"\"),\"\")","v":""},{"$f":"IF($DD54=\"Y\",IF(AB54=\"X\",CONCATENATE($C54,\", \"),\"\"),\"\")","v":""},{"$f":"IF($DD54=\"Y\",IF(AC54=\"X\",CONCATENATE($C54,\", \"),\"\"),\"\")","v":""},{"$f":"IF($DD54=\"Y\",IF(AD54=\"X\",CONCATENATE($C54,\", \"),\"\"),\"\")","v":""},{"$f":"IF($DD54=\"Y\",IF(AE54=\"X\",CONCATENATE($C54,\", \"),\"\"),\"\")","v":""},{"$f":"IF($DD54=\"Y\",IF(AF54=\"X\",CONCATENATE($C54,\", \"),\"\"),\"\")","v":""},{"$f":"IF($DD54=\"Y\",IF(AG54=\"X\",CONCATENATE($C54,\", \"),\"\"),\"\")","v":""},{"$f":"IF($DD54=\"Y\",IF(AH54=\"X\",CONCATENATE($C54,\", \"),\"\"),\"\")","v":""},{"$f":"IF($DD54=\"Y\",IF(AI54=\"X\",CONCATENATE($C54,\", \"),\"\"),\"\")","v":""},{"$f":"IF($DD54=\"Y\",IF(AJ54=\"X\",CONCATENATE($C54,\", \"),\"\"),\"\")","v":""},{"$f":"IF($DD54=\"Y\",IF(AK54=\"X\",CONCATENATE($C54,\", \"),\"\"),\"\")","v":""},{"$f":"IF($DD54=\"Y\",IF(AL54=\"X\",CONCATENATE($C54,\", \"),\"\"),\"\")","v":""},{"$f":"IF($DD54=\"Y\",IF(AM54=\"X\",CONCATENATE($C54,\", \"),\"\"),\"\")","v":""},{"$f":"IF($DD54=\"Y\",IF(AN54=\"X\",CONCATENATE($C54,\", \"),\"\"),\"\")","v":""},{"$f":"IF($DD54=\"Y\",IF(AO54=\"X\",CONCATENATE($C54,\", \"),\"\"),\"\")","v":""},{"$f":"IF($DD54=\"Y\",IF(AP54=\"X\",CONCATENATE($C54,\", \"),\"\"),\"\")","v":""},{"$f":"IF($DD54=\"Y\",IF(AQ54=\"X\",CONCATENATE($C54,\", \"),\"\"),\"\")","v":""},{"$f":"IF($DD54=\"Y\",IF(AR54=\"X\",CONCATENATE($C54,\", \"),\"\"),\"\")","v":""},{"$f":"IF($DD54=\"Y\",IF(AS54=\"X\",CONCATENATE($C54,\", \"),\"\"),\"\")","v":""},{"$f":"IF($DD54=\"Y\",IF(AT54=\"X\",CONCATENATE($C54,\", \"),\"\"),\"\")","v":""},{"$f":"IF($DD54=\"Y\",IF(AU54=\"X\",CONCATENATE($C54,\", \"),\"\"),\"\")","v":""},{"$f":"IF($DD54=\"Y\",IF(AV54=\"X\",CONCATENATE($C54,\", \"),\"\"),\"\")","v":""},{"$f":"IF($DD54=\"Y\",IF(AW54=\"X\",CONCATENATE($C54,\", \"),\"\"),\"\")","v":""},{"$f":"IF($DD54=\"Y\",IF(AX54=\"X\",CONCATENATE($C54,\", \"),\"\"),\"\")","v":""},{"$f":"IF($DD54=\"Y\",IF(AY54=\"X\",CONCATENATE($C54,\", \"),\"\"),\"\")","v":""},{"$f":"IF($DD54=\"Y\",IF(AZ54=\"X\",CONCATENATE($C54,\", \"),\"\"),\"\")","v":""},{"$f":"IF($DD54=\"Y\",IF(BA54=\"X\",CONCATENATE($C54,\", \"),\"\"),\"\")","v":""},{"$f":"IF($DD54=\"Y\",IF(BB54=\"X\",CONCATENATE($C54,\", \"),\"\"),\"\")","v":""},{"$f":"IF($DD54=\"Y\",IF(BC54=\"X\",CONCATENATE($C54,\", \"),\"\"),\"\")","v":""},{"$f":"IF($DD54=\"Y\",IF(BD54=\"X\",CONCATENATE($C54,\", \"),\"\"),\"\")","v":""},{"$f":"IF($DD54=\"Y\",IF(BE54=\"X\",CONCATENATE($C54,\", \"),\"\"),\"\")","v":""},{"$f":"IF($DD54=\"Y\",IF(BF54=\"X\",CONCATENATE($C54,\", \"),\"\"),\"\")","v":""},{"$f":"IF($DD54=\"Y\",IF(BG54=\"X\",CONCATENATE($C54,\", \"),\"\"),\"\")","v":""},{"$f":"IF($DD54=\"Y\",IF(BH54=\"X\",CONCATENATE($C54,\", \"),\"\"),\"\")","v":""},{"$f":"IF($DD54=\"Y\",IF(BI54=\"X\",CONCATENATE($C54,\", \"),\"\"),\"\")","v":""},{"$f":"IF($DD54=\"Y\",IF(BJ54=\"X\",CONCATENATE($C54,\", \"),\"\"),\"\")","v":""},{"$f":"IF($DD54=\"Y\",IF(BK54=\"X\",CONCATENATE($C54,\", \"),\"\"),\"\")","v":""},{"$f":"IF($DD54=\"Y\",IF(BL54=\"X\",CONCATENATE($C54,\", \"),\"\"),\"\")","v":""},{"$f":"IF($DD54=\"Y\",IF(BM54=\"X\",CONCATENATE($C54,\", \"),\"\"),\"\")","v":""},{"$f":"IF($DD54=\"Y\",IF(BN54=\"X\",CONCATENATE($C54,\", \"),\"\"),\"\")","v":""},{"$f":"IF($DD54=\"Y\",IF(BO54=\"X\",CONCATENATE($C54,\", \"),\"\"),\"\")","v":""},{"$f":"IF($DD54=\"Y\",IF(BP54=\"X\",CONCATENATE($C54,\", \"),\"\"),\"\")","v":""},{"$f":"IF($DD54=\"Y\",IF(BQ54=\"X\",CONCATENATE($C54,\", \"),\"\"),\"\")","v":""},{"$f":"IF($DD54=\"Y\",IF(BR54=\"X\",CONCATENATE($C54,\", \"),\"\"),\"\")","v":""},{"$f":"IF($DD54=\"Y\",IF(BS54=\"X\",CONCATENATE($C54,\", \"),\"\"),\"\")","v":""},{"$f":"IF($DD54=\"Y\",IF(BT54=\"X\",CONCATENATE($C54,\", \"),\"\"),\"\")","v":""},{"$f":"IF($DD54=\"Y\",IF(BU54=\"X\",CONCATENATE($C54,\", \"),\"\"),\"\")","v":""},{"$f":"IF($DD54=\"Y\",IF(BV54=\"X\",CONCATENATE($C54,\", \"),\"\"),\"\")","v":""},{"$f":"IF($DD54=\"Y\",IF(BW54=\"X\",CONCATENATE($C54,\", \"),\"\"),\"\")","v":""},{"$f":"IF($DD54=\"Y\",IF(BX54=\"X\",CONCATENATE($C54,\", \"),\"\"),\"\")","v":""},{"$f":"IF($DD54=\"Y\",IF(BY54=\"X\",CONCATENATE($C54,\", \"),\"\"),\"\")","v":""},{"$f":"IF($DD54=\"Y\",IF(BZ54=\"X\",CONCATENATE($C54,\", \"),\"\"),\"\")","v":""},{"$f":"IF($DD54=\"Y\",IF(CA54=\"X\",CONCATENATE($C54,\", \"),\"\"),\"\")","v":""},{"$f":"IF($DD54=\"Y\",IF(CB54=\"X\",CONCATENATE($C54,\", \"),\"\"),\"\")","v":""},{"$f":"IF($DD54=\"Y\",IF(CC54=\"X\",CONCATENATE($C54,\", \"),\"\"),\"\")","v":""},{"$f":"IF($DD54=\"Y\",IF(CD54=\"X\",CONCATENATE($C54,\", \"),\"\"),\"\")","v":""},{"$f":"IF($DD54=\"Y\",IF(CE54=\"X\",CONCATENATE($C54,\", \"),\"\"),\"\")","v":""},{"$f":"IF($DD54=\"Y\",IF(CF54=\"X\",CONCATENATE($C54,\", \"),\"\"),\"\")","v":""},{"$f":"IF($DD54=\"Y\",IF(CG54=\"X\",CONCATENATE($C54,\", \"),\"\"),\"\")","v":""},{"$f":"IF($DD54=\"Y\",IF(CH54=\"X\",CONCATENATE($C54,\", \"),\"\"),\"\")","v":""},{"$f":"IF($DD54=\"Y\",IF(CI54=\"X\",CONCATENATE($C54,\", \"),\"\"),\"\")","v":""},{"$f":"IF($DD54=\"Y\",IF(CJ54=\"X\",CONCATENATE($C54,\", \"),\"\"),\"\")","v":""},{"$f":"IF($DD54=\"Y\",IF(CK54=\"X\",CONCATENATE($C54,\", \"),\"\"),\"\")","v":""},{"$f":"IF($DD54=\"Y\",IF(CL54=\"X\",CONCATENATE($C54,\", \"),\"\"),\"\")","v":""},{"$f":"IF($DD54=\"Y\",IF(CM54=\"X\",CONCATENATE($C54,\", \"),\"\"),\"\")","v":""},{"$f":"IF($DD54=\"Y\",IF(CN54=\"X\",CONCATENATE($C54,\", \"),\"\"),\"\")","v":""},{"$f":"IF($DD54=\"Y\",IF(CO54=\"X\",CONCATENATE($C54,\", \"),\"\"),\"\")","v":""},{"$f":"IF($DD54=\"Y\",IF(CP54=\"X\",CONCATENATE($C54,\", \"),\"\"),\"\")","v":""},{"$f":"IF($DD54=\"Y\",IF(CQ54=\"X\",CONCATENATE($C54,\", \"),\"\"),\"\")","v":""},{"$f":"IF($DD54=\"Y\",IF(CR54=\"X\",CONCATENATE($C54,\", \"),\"\"),\"\")","v":""},{"$f":"IF($DD54=\"Y\",IF(CS54=\"X\",CONCATENATE($C54,\", \"),\"\"),\"\")","v":""},{"$f":"IF($DD54=\"Y\",IF(CT54=\"X\",CONCATENATE($C54,\", \"),\"\"),\"\")","v":""},{"$f":"IF($DD54=\"Y\",IF(CU54=\"X\",CONCATENATE($C54,\", \"),\"\"),\"\")","v":""},{"$f":"IF($DD54=\"Y\",IF(CV54=\"X\",CONCATENATE($C54,\", \"),\"\"),\"\")","v":""},{"$f":"IF($DD54=\"Y\",IF(CW54=\"X\",CONCATENATE($C54,\", \"),\"\"),\"\")","v":""},{"$f":"IF($DD54=\"Y\",IF(CX54=\"X\",CONCATENATE($C54,\", \"),\"\"),\"\")","v":""},{"$f":"IF($DD54=\"Y\",IF(CY54=\"X\",CONCATENATE($C54,\", \"),\"\"),\"\")","v":""},{"$f":"IF($DD54=\"Y\",IF(CZ54=\"X\",CONCATENATE($C54,\", \"),\"\"),\"\")","v":""},{"$f":"IF($DD54=\"Y\",IF(DA54=\"X\",CONCATENATE($C54,\", \"),\"\"),\"\")","v":""},{"$f":"IF($DD54=\"Y\",IF(DB54=\"X\",CONCATENATE($C54,\", \"),\"\"),\"\")","v":""},{"$f":"IF($DD54=\"Y\",IF(DC54=\"X\",CONCATENATE($C54,\", \"),\"\"),\"\")","v":""},{"$f":"IF(DD54=\"Y\",CONCATENATE(C54,\", \"),\"\")","v":""},null,null,null,null,null,null,null,null,null,null,null,null,null,null,null,null,null,null,null,null,null,null,{"$f":"IF($DD54=\"Y\",HD54,\"\")","v":""},{"$f":"IF($DD54=\"Y\",HE54,\"\")","v":""},{"$f":"IF($DD54=\"Y\",HF54,\"\")","v":""},{"$f":"IF($DD54=\"Y\",HG54,\"\")","v":""},{"$f":"IF($DD54=\"Y\",HH54,\"\")","v":""},{"$f":"IF($DD54=\"Y\",HI54,\"\")","v":""},{"$f":"IF($DD54=\"Y\",HJ54,\"\")","v":""},{"$f":"IF($DD54=\"Y\",HK54,\"\")","v":""},{"$f":"IF($DD54=\"Y\",HL54,\"\")","v":""},{"$f":"IF($DD54=\"Y\",HM54,\"\")","v":""},{"$f":"IF($DD54=\"Y\",HN54,\"\")","v":""},{"$f":"IF($DD54=\"Y\",HO54,\"\")","v":""},{"$f":"IF($DD54=\"Y\",HP54,\"\")","v":""},{"$f":"IF($DD54=\"Y\",HQ54,\"\")","v":""},{"$f":"IF($DD54=\"Y\",HR54,\"\")","v":""},{"$f":"IF($DD54=\"Y\",HS54,\"\")","v":""},{"$f":"IF($DD54=\"Y\",HT54,\"\")","v":""},{"$f":"IF($DD54=\"Y\",HU54,\"\")","v":""},{"$f":"IF($DD54=\"Y\",HV54,\"\")","v":""},{"$f":"IF($DD54=\"Y\",HW54,\"\")","v":""}]
[null,null,"-",null,{"$f":"IF(F55=\"\",0,MAX(E$4:E54)+1)","v":0},"",0,null,null,null,null,null,null,null,null,null,null,null,null,null,null,null,null,null,null,null,null,null,null,null,null,null,null,null,null,null,null,null,null,null,null,null,null,null,null,null,null,null,null,null,null,null,null,null,null,null,null,null,null,null,null,null,null,null,null,null,null,null,null,null,null,null,null,null,null,null,null,null,null,null,null,null,null,null,null,null,null,null,null,null,null,null,null,null,null,null,null,null,null,null,null,null,null,null,null,null,null,{"$f":"IF(EquipAerial_12=\"-\",\"N\",IF(EquipAerial_12=\"\",\"N\",IF(EquipAerial_12_Sel=\"\",\"N\",\"Y\")))","v":"N"},"","","","","","","","","","","","","","","","","","","","","","","","","","","","","","","","","","","","","","","","","","","","","","","","","","","","","","","","","","","","","","","","","","","","","","","","","","","","","","","","","","","","","","","","","","","","","","","","","","","","","",null,null,null,null,null,null,null,null,null,null,null,null,null,null,null,null,null,null,null,null,null,null,"","","","","","","","","","","","","","","","","","","",""]
[null,"Lifting Equipment","Crane - Carrydeck","Signal training & signal gear",{"$f":"IF(F56=\"\",0,MAX(E$4:E55)+1)","v":0},"",3,null,null,null,null,"X",null,"X",null,null,null,null,null,null,null,null,null,"X",null,null,null,null,null,null,null,null,null,null,null,null,null,null,null,null,null,null,null,null,null,null,null,null,null,null,null,null,null,null,null,null,null,null,null,null,null,null,null,null,null,null,null,null,null,null,null,null,null,null,null,null,null,null,null,null,null,null,null,null,null,null,null,null,null,null,null,null,null,null,null,null,null,null,null,null,null,null,null,null,null,null,null,{"$f":"IF(EquipLift_1=\"-\",\"N\",IF(EquipLift_1=\"\",\"N\",IF(EquipLift_1_Sel=\"\",\"N\",\"Y\")))","v":"N"},"","","","","","","","","","","","","","","","","","","","","","","","","","","","","","","","","","","","","","","","","","","","","","","","","","","","","","","","","","","","","","","","","","","","","","","","","","","","","","","","","","","","","","","","","","","","","","","","","","","","","",null,null,null,null,null,null,null,null,null,null,null,"X",null,null,null,null,null,null,null,null,null,null,"","","","","","","","","","","","","","","","","","","",""]
[null,null,"Crane - Cherry Picker","Signal training & signal gear",{"$f":"IF(F57=\"\",0,MAX(E$4:E56)+1)","v":0},"",3,null,null,null,null,"X",null,"X",null,null,null,null,null,null,null,null,null,"X",null,null,null,null,null,null,null,null,null,null,null,null,null,null,null,null,null,null,null,null,null,null,null,null,null,null,null,null,null,null,null,null,null,null,null,null,null,null,null,null,null,null,null,null,null,null,null,null,null,null,null,null,null,null,null,null,null,null,null,null,null,null,null,null,null,null,null,null,null,null,null,null,null,null,null,null,null,null,null,null,null,null,null,{"$f":"IF(EquipLift_2=\"-\",\"N\",IF(EquipLift_2=\"\",\"N\",IF(EquipLift_2_Sel=\"\",\"N\",\"Y\")))","v":"N"},"","","","","","","","","","","","","","","","","","","","","","","","","","","","","","","","","","","","","","","","","","","","","","","","","","","","","","","","","","","","","","","","","","","","","","","","","","","","","","","","","","","","","","","","","","","","","","","","","","","","","",null,null,null,null,null,null,null,null,null,null,null,"X","X",null,null,null,null,null,null,null,null,null,"","","","","","","","","","","","","","","","","","","",""]
[null,null,"Crane - Crawler","Signal training & signal gear",{"$f":"IF(F58=\"\",0,MAX(E$4:E57)+1)","v":0},"",3,null,null,null,null,"X",null,"X",null,null,null,null,null,null,null,null,null,"X",null,null,null,null,null,null,null,null,null,null,null,null,null,null,null,null,null,null,null,null,null,null,null,null,null,null,null,null,null,null,null,null,null,null,null,null,null,null,null,null,null,null,null,null,null,null,null,null,null,null,null,null,null,null,null,null,null,null,null,null,null,null,null,null,null,null,null,null,null,null,null,null,null,null,null,null,null,null,null,null,null,null,null,{"$f":"IF(EquipLift_3=\"-\",\"N\",IF(EquipLift_3=\"\",\"N\",IF(EquipLift_3_Sel=\"\",\"N\",\"Y\")))","v":"N"},"","","","","","","","","","","","","","","","","","","","","","","","","","","","","","","","","","","","","","","","","","","","","","","","","","","","","","","","","","","","","","","","","","","","","","","","","","","","","","","","","","","","","","","","","","","","","","","","","","","","","",null,null,null,null,null,null,null,null,null,null,null,"X","X",null,null,null,null,null,null,null,null,null,"","","","","","","","","","","","","","","","","","","",""]
[null,null,"Crane - Gantry","Signal training & signal gear",{"$f":"IF(F59=\"\",0,MAX(E$4:E58)+1)","v":0},"",3,null,null,null,null,"X",null,"X",null,null,null,null,null,null,null,null,null,"X",null,null,null,null,null,null,null,null,null,null,null,null,null,null,null,null,null,null,null,null,null,null,null,null,null,null,null,null,null,null,null,null,null,null,null,null,null,null,null,null,null,null,null,null,null,null,null,null,null,null,null,null,null,null,null,null,null,null,null,null,null,null,null,null,null,null,null,null,null,null,null,null,null,null,null,null,null,null,null,null,null,null,null,{"$f":"IF(EquipLift_4=\"-\",\"N\",IF(EquipLift_4=\"\",\"N\",IF(EquipLift_4_Sel=\"\",\"N\",\"Y\")))","v":"N"},"","","","","","","","","","","","","","","","","","","","","","","","","","","","","","","","","","","","","","","","","","","","","","","","","","","","","","","","","","","","","","","","","","","","","","","","","","","","","","","","","","","","","","","","","","","","","","","","","","","","","",null,null,null,null,null,null,null,null,null,null,null,"X",null,null,null,null,null,null,null,null,null,null,"","","","","","","","","","","","","","","","","","","",""]
[null,null,"Crane - Mobile","Signal training & signal gear",{"$f":"IF(F60=\"\",0,MAX(E$4:E59)+1)","v":0},"",3,null,null,null,null,"X",null,"X",null,null,null,null,null,null,null,null,null,"X",null,null,null,null,null,null,null,null,null,null,null,null,null,null,null,null,null,null,null,null,null,null,null,null,null,null,null,null,null,null,null,null,null,null,null,null,null,null,null,null,null,null,null,null,null,null,null,null,null,null,null,null,null,null,null,null,null,null,null,null,null,null,null,null,null,null,null,null,null,null,null,null,null,null,null,null,null,null,null,null,null,null,null,{"$f":"IF(EquipLift_5=\"-\",\"N\",IF(EquipLift_5=\"\",\"N\",IF(EquipLift_5_Sel=\"\",\"N\",\"Y\")))","v":"N"},"","","","","","","","","","","","","","","","","","","","","","","","","","","","","","","","","","","","","","","","","","","","","","","","","","","","","","","","","","","","","","","","","","","","","","","","","","","","","","","","","","","","","","","","","","","","","","","","","","","","","",null,null,null,null,null,null,null,null,null,null,null,"X","X",null,null,null,null,null,null,null,null,null,"","","","","","","","","","","","","","","","","","","",""]
[null,null,"Crane - Mobile Floor Crane",null,{"$f":"IF(F61=\"\",0,MAX(E$4:E60)+1)","v":0},{"$f":"IF(D61=\"\",\"\",IF(DD61=\"N\",\"\",CONCATENATE(D61,\" (\",C61,\"), \")))","v":""},{"$f":"COUNTIF(H61:HH61,\"x\")","v":3},null,null,null,null,"X",null,"X",null,null,null,null,null,null,null,null,null,"X",null,null,null,null,null,null,null,null,null,null,null,null,null,null,null,null,null,null,null,null,null,null,null,null,null,null,null,null,null,null,null,null,null,null,null,null,null,null,null,null,null,null,null,null,null,null,null,null,null,null,null,null,null,null,null,null,null,null,null,null,null,null,null,null,null,null,null,null,null,null,null,null,null,null,null,null,null,null,null,null,null,null,null,{"$f":"IF(EquipLift_6=\"-\",\"N\",IF(EquipLift_6=\"\",\"N\",IF(EquipLift_6_Sel=\"\",\"N\",\"Y\")))","v":"N"},{"$f":"IF($DD61=\"Y\",IF(H61=\"X\",CONCATENATE($C61,\", \"),\"\"),\"\")","v":""},"","","","","","","","","","","","","","","","","","","","","","","","","","","","","","","","","","","","","","","","","","","","","","","","","","","","","","","","","","","","","","","","","","","","","","","","","","","","","","","","","","","","","","","","","","","","","","","","","","","",{"$f":"IF(DD61=\"Y\",CONCATENATE(C61,\", \"),\"\")","v":""},null,null,null,null,null,null,null,null,null,null,null,null,null,null,null,null,null,null,null,null,null,null,{"$f":"IF($DD61=\"Y\",HD61,\"\")","v":""},"","","","","","","","","","","","","","","","","","",""]
[null,null,"Crane - Overhead Hoist","Signal training & signal gear",{"$f":"IF(F62=\"\",0,MAX(E$4:E61)+1)","v":0},"",3,null,null,null,null,"X",null,"X",null,null,null,null,null,null,null,null,null,"X",null,null,null,null,null,null,null,null,null,null,null,null,null,null,null,null,null,null,null,null,null,null,null,null,null,null,null,null,null,null,null,null,null,null,null,null,null,null,null,null,null,null,null,null,null,null,null,null,null,null,null,null,null,null,null,null,null,null,null,null,null,null,null,null,null,null,null,null,null,null,null,null,null,null,null,null,null,null,null,null,null,null,null,{"$f":"IF(EquipLift_7=\"-\",\"N\",IF(EquipLift_7=\"\",\"N\",IF(EquipLift_7_Sel=\"\",\"N\",\"Y\")))","v":"N"},"","","","","","","","","","","","","","","","","","","","","","","","","","","","","","","","","","","","","","","","","","","","","","","","","","","","","","","","","","","","","","","","","","","","","","","","","","","","","","","","","","","","","","","","","","","","","","","","","","","","","",null,null,null,null,null,null,null,null,null,null,null,"X",null,null,null,null,null,null,null,null,null,null,"","","","","","","","","","","","","","","","","","","",""]
[null,null,"Crane - Tower","Signal training & signal gear",{"$f":"IF(F63=\"\",0,MAX(E$4:E62)+1)","v":0},"",4,null,null,null,null,"X",null,"X",null,null,null,"X",null,null,null,null,null,"X",null,null,null,null,null,null,null,null,null,null,null,null,null,null,null,null,null,null,null,null,null,null,null,null,null,null,null,null,null,null,null,null,null,null,null,null,null,null,null,null,null,null,null,null,null,null,null,null,null,null,null,null,null,null,null,null,null,null,null,null,null,null,null,null,null,null,null,null,null,null,null,null,null,null,null,null,null,null,null,null,null,null,null,{"$f":"IF(EquipLift_8=\"-\",\"N\",IF(EquipLift_8=\"\",\"N\",IF(EquipLift_8_Sel=\"\",\"N\",\"Y\")))","v":"N"},"","","","","","","","","","","","","","","","","","","","","","","","","","","","","","","","","","","","","","","","","","","","","","","","","","","","","","","","","","","","","","","","","","","","","","","","","","","","","","","","","","","","","","","","","","","","","","","","","","","","","",null,null,null,null,null,null,null,null,null,null,null,"X",null,null,null,null,null,null,null,null,null,null,"","","","","","","","","","","","","","","","","","","",""]
["Equipment",null,"Drill Rig (using hoist)","Signal training & signal gear",{"$f":"IF(F64=\"\",0,MAX(E$4:E63)+1)","v":0},"",4,null,null,null,null,"X",null,"X",null,null,null,null,null,null,null,null,null,"X",null,null,null,null,null,null,"X",null,null,null,null,null,null,null,null,null,null,null,null,null,null,null,null,null,null,null,null,null,null,null,null,null,null,null,null,null,null,null,null,null,null,null,null,null,null,null,null,null,null,null,null,null,null,null,null,null,null,null,null,null,null,null,null,null,null,null,null,null,null,null,null,null,null,null,null,null,null,null,null,null,null,null,null,{"$f":"IF(EquipLift_9=\"-\",\"N\",IF(EquipLift_9=\"\",\"N\",IF(EquipLift_9_Sel=\"\",\"N\",\"Y\")))","v":"N"},"","","","","","","","","","","","","","","","","","","","","","","","","","","","","","","","","","","","","","","","","","","","","","","","","","","","","","","","","","","","","","","","","","","","","","","","","","","","","","","","","","","","","","","","","","","","","","","","","","","","","",null,null,null,null,null,null,null,null,null,null,null,"X","X",null,null,null,null,null,null,null,null,null,"","","","","","","","","","","","","","","","","","","",""]
[null,null,"Excavator or Loader with Boom","Signal training & signal gear",{"$f":"IF(F65=\"\",0,MAX(E$4:E64)+1)","v":0},"",4,null,null,null,null,"X",null,"X",null,null,null,null,null,null,null,null,null,"X",null,null,null,null,null,null,"X",null,null,null,null,null,null,null,null,null,null,null,null,null,null,null,null,null,null,null,null,null,null,null,null,null,null,null,null,null,null,null,null,null,null,null,null,null,null,null,null,null,null,null,null,null,null,null,null,null,null,null,null,null,null,null,null,null,null,null,null,null,null,null,null,null,null,null,null,null,null,null,null,null,null,null,null,{"$f":"IF(EquipLift_10=\"-\",\"N\",IF(EquipLift_10=\"\",\"N\",IF(EquipLift_10_Sel=\"\",\"N\",\"Y\")))","v":"N"},"","","","","","","","","","","","","","","","","","","","","","","","","","","","","","","","","","","","","","","","","","","","","","","","","","","","","","","","","","","","","","","","","","","","","","","","","","","","","","","","","","","","","","","","","","","","","","","","","","","","","",null,null,null,null,null,null,null,null,null,null,null,"X","X",null,null,null,null,null,null,null,null,null,"","","","","","","","","","","","","","","","","","","",""]
[null,null,"Helicopter ",null,{"$f":"IF(F66=\"\",0,MAX(E$4:E65)+1)","v":0},"",5,null,null,null,null,"X",null,"X","X",null,null,null,null,null,null,null,null,"X",null,null,null,null,null,null,"X",null,null,null,null,null,null,null,null,null,null,null,null,null,null,null,null,null,null,null,null,null,null,null,null,null,null,null,null,null,null,null,null,null,null,null,null,null,null,null,null,null,null,null,null,null,null,null,null,null,null,null,null,null,null,null,null,null,null,null,null,null,null,null,null,null,null,null,null,null,null,null,null,null,null,null,null,{"$f":"IF(EquipLift_11=\"-\",\"N\",IF(EquipLift_11=\"\",\"N\",IF(EquipLift_11_Sel=\"\",\"N\",\"Y\")))","v":"N"},"","","","","","","","","","","","","","","","","","","","","","","","","","","","","","","","","","","","","","","","","","","","","","","","","","","","","","","","","","","","","","","","","","","","","","","","","","","","","","","","","","","","","","","","","","","","","","","","","","","","","",null,null,null,null,null,null,null,null,null,null,"X",null,null,null,null,null,null,null,null,null,null,null,"","","","","","","","","","","","","","","","","","","",""]
[null,null,"-",null,{"$f":"IF(F67=\"\",0,MAX(E$4:E66)+1)","v":0},"",0,null,null,null,null,null,null,null,null,null,null,null,null,null,null,null,null,null,null,null,null,null,null,null,null,null,null,null,null,null,null,null,null,null,null,null,null,null,null,null,null,null,null,null,null,null,null,null,null,null,null,null,null,null,null,null,null,null,null,null,null,null,null,null,null,null,null,null,null,null,null,null,null,null,null,null,null,null,null,null,null,null,null,null,null,null,null,null,null,null,null,null,null,null,null,null,null,null,null,null,null,{"$f":"IF(EquipLift_12=\"-\",\"N\",IF(EquipLift_12=\"\",\"N\",IF(EquipLift_12_Sel=\"\",\"N\",\"Y\")))","v":"N"},"","","","","","","","","","","","","","","","","","","","","","","","","","","","","","","","","","","","","","","","","","","","","","","","","","","","","","","","","","","","","","","","","","","","","","","","","","","","","","","","","","","","","","","","","","","","","","","","","","","","","",null,null,null,null,null,null,null,null,null,null,null,null,null,null,null,null,null,null,null,null,null,null,"","","","","","","","","","","","","","","","","","","",""]
[null,"Lifting Equipment","-",null,{"$f":"IF(F68=\"\",0,MAX(E$4:E67)+1)","v":0},{"$f":"IF(D68=\"\",\"\",IF(DD68=\"N\",\"\",CONCATENATE(D68,\" (\",C68,\"), \")))","v":""},{"$f":"COUNTIF(H68:HH68,\"x\")","v":0},null,null,null,null,null,null,null,null,null,null,null,null,null,null,null,null,null,null,null,null,null,null,null,null,null,null,null,null,null,null,null,null,null,null,null,null,null,null,null,null,null,null,null,null,null,null,null,null,null,null,null,null,null,null,null,null,null,null,null,null,null,null,null,null,null,null,null,null,null,null,null,null,null,null,null,null,null,null,null,null,null,null,null,null,null,null,null,null,null,null,null,null,null,null,null,null,null,null,null,null,{"$f":"IF(EquipLift_13=\"-\",\"N\",IF(EquipLift_13=\"\",\"N\",IF(EquipLift_13_Sel=\"\",\"N\",\"Y\")))","v":"N"},{"$f":"IF($DD68=\"Y\",IF(H68=\"X\",CONCATENATE($C68,\", \"),\"\"),\"\")","v":""},{"$f":"IF($DD68=\"Y\",IF(I68=\"X\",CONCATENATE($C68,\", \"),\"\"),\"\")","v":""},{"$f":"IF($DD68=\"Y\",IF(J68=\"X\",CONCATENATE($C68,\", \"),\"\"),\"\")","v":""},{"$f":"IF($DD68=\"Y\",IF(K68=\"X\",CONCATENATE($C68,\", \"),\"\"),\"\")","v":""},{"$f":"IF($DD68=\"Y\",IF(L68=\"X\",CONCATENATE($C68,\", \"),\"\"),\"\")","v":""},{"$f":"IF($DD68=\"Y\",IF(M68=\"X\",CONCATENATE($C68,\", \"),\"\"),\"\")","v":""},{"$f":"IF($DD68=\"Y\",IF(N68=\"X\",CONCATENATE($C68,\", \"),\"\"),\"\")","v":""},{"$f":"IF($DD68=\"Y\",IF(O68=\"X\",CONCATENATE($C68,\", \"),\"\"),\"\")","v":""},{"$f":"IF($DD68=\"Y\",IF(P68=\"X\",CONCATENATE($C68,\", \"),\"\"),\"\")","v":""},{"$f":"IF($DD68=\"Y\",IF(Q68=\"X\",CONCATENATE($C68,\", \"),\"\"),\"\")","v":""},{"$f":"IF($DD68=\"Y\",IF(R68=\"X\",CONCATENATE($C68,\", \"),\"\"),\"\")","v":""},{"$f":"IF($DD68=\"Y\",IF(S68=\"X\",CONCATENATE($C68,\", \"),\"\"),\"\")","v":""},{"$f":"IF($DD68=\"Y\",IF(T68=\"X\",CONCATENATE($C68,\", \"),\"\"),\"\")","v":""},{"$f":"IF($DD68=\"Y\",IF(U68=\"X\",CONCATENATE($C68,\", \"),\"\"),\"\")","v":""},{"$f":"IF($DD68=\"Y\",IF(V68=\"X\",CONCATENATE($C68,\", \"),\"\"),\"\")","v":""},{"$f":"IF($DD68=\"Y\",IF(W68=\"X\",CONCATENATE($C68,\", \"),\"\"),\"\")","v":""},{"$f":"IF($DD68=\"Y\",IF(X68=\"X\",CONCATENATE($C68,\", \"),\"\"),\"\")","v":""},{"$f":"IF($DD68=\"Y\",IF(Y68=\"X\",CONCATENATE($C68,\", \"),\"\"),\"\")","v":""},{"$f":"IF($DD68=\"Y\",IF(Z68=\"X\",CONCATENATE($C68,\", \"),\"\"),\"\")","v":""},{"$f":"IF($DD68=\"Y\",IF(AA68=\"X\",CONCATENATE($C68,\", \"),\"\"),\"\")","v":""},{"$f":"IF($DD68=\"Y\",IF(AB68=\"X\",CONCATENATE($C68,\", \"),\"\"),\"\")","v":""},{"$f":"IF($DD68=\"Y\",IF(AC68=\"X\",CONCATENATE($C68,\", \"),\"\"),\"\")","v":""},{"$f":"IF($DD68=\"Y\",IF(AD68=\"X\",CONCATENATE($C68,\", \"),\"\"),\"\")","v":""},{"$f":"IF($DD68=\"Y\",IF(AE68=\"X\",CONCATENATE($C68,\", \"),\"\"),\"\")","v":""},{"$f":"IF($DD68=\"Y\",IF(AF68=\"X\",CONCATENATE($C68,\", \"),\"\"),\"\")","v":""},{"$f":"IF($DD68=\"Y\",IF(AG68=\"X\",CONCATENATE($C68,\", \"),\"\"),\"\")","v":""},{"$f":"IF($DD68=\"Y\",IF(AH68=\"X\",CONCATENATE($C68,\", \"),\"\"),\"\")","v":""},{"$f":"IF($DD68=\"Y\",IF(AI68=\"X\",CONCATENATE($C68,\", \"),\"\"),\"\")","v":""},{"$f":"IF($DD68=\"Y\",IF(AJ68=\"X\",CONCATENATE($C68,\", \"),\"\"),\"\")","v":""},{"$f":"IF($DD68=\"Y\",IF(AK68=\"X\",CONCATENATE($C68,\", \"),\"\"),\"\")","v":""},{"$f":"IF($DD68=\"Y\",IF(AL68=\"X\",CONCATENATE($C68,\", \"),\"\"),\"\")","v":""},{"$f":"IF($DD68=\"Y\",IF(AM68=\"X\",CONCATENATE($C68,\", \"),\"\"),\"\")","v":""},{"$f":"IF($DD68=\"Y\",IF(AN68=\"X\",CONCATENATE($C68,\", \"),\"\"),\"\")","v":""},{"$f":"IF($DD68=\"Y\",IF(AO68=\"X\",CONCATENATE($C68,\", \"),\"\"),\"\")","v":""},{"$f":"IF($DD68=\"Y\",IF(AP68=\"X\",CONCATENATE($C68,\", \"),\"\"),\"\")","v":""},{"$f":"IF($DD68=\"Y\",IF(AQ68=\"X\",CONCATENATE($C68,\", \"),\"\"),\"\")","v":""},{"$f":"IF($DD68=\"Y\",IF(AR68=\"X\",CONCATENATE($C68,\", \"),\"\"),\"\")","v":""},{"$f":"IF($DD68=\"Y\",IF(AS68=\"X\",CONCATENATE($C68,\", \"),\"\"),\"\")","v":""},{"$f":"IF($DD68=\"Y\",IF(AT68=\"X\",CONCATENATE($C68,\", \"),\"\"),\"\")","v":""},{"$f":"IF($DD68=\"Y\",IF(AU68=\"X\",CONCATENATE($C68,\", \"),\"\"),\"\")","v":""},{"$f":"IF($DD68=\"Y\",IF(AV68=\"X\",CONCATENATE($C68,\", \"),\"\"),\"\")","v":""},{"$f":"IF($DD68=\"Y\",IF(AW68=\"X\",CONCATENATE($C68,\", \"),\"\"),\"\")","v":""},{"$f":"IF($DD68=\"Y\",IF(AX68=\"X\",CONCATENATE($C68,\", \"),\"\"),\"\")","v":""},{"$f":"IF($DD68=\"Y\",IF(AY68=\"X\",CONCATENATE($C68,\", \"),\"\"),\"\")","v":""},{"$f":"IF($DD68=\"Y\",IF(AZ68=\"X\",CONCATENATE($C68,\", \"),\"\"),\"\")","v":""},{"$f":"IF($DD68=\"Y\",IF(BA68=\"X\",CONCATENATE($C68,\", \"),\"\"),\"\")","v":""},{"$f":"IF($DD68=\"Y\",IF(BB68=\"X\",CONCATENATE($C68,\", \"),\"\"),\"\")","v":""},{"$f":"IF($DD68=\"Y\",IF(BC68=\"X\",CONCATENATE($C68,\", \"),\"\"),\"\")","v":""},{"$f":"IF($DD68=\"Y\",IF(BD68=\"X\",CONCATENATE($C68,\", \"),\"\"),\"\")","v":""},{"$f":"IF($DD68=\"Y\",IF(BE68=\"X\",CONCATENATE($C68,\", \"),\"\"),\"\")","v":""},{"$f":"IF($DD68=\"Y\",IF(BF68=\"X\",CONCATENATE($C68,\", \"),\"\"),\"\")","v":""},{"$f":"IF($DD68=\"Y\",IF(BG68=\"X\",CONCATENATE($C68,\", \"),\"\"),\"\")","v":""},{"$f":"IF($DD68=\"Y\",IF(BH68=\"X\",CONCATENATE($C68,\", \"),\"\"),\"\")","v":""},{"$f":"IF($DD68=\"Y\",IF(BI68=\"X\",CONCATENATE($C68,\", \"),\"\"),\"\")","v":""},{"$f":"IF($DD68=\"Y\",IF(BJ68=\"X\",CONCATENATE($C68,\", \"),\"\"),\"\")","v":""},{"$f":"IF($DD68=\"Y\",IF(BK68=\"X\",CONCATENATE($C68,\", \"),\"\"),\"\")","v":""},{"$f":"IF($DD68=\"Y\",IF(BL68=\"X\",CONCATENATE($C68,\", \"),\"\"),\"\")","v":""},{"$f":"IF($DD68=\"Y\",IF(BM68=\"X\",CONCATENATE($C68,\", \"),\"\"),\"\")","v":""},{"$f":"IF($DD68=\"Y\",IF(BN68=\"X\",CONCATENATE($C68,\", \"),\"\"),\"\")","v":""},{"$f":"IF($DD68=\"Y\",IF(BO68=\"X\",CONCATENATE($C68,\", \"),\"\"),\"\")","v":""},{"$f":"IF($DD68=\"Y\",IF(BP68=\"X\",CONCATENATE($C68,\", \"),\"\"),\"\")","v":""},{"$f":"IF($DD68=\"Y\",IF(BQ68=\"X\",CONCATENATE($C68,\", \"),\"\"),\"\")","v":""},{"$f":"IF($DD68=\"Y\",IF(BR68=\"X\",CONCATENATE($C68,\", \"),\"\"),\"\")","v":""},{"$f":"IF($DD68=\"Y\",IF(BS68=\"X\",CONCATENATE($C68,\", \"),\"\"),\"\")","v":""},{"$f":"IF($DD68=\"Y\",IF(BT68=\"X\",CONCATENATE($C68,\", \"),\"\"),\"\")","v":""},{"$f":"IF($DD68=\"Y\",IF(BU68=\"X\",CONCATENATE($C68,\", \"),\"\"),\"\")","v":""},{"$f":"IF($DD68=\"Y\",IF(BV68=\"X\",CONCATENATE($C68,\", \"),\"\"),\"\")","v":""},{"$f":"IF($DD68=\"Y\",IF(BW68=\"X\",CONCATENATE($C68,\", \"),\"\"),\"\")","v":""},{"$f":"IF($DD68=\"Y\",IF(BX68=\"X\",CONCATENATE($C68,\", \"),\"\"),\"\")","v":""},{"$f":"IF($DD68=\"Y\",IF(BY68=\"X\",CONCATENATE($C68,\", \"),\"\"),\"\")","v":""},{"$f":"IF($DD68=\"Y\",IF(BZ68=\"X\",CONCATENATE($C68,\", \"),\"\"),\"\")","v":""},{"$f":"IF($DD68=\"Y\",IF(CA68=\"X\",CONCATENATE($C68,\", \"),\"\"),\"\")","v":""},{"$f":"IF($DD68=\"Y\",IF(CB68=\"X\",CONCATENATE($C68,\", \"),\"\"),\"\")","v":""},{"$f":"IF($DD68=\"Y\",IF(CC68=\"X\",CONCATENATE($C68,\", \"),\"\"),\"\")","v":""},{"$f":"IF($DD68=\"Y\",IF(CD68=\"X\",CONCATENATE($C68,\", \"),\"\"),\"\")","v":""},{"$f":"IF($DD68=\"Y\",IF(CE68=\"X\",CONCATENATE($C68,\", \"),\"\"),\"\")","v":""},{"$f":"IF($DD68=\"Y\",IF(CF68=\"X\",CONCATENATE($C68,\", \"),\"\"),\"\")","v":""},{"$f":"IF($DD68=\"Y\",IF(CG68=\"X\",CONCATENATE($C68,\", \"),\"\"),\"\")","v":""},{"$f":"IF($DD68=\"Y\",IF(CH68=\"X\",CONCATENATE($C68,\", \"),\"\"),\"\")","v":""},{"$f":"IF($DD68=\"Y\",IF(CI68=\"X\",CONCATENATE($C68,\", \"),\"\"),\"\")","v":""},{"$f":"IF($DD68=\"Y\",IF(CJ68=\"X\",CONCATENATE($C68,\", \"),\"\"),\"\")","v":""},{"$f":"IF($DD68=\"Y\",IF(CK68=\"X\",CONCATENATE($C68,\", \"),\"\"),\"\")","v":""},{"$f":"IF($DD68=\"Y\",IF(CL68=\"X\",CONCATENATE($C68,\", \"),\"\"),\"\")","v":""},{"$f":"IF($DD68=\"Y\",IF(CM68=\"X\",CONCATENATE($C68,\", \"),\"\"),\"\")","v":""},{"$f":"IF($DD68=\"Y\",IF(CN68=\"X\",CONCATENATE($C68,\", \"),\"\"),\"\")","v":""},{"$f":"IF($DD68=\"Y\",IF(CO68=\"X\",CONCATENATE($C68,\", \"),\"\"),\"\")","v":""},{"$f":"IF($DD68=\"Y\",IF(CP68=\"X\",CONCATENATE($C68,\", \"),\"\"),\"\")","v":""},{"$f":"IF($DD68=\"Y\",IF(CQ68=\"X\",CONCATENATE($C68,\", \"),\"\"),\"\")","v":""},{"$f":"IF($DD68=\"Y\",IF(CR68=\"X\",CONCATENATE($C68,\", \"),\"\"),\"\")","v":""},{"$f":"IF($DD68=\"Y\",IF(CS68=\"X\",CONCATENATE($C68,\", \"),\"\"),\"\")","v":""},{"$f":"IF($DD68=\"Y\",IF(CT68=\"X\",CONCATENATE($C68,\", \"),\"\"),\"\")","v":""},{"$f":"IF($DD68=\"Y\",IF(CU68=\"X\",CONCATENATE($C68,\", \"),\"\"),\"\")","v":""},{"$f":"IF($DD68=\"Y\",IF(CV68=\"X\",CONCATENATE($C68,\", \"),\"\"),\"\")","v":""},{"$f":"IF($DD68=\"Y\",IF(CW68=\"X\",CONCATENATE($C68,\", \"),\"\"),\"\")","v":""},{"$f":"IF($DD68=\"Y\",IF(CX68=\"X\",CONCATENATE($C68,\", \"),\"\"),\"\")","v":""},{"$f":"IF($DD68=\"Y\",IF(CY68=\"X\",CONCATENATE($C68,\", \"),\"\"),\"\")","v":""},{"$f":"IF($DD68=\"Y\",IF(CZ68=\"X\",CONCATENATE($C68,\", \"),\"\"),\"\")","v":""},{"$f":"IF($DD68=\"Y\",IF(DA68=\"X\",CONCATENATE($C68,\", \"),\"\"),\"\")","v":""},{"$f":"IF($DD68=\"Y\",IF(DB68=\"X\",CONCATENATE($C68,\", \"),\"\"),\"\")","v":""},{"$f":"IF($DD68=\"Y\",IF(DC68=\"X\",CONCATENATE($C68,\", \"),\"\"),\"\")","v":""},{"$f":"IF(DD68=\"Y\",CONCATENATE(C68,\", \"),\"\")","v":""},null,null,null,null,null,null,null,null,null,null,null,null,null,null,null,null,null,null,null,null,null,null,{"$f":"IF($DD68=\"Y\",HD68,\"\")","v":""},{"$f":"IF($DD68=\"Y\",HE68,\"\")","v":""},{"$f":"IF($DD68=\"Y\",HF68,\"\")","v":""},{"$f":"IF($DD68=\"Y\",HG68,\"\")","v":""},{"$f":"IF($DD68=\"Y\",HH68,\"\")","v":""},{"$f":"IF($DD68=\"Y\",HI68,\"\")","v":""},{"$f":"IF($DD68=\"Y\",HJ68,\"\")","v":""},{"$f":"IF($DD68=\"Y\",HK68,\"\")","v":""},{"$f":"IF($DD68=\"Y\",HL68,\"\")","v":""},{"$f":"IF($DD68=\"Y\",HM68,\"\")","v":""},{"$f":"IF($DD68=\"Y\",HN68,\"\")","v":""},{"$f":"IF($DD68=\"Y\",HO68,\"\")","v":""},{"$f":"IF($DD68=\"Y\",HP68,\"\")","v":""},{"$f":"IF($DD68=\"Y\",HQ68,\"\")","v":""},{"$f":"IF($DD68=\"Y\",HR68,\"\")","v":""},{"$f":"IF($DD68=\"Y\",HS68,\"\")","v":""},{"$f":"IF($DD68=\"Y\",HT68,\"\")","v":""},{"$f":"IF($DD68=\"Y\",HU68,\"\")","v":""},{"$f":"IF($DD68=\"Y\",HV68,\"\")","v":""},{"$f":"IF($DD68=\"Y\",HW68,\"\")","v":""}]
[null,null,"-",null,{"$f":"IF(F69=\"\",0,MAX(E$4:E68)+1)","v":0},"",0,null,null,null,null,null,null,null,null,null,null,null,null,null,null,null,null,null,null,null,null,null,null,null,null,null,null,null,null,null,null,null,null,null,null,null,null,null,null,null,null,null,null,null,null,null,null,null,null,null,null,null,null,null,null,null,null,null,null,null,null,null,null,null,null,null,null,null,null,null,null,null,null,null,null,null,null,null,null,null,null,null,null,null,null,null,null,null,null,null,null,null,null,null,null,null,null,null,null,null,null,{"$f":"IF(EquipLift_14=\"-\",\"N\",IF(EquipLift_14=\"\",\"N\",IF(EquipLift_14_Sel=\"\",\"N\",\"Y\")))","v":"N"},"","","","","","","","","","","","","","","","","","","","","","","","","","","","","","","","","","","","","","","","","","","","","","","","","","","","","","","","","","","","","","","","","","","","","","","","","","","","","","","","","","","","","","","","","","","","","","","","","","","","","",null,null,null,null,null,null,null,null,null,null,null,null,null,null,null,null,null,null,null,null,null,null,"","","","","","","","","","","","","","","","","","","",""]
[null,null,"-",null,{"$f":"IF(F70=\"\",0,MAX(E$4:E69)+1)","v":0},"",0,null,null,null,null,null,null,null,null,null,null,null,null,null,null,null,null,null,null,null,null,null,null,null,null,null,null,null,null,null,null,null,null,null,null,null,null,null,null,null,null,null,null,null,null,null,null,null,null,null,null,null,null,null,null,null,null,null,null,null,null,null,null,null,null,null,null,null,null,null,null,null,null,null,null,null,null,null,null,null,null,null,null,null,null,null,null,null,null,null,null,null,null,null,null,null,null,null,null,null,null,{"$f":"IF(EquipLift_15=\"-\",\"N\",IF(EquipLift_15=\"\",\"N\",IF(EquipLift_15_Sel=\"\",\"N\",\"Y\")))","v":"N"},"","","","","","","","","","","","","","","","","","","","","","","","","","","","","","","","","","","","","","","","","","","","","","","","","","","","","","","","","","","","","","","","","","","","","","","","","","","","","","","","","","","","","","","","","","","","","","","","","","","","","",null,null,null,null,null,null,null,null,null,null,null,null,null,null,null,null,null,null,null,null,null,null,"","","","","","","","","","","","","","","","","","","",""]
[null,null,"-",null,{"$f":"IF(F71=\"\",0,MAX(E$4:E70)+1)","v":0},"",0,null,null,null,null,null,null,null,null,null,null,null,null,null,null,null,null,null,null,null,null,null,null,null,null,null,null,null,null,null,null,null,null,null,null,null,null,null,null,null,null,null,null,null,null,null,null,null,null,null,null,null,null,null,null,null,null,null,null,null,null,null,null,null,null,null,null,null,null,null,null,null,null,null,null,null,null,null,null,null,null,null,null,null,null,null,null,null,null,null,null,null,null,null,null,null,null,null,null,null,null,{"$f":"IF(EquipLift_16=\"-\",\"N\",IF(EquipLift_16=\"\",\"N\",IF(EquipLift_16_Sel=\"\",\"N\",\"Y\")))","v":"N"},"","","","","","","","","","","","","","","","","","","","","","","","","","","","","","","","","","","","","","","","","","","","","","","","","","","","","","","","","","","","","","","","","","","","","","","","","","","","","","","","","","","","","","","","","","","","","","","","","","","","","",null,null,null,null,null,null,null,null,null,null,null,null,null,null,null,null,null,null,null,null,null,null,"","","","","","","","","","","","","","","","","","","",""]
[null,null,"-",null,{"$f":"IF(F72=\"\",0,MAX(E$4:E71)+1)","v":0},"",0,null,null,null,null,null,null,null,null,null,null,null,null,null,null,null,null,null,null,null,null,null,null,null,null,null,null,null,null,null,null,null,null,null,null,null,null,null,null,null,null,null,null,null,null,null,null,null,null,null,null,null,null,null,null,null,null,null,null,null,null,null,null,null,null,null,null,null,null,null,null,null,null,null,null,null,null,null,null,null,null,null,null,null,null,null,null,null,null,null,null,null,null,null,null,null,null,null,null,null,null,{"$f":"IF(EquipLift_17=\"-\",\"N\",IF(EquipLift_17=\"\",\"N\",IF(EquipLift_17_Sel=\"\",\"N\",\"Y\")))","v":"N"},"","","","","","","","","","","","","","","","","","","","","","","","","","","","","","","","","","","","","","","","","","","","","","","","","","","","","","","","","","","","","","","","","","","","","","","","","","","","","","","","","","","","","","","","","","","","","","","","","","","","","",null,null,null,null,null,null,null,null,null,null,null,null,null,null,null,null,null,null,null,null,null,null,"","","","","","","","","","","","","","","","","","","",""]
[null,null,"-",null,{"$f":"IF(F73=\"\",0,MAX(E$4:E72)+1)","v":0},"",0,null,null,null,null,null,null,null,null,null,null,null,null,null,null,null,null,null,null,null,null,null,null,null,null,null,null,null,null,null,null,null,null,null,null,null,null,null,null,null,null,null,null,null,null,null,null,null,null,null,null,null,null,null,null,null,null,null,null,null,null,null,null,null,null,null,null,null,null,null,null,null,null,null,null,null,null,null,null,null,null,null,null,null,null,null,null,null,null,null,null,null,null,null,null,null,null,null,null,null,null,{"$f":"IF(EquipLift_18=\"-\",\"N\",IF(EquipLift_18=\"\",\"N\",IF(EquipLift_18_Sel=\"\",\"N\",\"Y\")))","v":"N"},"","","","","","","","","","","","","","","","","","","","","","","","","","","","","","","","","","","","","","","","","","","","","","","","","","","","","","","","","","","","","","","","","","","","","","","","","","","","","","","","","","","","","","","","","","","","","","","","","","","","","",null,null,null,null,null,null,null,null,null,null,null,null,null,null,null,null,null,null,null,null,null,null,"","","","","","","","","","","","","","","","","","","",""]
[null,null,"-",null,{"$f":"IF(F74=\"\",0,MAX(E$4:E73)+1)","v":0},"",0,null,null,null,null,null,null,null,null,null,null,null,null,null,null,null,null,null,null,null,null,null,null,null,null,null,null,null,null,null,null,null,null,null,null,null,null,null,null,null,null,null,null,null,null,null,null,null,null,null,null,null,null,null,null,null,null,null,null,null,null,null,null,null,null,null,null,null,null,null,null,null,null,null,null,null,null,null,null,null,null,null,null,null,null,null,null,null,null,null,null,null,null,null,null,null,null,null,null,null,null,{"$f":"IF(EquipLift_19=\"-\",\"N\",IF(EquipLift_19=\"\",\"N\",IF(EquipLift_19_Sel=\"\",\"N\",\"Y\")))","v":"N"},"","","","","","","","","","","","","","","","","","","","","","","","","","","","","","","","","","","","","","","","","","","","","","","","","","","","","","","","","","","","","","","","","","","","","","","","","","","","","","","","","","","","","","","","","","","","","","","","","","","","","",null,null,null,null,null,null,null,null,null,null,null,null,null,null,null,null,null,null,null,null,null,null,"","","","","","","","","","","","","","","","","","","",""]
[null,null,"-",null,{"$f":"IF(F75=\"\",0,MAX(E$4:E74)+1)","v":0},"",0,null,null,null,null,null,null,null,null,null,null,null,null,null,null,null,null,null,null,null,null,null,null,null,null,null,null,null,null,null,null,null,null,null,null,null,null,null,null,null,null,null,null,null,null,null,null,null,null,null,null,null,null,null,null,null,null,null,null,null,null,null,null,null,null,null,null,null,null,null,null,null,null,null,null,null,null,null,null,null,null,null,null,null,null,null,null,null,null,null,null,null,null,null,null,null,null,null,null,null,null,{"$f":"IF(EquipLift_20=\"-\",\"N\",IF(EquipLift_20=\"\",\"N\",IF(EquipLift_20_Sel=\"\",\"N\",\"Y\")))","v":"N"},"","","","","","","","","","","","","","","","","","","","","","","","","","","","","","","","","","","","","","","","","","","","","","","","","","","","","","","","","","","","","","","","","","","","","","","","","","","","","","","","","","","","","","","","","","","","","","","","","","","","","",null,null,null,null,null,null,null,null,null,null,null,null,null,null,null,null,null,null,null,null,null,null,"","","","","","","","","","","","","","","","","","","",""]
[null,null,"-",null,{"$f":"IF(F76=\"\",0,MAX(E$4:E75)+1)","v":0},"",0,null,null,null,null,null,null,null,null,null,null,null,null,null,null,null,null,null,null,null,null,null,null,null,null,null,null,null,null,null,null,null,null,null,null,null,null,null,null,null,null,null,null,null,null,null,null,null,null,null,null,null,null,null,null,null,null,null,null,null,null,null,null,null,null,null,null,null,null,null,null,null,null,null,null,null,null,null,null,null,null,null,null,null,null,null,null,null,null,null,null,null,null,null,null,null,null,null,null,null,null,{"$f":"IF(EquipLift_21=\"-\",\"N\",IF(EquipLift_21=\"\",\"N\",IF(EquipLift_21_Sel=\"\",\"N\",\"Y\")))","v":"N"},"","","","","","","","","","","","","","","","","","","","","","","","","","","","","","","","","","","","","","","","","","","","","","","","","","","","","","","","","","","","","","","","","","","","","","","","","","","","","","","","","","","","","","","","","","","","","","","","","","","","","",null,null,null,null,null,null,null,null,null,null,null,null,null,null,null,null,null,null,null,null,null,null,"","","","","","","","","","","","","","","","","","","",""]
[null,"Concrete","Concrete Buggy",null,{"$f":"IF(F77=\"\",0,MAX(E$4:E76)+1)","v":0},"",3,null,null,null,null,"X",null,null,"X",null,null,null,null,null,null,null,null,"X",null,null,null,null,null,null,null,null,null,null,null,null,null,null,null,null,null,null,null,null,null,null,null,null,null,null,null,null,null,null,null,null,null,null,null,null,null,null,null,null,null,null,null,null,null,null,null,null,null,null,null,null,null,null,null,null,null,null,null,null,null,null,null,null,null,null,null,null,null,null,null,null,null,null,null,null,null,null,null,null,null,null,null,{"$f":"IF(EquipConcr_1=\"-\",\"N\",IF(EquipConcr_1=\"\",\"N\",IF(EquipConcr_1_Sel=\"\",\"N\",\"Y\")))","v":"N"},"","","","","","","","","","","","","","","","","","","","","","","","","","","","","","","","","","","","","","","","","","","","","","","","","","","","","","","","","","","","","","","","","","","","","","","","","","","","","","","","","","","","","","","","","","","","","","","","","","","","","",null,null,null,null,null,null,null,null,null,null,null,null,"X",null,null,null,null,null,null,null,null,null,"","","","","","","","","","","","","","","","","","","","",null,"End of Links Tab"]
[null,null,"Concrete Pump",null,{"$f":"IF(F78=\"\",0,MAX(E$4:E77)+1)","v":0},"",3,null,null,null,null,"X",null,null,"X",null,null,null,null,null,null,null,null,"X",null,null,null,null,null,null,null,null,null,null,null,null,null,null,null,null,null,null,null,null,null,null,null,null,null,null,null,null,null,null,null,null,null,null,null,null,null,null,null,null,null,null,null,null,null,null,null,null,null,null,null,null,null,null,null,null,null,null,null,null,null,null,null,null,null,null,null,null,null,null,null,null,null,null,null,null,null,null,null,null,null,null,null,{"$f":"IF(EquipConcr_2=\"-\",\"N\",IF(EquipConcr_2=\"\",\"N\",IF(EquipConcr_2_Sel=\"\",\"N\",\"Y\")))","v":"N"},"","","","","","","","","","","","","","","","","","","","","","","","","","","","","","","","","","","","","","","","","","","","","","","","","","","","","","","","","","","","","","","","","","","","","","","","","","","","","","","","","","","","","","","","","","","","","","","","","","","","","",null,null,null,null,null,null,null,null,null,null,null,null,"X",null,null,null,null,null,null,null,null,null,"","","","","","","","","","","","","","","","","","","",""]
[null,null,"Concrete Truck",null,{"$f":"IF(F79=\"\",0,MAX(E$4:E78)+1)","v":0},"",4,null,null,null,null,"X","X",null,null,null,null,null,null,null,null,null,null,"X",null,null,null,null,null,null,null,null,null,null,null,null,null,null,null,null,null,null,null,null,null,null,null,null,null,null,null,null,null,null,null,null,null,null,null,null,null,null,null,null,null,null,null,null,null,null,null,null,null,null,null,null,null,null,null,null,null,null,null,null,null,null,null,null,null,null,null,null,null,null,null,null,null,null,null,null,null,null,null,null,null,null,null,{"$f":"IF(EquipConcr_3=\"-\",\"N\",IF(EquipConcr_3=\"\",\"N\",IF(EquipConcr_3_Sel=\"\",\"N\",\"Y\")))","v":"N"},"","","","","","","","","","","","","","","","","","","","","","","","","","","","","","","","","","","","","","","","","","","","","","","","","","","","","","","","","","","","","","","","","","","","","","","","","","","","","","","","","","","","","","","","","","","","","","","","","","","","","",null,null,null,"X",null,null,null,null,null,null,null,null,"X",null,null,null,null,null,null,null,null,null,"","","","","","","","","","","","","","","","","","","",""]
[null,null,"-",null,{"$f":"IF(F80=\"\",0,MAX(E$4:E79)+1)","v":0},"",0,null,null,null,null,null,null,null,null,null,null,null,null,null,null,null,null,null,null,null,null,null,null,null,null,null,null,null,null,null,null,null,null,null,null,null,null,null,null,null,null,null,null,null,null,null,null,null,null,null,null,null,null,null,null,null,null,null,null,null,null,null,null,null,null,null,null,null,null,null,null,null,null,null,null,null,null,null,null,null,null,null,null,null,null,null,null,null,null,null,null,null,null,null,null,null,null,null,null,null,null,{"$f":"IF(EquipConcr_4=\"-\",\"N\",IF(EquipConcr_4=\"\",\"N\",IF(EquipConcr_4_Sel=\"\",\"N\",\"Y\")))","v":"N"},"","","","","","","","","","","","","","","","","","","","","","","","","","","","","","","","","","","","","","","","","","","","","","","","","","","","","","","","","","","","","","","","","","","","","","","","","","","","","","","","","","","","","","","","","","","","","","","","","","","","","",null,null,null,null,null,null,null,null,null,null,null,null,null,null,null,null,null,null,null,null,null,null,"","","","","","","","","","","","","","","","","","","",""]
[null,null,"-",null,{"$f":"IF(F81=\"\",0,MAX(E$4:E80)+1)","v":0},"",{"$f":"COUNTIF(H81:HH81,\"x\")","v":0},null,null,null,null,null,null,null,null,null,null,null,null,null,null,null,null,null,null,null,null,null,null,null,null,null,null,null,null,null,null,null,null,null,null,null,null,null,null,null,null,null,null,null,null,null,null,null,null,null,null,null,null,null,null,null,null,null,null,null,null,null,null,null,null,null,null,null,null,null,null,null,null,null,null,null,null,null,null,null,null,null,null,null,null,null,null,null,null,null,null,null,null,null,null,null,null,null,null,null,null,{"$f":"IF(EquipConcr_5=\"-\",\"N\",IF(EquipConcr_5=\"\",\"N\",IF(EquipConcr_5_Sel=\"\",\"N\",\"Y\")))","v":"N"},"","","","","","","","","","","","","","","","","","","","","","","","","","","","","","","","","","","","","","","","","","","","","","","","","","","","","","","","","","","","","","","","","","","","","","","","","","","","","","","","","","","","","","","","","","","","","","","","","","","","","",null,null,null,null,null,null,null,null,null,null,null,null,null,null,null,null,null,null,null,null,null,null,"","","","","","","","","","","","","","","","","","","",""]
["Equipment",null,"-",null,{"$f":"IF(F82=\"\",0,MAX(E$4:E81)+1)","v":0},{"$f":"IF(D82=\"\",\"\",IF(DD82=\"N\",\"\",CONCATENATE(D82,\" (\",C82,\"), \")))","v":""},0,null,null,null,null,null,null,null,null,null,null,null,null,null,null,null,null,null,null,null,null,null,null,null,null,null,null,null,null,null,null,null,null,null,null,null,null,null,null,null,null,null,null,null,null,null,null,null,null,null,null,null,null,null,null,null,null,null,null,null,null,null,null,null,null,null,null,null,null,null,null,null,null,null,null,null,null,null,null,null,null,null,null,null,null,null,null,null,null,null,null,null,null,null,null,null,null,null,null,null,null,{"$f":"IF(EquipConcr_6=\"-\",\"N\",IF(EquipConcr_6=\"\",\"N\",IF(EquipConcr_6_Sel=\"\",\"N\",\"Y\")))","v":"N"},"","","","","","","","","","","","","","","","","","","","","","","","","","","","","","","","","","","","","","","","","","","","","","","","","","","","","","","","","","","","","","","","","","","","","","","","","","","","","","","","","","","","","","","","","","","","","","","","","","","","",{"$f":"IF(DD82=\"Y\",CONCATENATE(C82,\", \"),\"\")","v":""},null,null,null,null,null,null,null,null,null,null,null,null,null,null,null,null,null,null,null,null,null,null,{"$f":"IF($DD82=\"Y\",HD82,\"\")","v":""},{"$f":"IF($DD82=\"Y\",HE82,\"\")","v":""},{"$f":"IF($DD82=\"Y\",HF82,\"\")","v":""},{"$f":"IF($DD82=\"Y\",HG82,\"\")","v":""},{"$f":"IF($DD82=\"Y\",HH82,\"\")","v":""},{"$f":"IF($DD82=\"Y\",HI82,\"\")","v":""},{"$f":"IF($DD82=\"Y\",HJ82,\"\")","v":""},{"$f":"IF($DD82=\"Y\",HK82,\"\")","v":""},{"$f":"IF($DD82=\"Y\",HL82,\"\")","v":""},{"$f":"IF($DD82=\"Y\",HM82,\"\")","v":""},{"$f":"IF($DD82=\"Y\",HN82,\"\")","v":""},{"$f":"IF($DD82=\"Y\",HO82,\"\")","v":""},{"$f":"IF($DD82=\"Y\",HP82,\"\")","v":""},{"$f":"IF($DD82=\"Y\",HQ82,\"\")","v":""},{"$f":"IF($DD82=\"Y\",HR82,\"\")","v":""},{"$f":"IF($DD82=\"Y\",HS82,\"\")","v":""},{"$f":"IF($DD82=\"Y\",HT82,\"\")","v":""},{"$f":"IF($DD82=\"Y\",HU82,\"\")","v":""},{"$f":"IF($DD82=\"Y\",HV82,\"\")","v":""},{"$f":"IF($DD82=\"Y\",HW82,\"\")","v":""}]
[null,null,"-",null,{"$f":"IF(F83=\"\",0,MAX(E$4:E82)+1)","v":0},"",0,null,null,null,null,null,null,null,null,null,null,null,null,null,null,null,null,null,null,null,null,null,null,null,null,null,null,null,null,null,null,null,null,null,null,null,null,null,null,null,null,null,null,null,null,null,null,null,null,null,null,null,null,null,null,null,null,null,null,null,null,null,null,null,null,null,null,null,null,null,null,null,null,null,null,null,null,null,null,null,null,null,null,null,null,null,null,null,null,null,null,null,null,null,null,null,null,null,null,null,null,{"$f":"IF(EquipConcr_7=\"-\",\"N\",IF(EquipConcr_7=\"\",\"N\",IF(EquipConcr_7_Sel=\"\",\"N\",\"Y\")))","v":"N"},"","","","","","","","","","","","","","","","","","","","","","","","","","","","","","","","","","","","","","","","","","","","","","","","","","","","","","","","","","","","","","","","","","","","","","","","","","","","","","","","","","","","","","","","","","","","","","","","","","","","","",null,null,null,null,null,null,null,null,null,null,null,null,null,null,null,null,null,null,null,null,null,null,"","","","","","","","","","","","","","","","","","","",""]
[null,null,"-",null,{"$f":"IF(F84=\"\",0,MAX(E$4:E83)+1)","v":0},"",0,null,null,null,null,null,null,null,null,null,null,null,null,null,null,null,null,null,null,null,null,null,null,null,null,null,null,null,null,null,null,null,null,null,null,null,null,null,null,null,null,null,null,null,null,null,null,null,null,null,null,null,null,null,null,null,null,null,null,null,null,null,null,null,null,null,null,null,null,null,null,null,null,null,null,null,null,null,null,null,null,null,null,null,null,null,null,null,null,null,null,null,null,null,null,null,null,null,null,null,null,{"$f":"IF(EquipConcr_8=\"-\",\"N\",IF(EquipConcr_8=\"\",\"N\",IF(EquipConcr_8_Sel=\"\",\"N\",\"Y\")))","v":"N"},"","","","","","","","","","","","","","","","","","","","","","","","","","","","","","","","","","","","","","","","","","","","","","","","","","","","","","","","","","","","","","","",{"$f":"IF($DD84=\"Y\",IF(BS84=\"X\",CONCATENATE($C84,\", \"),\"\"),\"\")","v":""},"","","","","","","","","","","","","","","","","","","","","","","","","","","","","","","","","","","","","",null,null,null,null,null,null,null,null,null,null,null,null,null,null,null,null,null,null,null,null,null,null,"","","","","","","","","","","","","","","","","","","",""]
[null,null,"-",null,{"$f":"IF(F85=\"\",0,MAX(E$4:E84)+1)","v":0},"",0,null,null,null,null,null,null,null,null,null,null,null,null,null,null,null,null,null,null,null,null,null,null,null,null,null,null,null,null,null,null,null,null,null,null,null,null,null,null,null,null,null,null,null,null,null,null,null,null,null,null,null,null,null,null,null,null,null,null,null,null,null,null,null,null,null,null,null,null,null,null,null,null,null,null,null,null,null,null,null,null,null,null,null,null,null,null,null,null,null,null,null,null,null,null,null,null,null,null,null,null,{"$f":"IF(EquipConcr_9=\"-\",\"N\",IF(EquipConcr_9=\"\",\"N\",IF(EquipConcr_9_Sel=\"\",\"N\",\"Y\")))","v":"N"},{"$f":"IF($DD85=\"Y\",IF(H85=\"X\",CONCATENATE($C85,\", \"),\"\"),\"\")","v":""},"","","","","","","","","",{"$f":"IF($DD85=\"Y\",IF(R85=\"X\",CONCATENATE($C85,\", \"),\"\"),\"\")","v":""},{"$f":"IF($DD85=\"Y\",IF(S85=\"X\",CONCATENATE($C85,\", \"),\"\"),\"\")","v":""},{"$f":"IF($DD85=\"Y\",IF(T85=\"X\",CONCATENATE($C85,\", \"),\"\"),\"\")","v":""},{"$f":"IF($DD85=\"Y\",IF(U85=\"X\",CONCATENATE($C85,\", \"),\"\"),\"\")","v":""},{"$f":"IF($DD85=\"Y\",IF(V85=\"X\",CONCATENATE($C85,\", \"),\"\"),\"\")","v":""},{"$f":"IF($DD85=\"Y\",IF(W85=\"X\",CONCATENATE($C85,\", \"),\"\"),\"\")","v":""},{"$f":"IF($DD85=\"Y\",IF(X85=\"X\",CONCATENATE($C85,\", \"),\"\"),\"\")","v":""},{"$f":"IF($DD85=\"Y\",IF(Y85=\"X\",CONCATENATE($C85,\", \"),\"\"),\"\")","v":""},{"$f":"IF($DD85=\"Y\",IF(Z85=\"X\",CONCATENATE($C85,\", \"),\"\"),\"\")","v":""},{"$f":"IF($DD85=\"Y\",IF(AA85=\"X\",CONCATENATE($C85,\", \"),\"\"),\"\")","v":""},{"$f":"IF($DD85=\"Y\",IF(AB85=\"X\",CONCATENATE($C85,\", \"),\"\"),\"\")","v":""},{"$f":"IF($DD85=\"Y\",IF(AC85=\"X\",CONCATENATE($C85,\", \"),\"\"),\"\")","v":""},{"$f":"IF($DD85=\"Y\",IF(AD85=\"X\",CONCATENATE($C85,\", \"),\"\"),\"\")","v":""},{"$f":"IF($DD85=\"Y\",IF(AE85=\"X\",CONCATENATE($C85,\", \"),\"\"),\"\")","v":""},{"$f":"IF($DD85=\"Y\",IF(AF85=\"X\",CONCATENATE($C85,\", \"),\"\"),\"\")","v":""},{"$f":"IF($DD85=\"Y\",IF(AG85=\"X\",CONCATENATE($C85,\", \"),\"\"),\"\")","v":""},{"$f":"IF($DD85=\"Y\",IF(AH85=\"X\",CONCATENATE($C85,\", \"),\"\"),\"\")","v":""},{"$f":"IF($DD85=\"Y\",IF(AI85=\"X\",CONCATENATE($C85,\", \"),\"\"),\"\")","v":""},{"$f":"IF($DD85=\"Y\",IF(AJ85=\"X\",CONCATENATE($C85,\", \"),\"\"),\"\")","v":""},{"$f":"IF($DD85=\"Y\",IF(AK85=\"X\",CONCATENATE($C85,\", \"),\"\"),\"\")","v":""},{"$f":"IF($DD85=\"Y\",IF(AL85=\"X\",CONCATENATE($C85,\", \"),\"\"),\"\")","v":""},{"$f":"IF($DD85=\"Y\",IF(AM85=\"X\",CONCATENATE($C85,\", \"),\"\"),\"\")","v":""},{"$f":"IF($DD85=\"Y\",IF(AN85=\"X\",CONCATENATE($C85,\", \"),\"\"),\"\")","v":""},{"$f":"IF($DD85=\"Y\",IF(AO85=\"X\",CONCATENATE($C85,\", \"),\"\"),\"\")","v":""},{"$f":"IF($DD85=\"Y\",IF(AP85=\"X\",CONCATENATE($C85,\", \"),\"\"),\"\")","v":""},{"$f":"IF($DD85=\"Y\",IF(AQ85=\"X\",CONCATENATE($C85,\", \"),\"\"),\"\")","v":""},{"$f":"IF($DD85=\"Y\",IF(AR85=\"X\",CONCATENATE($C85,\", \"),\"\"),\"\")","v":""},{"$f":"IF($DD85=\"Y\",IF(AS85=\"X\",CONCATENATE($C85,\", \"),\"\"),\"\")","v":""},{"$f":"IF($DD85=\"Y\",IF(AT85=\"X\",CONCATENATE($C85,\", \"),\"\"),\"\")","v":""},{"$f":"IF($DD85=\"Y\",IF(AU85=\"X\",CONCATENATE($C85,\", \"),\"\"),\"\")","v":""},{"$f":"IF($DD85=\"Y\",IF(AV85=\"X\",CONCATENATE($C85,\", \"),\"\"),\"\")","v":""},{"$f":"IF($DD85=\"Y\",IF(AW85=\"X\",CONCATENATE($C85,\", \"),\"\"),\"\")","v":""},{"$f":"IF($DD85=\"Y\",IF(AX85=\"X\",CONCATENATE($C85,\", \"),\"\"),\"\")","v":""},{"$f":"IF($DD85=\"Y\",IF(AY85=\"X\",CONCATENATE($C85,\", \"),\"\"),\"\")","v":""},{"$f":"IF($DD85=\"Y\",IF(AZ85=\"X\",CONCATENATE($C85,\", \"),\"\"),\"\")","v":""},{"$f":"IF($DD85=\"Y\",IF(BA85=\"X\",CONCATENATE($C85,\", \"),\"\"),\"\")","v":""},{"$f":"IF($DD85=\"Y\",IF(BB85=\"X\",CONCATENATE($C85,\", \"),\"\"),\"\")","v":""},{"$f":"IF($DD85=\"Y\",IF(BC85=\"X\",CONCATENATE($C85,\", \"),\"\"),\"\")","v":""},{"$f":"IF($DD85=\"Y\",IF(BD85=\"X\",CONCATENATE($C85,\", \"),\"\"),\"\")","v":""},{"$f":"IF($DD85=\"Y\",IF(BE85=\"X\",CONCATENATE($C85,\", \"),\"\"),\"\")","v":""},{"$f":"IF($DD85=\"Y\",IF(BF85=\"X\",CONCATENATE($C85,\", \"),\"\"),\"\")","v":""},{"$f":"IF($DD85=\"Y\",IF(BG85=\"X\",CONCATENATE($C85,\", \"),\"\"),\"\")","v":""},{"$f":"IF($DD85=\"Y\",IF(BH85=\"X\",CONCATENATE($C85,\", \"),\"\"),\"\")","v":""},{"$f":"IF($DD85=\"Y\",IF(BI85=\"X\",CONCATENATE($C85,\", \"),\"\"),\"\")","v":""},{"$f":"IF($DD85=\"Y\",IF(BJ85=\"X\",CONCATENATE($C85,\", \"),\"\"),\"\")","v":""},{"$f":"IF($DD85=\"Y\",IF(BK85=\"X\",CONCATENATE($C85,\", \"),\"\"),\"\")","v":""},{"$f":"IF($DD85=\"Y\",IF(BL85=\"X\",CONCATENATE($C85,\", \"),\"\"),\"\")","v":""},{"$f":"IF($DD85=\"Y\",IF(BM85=\"X\",CONCATENATE($C85,\", \"),\"\"),\"\")","v":""},{"$f":"IF($DD85=\"Y\",IF(BN85=\"X\",CONCATENATE($C85,\", \"),\"\"),\"\")","v":""},{"$f":"IF($DD85=\"Y\",IF(BO85=\"X\",CONCATENATE($C85,\", \"),\"\"),\"\")","v":""},{"$f":"IF($DD85=\"Y\",IF(BP85=\"X\",CONCATENATE($C85,\", \"),\"\"),\"\")","v":""},{"$f":"IF($DD85=\"Y\",IF(BQ85=\"X\",CONCATENATE($C85,\", \"),\"\"),\"\")","v":""},{"$f":"IF($DD85=\"Y\",IF(BR85=\"X\",CONCATENATE($C85,\", \"),\"\"),\"\")","v":""},"","","","","","","","","","","","","","","","","","","","","","","","","","","","","","","","","",{"$f":"IF($DD85=\"Y\",IF(CZ85=\"X\",CONCATENATE($C85,\", \"),\"\"),\"\")","v":""},{"$f":"IF($DD85=\"Y\",IF(DA85=\"X\",CONCATENATE($C85,\", \"),\"\"),\"\")","v":""},{"$f":"IF($DD85=\"Y\",IF(DB85=\"X\",CONCATENATE($C85,\", \"),\"\"),\"\")","v":""},{"$f":"IF($DD85=\"Y\",IF(DC85=\"X\",CONCATENATE($C85,\", \"),\"\"),\"\")","v":""},"",null,null,null,null,null,null,null,null,null,null,null,null,null,null,null,null,null,null,null,null,null,null,"","","","","","","","","","","","","","","","","","","",""]
[null,null,"-",null,{"$f":"IF(F86=\"\",0,MAX(E$4:E85)+1)","v":0},"",0,null,null,null,null,null,null,null,null,null,null,null,null,null,null,null,null,null,null,null,null,null,null,null,null,null,null,null,null,null,null,null,null,null,null,null,null,null,null,null,null,null,null,null,null,null,null,null,null,null,null,null,null,null,null,null,null,null,null,null,null,null,null,null,null,null,null,null,null,null,null,null,null,null,null,null,null,null,null,null,null,null,null,null,null,null,null,null,null,null,null,null,null,null,null,null,null,null,null,null,null,{"$f":"IF(EquipConcr_10=\"-\",\"N\",IF(EquipConcr_10=\"\",\"N\",IF(EquipConcr_10_Sel=\"\",\"N\",\"Y\")))","v":"N"},"","","","","","","","","","","","","","","","","","","","","","","","","","","","","","","","","","","","","","","","","","","","","","","","","","","","","","","","","","","","","","","","","","","","","","","","","","","","","","","","","","","","","","","","","","","","","","","","","","","","","",null,null,null,null,null,null,null,null,null,null,null,null,null,null,null,null,null,null,null,null,null,null,"","","","","","","","","","","","","","","","","","","",""]
[null,null,"-",null,{"$f":"IF(F87=\"\",0,MAX(E$4:E86)+1)","v":0},{"$f":"IF(D87=\"\",\"\",IF(DD87=\"N\",\"\",CONCATENATE(D87,\" (\",C87,\"), \")))","v":""},{"$f":"COUNTIF(H87:HH87,\"x\")","v":0},null,null,null,null,null,null,null,null,null,null,null,null,null,null,null,null,null,null,null,null,null,null,null,null,null,null,null,null,null,null,null,null,null,null,null,null,null,null,null,null,null,null,null,null,null,null,null,null,null,null,null,null,null,null,null,null,null,null,null,null,null,null,null,null,null,null,null,null,null,null,null,null,null,null,null,null,null,null,null,null,null,null,null,null,null,null,null,null,null,null,null,null,null,null,null,null,null,null,null,null,{"$f":"IF(EquipConcr_11=\"-\",\"N\",IF(EquipConcr_11=\"\",\"N\",IF(EquipConcr_11_Sel=\"\",\"N\",\"Y\")))","v":"N"},"","","","","","","","","","","","","","","","","","","","","","","","","","","","","","","","","","","","","","","","","","","","","","","","","","","","","","","","","","","","","","","",{"$f":"IF($DD87=\"Y\",IF(BS87=\"X\",CONCATENATE($C87,\", \"),\"\"),\"\")","v":""},{"$f":"IF($DD87=\"Y\",IF(BT87=\"X\",CONCATENATE($C87,\", \"),\"\"),\"\")","v":""},{"$f":"IF($DD87=\"Y\",IF(BU87=\"X\",CONCATENATE($C87,\", \"),\"\"),\"\")","v":""},{"$f":"IF($DD87=\"Y\",IF(BV87=\"X\",CONCATENATE($C87,\", \"),\"\"),\"\")","v":""},{"$f":"IF($DD87=\"Y\",IF(BW87=\"X\",CONCATENATE($C87,\", \"),\"\"),\"\")","v":""},{"$f":"IF($DD87=\"Y\",IF(BX87=\"X\",CONCATENATE($C87,\", \"),\"\"),\"\")","v":""},{"$f":"IF($DD87=\"Y\",IF(BY87=\"X\",CONCATENATE($C87,\", \"),\"\"),\"\")","v":""},{"$f":"IF($DD87=\"Y\",IF(BZ87=\"X\",CONCATENATE($C87,\", \"),\"\"),\"\")","v":""},{"$f":"IF($DD87=\"Y\",IF(CA87=\"X\",CONCATENATE($C87,\", \"),\"\"),\"\")","v":""},{"$f":"IF($DD87=\"Y\",IF(CB87=\"X\",CONCATENATE($C87,\", \"),\"\"),\"\")","v":""},{"$f":"IF($DD87=\"Y\",IF(CC87=\"X\",CONCATENATE($C87,\", \"),\"\"),\"\")","v":""},{"$f":"IF($DD87=\"Y\",IF(CD87=\"X\",CONCATENATE($C87,\", \"),\"\"),\"\")","v":""},{"$f":"IF($DD87=\"Y\",IF(CE87=\"X\",CONCATENATE($C87,\", \"),\"\"),\"\")","v":""},{"$f":"IF($DD87=\"Y\",IF(CF87=\"X\",CONCATENATE($C87,\", \"),\"\"),\"\")","v":""},{"$f":"IF($DD87=\"Y\",IF(CG87=\"X\",CONCATENATE($C87,\", \"),\"\"),\"\")","v":""},{"$f":"IF($DD87=\"Y\",IF(CH87=\"X\",CONCATENATE($C87,\", \"),\"\"),\"\")","v":""},{"$f":"IF($DD87=\"Y\",IF(CI87=\"X\",CONCATENATE($C87,\", \"),\"\"),\"\")","v":""},{"$f":"IF($DD87=\"Y\",IF(CJ87=\"X\",CONCATENATE($C87,\", \"),\"\"),\"\")","v":""},{"$f":"IF($DD87=\"Y\",IF(CK87=\"X\",CONCATENATE($C87,\", \"),\"\"),\"\")","v":""},{"$f":"IF($DD87=\"Y\",IF(CL87=\"X\",CONCATENATE($C87,\", \"),\"\"),\"\")","v":""},{"$f":"IF($DD87=\"Y\",IF(CM87=\"X\",CONCATENATE($C87,\", \"),\"\"),\"\")","v":""},{"$f":"IF($DD87=\"Y\",IF(CN87=\"X\",CONCATENATE($C87,\", \"),\"\"),\"\")","v":""},{"$f":"IF($DD87=\"Y\",IF(CO87=\"X\",CONCATENATE($C87,\", \"),\"\"),\"\")","v":""},{"$f":"IF($DD87=\"Y\",IF(CP87=\"X\",CONCATENATE($C87,\", \"),\"\"),\"\")","v":""},{"$f":"IF($DD87=\"Y\",IF(CQ87=\"X\",CONCATENATE($C87,\", \"),\"\"),\"\")","v":""},{"$f":"IF($DD87=\"Y\",IF(CR87=\"X\",CONCATENATE($C87,\", \"),\"\"),\"\")","v":""},{"$f":"IF($DD87=\"Y\",IF(CS87=\"X\",CONCATENATE($C87,\", \"),\"\"),\"\")","v":""},{"$f":"IF($DD87=\"Y\",IF(CT87=\"X\",CONCATENATE($C87,\", \"),\"\"),\"\")","v":""},{"$f":"IF($DD87=\"Y\",IF(CU87=\"X\",CONCATENATE($C87,\", \"),\"\"),\"\")","v":""},{"$f":"IF($DD87=\"Y\",IF(CV87=\"X\",CONCATENATE($C87,\", \"),\"\"),\"\")","v":""},{"$f":"IF($DD87=\"Y\",IF(CW87=\"X\",CONCATENATE($C87,\", \"),\"\"),\"\")","v":""},{"$f":"IF($DD87=\"Y\",IF(CX87=\"X\",CONCATENATE($C87,\", \"),\"\"),\"\")","v":""},{"$f":"IF($DD87=\"Y\",IF(CY87=\"X\",CONCATENATE($C87,\", \"),\"\"),\"\")","v":""},"","","","",{"$f":"IF(DD87=\"Y\",CONCATENATE(C87,\", \"),\"\")","v":""},null,null,null,null,null,null,null,null,null,null,null,null,null,null,null,null,null,null,null,null,null,null,{"$f":"IF($DD87=\"Y\",HD87,\"\")","v":""},{"$f":"IF($DD87=\"Y\",HE87,\"\")","v":""},{"$f":"IF($DD87=\"Y\",HF87,\"\")","v":""},{"$f":"IF($DD87=\"Y\",HG87,\"\")","v":""},{"$f":"IF($DD87=\"Y\",HH87,\"\")","v":""},{"$f":"IF($DD87=\"Y\",HI87,\"\")","v":""},{"$f":"IF($DD87=\"Y\",HJ87,\"\")","v":""},{"$f":"IF($DD87=\"Y\",HK87,\"\")","v":""},{"$f":"IF($DD87=\"Y\",HL87,\"\")","v":""},{"$f":"IF($DD87=\"Y\",HM87,\"\")","v":""},{"$f":"IF($DD87=\"Y\",HN87,\"\")","v":""},{"$f":"IF($DD87=\"Y\",HO87,\"\")","v":""},{"$f":"IF($DD87=\"Y\",HP87,\"\")","v":""},{"$f":"IF($DD87=\"Y\",HQ87,\"\")","v":""},{"$f":"IF($DD87=\"Y\",HR87,\"\")","v":""},{"$f":"IF($DD87=\"Y\",HS87,\"\")","v":""},{"$f":"IF($DD87=\"Y\",HT87,\"\")","v":""},{"$f":"IF($DD87=\"Y\",HU87,\"\")","v":""},{"$f":"IF($DD87=\"Y\",HV87,\"\")","v":""},{"$f":"IF($DD87=\"Y\",HW87,\"\")","v":""}]
[null,null,"-",null,{"$f":"IF(F88=\"\",0,MAX(E$4:E87)+1)","v":0},"",0,null,null,null,null,null,null,null,null,null,null,null,null,null,null,null,null,null,null,null,null,null,null,null,null,null,null,null,null,null,null,null,null,null,null,null,null,null,null,null,null,null,null,null,null,null,null,null,null,null,null,null,null,null,null,null,null,null,null,null,null,null,null,null,null,null,null,null,null,null,null,null,null,null,null,null,null,null,null,null,null,null,null,null,null,null,null,null,null,null,null,null,null,null,null,null,null,null,null,null,null,{"$f":"IF(EquipConcr_12=\"-\",\"N\",IF(EquipConcr_12=\"\",\"N\",IF(EquipConcr_12_Sel=\"\",\"N\",\"Y\")))","v":"N"},"","","","","","","","","","","","","","","","","","","","","","","","","","","","","","","","","","","","","","","","","","","","","","","","","","","","","","","","","","","","","","","","","","","","","","","","","","","","","","","","","","","","","","","","","","","","","","","","","","","","","",null,null,null,null,null,null,null,null,null,null,null,null,null,null,null,null,null,null,null,null,null,null,"","","","","","","","","","","","","","","","","","","",""]
[null,null,"-",null,{"$f":"IF(F89=\"\",0,MAX(E$4:E88)+1)","v":0},"",0,null,null,null,null,null,null,null,null,null,null,null,null,null,null,null,null,null,null,null,null,null,null,null,null,null,null,null,null,null,null,null,null,null,null,null,null,null,null,null,null,null,null,null,null,null,null,null,null,null,null,null,null,null,null,null,null,null,null,null,null,null,null,null,null,null,null,null,null,null,null,null,null,null,null,null,null,null,null,null,null,null,null,null,null,null,null,null,null,null,null,null,null,null,null,null,null,null,null,null,null,{"$f":"IF(EquipConcr_13=\"-\",\"N\",IF(EquipConcr_13=\"\",\"N\",IF(EquipConcr_13_Sel=\"\",\"N\",\"Y\")))","v":"N"},"","","","","","","","","","","","","","","","","","","","","","","","","","","","","","","","","","","","","","","","","","","","","","","","","","","","","","","","","","","","","","","","","","","","","","","","","","","","","","","","","","","","","","","","","","","","","","","","","","","","","",null,null,null,null,null,null,null,null,null,null,null,null,null,null,null,null,null,null,null,null,null,null,"","","","","","","","","","","","","","","","","","","",""]
[null,"Demolition","Backhoe With Hammer",null,{"$f":"IF(F90=\"\",0,MAX(E$4:E89)+1)","v":0},{"$f":"IF(D90=\"\",\"\",IF(DD90=\"N\",\"\",CONCATENATE(D90,\" (\",C90,\"), \")))","v":""},{"$f":"COUNTIF(H90:HH90,\"x\")","v":5},null,null,null,null,"X","X",null,"X","X",null,null,null,null,null,null,null,"X",null,null,null,null,null,null,null,null,null,null,null,null,null,null,null,null,null,null,null,null,null,null,null,null,null,null,null,null,null,null,null,null,null,null,null,null,null,null,null,null,null,null,null,null,null,null,null,null,null,null,null,null,null,null,null,null,null,null,null,null,null,null,null,null,null,null,null,null,null,null,null,null,null,null,null,null,null,null,null,null,null,null,null,{"$f":"IF(EquipDemo_1=\"-\",\"N\",IF(EquipDemo_1=\"\",\"N\",IF(EquipDemo_1_Sel=\"\",\"N\",\"Y\")))","v":"N"},{"$f":"IF($DD90=\"Y\",IF(H90=\"X\",CONCATENATE($C90,\", \"),\"\"),\"\")","v":""},"","","","","","","","","","","","","","","","","","","","","","","","","","","","","","","","","","","","","","","","","","","","","","","","","","","","","","","","","","","","","","","",{"$f":"IF($DD90=\"Y\",IF(BT90=\"X\",CONCATENATE($C90,\", \"),\"\"),\"\")","v":""},"","","","","","","","","",{"$f":"IF($DD90=\"Y\",IF(CD90=\"X\",CONCATENATE($C90,\", \"),\"\"),\"\")","v":""},"","","","","","","","","",{"$f":"IF($DD90=\"Y\",IF(CN90=\"X\",CONCATENATE($C90,\", \"),\"\"),\"\")","v":""},"","","","","","","","","",{"$f":"IF($DD90=\"Y\",IF(CX90=\"X\",CONCATENATE($C90,\", \"),\"\"),\"\")","v":""},"","","","","",{"$f":"IF(DD90=\"Y\",CONCATENATE(C90,\", \"),\"\")","v":""},{"$f":"CONCATENATE(HA90,HA91,HA92,HA93,HA94,HA95,HA96,HA97,HA98,HA99,HA100,HA101,HA102,HA103,HA104,HA105,HA106,HA107,HA108,HA109,HA110,HA111,HA112,HA113,HA114,HA115,HA116,HA117,HA118,HA119,HA120,HA121,HA122,HA123,HA124,HA125,HA126,HA127,HA128,HA129,HA130,HA131,HA132,HA133,HA134,HA135,HA136,HA137,HA138,HA139,HA140,HA141,)","v":""},null,null,null,null,null,null,null,null,null,"X","X",null,null,null,null,null,null,null,null,null,null,{"$f":"IF($DD90=\"Y\",HD90,\"\")","v":""},"","","","","","","","","","","","","","","","","","",""]
[null,null,"Bobcat",null,{"$f":"IF(F91=\"\",0,MAX(E$4:E90)+1)","v":0},"",5,null,null,null,null,"X","X",null,"X","X",null,null,null,null,null,null,null,"X",null,null,null,null,null,null,null,null,null,null,null,null,null,null,null,null,null,null,null,null,null,null,null,null,null,null,null,null,null,null,null,null,null,null,null,null,null,null,null,null,null,null,null,null,null,null,null,null,null,null,null,null,null,null,null,null,null,null,null,null,null,null,null,null,null,null,null,null,null,null,null,null,null,null,null,null,null,null,null,null,null,null,null,{"$f":"IF(EquipDemo_2=\"-\",\"N\",IF(EquipDemo_2=\"\",\"N\",IF(EquipDemo_2_Sel=\"\",\"N\",\"Y\")))","v":"N"},"","","","","","","","","","","","","","","","","","","","","","","","","","","","","","","","","","","","","","","","","","","","","","","","","","","","","","","","","","","","","","","","","","","","","","","","","","","","","","","","","","","","","","","","","","","","","","","","","","","","","",null,null,null,null,null,null,null,null,null,null,"X","X",null,null,null,null,null,null,null,null,null,null,"","","","","","","","","","","","","","","","","","","",""]
[null,null,"Brokk",null,{"$f":"IF(F92=\"\",0,MAX(E$4:E91)+1)","v":0},"",5,null,null,null,null,"X","X",null,"X","X",null,null,null,null,null,null,null,"X",null,null,null,null,null,null,null,null,null,null,null,null,null,null,null,null,null,null,null,null,null,null,null,null,null,null,null,null,null,null,null,null,null,null,null,null,null,null,null,null,null,null,null,null,null,null,null,null,null,null,null,null,null,null,null,null,null,null,null,null,null,null,null,null,null,null,null,null,null,null,null,null,null,null,null,null,null,null,null,null,null,null,null,{"$f":"IF(EquipDemo_3=\"-\",\"N\",IF(EquipDemo_3=\"\",\"N\",IF(EquipDemo_3_Sel=\"\",\"N\",\"Y\")))","v":"N"},"","","","","","","","","","","","","","","","","","","","","","","","","","","","","","","","","","","","","","","","","","","","","","","","","","","","","","","","","","","","","","","","","","","","","","","","","","","","","","","","","","","","","","","","","","","","","","","","","","","","","",null,null,null,null,null,null,null,null,"X",null,"X","X",null,null,null,null,null,null,null,null,null,null,"","","","","","","","","","","","","","","","","","","",""]
[null,null,"Crane with wrecking ball",null,{"$f":"IF(F93=\"\",0,MAX(E$4:E92)+1)","v":0},"",5,null,null,null,null,"X","X",null,"X","X",null,null,null,null,null,null,null,"X",null,null,null,null,null,null,null,null,null,null,null,null,null,null,null,null,null,null,null,null,null,null,null,null,null,null,null,null,null,null,null,null,null,null,null,null,null,null,null,null,null,null,null,null,null,null,null,null,null,null,null,null,null,null,null,null,null,null,null,null,null,null,null,null,null,null,null,null,null,null,null,null,null,null,null,null,null,null,null,null,null,null,null,{"$f":"IF(EquipDemo_4=\"-\",\"N\",IF(EquipDemo_4=\"\",\"N\",IF(EquipDemo_4_Sel=\"\",\"N\",\"Y\")))","v":"N"},"","","","","","","","","","","","","","","","","","","","","","","","","","","","","","","","","","","","","","","","","","","","","","","","","","","","","","","","","","","","","","","","","","","","","","","","","","","","","","","","","","","","","","","","","","","","","","","","","","","","","",null,null,null,null,null,null,null,null,null,null,"X","X",null,null,null,null,null,null,null,null,null,null,"","","","","","","","","","","","","","","","","","","",""]
["Equipment",null,"Excavator w/ thumb or sheer",null,{"$f":"IF(F94=\"\",0,MAX(E$4:E93)+1)","v":0},"",5,null,null,null,null,"X","X",null,"X","X",null,null,null,null,null,null,null,"X",null,null,null,null,null,null,null,null,null,null,null,null,null,null,null,null,null,null,null,null,null,null,null,null,null,null,null,null,null,null,null,null,null,null,null,null,null,null,null,null,null,null,null,null,null,null,null,null,null,null,null,null,null,null,null,null,null,null,null,null,null,null,null,null,null,null,null,null,null,null,null,null,null,null,null,null,null,null,null,null,null,null,null,{"$f":"IF(EquipDemo_5=\"-\",\"N\",IF(EquipDemo_5=\"\",\"N\",IF(EquipDemo_5_Sel=\"\",\"N\",\"Y\")))","v":"N"},"","","","","","","","","","","","","","","","","","","","","","","","","","","","","","","","","","","","","","","","","","","","","","","","","","","","","","","","","","","","","","","","","","","","","","","","","","","","","","","","","","","","","","","","","","","","","","","","","","","","","",null,null,null,null,null,null,null,null,null,null,"X","X",null,null,null,null,null,null,null,null,null,null,"","","","","","","","","","","","","","","","","","","",""]
[null,null,"Hydraulic Hammer",null,{"$f":"IF(F95=\"\",0,MAX(E$4:E94)+1)","v":0},"",5,null,null,null,null,"X","X",null,"X","X",null,null,null,null,null,null,null,"X",null,null,null,null,null,null,null,null,null,null,null,null,null,null,null,null,null,null,null,null,null,null,null,null,null,null,null,null,null,null,null,null,null,null,null,null,null,null,null,null,null,null,null,null,null,null,null,null,null,null,null,null,null,null,null,null,null,null,null,null,null,null,null,null,null,null,null,null,null,null,null,null,null,null,null,null,null,null,null,null,null,null,null,{"$f":"IF(EquipDemo_6=\"-\",\"N\",IF(EquipDemo_6=\"\",\"N\",IF(EquipDemo_6_Sel=\"\",\"N\",\"Y\")))","v":"N"},"","","","","","","","","","","","","","","","","","","","","","","","","","","","","","","","","","","","","","","","","","","","","","","","","","","","","","","","","","","","","","","","","","","","","","","","","","","","","","","","","","","","","","","","","","","","","","","","","","","","","",null,null,null,null,null,null,null,null,null,null,"X","X",null,null,null,null,null,null,null,null,null,null,"","","","","","","","","","","","","","","","","","","",""]
[null,null,"Vermeer",null,{"$f":"IF(F96=\"\",0,MAX(E$4:E95)+1)","v":0},"",5,null,null,null,null,"X","X",null,"X","X",null,null,null,null,null,null,null,"X",null,null,null,null,null,null,null,null,null,null,null,null,null,null,null,null,null,null,null,null,null,null,null,null,null,null,null,null,null,null,null,null,null,null,null,null,null,null,null,null,null,null,null,null,null,null,null,null,null,null,null,null,null,null,null,null,null,null,null,null,null,null,null,null,null,null,null,null,null,null,null,null,null,null,null,null,null,null,null,null,null,null,null,{"$f":"IF(EquipDemo_7=\"-\",\"N\",IF(EquipDemo_7=\"\",\"N\",IF(EquipDemo_7_Sel=\"\",\"N\",\"Y\")))","v":"N"},"","","","","","","","","","","","","","","","","","","","","","","","","","","","","","","","","","","","","","","","","","","","","","","","","","","","","","","","","","","","","","","","","","","","","","","","","","","","","","","","","","","","","","","","","","","","","","","","","","","","","",null,null,null,null,null,null,null,null,null,null,"X","X",null,null,null,null,null,null,null,null,null,null,"","","","","","","","","","","","","","","","","","","",""]
[null,null,"-",null,{"$f":"IF(F97=\"\",0,MAX(E$4:E96)+1)","v":0},"",0,null,null,null,null,null,null,null,null,null,null,null,null,null,null,null,null,null,null,null,null,null,null,null,null,null,null,null,null,null,null,null,null,null,null,null,null,null,null,null,null,null,null,null,null,null,null,null,null,null,null,null,null,null,null,null,null,null,null,null,null,null,null,null,null,null,null,null,null,null,null,null,null,null,null,null,null,null,null,null,null,null,null,null,null,null,null,null,null,null,null,null,null,null,null,null,null,null,null,null,null,{"$f":"IF(EquipDemo_8=\"-\",\"N\",IF(EquipDemo_8=\"\",\"N\",IF(EquipDemo_8_Sel=\"\",\"N\",\"Y\")))","v":"N"},{"$f":"IF($DD97=\"Y\",IF(H97=\"X\",CONCATENATE($C97,\", \"),\"\"),\"\")","v":""},"","","","","","","","","","","","","","","","","","","","","","","","","","","","","","","","","","","","","","","","","","","","","","","","","","","","","","","","","","","","","","","",{"$f":"IF($DD97=\"Y\",IF(BT97=\"X\",CONCATENATE($C97,\", \"),\"\"),\"\")","v":""},"","","","","","","",{"$f":"IF($DD97=\"Y\",IF(CB97=\"X\",CONCATENATE($C97,\", \"),\"\"),\"\")","v":""},{"$f":"IF($DD97=\"Y\",IF(CC97=\"X\",CONCATENATE($C97,\", \"),\"\"),\"\")","v":""},{"$f":"IF($DD97=\"Y\",IF(CD97=\"X\",CONCATENATE($C97,\", \"),\"\"),\"\")","v":""},{"$f":"IF($DD97=\"Y\",IF(CE97=\"X\",CONCATENATE($C97,\", \"),\"\"),\"\")","v":""},"","","","","","",{"$f":"IF($DD97=\"Y\",IF(CL97=\"X\",CONCATENATE($C97,\", \"),\"\"),\"\")","v":""},"","","",{"$f":"IF($DD97=\"Y\",IF(CP97=\"X\",CONCATENATE($C97,\", \"),\"\"),\"\")","v":""},{"$f":"IF($DD97=\"Y\",IF(CQ97=\"X\",CONCATENATE($C97,\", \"),\"\"),\"\")","v":""},{"$f":"IF($DD97=\"Y\",IF(CR97=\"X\",CONCATENATE($C97,\", \"),\"\"),\"\")","v":""},{"$f":"IF($DD97=\"Y\",IF(CS97=\"X\",CONCATENATE($C97,\", \"),\"\"),\"\")","v":""},{"$f":"IF($DD97=\"Y\",IF(CT97=\"X\",CONCATENATE($C97,\", \"),\"\"),\"\")","v":""},{"$f":"IF($DD97=\"Y\",IF(CU97=\"X\",CONCATENATE($C97,\", \"),\"\"),\"\")","v":""},{"$f":"IF($DD97=\"Y\",IF(CV97=\"X\",CONCATENATE($C97,\", \"),\"\"),\"\")","v":""},{"$f":"IF($DD97=\"Y\",IF(CW97=\"X\",CONCATENATE($C97,\", \"),\"\"),\"\")","v":""},{"$f":"IF($DD97=\"Y\",IF(CX97=\"X\",CONCATENATE($C97,\", \"),\"\"),\"\")","v":""},{"$f":"IF($DD97=\"Y\",IF(CY97=\"X\",CONCATENATE($C97,\", \"),\"\"),\"\")","v":""},"","","","","",null,null,null,null,null,null,null,null,null,null,null,null,null,null,null,null,null,null,null,null,null,null,"","","","","","","","","","","","","","","","","","","",""]
[null,null,"-",null,{"$f":"IF(F98=\"\",0,MAX(E$4:E97)+1)","v":0},"",0,null,null,null,null,null,null,null,null,null,null,null,null,null,null,null,null,null,null,null,null,null,null,null,null,null,null,null,null,null,null,null,null,null,null,null,null,null,null,null,null,null,null,null,null,null,null,null,null,null,null,null,null,null,null,null,null,null,null,null,null,null,null,null,null,null,null,null,null,null,null,null,null,null,null,null,null,null,null,null,null,null,null,null,null,null,null,null,null,null,null,null,null,null,null,null,null,null,null,null,null,{"$f":"IF(EquipDemo_9=\"-\",\"N\",IF(EquipDemo_9=\"\",\"N\",IF(EquipDemo_9_Sel=\"\",\"N\",\"Y\")))","v":"N"},"","","","","","","","","","","","","","","","","","","","","","","","","","","","","","","","","","","","","","","","","","","","","","","","","","","","","","","","","","","","","","","","","","","","","","","","","","","","",{"$f":"IF($DD98=\"Y\",IF(CF98=\"X\",CONCATENATE($C98,\", \"),\"\"),\"\")","v":""},{"$f":"IF($DD98=\"Y\",IF(CG98=\"X\",CONCATENATE($C98,\", \"),\"\"),\"\")","v":""},{"$f":"IF($DD98=\"Y\",IF(CH98=\"X\",CONCATENATE($C98,\", \"),\"\"),\"\")","v":""},"","","","","","","","","","","","","","","","","","","","","","",null,null,null,null,null,null,null,null,null,null,null,null,null,null,null,null,null,null,null,null,null,null,"","","","","","","","","","","","","","","","","","","",""]
[null,null,"-",null,{"$f":"IF(F99=\"\",0,MAX(E$4:E98)+1)","v":0},{"$f":"IF(D99=\"\",\"\",IF(DD99=\"N\",\"\",CONCATENATE(D99,\" (\",C99,\"), \")))","v":""},{"$f":"COUNTIF(H99:HH99,\"x\")","v":0},null,null,null,null,null,null,null,null,null,null,null,null,null,null,null,null,null,null,null,null,null,null,null,null,null,null,null,null,null,null,null,null,null,null,null,null,null,null,null,null,null,null,null,null,null,null,null,null,null,null,null,null,null,null,null,null,null,null,null,null,null,null,null,null,null,null,null,null,null,null,null,null,null,null,null,null,null,null,null,null,null,null,null,null,null,null,null,null,null,null,null,null,null,null,null,null,null,null,null,null,{"$f":"IF(EquipDemo_10=\"-\",\"N\",IF(EquipDemo_10=\"\",\"N\",IF(EquipDemo_10_Sel=\"\",\"N\",\"Y\")))","v":"N"},{"$f":"IF($DD99=\"Y\",IF(H99=\"X\",CONCATENATE($C99,\", \"),\"\"),\"\")","v":""},{"$f":"IF($DD99=\"Y\",IF(I99=\"X\",CONCATENATE($C99,\", \"),\"\"),\"\")","v":""},{"$f":"IF($DD99=\"Y\",IF(J99=\"X\",CONCATENATE($C99,\", \"),\"\"),\"\")","v":""},{"$f":"IF($DD99=\"Y\",IF(K99=\"X\",CONCATENATE($C99,\", \"),\"\"),\"\")","v":""},{"$f":"IF($DD99=\"Y\",IF(L99=\"X\",CONCATENATE($C99,\", \"),\"\"),\"\")","v":""},{"$f":"IF($DD99=\"Y\",IF(M99=\"X\",CONCATENATE($C99,\", \"),\"\"),\"\")","v":""},{"$f":"IF($DD99=\"Y\",IF(N99=\"X\",CONCATENATE($C99,\", \"),\"\"),\"\")","v":""},{"$f":"IF($DD99=\"Y\",IF(O99=\"X\",CONCATENATE($C99,\", \"),\"\"),\"\")","v":""},{"$f":"IF($DD99=\"Y\",IF(P99=\"X\",CONCATENATE($C99,\", \"),\"\"),\"\")","v":""},{"$f":"IF($DD99=\"Y\",IF(Q99=\"X\",CONCATENATE($C99,\", \"),\"\"),\"\")","v":""},{"$f":"IF($DD99=\"Y\",IF(R99=\"X\",CONCATENATE($C99,\", \"),\"\"),\"\")","v":""},{"$f":"IF($DD99=\"Y\",IF(S99=\"X\",CONCATENATE($C99,\", \"),\"\"),\"\")","v":""},{"$f":"IF($DD99=\"Y\",IF(T99=\"X\",CONCATENATE($C99,\", \"),\"\"),\"\")","v":""},{"$f":"IF($DD99=\"Y\",IF(U99=\"X\",CONCATENATE($C99,\", \"),\"\"),\"\")","v":""},{"$f":"IF($DD99=\"Y\",IF(V99=\"X\",CONCATENATE($C99,\", \"),\"\"),\"\")","v":""},{"$f":"IF($DD99=\"Y\",IF(W99=\"X\",CONCATENATE($C99,\", \"),\"\"),\"\")","v":""},{"$f":"IF($DD99=\"Y\",IF(X99=\"X\",CONCATENATE($C99,\", \"),\"\"),\"\")","v":""},{"$f":"IF($DD99=\"Y\",IF(Y99=\"X\",CONCATENATE($C99,\", \"),\"\"),\"\")","v":""},{"$f":"IF($DD99=\"Y\",IF(Z99=\"X\",CONCATENATE($C99,\", \"),\"\"),\"\")","v":""},{"$f":"IF($DD99=\"Y\",IF(AA99=\"X\",CONCATENATE($C99,\", \"),\"\"),\"\")","v":""},{"$f":"IF($DD99=\"Y\",IF(AB99=\"X\",CONCATENATE($C99,\", \"),\"\"),\"\")","v":""},{"$f":"IF($DD99=\"Y\",IF(AC99=\"X\",CONCATENATE($C99,\", \"),\"\"),\"\")","v":""},{"$f":"IF($DD99=\"Y\",IF(AD99=\"X\",CONCATENATE($C99,\", \"),\"\"),\"\")","v":""},{"$f":"IF($DD99=\"Y\",IF(AE99=\"X\",CONCATENATE($C99,\", \"),\"\"),\"\")","v":""},{"$f":"IF($DD99=\"Y\",IF(AF99=\"X\",CONCATENATE($C99,\", \"),\"\"),\"\")","v":""},{"$f":"IF($DD99=\"Y\",IF(AG99=\"X\",CONCATENATE($C99,\", \"),\"\"),\"\")","v":""},{"$f":"IF($DD99=\"Y\",IF(AH99=\"X\",CONCATENATE($C99,\", \"),\"\"),\"\")","v":""},{"$f":"IF($DD99=\"Y\",IF(AI99=\"X\",CONCATENATE($C99,\", \"),\"\"),\"\")","v":""},{"$f":"IF($DD99=\"Y\",IF(AJ99=\"X\",CONCATENATE($C99,\", \"),\"\"),\"\")","v":""},{"$f":"IF($DD99=\"Y\",IF(AK99=\"X\",CONCATENATE($C99,\", \"),\"\"),\"\")","v":""},{"$f":"IF($DD99=\"Y\",IF(AL99=\"X\",CONCATENATE($C99,\", \"),\"\"),\"\")","v":""},{"$f":"IF($DD99=\"Y\",IF(AM99=\"X\",CONCATENATE($C99,\", \"),\"\"),\"\")","v":""},{"$f":"IF($DD99=\"Y\",IF(AN99=\"X\",CONCATENATE($C99,\", \"),\"\"),\"\")","v":""},{"$f":"IF($DD99=\"Y\",IF(AO99=\"X\",CONCATENATE($C99,\", \"),\"\"),\"\")","v":""},{"$f":"IF($DD99=\"Y\",IF(AP99=\"X\",CONCATENATE($C99,\", \"),\"\"),\"\")","v":""},{"$f":"IF($DD99=\"Y\",IF(AQ99=\"X\",CONCATENATE($C99,\", \"),\"\"),\"\")","v":""},{"$f":"IF($DD99=\"Y\",IF(AR99=\"X\",CONCATENATE($C99,\", \"),\"\"),\"\")","v":""},{"$f":"IF($DD99=\"Y\",IF(AS99=\"X\",CONCATENATE($C99,\", \"),\"\"),\"\")","v":""},{"$f":"IF($DD99=\"Y\",IF(AT99=\"X\",CONCATENATE($C99,\", \"),\"\"),\"\")","v":""},{"$f":"IF($DD99=\"Y\",IF(AU99=\"X\",CONCATENATE($C99,\", \"),\"\"),\"\")","v":""},{"$f":"IF($DD99=\"Y\",IF(AV99=\"X\",CONCATENATE($C99,\", \"),\"\"),\"\")","v":""},{"$f":"IF($DD99=\"Y\",IF(AW99=\"X\",CONCATENATE($C99,\", \"),\"\"),\"\")","v":""},{"$f":"IF($DD99=\"Y\",IF(AX99=\"X\",CONCATENATE($C99,\", \"),\"\"),\"\")","v":""},{"$f":"IF($DD99=\"Y\",IF(AY99=\"X\",CONCATENATE($C99,\", \"),\"\"),\"\")","v":""},{"$f":"IF($DD99=\"Y\",IF(AZ99=\"X\",CONCATENATE($C99,\", \"),\"\"),\"\")","v":""},{"$f":"IF($DD99=\"Y\",IF(BA99=\"X\",CONCATENATE($C99,\", \"),\"\"),\"\")","v":""},{"$f":"IF($DD99=\"Y\",IF(BB99=\"X\",CONCATENATE($C99,\", \"),\"\"),\"\")","v":""},{"$f":"IF($DD99=\"Y\",IF(BC99=\"X\",CONCATENATE($C99,\", \"),\"\"),\"\")","v":""},{"$f":"IF($DD99=\"Y\",IF(BD99=\"X\",CONCATENATE($C99,\", \"),\"\"),\"\")","v":""},{"$f":"IF($DD99=\"Y\",IF(BE99=\"X\",CONCATENATE($C99,\", \"),\"\"),\"\")","v":""},{"$f":"IF($DD99=\"Y\",IF(BF99=\"X\",CONCATENATE($C99,\", \"),\"\"),\"\")","v":""},{"$f":"IF($DD99=\"Y\",IF(BG99=\"X\",CONCATENATE($C99,\", \"),\"\"),\"\")","v":""},{"$f":"IF($DD99=\"Y\",IF(BH99=\"X\",CONCATENATE($C99,\", \"),\"\"),\"\")","v":""},{"$f":"IF($DD99=\"Y\",IF(BI99=\"X\",CONCATENATE($C99,\", \"),\"\"),\"\")","v":""},{"$f":"IF($DD99=\"Y\",IF(BJ99=\"X\",CONCATENATE($C99,\", \"),\"\"),\"\")","v":""},{"$f":"IF($DD99=\"Y\",IF(BK99=\"X\",CONCATENATE($C99,\", \"),\"\"),\"\")","v":""},{"$f":"IF($DD99=\"Y\",IF(BL99=\"X\",CONCATENATE($C99,\", \"),\"\"),\"\")","v":""},{"$f":"IF($DD99=\"Y\",IF(BM99=\"X\",CONCATENATE($C99,\", \"),\"\"),\"\")","v":""},{"$f":"IF($DD99=\"Y\",IF(BN99=\"X\",CONCATENATE($C99,\", \"),\"\"),\"\")","v":""},{"$f":"IF($DD99=\"Y\",IF(BO99=\"X\",CONCATENATE($C99,\", \"),\"\"),\"\")","v":""},{"$f":"IF($DD99=\"Y\",IF(BP99=\"X\",CONCATENATE($C99,\", \"),\"\"),\"\")","v":""},{"$f":"IF($DD99=\"Y\",IF(BQ99=\"X\",CONCATENATE($C99,\", \"),\"\"),\"\")","v":""},{"$f":"IF($DD99=\"Y\",IF(BR99=\"X\",CONCATENATE($C99,\", \"),\"\"),\"\")","v":""},{"$f":"IF($DD99=\"Y\",IF(BS99=\"X\",CONCATENATE($C99,\", \"),\"\"),\"\")","v":""},{"$f":"IF($DD99=\"Y\",IF(BT99=\"X\",CONCATENATE($C99,\", \"),\"\"),\"\")","v":""},{"$f":"IF($DD99=\"Y\",IF(BU99=\"X\",CONCATENATE($C99,\", \"),\"\"),\"\")","v":""},{"$f":"IF($DD99=\"Y\",IF(BV99=\"X\",CONCATENATE($C99,\", \"),\"\"),\"\")","v":""},{"$f":"IF($DD99=\"Y\",IF(BW99=\"X\",CONCATENATE($C99,\", \"),\"\"),\"\")","v":""},{"$f":"IF($DD99=\"Y\",IF(BX99=\"X\",CONCATENATE($C99,\", \"),\"\"),\"\")","v":""},{"$f":"IF($DD99=\"Y\",IF(BY99=\"X\",CONCATENATE($C99,\", \"),\"\"),\"\")","v":""},{"$f":"IF($DD99=\"Y\",IF(BZ99=\"X\",CONCATENATE($C99,\", \"),\"\"),\"\")","v":""},{"$f":"IF($DD99=\"Y\",IF(CA99=\"X\",CONCATENATE($C99,\", \"),\"\"),\"\")","v":""},{"$f":"IF($DD99=\"Y\",IF(CB99=\"X\",CONCATENATE($C99,\", \"),\"\"),\"\")","v":""},{"$f":"IF($DD99=\"Y\",IF(CC99=\"X\",CONCATENATE($C99,\", \"),\"\"),\"\")","v":""},{"$f":"IF($DD99=\"Y\",IF(CD99=\"X\",CONCATENATE($C99,\", \"),\"\"),\"\")","v":""},{"$f":"IF($DD99=\"Y\",IF(CE99=\"X\",CONCATENATE($C99,\", \"),\"\"),\"\")","v":""},{"$f":"IF($DD99=\"Y\",IF(CF99=\"X\",CONCATENATE($C99,\", \"),\"\"),\"\")","v":""},{"$f":"IF($DD99=\"Y\",IF(CG99=\"X\",CONCATENATE($C99,\", \"),\"\"),\"\")","v":""},{"$f":"IF($DD99=\"Y\",IF(CH99=\"X\",CONCATENATE($C99,\", \"),\"\"),\"\")","v":""},{"$f":"IF($DD99=\"Y\",IF(CI99=\"X\",CONCATENATE($C99,\", \"),\"\"),\"\")","v":""},{"$f":"IF($DD99=\"Y\",IF(CJ99=\"X\",CONCATENATE($C99,\", \"),\"\"),\"\")","v":""},{"$f":"IF($DD99=\"Y\",IF(CK99=\"X\",CONCATENATE($C99,\", \"),\"\"),\"\")","v":""},{"$f":"IF($DD99=\"Y\",IF(CL99=\"X\",CONCATENATE($C99,\", \"),\"\"),\"\")","v":""},{"$f":"IF($DD99=\"Y\",IF(CM99=\"X\",CONCATENATE($C99,\", \"),\"\"),\"\")","v":""},{"$f":"IF($DD99=\"Y\",IF(CN99=\"X\",CONCATENATE($C99,\", \"),\"\"),\"\")","v":""},{"$f":"IF($DD99=\"Y\",IF(CO99=\"X\",CONCATENATE($C99,\", \"),\"\"),\"\")","v":""},{"$f":"IF($DD99=\"Y\",IF(CP99=\"X\",CONCATENATE($C99,\", \"),\"\"),\"\")","v":""},{"$f":"IF($DD99=\"Y\",IF(CQ99=\"X\",CONCATENATE($C99,\", \"),\"\"),\"\")","v":""},{"$f":"IF($DD99=\"Y\",IF(CR99=\"X\",CONCATENATE($C99,\", \"),\"\"),\"\")","v":""},{"$f":"IF($DD99=\"Y\",IF(CS99=\"X\",CONCATENATE($C99,\", \"),\"\"),\"\")","v":""},{"$f":"IF($DD99=\"Y\",IF(CT99=\"X\",CONCATENATE($C99,\", \"),\"\"),\"\")","v":""},{"$f":"IF($DD99=\"Y\",IF(CU99=\"X\",CONCATENATE($C99,\", \"),\"\"),\"\")","v":""},{"$f":"IF($DD99=\"Y\",IF(CV99=\"X\",CONCATENATE($C99,\", \"),\"\"),\"\")","v":""},{"$f":"IF($DD99=\"Y\",IF(CW99=\"X\",CONCATENATE($C99,\", \"),\"\"),\"\")","v":""},{"$f":"IF($DD99=\"Y\",IF(CX99=\"X\",CONCATENATE($C99,\", \"),\"\"),\"\")","v":""},{"$f":"IF($DD99=\"Y\",IF(CY99=\"X\",CONCATENATE($C99,\", \"),\"\"),\"\")","v":""},{"$f":"IF($DD99=\"Y\",IF(CZ99=\"X\",CONCATENATE($C99,\", \"),\"\"),\"\")","v":""},{"$f":"IF($DD99=\"Y\",IF(DA99=\"X\",CONCATENATE($C99,\", \"),\"\"),\"\")","v":""},{"$f":"IF($DD99=\"Y\",IF(DB99=\"X\",CONCATENATE($C99,\", \"),\"\"),\"\")","v":""},{"$f":"IF($DD99=\"Y\",IF(DC99=\"X\",CONCATENATE($C99,\", \"),\"\"),\"\")","v":""},{"$f":"IF(DD99=\"Y\",CONCATENATE(C99,\", \"),\"\")","v":""},null,null,null,null,null,null,null,null,null,null,null,null,null,null,null,null,null,null,null,null,null,null,{"$f":"IF($DD99=\"Y\",HD99,\"\")","v":""},{"$f":"IF($DD99=\"Y\",HE99,\"\")","v":""},{"$f":"IF($DD99=\"Y\",HF99,\"\")","v":""},{"$f":"IF($DD99=\"Y\",HG99,\"\")","v":""},{"$f":"IF($DD99=\"Y\",HH99,\"\")","v":""},{"$f":"IF($DD99=\"Y\",HI99,\"\")","v":""},{"$f":"IF($DD99=\"Y\",HJ99,\"\")","v":""},{"$f":"IF($DD99=\"Y\",HK99,\"\")","v":""},{"$f":"IF($DD99=\"Y\",HL99,\"\")","v":""},{"$f":"IF($DD99=\"Y\",HM99,\"\")","v":""},{"$f":"IF($DD99=\"Y\",HN99,\"\")","v":""},{"$f":"IF($DD99=\"Y\",HO99,\"\")","v":""},{"$f":"IF($DD99=\"Y\",HP99,\"\")","v":""},{"$f":"IF($DD99=\"Y\",HQ99,\"\")","v":""},{"$f":"IF($DD99=\"Y\",HR99,\"\")","v":""},{"$f":"IF($DD99=\"Y\",HS99,\"\")","v":""},{"$f":"IF($DD99=\"Y\",HT99,\"\")","v":""},{"$f":"IF($DD99=\"Y\",HU99,\"\")","v":""},{"$f":"IF($DD99=\"Y\",HV99,\"\")","v":""},{"$f":"IF($DD99=\"Y\",HW99,\"\")","v":""}]
[null,"Demolition","-",null,{"$f":"IF(F100=\"\",0,MAX(E$4:E99)+1)","v":0},"",0,null,null,null,null,null,null,null,null,null,null,null,null,null,null,null,null,null,null,null,null,null,null,null,null,null,null,null,null,null,null,null,null,null,null,null,null,null,null,null,null,null,null,null,null,null,null,null,null,null,null,null,null,null,null,null,null,null,null,null,null,null,null,null,null,null,null,null,null,null,null,null,null,null,null,null,null,null,null,null,null,null,null,null,null,null,null,null,null,null,null,null,null,null,null,null,null,null,null,null,null,{"$f":"IF(EquipDemo_11=\"-\",\"N\",IF(EquipDemo_11=\"\",\"N\",IF(EquipDemo_11_Sel=\"\",\"N\",\"Y\")))","v":"N"},"","","","","","","","","","","","","","","","","","","","","","","","","","","","","","","","","","","","","","","","","","","","","","","","","","","","","","","","","","","","","","","","","","","","","","","","","","","","","","","","","","","","","","","","","","","","","","","","","","","","","",null,null,null,null,null,null,null,null,null,null,null,null,null,null,null,null,null,null,null,null,null,null,"","","","","","","","","","","","","","","","","","","",""]
[null,null,"-",null,{"$f":"IF(F101=\"\",0,MAX(E$4:E100)+1)","v":0},"",0,null,null,null,null,null,null,null,null,null,null,null,null,null,null,null,null,null,null,null,null,null,null,null,null,null,null,null,null,null,null,null,null,null,null,null,null,null,null,null,null,null,null,null,null,null,null,null,null,null,null,null,null,null,null,null,null,null,null,null,null,null,null,null,null,null,null,null,null,null,null,null,null,null,null,null,null,null,null,null,null,null,null,null,null,null,null,null,null,null,null,null,null,null,null,null,null,null,null,null,null,{"$f":"IF(EquipDemo_12=\"-\",\"N\",IF(EquipDemo_12=\"\",\"N\",IF(EquipDemo_12_Sel=\"\",\"N\",\"Y\")))","v":"N"},"","","","","","","","","","","","","","","","","","","","","","","","","","","","","","","","","","","","","","","","","","","","","","","","","","","","","","","","","","","","","","","","","","","","","","","","","","","","","","","","","","","","","","","","","","","","","","","","","","","","","",null,null,null,null,null,null,null,null,null,null,null,null,null,null,null,null,null,null,null,null,null,null,"","","","","","","","","","","","","","","","","","","",""]
[null,null,"-",null,{"$f":"IF(F102=\"\",0,MAX(E$4:E101)+1)","v":0},"",0,null,null,null,null,null,null,null,null,null,null,null,null,null,null,null,null,null,null,null,null,null,null,null,null,null,null,null,null,null,null,null,null,null,null,null,null,null,null,null,null,null,null,null,null,null,null,null,null,null,null,null,null,null,null,null,null,null,null,null,null,null,null,null,null,null,null,null,null,null,null,null,null,null,null,null,null,null,null,null,null,null,null,null,null,null,null,null,null,null,null,null,null,null,null,null,null,null,null,null,null,{"$f":"IF(EquipDemo_13=\"-\",\"N\",IF(EquipDemo_13=\"\",\"N\",IF(EquipDemo_13_Sel=\"\",\"N\",\"Y\")))","v":"N"},"","","","","","","","","","","","","","","","","","","","","","","","","","","","","","","","","","","","","","","","","","","","","","","","","","","","","","","","","","","","","","","","","","","","","","","","","","","","","","","","","","","","","","","","","","","","","","","","","","","","","",null,null,null,null,null,null,null,null,null,null,null,null,null,null,null,null,null,null,null,null,null,null,"","","","","","","","","","","","","","","","","","","",""]
[null,null,"-",null,{"$f":"IF(F103=\"\",0,MAX(E$4:E102)+1)","v":0},"",0,null,null,null,null,null,null,null,null,null,null,null,null,null,null,null,null,null,null,null,null,null,null,null,null,null,null,null,null,null,null,null,null,null,null,null,null,null,null,null,null,null,null,null,null,null,null,null,null,null,null,null,null,null,null,null,null,null,null,null,null,null,null,null,null,null,null,null,null,null,null,null,null,null,null,null,null,null,null,null,null,null,null,null,null,null,null,null,null,null,null,null,null,null,null,null,null,null,null,null,null,{"$f":"IF(EquipDemo_14=\"-\",\"N\",IF(EquipDemo_14=\"\",\"N\",IF(EquipDemo_14_Sel=\"\",\"N\",\"Y\")))","v":"N"},"","","","","","","","","","","","","","","","","","","","","","","","","","","","","","","","","","","","","","","","","","","","","","","","","","","","","","","","","","","","","","","","","","","","","","","","","","","","","","","","","","","","","","","","","","","","","","","","","","","","","",null,null,null,null,null,null,null,null,null,null,null,null,null,null,null,null,null,null,null,null,null,null,"","","","","","","","","","","","","","","","","","","",""]
[null,null,"-",null,{"$f":"IF(F104=\"\",0,MAX(E$4:E103)+1)","v":0},"",0,null,null,null,null,null,null,null,null,null,null,null,null,null,null,null,null,null,null,null,null,null,null,null,null,null,null,null,null,null,null,null,null,null,null,null,null,null,null,null,null,null,null,null,null,null,null,null,null,null,null,null,null,null,null,null,null,null,null,null,null,null,null,null,null,null,null,null,null,null,null,null,null,null,null,null,null,null,null,null,null,null,null,null,null,null,null,null,null,null,null,null,null,null,null,null,null,null,null,null,null,{"$f":"IF(EquipDemo_15=\"-\",\"N\",IF(EquipDemo_15=\"\",\"N\",IF(EquipDemo_15_Sel=\"\",\"N\",\"Y\")))","v":"N"},"","","","","","","","","","","","","","","","","","","","","","","","","","","","","","","","","","","","","","","","","","","","","","","","","","","","","","","","","","","","","","","","","","","","","","","","","","","","","","","","","","","","","","","","","","","","","","","","","","","","","",null,null,null,null,null,null,null,null,null,null,null,null,null,null,null,null,null,null,null,null,null,null,"","","","","","","","","","","","","","","","","","","",""]
[null,null,"-",null,{"$f":"IF(F105=\"\",0,MAX(E$4:E104)+1)","v":0},"",0,null,null,null,null,null,null,null,null,null,null,null,null,null,null,null,null,null,null,null,null,null,null,null,null,null,null,null,null,null,null,null,null,null,null,null,null,null,null,null,null,null,null,null,null,null,null,null,null,null,null,null,null,null,null,null,null,null,null,null,null,null,null,null,null,null,null,null,null,null,null,null,null,null,null,null,null,null,null,null,null,null,null,null,null,null,null,null,null,null,null,null,null,null,null,null,null,null,null,null,null,{"$f":"IF(EquipDemo_16=\"-\",\"N\",IF(EquipDemo_16=\"\",\"N\",IF(EquipDemo_16_Sel=\"\",\"N\",\"Y\")))","v":"N"},"","","","","","","","","","","","","","","","","","","","","","","","","","","","","","","","","","","","","","","","","","","","","","","","","","","","","","","","","","","","","","","","","","","","","","","","","","","","","","","","","","","","","","","","","","","","","","","","","","","","","",null,null,null,null,null,null,null,null,null,null,null,null,null,null,null,null,null,null,null,null,null,null,"","","","","","","","","","","","","","","","","","","",""]
[null,null,"-",null,{"$f":"IF(F106=\"\",0,MAX(E$4:E105)+1)","v":0},"",0,null,null,null,null,null,null,null,null,null,null,null,null,null,null,null,null,null,null,null,null,null,null,null,null,null,null,null,null,null,null,null,null,null,null,null,null,null,null,null,null,null,null,null,null,null,null,null,null,null,null,null,null,null,null,null,null,null,null,null,null,null,null,null,null,null,null,null,null,null,null,null,null,null,null,null,null,null,null,null,null,null,null,null,null,null,null,null,null,null,null,null,null,null,null,null,null,null,null,null,null,{"$f":"IF(EquipDemo_17=\"-\",\"N\",IF(EquipDemo_17=\"\",\"N\",IF(EquipDemo_17_Sel=\"\",\"N\",\"Y\")))","v":"N"},"","","","","","","","","","","","","","","","","","","","","","","","","","","","","","","","","","","","","","","","","","","","","","","","","","","","","","","","","","","","","","","","","","","","","","","","","","","","","","","","","","","","","","","","","","","","","","","","","","","","","",null,null,null,null,null,null,null,null,null,null,null,null,null,null,null,null,null,null,null,null,null,null,"","","","","","","","","","","","","","","","","","","",""]
[null,"Earthmoving","Aggregate Crushing Machinery",null,{"$f":"IF(F107=\"\",0,MAX(E$4:E106)+1)","v":0},{"$f":"IF(D107=\"\",\"\",IF(DD107=\"N\",\"\",CONCATENATE(D107,\" (\",C107,\"), \")))","v":""},{"$f":"COUNTIF(H107:HH107,\"x\")","v":4},null,null,null,null,"X",null,null,"X","X",null,null,null,null,null,null,null,"X",null,null,null,null,null,null,null,null,null,null,null,null,null,null,null,null,null,null,null,null,null,null,null,null,null,null,null,null,null,null,null,null,null,null,null,null,null,null,null,null,null,null,null,null,null,null,null,null,null,null,null,null,null,null,null,null,null,null,null,null,null,null,null,null,null,null,null,null,null,null,null,null,null,null,null,null,null,null,null,null,null,null,null,{"$f":"IF(EquipEarth_1=\"-\",\"N\",IF(EquipEarth_1=\"\",\"N\",IF(EquipEarth_1_Sel=\"\",\"N\",\"Y\")))","v":"N"},{"$f":"IF($DD107=\"Y\",IF(H107=\"X\",CONCATENATE($C107,\", \"),\"\"),\"\")","v":""},"","","","","","","","","",{"$f":"IF($DD107=\"Y\",IF(R107=\"X\",CONCATENATE($C107,\", \"),\"\"),\"\")","v":""},"","","","","","","","","",{"$f":"IF($DD107=\"Y\",IF(AB107=\"X\",CONCATENATE($C107,\", \"),\"\"),\"\")","v":""},"","","","","","","","","",{"$f":"IF($DD107=\"Y\",IF(AL107=\"X\",CONCATENATE($C107,\", \"),\"\"),\"\")","v":""},"","","","","","","","","",{"$f":"IF($DD107=\"Y\",IF(AV107=\"X\",CONCATENATE($C107,\", \"),\"\"),\"\")","v":""},"","","","","","","","","",{"$f":"IF($DD107=\"Y\",IF(BF107=\"X\",CONCATENATE($C107,\", \"),\"\"),\"\")","v":""},"","","","","","","","","",{"$f":"IF($DD107=\"Y\",IF(BP107=\"X\",CONCATENATE($C107,\", \"),\"\"),\"\")","v":""},"","","","","","","","","",{"$f":"IF($DD107=\"Y\",IF(BZ107=\"X\",CONCATENATE($C107,\", \"),\"\"),\"\")","v":""},"","","","","","","","","",{"$f":"IF($DD107=\"Y\",IF(CJ107=\"X\",CONCATENATE($C107,\", \"),\"\"),\"\")","v":""},"","","","","","","","","","","","","","","","","","","",{"$f":"IF(DD107=\"Y\",CONCATENATE(C107,\", \"),\"\")","v":""},null,null,null,null,null,null,null,null,null,null,"X","X",null,null,null,null,null,null,null,null,null,null,{"$f":"IF($DD107=\"Y\",HD107,\"\")","v":""},"","","","","","","","","","","","","","","","","","","",null,"End of Links Tab"]
[null,null,"Backhoe",null,{"$f":"IF(F108=\"\",0,MAX(E$4:E107)+1)","v":0},"",3,null,null,null,null,"X",null,null,null,null,null,null,null,null,null,null,null,"X",null,null,null,null,null,null,"X",null,null,null,null,null,null,null,null,null,null,null,null,null,null,null,null,null,null,null,null,null,null,null,null,null,null,null,null,null,null,null,null,null,null,null,null,null,null,null,null,null,null,null,null,null,null,null,null,null,null,null,null,null,null,null,null,null,null,null,null,null,null,null,null,null,null,null,null,null,null,null,null,null,null,null,null,{"$f":"IF(EquipEarth_2=\"-\",\"N\",IF(EquipEarth_2=\"\",\"N\",IF(EquipEarth_2_Sel=\"\",\"N\",\"Y\")))","v":"N"},"","","","","","","","","","","","","","","","","","","","","","","","","","","","","","","","","","","","","","","","","","","","","","","","","","","","","","","","","","","","","","","","","","","","","","","","","","","","","","","","","","","","","","","","","","","","","","","","","","","","","",null,null,null,null,null,null,null,null,null,null,null,"X","X","X",null,null,null,null,null,null,null,null,"","","","","","","","","","","","","","","","","","","",""]
[null,null,"Bulldozer",null,{"$f":"IF(F109=\"\",0,MAX(E$4:E108)+1)","v":0},"",3,null,null,null,null,"X",null,null,null,"X",null,null,null,null,null,null,null,"X",null,null,null,null,null,null,null,null,null,null,null,null,null,null,null,null,null,null,null,null,null,null,null,null,null,null,null,null,null,null,null,null,null,null,null,null,null,null,null,null,null,null,null,null,null,null,null,null,null,null,null,null,null,null,null,null,null,null,null,null,null,null,null,null,null,null,null,null,null,null,null,null,null,null,null,null,null,null,null,null,null,null,null,{"$f":"IF(EquipEarth_3=\"-\",\"N\",IF(EquipEarth_3=\"\",\"N\",IF(EquipEarth_3_Sel=\"\",\"N\",\"Y\")))","v":"N"},"","","","","","","","","","","","","","","","","","","","","","","","","","","","","","","","","","","","","","","","","","","","","","","","","","","","","","","","","","","","","","","","","","","","","","","","","","","","","","","","","","","","","","","","","","","","","","","","","","","","","",null,null,null,null,null,null,null,null,null,null,null,"X","X","X",null,null,null,null,null,null,null,null,"","","","","","","","","","","","","","","","","","","",""]
["Equipment",null,"Conveyor Aggregate Delivery Truck ",null,{"$f":"IF(F110=\"\",0,MAX(E$4:E109)+1)","v":0},"",4,null,null,null,null,"X","X",null,null,"X",null,null,null,null,null,null,null,"X",null,null,null,null,null,null,null,null,null,null,null,null,null,null,null,null,null,null,null,null,null,null,null,null,null,null,null,null,null,null,null,null,null,null,null,null,null,null,null,null,null,null,null,null,null,null,null,null,null,null,null,null,null,null,null,null,null,null,null,null,null,null,null,null,null,null,null,null,null,null,null,null,null,null,null,null,null,null,null,null,null,null,null,{"$f":"IF(EquipEarth_4=\"-\",\"N\",IF(EquipEarth_4=\"\",\"N\",IF(EquipEarth_4_Sel=\"\",\"N\",\"Y\")))","v":"N"},"","","","","","","","","","","","","","","","","","","","","","","","","","","","","","","","","","","","","","","","","","","","","","","","","","","","","","","","","","","","","","","","","","","","","","","","","","","","","","","","","","","","","","","","","","","","","","","","","","","","","",null,null,null,null,null,null,null,null,null,null,"X","X",null,null,null,null,null,null,null,null,null,null,"","","","","","","","","","","","","","","","","","","",""]
[null,null,"Excavator Rubber Tires",null,{"$f":"IF(F111=\"\",0,MAX(E$4:E110)+1)","v":0},"",3,null,null,null,null,"X",null,null,null,null,null,null,null,null,null,null,null,"X",null,null,null,null,null,null,"X",null,null,null,null,null,null,null,null,null,null,null,null,null,null,null,null,null,null,null,null,null,null,null,null,null,null,null,null,null,null,null,null,null,null,null,null,null,null,null,null,null,null,null,null,null,null,null,null,null,null,null,null,null,null,null,null,null,null,null,null,null,null,null,null,null,null,null,null,null,null,null,null,null,null,null,null,{"$f":"IF(EquipEarth_5=\"-\",\"N\",IF(EquipEarth_5=\"\",\"N\",IF(EquipEarth_5_Sel=\"\",\"N\",\"Y\")))","v":"N"},"","","","","","","","","","","","","","","","","","","","","","","","","","","","","","","","","","","","","","","","","","","","","","","","","","","","","","","","","","","","","","","","","","","","","","","","","","","","","","","","","","","","","","","","","","","","","","","","","","","","","",null,null,null,null,null,null,null,null,null,null,null,"X","X","X",null,null,null,null,null,null,null,null,"","","","","","","","","","","","","","","","","","","",""]
[null,null,"Excavator Tracks",null,{"$f":"IF(F112=\"\",0,MAX(E$4:E111)+1)","v":0},"",4,null,null,null,null,"X",null,null,null,"X",null,null,null,null,null,null,null,"X",null,null,null,null,null,null,"X",null,null,null,null,null,null,null,null,null,null,null,null,null,null,null,null,null,null,null,null,null,null,null,null,null,null,null,null,null,null,null,null,null,null,null,null,null,null,null,null,null,null,null,null,null,null,null,null,null,null,null,null,null,null,null,null,null,null,null,null,null,null,null,null,null,null,null,null,null,null,null,null,null,null,null,null,{"$f":"IF(EquipEarth_6=\"-\",\"N\",IF(EquipEarth_6=\"\",\"N\",IF(EquipEarth_6_Sel=\"\",\"N\",\"Y\")))","v":"N"},"","","","","","","","","","","","","","","","","","","","","","","","","","","","","","","","","","","","","","","","","","","","","","","","","","","","","","","","","","","","","","","","","","","","","","","","","","","","","","","","","","","","","","","","","","","","","","","","","","","","","",null,null,null,null,null,null,null,null,null,null,null,"X","X","X",null,null,null,null,null,null,null,null,"","","","","","","","","","","","","","","","","","","",""]
[null,null,"Hopper-Conveyor Belt",null,{"$f":"IF(F113=\"\",0,MAX(E$4:E112)+1)","v":0},"",2,null,null,null,null,"X",null,null,null,null,null,null,null,null,null,null,null,"X",null,null,null,null,null,null,null,null,null,null,null,null,null,null,null,null,null,null,null,null,null,null,null,null,null,null,null,null,null,null,null,null,null,null,null,null,null,null,null,null,null,null,null,null,null,null,null,null,null,null,null,null,null,null,null,null,null,null,null,null,null,null,null,null,null,null,null,null,null,null,null,null,null,null,null,null,null,null,null,null,null,null,null,{"$f":"IF(EquipEarth_7=\"-\",\"N\",IF(EquipEarth_7=\"\",\"N\",IF(EquipEarth_7_Sel=\"\",\"N\",\"Y\")))","v":"N"},"","","","","","","","","","","","","","","","","","","","","","","","","","","","","","","","","","","","","","","","","","","","","","","","","","","","","","","","","","","","","","","","","","","","","","","","","","","","","","","","","","","","","","","","","","","","","","","","","","","","","",null,null,null,null,null,null,null,null,null,null,"X","X",null,null,null,null,null,null,null,null,null,null,"","","","","","","","","","","","","","","","","","","",""]
[null,null,"Scraper",null,{"$f":"IF(F114=\"\",0,MAX(E$4:E113)+1)","v":0},"",2,null,null,null,null,"X",null,null,null,null,null,null,null,null,null,null,null,"X",null,null,null,null,null,null,null,null,null,null,null,null,null,null,null,null,null,null,null,null,null,null,null,null,null,null,null,null,null,null,null,null,null,null,null,null,null,null,null,null,null,null,null,null,null,null,null,null,null,null,null,null,null,null,null,null,null,null,null,null,null,null,null,null,null,null,null,null,null,null,null,null,null,null,null,null,null,null,null,null,null,null,null,{"$f":"IF(EquipEarth_8=\"-\",\"N\",IF(EquipEarth_8=\"\",\"N\",IF(EquipEarth_8_Sel=\"\",\"N\",\"Y\")))","v":"N"},"","","","","","","","","","","","","","","","","","","","","","","","","","","","","","","","","","","","","","","","","","","","","","","","","","","","","","","","","","","","","","","","","","","","","","","","","","","","","","","","","","","","","","","","","","","","","","","","","","","","","",null,null,null,null,null,null,null,null,null,null,"X","X","X","X",null,null,null,null,null,null,null,null,"","","","","","","","","","","","","","","","","","","",""]
[null,null,"-",null,{"$f":"IF(F115=\"\",0,MAX(E$4:E114)+1)","v":0},"",0,null,null,null,null,null,null,null,null,null,null,null,null,null,null,null,null,null,null,null,null,null,null,null,null,null,null,null,null,null,null,null,null,null,null,null,null,null,null,null,null,null,null,null,null,null,null,null,null,null,null,null,null,null,null,null,null,null,null,null,null,null,null,null,null,null,null,null,null,null,null,null,null,null,null,null,null,null,null,null,null,null,null,null,null,null,null,null,null,null,null,null,null,null,null,null,null,null,null,null,null,{"$f":"IF(EquipEarth_9=\"-\",\"N\",IF(EquipEarth_9=\"\",\"N\",IF(EquipEarth_9_Sel=\"\",\"N\",\"Y\")))","v":"N"},{"$f":"IF($DD115=\"Y\",IF(H115=\"X\",CONCATENATE($C115,\", \"),\"\"),\"\")","v":""},"","","","","","","","","",{"$f":"IF($DD115=\"Y\",IF(R115=\"X\",CONCATENATE($C115,\", \"),\"\"),\"\")","v":""},"","","","","","","","","",{"$f":"IF($DD115=\"Y\",IF(AB115=\"X\",CONCATENATE($C115,\", \"),\"\"),\"\")","v":""},"","","","","","","","","",{"$f":"IF($DD115=\"Y\",IF(AL115=\"X\",CONCATENATE($C115,\", \"),\"\"),\"\")","v":""},"","","","",{"$f":"IF($DD115=\"Y\",IF(AQ115=\"X\",CONCATENATE($C115,\", \"),\"\"),\"\")","v":""},{"$f":"IF($DD115=\"Y\",IF(AR115=\"X\",CONCATENATE($C115,\", \"),\"\"),\"\")","v":""},{"$f":"IF($DD115=\"Y\",IF(AS115=\"X\",CONCATENATE($C115,\", \"),\"\"),\"\")","v":""},{"$f":"IF($DD115=\"Y\",IF(AT115=\"X\",CONCATENATE($C115,\", \"),\"\"),\"\")","v":""},{"$f":"IF($DD115=\"Y\",IF(AU115=\"X\",CONCATENATE($C115,\", \"),\"\"),\"\")","v":""},{"$f":"IF($DD115=\"Y\",IF(AV115=\"X\",CONCATENATE($C115,\", \"),\"\"),\"\")","v":""},{"$f":"IF($DD115=\"Y\",IF(AW115=\"X\",CONCATENATE($C115,\", \"),\"\"),\"\")","v":""},{"$f":"IF($DD115=\"Y\",IF(AX115=\"X\",CONCATENATE($C115,\", \"),\"\"),\"\")","v":""},{"$f":"IF($DD115=\"Y\",IF(AY115=\"X\",CONCATENATE($C115,\", \"),\"\"),\"\")","v":""},{"$f":"IF($DD115=\"Y\",IF(AZ115=\"X\",CONCATENATE($C115,\", \"),\"\"),\"\")","v":""},{"$f":"IF($DD115=\"Y\",IF(BA115=\"X\",CONCATENATE($C115,\", \"),\"\"),\"\")","v":""},{"$f":"IF($DD115=\"Y\",IF(BB115=\"X\",CONCATENATE($C115,\", \"),\"\"),\"\")","v":""},{"$f":"IF($DD115=\"Y\",IF(BC115=\"X\",CONCATENATE($C115,\", \"),\"\"),\"\")","v":""},{"$f":"IF($DD115=\"Y\",IF(BD115=\"X\",CONCATENATE($C115,\", \"),\"\"),\"\")","v":""},{"$f":"IF($DD115=\"Y\",IF(BE115=\"X\",CONCATENATE($C115,\", \"),\"\"),\"\")","v":""},{"$f":"IF($DD115=\"Y\",IF(BF115=\"X\",CONCATENATE($C115,\", \"),\"\"),\"\")","v":""},{"$f":"IF($DD115=\"Y\",IF(BG115=\"X\",CONCATENATE($C115,\", \"),\"\"),\"\")","v":""},{"$f":"IF($DD115=\"Y\",IF(BH115=\"X\",CONCATENATE($C115,\", \"),\"\"),\"\")","v":""},{"$f":"IF($DD115=\"Y\",IF(BI115=\"X\",CONCATENATE($C115,\", \"),\"\"),\"\")","v":""},{"$f":"IF($DD115=\"Y\",IF(BJ115=\"X\",CONCATENATE($C115,\", \"),\"\"),\"\")","v":""},{"$f":"IF($DD115=\"Y\",IF(BK115=\"X\",CONCATENATE($C115,\", \"),\"\"),\"\")","v":""},{"$f":"IF($DD115=\"Y\",IF(BL115=\"X\",CONCATENATE($C115,\", \"),\"\"),\"\")","v":""},{"$f":"IF($DD115=\"Y\",IF(BM115=\"X\",CONCATENATE($C115,\", \"),\"\"),\"\")","v":""},{"$f":"IF($DD115=\"Y\",IF(BN115=\"X\",CONCATENATE($C115,\", \"),\"\"),\"\")","v":""},{"$f":"IF($DD115=\"Y\",IF(BO115=\"X\",CONCATENATE($C115,\", \"),\"\"),\"\")","v":""},{"$f":"IF($DD115=\"Y\",IF(BP115=\"X\",CONCATENATE($C115,\", \"),\"\"),\"\")","v":""},{"$f":"IF($DD115=\"Y\",IF(BQ115=\"X\",CONCATENATE($C115,\", \"),\"\"),\"\")","v":""},{"$f":"IF($DD115=\"Y\",IF(BR115=\"X\",CONCATENATE($C115,\", \"),\"\"),\"\")","v":""},"",{"$f":"IF($DD115=\"Y\",IF(BT115=\"X\",CONCATENATE($C115,\", \"),\"\"),\"\")","v":""},{"$f":"IF($DD115=\"Y\",IF(BU115=\"X\",CONCATENATE($C115,\", \"),\"\"),\"\")","v":""},{"$f":"IF($DD115=\"Y\",IF(BV115=\"X\",CONCATENATE($C115,\", \"),\"\"),\"\")","v":""},{"$f":"IF($DD115=\"Y\",IF(BW115=\"X\",CONCATENATE($C115,\", \"),\"\"),\"\")","v":""},{"$f":"IF($DD115=\"Y\",IF(BX115=\"X\",CONCATENATE($C115,\", \"),\"\"),\"\")","v":""},{"$f":"IF($DD115=\"Y\",IF(BY115=\"X\",CONCATENATE($C115,\", \"),\"\"),\"\")","v":""},{"$f":"IF($DD115=\"Y\",IF(BZ115=\"X\",CONCATENATE($C115,\", \"),\"\"),\"\")","v":""},{"$f":"IF($DD115=\"Y\",IF(CA115=\"X\",CONCATENATE($C115,\", \"),\"\"),\"\")","v":""},"","","","","","","",{"$f":"IF($DD115=\"Y\",IF(CI115=\"X\",CONCATENATE($C115,\", \"),\"\"),\"\")","v":""},{"$f":"IF($DD115=\"Y\",IF(CJ115=\"X\",CONCATENATE($C115,\", \"),\"\"),\"\")","v":""},{"$f":"IF($DD115=\"Y\",IF(CK115=\"X\",CONCATENATE($C115,\", \"),\"\"),\"\")","v":""},{"$f":"IF($DD115=\"Y\",IF(CL115=\"X\",CONCATENATE($C115,\", \"),\"\"),\"\")","v":""},{"$f":"IF($DD115=\"Y\",IF(CM115=\"X\",CONCATENATE($C115,\", \"),\"\"),\"\")","v":""},{"$f":"IF($DD115=\"Y\",IF(CN115=\"X\",CONCATENATE($C115,\", \"),\"\"),\"\")","v":""},{"$f":"IF($DD115=\"Y\",IF(CO115=\"X\",CONCATENATE($C115,\", \"),\"\"),\"\")","v":""},"","","","","","","","","","","","","","","",null,null,null,null,null,null,null,null,null,null,null,null,null,null,null,null,null,null,null,null,null,null,"","","","","","","","","","","","","","","","","","","",""]
[null,null,"-",null,{"$f":"IF(F116=\"\",0,MAX(E$4:E115)+1)","v":0},"",0,null,null,null,null,null,null,null,null,null,null,null,null,null,null,null,null,null,null,null,null,null,null,null,null,null,null,null,null,null,null,null,null,null,null,null,null,null,null,null,null,null,null,null,null,null,null,null,null,null,null,null,null,null,null,null,null,null,null,null,null,null,null,null,null,null,null,null,null,null,null,null,null,null,null,null,null,null,null,null,null,null,null,null,null,null,null,null,null,null,null,null,null,null,null,null,null,null,null,null,null,{"$f":"IF(EquipEarth_10=\"-\",\"N\",IF(EquipEarth_10=\"\",\"N\",IF(EquipEarth_10_Sel=\"\",\"N\",\"Y\")))","v":"N"},"","","","","","","","","","","","","","","","","","","","","","","","","","","","","","","","","","","","","","","","","","","","","","","","","","","","","","","","","","","","","","","","","","","","","","","","","","","","","","","","","","","","","","","","","","","","","","","","","","","","","",null,null,null,null,null,null,null,null,null,null,null,null,null,null,null,null,null,null,null,null,null,null,"","","","","","","","","","","","","","","","","","","",""]
[null,"Earthmoving","-",null,{"$f":"IF(F117=\"\",0,MAX(E$4:E116)+1)","v":0},{"$f":"IF(D117=\"\",\"\",IF(DD117=\"N\",\"\",CONCATENATE(D117,\" (\",C117,\"), \")))","v":""},{"$f":"COUNTIF(H117:HH117,\"x\")","v":0},null,null,null,null,null,null,null,null,null,null,null,null,null,null,null,null,null,null,null,null,null,null,null,null,null,null,null,null,null,null,null,null,null,null,null,null,null,null,null,null,null,null,null,null,null,null,null,null,null,null,null,null,null,null,null,null,null,null,null,null,null,null,null,null,null,null,null,null,null,null,null,null,null,null,null,null,null,null,null,null,null,null,null,null,null,null,null,null,null,null,null,null,null,null,null,null,null,null,null,null,{"$f":"IF(EquipEarth_11=\"-\",\"N\",IF(EquipEarth_11=\"\",\"N\",IF(EquipEarth_11_Sel=\"\",\"N\",\"Y\")))","v":"N"},{"$f":"IF($DD117=\"Y\",IF(H117=\"X\",CONCATENATE($C117,\", \"),\"\"),\"\")","v":""},{"$f":"IF($DD117=\"Y\",IF(I117=\"X\",CONCATENATE($C117,\", \"),\"\"),\"\")","v":""},{"$f":"IF($DD117=\"Y\",IF(J117=\"X\",CONCATENATE($C117,\", \"),\"\"),\"\")","v":""},{"$f":"IF($DD117=\"Y\",IF(K117=\"X\",CONCATENATE($C117,\", \"),\"\"),\"\")","v":""},{"$f":"IF($DD117=\"Y\",IF(L117=\"X\",CONCATENATE($C117,\", \"),\"\"),\"\")","v":""},{"$f":"IF($DD117=\"Y\",IF(M117=\"X\",CONCATENATE($C117,\", \"),\"\"),\"\")","v":""},{"$f":"IF($DD117=\"Y\",IF(N117=\"X\",CONCATENATE($C117,\", \"),\"\"),\"\")","v":""},{"$f":"IF($DD117=\"Y\",IF(O117=\"X\",CONCATENATE($C117,\", \"),\"\"),\"\")","v":""},{"$f":"IF($DD117=\"Y\",IF(P117=\"X\",CONCATENATE($C117,\", \"),\"\"),\"\")","v":""},{"$f":"IF($DD117=\"Y\",IF(Q117=\"X\",CONCATENATE($C117,\", \"),\"\"),\"\")","v":""},{"$f":"IF($DD117=\"Y\",IF(R117=\"X\",CONCATENATE($C117,\", \"),\"\"),\"\")","v":""},{"$f":"IF($DD117=\"Y\",IF(S117=\"X\",CONCATENATE($C117,\", \"),\"\"),\"\")","v":""},{"$f":"IF($DD117=\"Y\",IF(T117=\"X\",CONCATENATE($C117,\", \"),\"\"),\"\")","v":""},{"$f":"IF($DD117=\"Y\",IF(U117=\"X\",CONCATENATE($C117,\", \"),\"\"),\"\")","v":""},{"$f":"IF($DD117=\"Y\",IF(V117=\"X\",CONCATENATE($C117,\", \"),\"\"),\"\")","v":""},{"$f":"IF($DD117=\"Y\",IF(W117=\"X\",CONCATENATE($C117,\", \"),\"\"),\"\")","v":""},{"$f":"IF($DD117=\"Y\",IF(X117=\"X\",CONCATENATE($C117,\", \"),\"\"),\"\")","v":""},{"$f":"IF($DD117=\"Y\",IF(Y117=\"X\",CONCATENATE($C117,\", \"),\"\"),\"\")","v":""},{"$f":"IF($DD117=\"Y\",IF(Z117=\"X\",CONCATENATE($C117,\", \"),\"\"),\"\")","v":""},{"$f":"IF($DD117=\"Y\",IF(AA117=\"X\",CONCATENATE($C117,\", \"),\"\"),\"\")","v":""},{"$f":"IF($DD117=\"Y\",IF(AB117=\"X\",CONCATENATE($C117,\", \"),\"\"),\"\")","v":""},{"$f":"IF($DD117=\"Y\",IF(AC117=\"X\",CONCATENATE($C117,\", \"),\"\"),\"\")","v":""},{"$f":"IF($DD117=\"Y\",IF(AD117=\"X\",CONCATENATE($C117,\", \"),\"\"),\"\")","v":""},{"$f":"IF($DD117=\"Y\",IF(AE117=\"X\",CONCATENATE($C117,\", \"),\"\"),\"\")","v":""},{"$f":"IF($DD117=\"Y\",IF(AF117=\"X\",CONCATENATE($C117,\", \"),\"\"),\"\")","v":""},{"$f":"IF($DD117=\"Y\",IF(AG117=\"X\",CONCATENATE($C117,\", \"),\"\"),\"\")","v":""},{"$f":"IF($DD117=\"Y\",IF(AH117=\"X\",CONCATENATE($C117,\", \"),\"\"),\"\")","v":""},{"$f":"IF($DD117=\"Y\",IF(AI117=\"X\",CONCATENATE($C117,\", \"),\"\"),\"\")","v":""},{"$f":"IF($DD117=\"Y\",IF(AJ117=\"X\",CONCATENATE($C117,\", \"),\"\"),\"\")","v":""},{"$f":"IF($DD117=\"Y\",IF(AK117=\"X\",CONCATENATE($C117,\", \"),\"\"),\"\")","v":""},{"$f":"IF($DD117=\"Y\",IF(AL117=\"X\",CONCATENATE($C117,\", \"),\"\"),\"\")","v":""},{"$f":"IF($DD117=\"Y\",IF(AM117=\"X\",CONCATENATE($C117,\", \"),\"\"),\"\")","v":""},{"$f":"IF($DD117=\"Y\",IF(AN117=\"X\",CONCATENATE($C117,\", \"),\"\"),\"\")","v":""},{"$f":"IF($DD117=\"Y\",IF(AO117=\"X\",CONCATENATE($C117,\", \"),\"\"),\"\")","v":""},{"$f":"IF($DD117=\"Y\",IF(AP117=\"X\",CONCATENATE($C117,\", \"),\"\"),\"\")","v":""},{"$f":"IF($DD117=\"Y\",IF(AQ117=\"X\",CONCATENATE($C117,\", \"),\"\"),\"\")","v":""},{"$f":"IF($DD117=\"Y\",IF(AR117=\"X\",CONCATENATE($C117,\", \"),\"\"),\"\")","v":""},{"$f":"IF($DD117=\"Y\",IF(AS117=\"X\",CONCATENATE($C117,\", \"),\"\"),\"\")","v":""},{"$f":"IF($DD117=\"Y\",IF(AT117=\"X\",CONCATENATE($C117,\", \"),\"\"),\"\")","v":""},{"$f":"IF($DD117=\"Y\",IF(AU117=\"X\",CONCATENATE($C117,\", \"),\"\"),\"\")","v":""},{"$f":"IF($DD117=\"Y\",IF(AV117=\"X\",CONCATENATE($C117,\", \"),\"\"),\"\")","v":""},{"$f":"IF($DD117=\"Y\",IF(AW117=\"X\",CONCATENATE($C117,\", \"),\"\"),\"\")","v":""},{"$f":"IF($DD117=\"Y\",IF(AX117=\"X\",CONCATENATE($C117,\", \"),\"\"),\"\")","v":""},{"$f":"IF($DD117=\"Y\",IF(AY117=\"X\",CONCATENATE($C117,\", \"),\"\"),\"\")","v":""},{"$f":"IF($DD117=\"Y\",IF(AZ117=\"X\",CONCATENATE($C117,\", \"),\"\"),\"\")","v":""},{"$f":"IF($DD117=\"Y\",IF(BA117=\"X\",CONCATENATE($C117,\", \"),\"\"),\"\")","v":""},{"$f":"IF($DD117=\"Y\",IF(BB117=\"X\",CONCATENATE($C117,\", \"),\"\"),\"\")","v":""},{"$f":"IF($DD117=\"Y\",IF(BC117=\"X\",CONCATENATE($C117,\", \"),\"\"),\"\")","v":""},{"$f":"IF($DD117=\"Y\",IF(BD117=\"X\",CONCATENATE($C117,\", \"),\"\"),\"\")","v":""},{"$f":"IF($DD117=\"Y\",IF(BE117=\"X\",CONCATENATE($C117,\", \"),\"\"),\"\")","v":""},{"$f":"IF($DD117=\"Y\",IF(BF117=\"X\",CONCATENATE($C117,\", \"),\"\"),\"\")","v":""},{"$f":"IF($DD117=\"Y\",IF(BG117=\"X\",CONCATENATE($C117,\", \"),\"\"),\"\")","v":""},{"$f":"IF($DD117=\"Y\",IF(BH117=\"X\",CONCATENATE($C117,\", \"),\"\"),\"\")","v":""},{"$f":"IF($DD117=\"Y\",IF(BI117=\"X\",CONCATENATE($C117,\", \"),\"\"),\"\")","v":""},{"$f":"IF($DD117=\"Y\",IF(BJ117=\"X\",CONCATENATE($C117,\", \"),\"\"),\"\")","v":""},{"$f":"IF($DD117=\"Y\",IF(BK117=\"X\",CONCATENATE($C117,\", \"),\"\"),\"\")","v":""},{"$f":"IF($DD117=\"Y\",IF(BL117=\"X\",CONCATENATE($C117,\", \"),\"\"),\"\")","v":""},{"$f":"IF($DD117=\"Y\",IF(BM117=\"X\",CONCATENATE($C117,\", \"),\"\"),\"\")","v":""},{"$f":"IF($DD117=\"Y\",IF(BN117=\"X\",CONCATENATE($C117,\", \"),\"\"),\"\")","v":""},{"$f":"IF($DD117=\"Y\",IF(BO117=\"X\",CONCATENATE($C117,\", \"),\"\"),\"\")","v":""},{"$f":"IF($DD117=\"Y\",IF(BP117=\"X\",CONCATENATE($C117,\", \"),\"\"),\"\")","v":""},{"$f":"IF($DD117=\"Y\",IF(BQ117=\"X\",CONCATENATE($C117,\", \"),\"\"),\"\")","v":""},{"$f":"IF($DD117=\"Y\",IF(BR117=\"X\",CONCATENATE($C117,\", \"),\"\"),\"\")","v":""},{"$f":"IF($DD117=\"Y\",IF(BS117=\"X\",CONCATENATE($C117,\", \"),\"\"),\"\")","v":""},{"$f":"IF($DD117=\"Y\",IF(BT117=\"X\",CONCATENATE($C117,\", \"),\"\"),\"\")","v":""},{"$f":"IF($DD117=\"Y\",IF(BU117=\"X\",CONCATENATE($C117,\", \"),\"\"),\"\")","v":""},{"$f":"IF($DD117=\"Y\",IF(BV117=\"X\",CONCATENATE($C117,\", \"),\"\"),\"\")","v":""},{"$f":"IF($DD117=\"Y\",IF(BW117=\"X\",CONCATENATE($C117,\", \"),\"\"),\"\")","v":""},{"$f":"IF($DD117=\"Y\",IF(BX117=\"X\",CONCATENATE($C117,\", \"),\"\"),\"\")","v":""},{"$f":"IF($DD117=\"Y\",IF(BY117=\"X\",CONCATENATE($C117,\", \"),\"\"),\"\")","v":""},{"$f":"IF($DD117=\"Y\",IF(BZ117=\"X\",CONCATENATE($C117,\", \"),\"\"),\"\")","v":""},{"$f":"IF($DD117=\"Y\",IF(CA117=\"X\",CONCATENATE($C117,\", \"),\"\"),\"\")","v":""},{"$f":"IF($DD117=\"Y\",IF(CB117=\"X\",CONCATENATE($C117,\", \"),\"\"),\"\")","v":""},{"$f":"IF($DD117=\"Y\",IF(CC117=\"X\",CONCATENATE($C117,\", \"),\"\"),\"\")","v":""},{"$f":"IF($DD117=\"Y\",IF(CD117=\"X\",CONCATENATE($C117,\", \"),\"\"),\"\")","v":""},{"$f":"IF($DD117=\"Y\",IF(CE117=\"X\",CONCATENATE($C117,\", \"),\"\"),\"\")","v":""},{"$f":"IF($DD117=\"Y\",IF(CF117=\"X\",CONCATENATE($C117,\", \"),\"\"),\"\")","v":""},{"$f":"IF($DD117=\"Y\",IF(CG117=\"X\",CONCATENATE($C117,\", \"),\"\"),\"\")","v":""},{"$f":"IF($DD117=\"Y\",IF(CH117=\"X\",CONCATENATE($C117,\", \"),\"\"),\"\")","v":""},{"$f":"IF($DD117=\"Y\",IF(CI117=\"X\",CONCATENATE($C117,\", \"),\"\"),\"\")","v":""},{"$f":"IF($DD117=\"Y\",IF(CJ117=\"X\",CONCATENATE($C117,\", \"),\"\"),\"\")","v":""},{"$f":"IF($DD117=\"Y\",IF(CK117=\"X\",CONCATENATE($C117,\", \"),\"\"),\"\")","v":""},{"$f":"IF($DD117=\"Y\",IF(CL117=\"X\",CONCATENATE($C117,\", \"),\"\"),\"\")","v":""},{"$f":"IF($DD117=\"Y\",IF(CM117=\"X\",CONCATENATE($C117,\", \"),\"\"),\"\")","v":""},{"$f":"IF($DD117=\"Y\",IF(CN117=\"X\",CONCATENATE($C117,\", \"),\"\"),\"\")","v":""},{"$f":"IF($DD117=\"Y\",IF(CO117=\"X\",CONCATENATE($C117,\", \"),\"\"),\"\")","v":""},{"$f":"IF($DD117=\"Y\",IF(CP117=\"X\",CONCATENATE($C117,\", \"),\"\"),\"\")","v":""},{"$f":"IF($DD117=\"Y\",IF(CQ117=\"X\",CONCATENATE($C117,\", \"),\"\"),\"\")","v":""},{"$f":"IF($DD117=\"Y\",IF(CR117=\"X\",CONCATENATE($C117,\", \"),\"\"),\"\")","v":""},{"$f":"IF($DD117=\"Y\",IF(CS117=\"X\",CONCATENATE($C117,\", \"),\"\"),\"\")","v":""},{"$f":"IF($DD117=\"Y\",IF(CT117=\"X\",CONCATENATE($C117,\", \"),\"\"),\"\")","v":""},{"$f":"IF($DD117=\"Y\",IF(CU117=\"X\",CONCATENATE($C117,\", \"),\"\"),\"\")","v":""},{"$f":"IF($DD117=\"Y\",IF(CV117=\"X\",CONCATENATE($C117,\", \"),\"\"),\"\")","v":""},{"$f":"IF($DD117=\"Y\",IF(CW117=\"X\",CONCATENATE($C117,\", \"),\"\"),\"\")","v":""},{"$f":"IF($DD117=\"Y\",IF(CX117=\"X\",CONCATENATE($C117,\", \"),\"\"),\"\")","v":""},{"$f":"IF($DD117=\"Y\",IF(CY117=\"X\",CONCATENATE($C117,\", \"),\"\"),\"\")","v":""},{"$f":"IF($DD117=\"Y\",IF(CZ117=\"X\",CONCATENATE($C117,\", \"),\"\"),\"\")","v":""},{"$f":"IF($DD117=\"Y\",IF(DA117=\"X\",CONCATENATE($C117,\", \"),\"\"),\"\")","v":""},{"$f":"IF($DD117=\"Y\",IF(DB117=\"X\",CONCATENATE($C117,\", \"),\"\"),\"\")","v":""},{"$f":"IF($DD117=\"Y\",IF(DC117=\"X\",CONCATENATE($C117,\", \"),\"\"),\"\")","v":""},{"$f":"IF(DD117=\"Y\",CONCATENATE(C117,\", \"),\"\")","v":""},null,null,null,null,null,null,null,null,null,null,null,null,null,null,null,null,null,null,null,null,null,null,{"$f":"IF($DD117=\"Y\",HD117,\"\")","v":""},{"$f":"IF($DD117=\"Y\",HE117,\"\")","v":""},{"$f":"IF($DD117=\"Y\",HF117,\"\")","v":""},{"$f":"IF($DD117=\"Y\",HG117,\"\")","v":""},{"$f":"IF($DD117=\"Y\",HH117,\"\")","v":""},{"$f":"IF($DD117=\"Y\",HI117,\"\")","v":""},{"$f":"IF($DD117=\"Y\",HJ117,\"\")","v":""},{"$f":"IF($DD117=\"Y\",HK117,\"\")","v":""},{"$f":"IF($DD117=\"Y\",HL117,\"\")","v":""},{"$f":"IF($DD117=\"Y\",HM117,\"\")","v":""},{"$f":"IF($DD117=\"Y\",HN117,\"\")","v":""},{"$f":"IF($DD117=\"Y\",HO117,\"\")","v":""},{"$f":"IF($DD117=\"Y\",HP117,\"\")","v":""},{"$f":"IF($DD117=\"Y\",HQ117,\"\")","v":""},{"$f":"IF($DD117=\"Y\",HR117,\"\")","v":""},{"$f":"IF($DD117=\"Y\",HS117,\"\")","v":""},{"$f":"IF($DD117=\"Y\",HT117,\"\")","v":""},{"$f":"IF($DD117=\"Y\",HU117,\"\")","v":""},{"$f":"IF($DD117=\"Y\",HV117,\"\")","v":""},{"$f":"IF($DD117=\"Y\",HW117,\"\")","v":""}]
[null,null,"-",null,{"$f":"IF(F118=\"\",0,MAX(E$4:E117)+1)","v":0},{"$f":"IF(D118=\"\",\"\",IF(DD118=\"N\",\"\",CONCATENATE(D118,\" (\",C118,\"), \")))","v":""},{"$f":"COUNTIF(H118:HH118,\"x\")","v":0},null,null,null,null,null,null,null,null,null,null,null,null,null,null,null,null,null,null,null,null,null,null,null,null,null,null,null,null,null,null,null,null,null,null,null,null,null,null,null,null,null,null,null,null,null,null,null,null,null,null,null,null,null,null,null,null,null,null,null,null,null,null,null,null,null,null,null,null,null,null,null,null,null,null,null,null,null,null,null,null,null,null,null,null,null,null,null,null,null,null,null,null,null,null,null,null,null,null,null,null,{"$f":"IF(EquipEarth_12=\"-\",\"N\",IF(EquipEarth_12=\"\",\"N\",IF(EquipEarth_12_Sel=\"\",\"N\",\"Y\")))","v":"N"},{"$f":"IF($DD118=\"Y\",IF(H118=\"X\",CONCATENATE($C118,\", \"),\"\"),\"\")","v":""},{"$f":"IF($DD118=\"Y\",IF(I118=\"X\",CONCATENATE($C118,\", \"),\"\"),\"\")","v":""},{"$f":"IF($DD118=\"Y\",IF(J118=\"X\",CONCATENATE($C118,\", \"),\"\"),\"\")","v":""},{"$f":"IF($DD118=\"Y\",IF(K118=\"X\",CONCATENATE($C118,\", \"),\"\"),\"\")","v":""},{"$f":"IF($DD118=\"Y\",IF(L118=\"X\",CONCATENATE($C118,\", \"),\"\"),\"\")","v":""},{"$f":"IF($DD118=\"Y\",IF(M118=\"X\",CONCATENATE($C118,\", \"),\"\"),\"\")","v":""},{"$f":"IF($DD118=\"Y\",IF(N118=\"X\",CONCATENATE($C118,\", \"),\"\"),\"\")","v":""},{"$f":"IF($DD118=\"Y\",IF(O118=\"X\",CONCATENATE($C118,\", \"),\"\"),\"\")","v":""},{"$f":"IF($DD118=\"Y\",IF(P118=\"X\",CONCATENATE($C118,\", \"),\"\"),\"\")","v":""},{"$f":"IF($DD118=\"Y\",IF(Q118=\"X\",CONCATENATE($C118,\", \"),\"\"),\"\")","v":""},{"$f":"IF($DD118=\"Y\",IF(R118=\"X\",CONCATENATE($C118,\", \"),\"\"),\"\")","v":""},{"$f":"IF($DD118=\"Y\",IF(S118=\"X\",CONCATENATE($C118,\", \"),\"\"),\"\")","v":""},{"$f":"IF($DD118=\"Y\",IF(T118=\"X\",CONCATENATE($C118,\", \"),\"\"),\"\")","v":""},{"$f":"IF($DD118=\"Y\",IF(U118=\"X\",CONCATENATE($C118,\", \"),\"\"),\"\")","v":""},{"$f":"IF($DD118=\"Y\",IF(V118=\"X\",CONCATENATE($C118,\", \"),\"\"),\"\")","v":""},{"$f":"IF($DD118=\"Y\",IF(W118=\"X\",CONCATENATE($C118,\", \"),\"\"),\"\")","v":""},{"$f":"IF($DD118=\"Y\",IF(X118=\"X\",CONCATENATE($C118,\", \"),\"\"),\"\")","v":""},{"$f":"IF($DD118=\"Y\",IF(Y118=\"X\",CONCATENATE($C118,\", \"),\"\"),\"\")","v":""},{"$f":"IF($DD118=\"Y\",IF(Z118=\"X\",CONCATENATE($C118,\", \"),\"\"),\"\")","v":""},{"$f":"IF($DD118=\"Y\",IF(AA118=\"X\",CONCATENATE($C118,\", \"),\"\"),\"\")","v":""},{"$f":"IF($DD118=\"Y\",IF(AB118=\"X\",CONCATENATE($C118,\", \"),\"\"),\"\")","v":""},{"$f":"IF($DD118=\"Y\",IF(AC118=\"X\",CONCATENATE($C118,\", \"),\"\"),\"\")","v":""},{"$f":"IF($DD118=\"Y\",IF(AD118=\"X\",CONCATENATE($C118,\", \"),\"\"),\"\")","v":""},{"$f":"IF($DD118=\"Y\",IF(AE118=\"X\",CONCATENATE($C118,\", \"),\"\"),\"\")","v":""},{"$f":"IF($DD118=\"Y\",IF(AF118=\"X\",CONCATENATE($C118,\", \"),\"\"),\"\")","v":""},{"$f":"IF($DD118=\"Y\",IF(AG118=\"X\",CONCATENATE($C118,\", \"),\"\"),\"\")","v":""},{"$f":"IF($DD118=\"Y\",IF(AH118=\"X\",CONCATENATE($C118,\", \"),\"\"),\"\")","v":""},{"$f":"IF($DD118=\"Y\",IF(AI118=\"X\",CONCATENATE($C118,\", \"),\"\"),\"\")","v":""},{"$f":"IF($DD118=\"Y\",IF(AJ118=\"X\",CONCATENATE($C118,\", \"),\"\"),\"\")","v":""},{"$f":"IF($DD118=\"Y\",IF(AK118=\"X\",CONCATENATE($C118,\", \"),\"\"),\"\")","v":""},{"$f":"IF($DD118=\"Y\",IF(AL118=\"X\",CONCATENATE($C118,\", \"),\"\"),\"\")","v":""},{"$f":"IF($DD118=\"Y\",IF(AM118=\"X\",CONCATENATE($C118,\", \"),\"\"),\"\")","v":""},{"$f":"IF($DD118=\"Y\",IF(AN118=\"X\",CONCATENATE($C118,\", \"),\"\"),\"\")","v":""},{"$f":"IF($DD118=\"Y\",IF(AO118=\"X\",CONCATENATE($C118,\", \"),\"\"),\"\")","v":""},{"$f":"IF($DD118=\"Y\",IF(AP118=\"X\",CONCATENATE($C118,\", \"),\"\"),\"\")","v":""},{"$f":"IF($DD118=\"Y\",IF(AQ118=\"X\",CONCATENATE($C118,\", \"),\"\"),\"\")","v":""},{"$f":"IF($DD118=\"Y\",IF(AR118=\"X\",CONCATENATE($C118,\", \"),\"\"),\"\")","v":""},{"$f":"IF($DD118=\"Y\",IF(AS118=\"X\",CONCATENATE($C118,\", \"),\"\"),\"\")","v":""},{"$f":"IF($DD118=\"Y\",IF(AT118=\"X\",CONCATENATE($C118,\", \"),\"\"),\"\")","v":""},{"$f":"IF($DD118=\"Y\",IF(AU118=\"X\",CONCATENATE($C118,\", \"),\"\"),\"\")","v":""},{"$f":"IF($DD118=\"Y\",IF(AV118=\"X\",CONCATENATE($C118,\", \"),\"\"),\"\")","v":""},{"$f":"IF($DD118=\"Y\",IF(AW118=\"X\",CONCATENATE($C118,\", \"),\"\"),\"\")","v":""},{"$f":"IF($DD118=\"Y\",IF(AX118=\"X\",CONCATENATE($C118,\", \"),\"\"),\"\")","v":""},{"$f":"IF($DD118=\"Y\",IF(AY118=\"X\",CONCATENATE($C118,\", \"),\"\"),\"\")","v":""},{"$f":"IF($DD118=\"Y\",IF(AZ118=\"X\",CONCATENATE($C118,\", \"),\"\"),\"\")","v":""},{"$f":"IF($DD118=\"Y\",IF(BA118=\"X\",CONCATENATE($C118,\", \"),\"\"),\"\")","v":""},{"$f":"IF($DD118=\"Y\",IF(BB118=\"X\",CONCATENATE($C118,\", \"),\"\"),\"\")","v":""},{"$f":"IF($DD118=\"Y\",IF(BC118=\"X\",CONCATENATE($C118,\", \"),\"\"),\"\")","v":""},{"$f":"IF($DD118=\"Y\",IF(BD118=\"X\",CONCATENATE($C118,\", \"),\"\"),\"\")","v":""},{"$f":"IF($DD118=\"Y\",IF(BE118=\"X\",CONCATENATE($C118,\", \"),\"\"),\"\")","v":""},{"$f":"IF($DD118=\"Y\",IF(BF118=\"X\",CONCATENATE($C118,\", \"),\"\"),\"\")","v":""},{"$f":"IF($DD118=\"Y\",IF(BG118=\"X\",CONCATENATE($C118,\", \"),\"\"),\"\")","v":""},{"$f":"IF($DD118=\"Y\",IF(BH118=\"X\",CONCATENATE($C118,\", \"),\"\"),\"\")","v":""},{"$f":"IF($DD118=\"Y\",IF(BI118=\"X\",CONCATENATE($C118,\", \"),\"\"),\"\")","v":""},{"$f":"IF($DD118=\"Y\",IF(BJ118=\"X\",CONCATENATE($C118,\", \"),\"\"),\"\")","v":""},{"$f":"IF($DD118=\"Y\",IF(BK118=\"X\",CONCATENATE($C118,\", \"),\"\"),\"\")","v":""},{"$f":"IF($DD118=\"Y\",IF(BL118=\"X\",CONCATENATE($C118,\", \"),\"\"),\"\")","v":""},{"$f":"IF($DD118=\"Y\",IF(BM118=\"X\",CONCATENATE($C118,\", \"),\"\"),\"\")","v":""},{"$f":"IF($DD118=\"Y\",IF(BN118=\"X\",CONCATENATE($C118,\", \"),\"\"),\"\")","v":""},{"$f":"IF($DD118=\"Y\",IF(BO118=\"X\",CONCATENATE($C118,\", \"),\"\"),\"\")","v":""},{"$f":"IF($DD118=\"Y\",IF(BP118=\"X\",CONCATENATE($C118,\", \"),\"\"),\"\")","v":""},{"$f":"IF($DD118=\"Y\",IF(BQ118=\"X\",CONCATENATE($C118,\", \"),\"\"),\"\")","v":""},{"$f":"IF($DD118=\"Y\",IF(BR118=\"X\",CONCATENATE($C118,\", \"),\"\"),\"\")","v":""},{"$f":"IF($DD118=\"Y\",IF(BS118=\"X\",CONCATENATE($C118,\", \"),\"\"),\"\")","v":""},{"$f":"IF($DD118=\"Y\",IF(BT118=\"X\",CONCATENATE($C118,\", \"),\"\"),\"\")","v":""},{"$f":"IF($DD118=\"Y\",IF(BU118=\"X\",CONCATENATE($C118,\", \"),\"\"),\"\")","v":""},{"$f":"IF($DD118=\"Y\",IF(BV118=\"X\",CONCATENATE($C118,\", \"),\"\"),\"\")","v":""},{"$f":"IF($DD118=\"Y\",IF(BW118=\"X\",CONCATENATE($C118,\", \"),\"\"),\"\")","v":""},{"$f":"IF($DD118=\"Y\",IF(BX118=\"X\",CONCATENATE($C118,\", \"),\"\"),\"\")","v":""},{"$f":"IF($DD118=\"Y\",IF(BY118=\"X\",CONCATENATE($C118,\", \"),\"\"),\"\")","v":""},{"$f":"IF($DD118=\"Y\",IF(BZ118=\"X\",CONCATENATE($C118,\", \"),\"\"),\"\")","v":""},{"$f":"IF($DD118=\"Y\",IF(CA118=\"X\",CONCATENATE($C118,\", \"),\"\"),\"\")","v":""},{"$f":"IF($DD118=\"Y\",IF(CB118=\"X\",CONCATENATE($C118,\", \"),\"\"),\"\")","v":""},{"$f":"IF($DD118=\"Y\",IF(CC118=\"X\",CONCATENATE($C118,\", \"),\"\"),\"\")","v":""},{"$f":"IF($DD118=\"Y\",IF(CD118=\"X\",CONCATENATE($C118,\", \"),\"\"),\"\")","v":""},{"$f":"IF($DD118=\"Y\",IF(CE118=\"X\",CONCATENATE($C118,\", \"),\"\"),\"\")","v":""},{"$f":"IF($DD118=\"Y\",IF(CF118=\"X\",CONCATENATE($C118,\", \"),\"\"),\"\")","v":""},{"$f":"IF($DD118=\"Y\",IF(CG118=\"X\",CONCATENATE($C118,\", \"),\"\"),\"\")","v":""},{"$f":"IF($DD118=\"Y\",IF(CH118=\"X\",CONCATENATE($C118,\", \"),\"\"),\"\")","v":""},{"$f":"IF($DD118=\"Y\",IF(CI118=\"X\",CONCATENATE($C118,\", \"),\"\"),\"\")","v":""},{"$f":"IF($DD118=\"Y\",IF(CJ118=\"X\",CONCATENATE($C118,\", \"),\"\"),\"\")","v":""},{"$f":"IF($DD118=\"Y\",IF(CK118=\"X\",CONCATENATE($C118,\", \"),\"\"),\"\")","v":""},{"$f":"IF($DD118=\"Y\",IF(CL118=\"X\",CONCATENATE($C118,\", \"),\"\"),\"\")","v":""},{"$f":"IF($DD118=\"Y\",IF(CM118=\"X\",CONCATENATE($C118,\", \"),\"\"),\"\")","v":""},{"$f":"IF($DD118=\"Y\",IF(CN118=\"X\",CONCATENATE($C118,\", \"),\"\"),\"\")","v":""},{"$f":"IF($DD118=\"Y\",IF(CO118=\"X\",CONCATENATE($C118,\", \"),\"\"),\"\")","v":""},{"$f":"IF($DD118=\"Y\",IF(CP118=\"X\",CONCATENATE($C118,\", \"),\"\"),\"\")","v":""},{"$f":"IF($DD118=\"Y\",IF(CQ118=\"X\",CONCATENATE($C118,\", \"),\"\"),\"\")","v":""},{"$f":"IF($DD118=\"Y\",IF(CR118=\"X\",CONCATENATE($C118,\", \"),\"\"),\"\")","v":""},{"$f":"IF($DD118=\"Y\",IF(CS118=\"X\",CONCATENATE($C118,\", \"),\"\"),\"\")","v":""},{"$f":"IF($DD118=\"Y\",IF(CT118=\"X\",CONCATENATE($C118,\", \"),\"\"),\"\")","v":""},{"$f":"IF($DD118=\"Y\",IF(CU118=\"X\",CONCATENATE($C118,\", \"),\"\"),\"\")","v":""},{"$f":"IF($DD118=\"Y\",IF(CV118=\"X\",CONCATENATE($C118,\", \"),\"\"),\"\")","v":""},{"$f":"IF($DD118=\"Y\",IF(CW118=\"X\",CONCATENATE($C118,\", \"),\"\"),\"\")","v":""},{"$f":"IF($DD118=\"Y\",IF(CX118=\"X\",CONCATENATE($C118,\", \"),\"\"),\"\")","v":""},{"$f":"IF($DD118=\"Y\",IF(CY118=\"X\",CONCATENATE($C118,\", \"),\"\"),\"\")","v":""},{"$f":"IF($DD118=\"Y\",IF(CZ118=\"X\",CONCATENATE($C118,\", \"),\"\"),\"\")","v":""},{"$f":"IF($DD118=\"Y\",IF(DA118=\"X\",CONCATENATE($C118,\", \"),\"\"),\"\")","v":""},{"$f":"IF($DD118=\"Y\",IF(DB118=\"X\",CONCATENATE($C118,\", \"),\"\"),\"\")","v":""},{"$f":"IF($DD118=\"Y\",IF(DC118=\"X\",CONCATENATE($C118,\", \"),\"\"),\"\")","v":""},{"$f":"IF(DD118=\"Y\",CONCATENATE(C118,\", \"),\"\")","v":""},null,null,null,null,null,null,null,null,null,null,null,null,null,null,null,null,null,null,null,null,null,null,{"$f":"IF($DD118=\"Y\",HD118,\"\")","v":""},{"$f":"IF($DD118=\"Y\",HE118,\"\")","v":""},{"$f":"IF($DD118=\"Y\",HF118,\"\")","v":""},{"$f":"IF($DD118=\"Y\",HG118,\"\")","v":""},{"$f":"IF($DD118=\"Y\",HH118,\"\")","v":""},{"$f":"IF($DD118=\"Y\",HI118,\"\")","v":""},{"$f":"IF($DD118=\"Y\",HJ118,\"\")","v":""},{"$f":"IF($DD118=\"Y\",HK118,\"\")","v":""},{"$f":"IF($DD118=\"Y\",HL118,\"\")","v":""},{"$f":"IF($DD118=\"Y\",HM118,\"\")","v":""},{"$f":"IF($DD118=\"Y\",HN118,\"\")","v":""},{"$f":"IF($DD118=\"Y\",HO118,\"\")","v":""},{"$f":"IF($DD118=\"Y\",HP118,\"\")","v":""},{"$f":"IF($DD118=\"Y\",HQ118,\"\")","v":""},{"$f":"IF($DD118=\"Y\",HR118,\"\")","v":""},{"$f":"IF($DD118=\"Y\",HS118,\"\")","v":""},{"$f":"IF($DD118=\"Y\",HT118,\"\")","v":""},{"$f":"IF($DD118=\"Y\",HU118,\"\")","v":""},{"$f":"IF($DD118=\"Y\",HV118,\"\")","v":""},{"$f":"IF($DD118=\"Y\",HW118,\"\")","v":""}]
[null,null,"-",null,{"$f":"IF(F119=\"\",0,MAX(E$4:E118)+1)","v":0},"",0,null,null,null,null,null,null,null,null,null,null,null,null,null,null,null,null,null,null,null,null,null,null,null,null,null,null,null,null,null,null,null,null,null,null,null,null,null,null,null,null,null,null,null,null,null,null,null,null,null,null,null,null,null,null,null,null,null,null,null,null,null,null,null,null,null,null,null,null,null,null,null,null,null,null,null,null,null,null,null,null,null,null,null,null,null,null,null,null,null,null,null,null,null,null,null,null,null,null,null,null,{"$f":"IF(EquipEarth_13=\"-\",\"N\",IF(EquipEarth_13=\"\",\"N\",IF(EquipEarth_13_Sel=\"\",\"N\",\"Y\")))","v":"N"},"","","","","","","","","","","","","","","","","","","","","","","","","","","","","","","","","","","","","","","","","","","","","","","","","","","","","","","","","","","","","","","","","","","","","","","","","","","","","","","","","","","","","","","","","","","","","","","","","","","","","",null,null,null,null,null,null,null,null,null,null,null,null,null,null,null,null,null,null,null,null,null,null,"","","","","","","","","","","","","","","","","","","",""]
[null,null,"-",null,{"$f":"IF(F120=\"\",0,MAX(E$4:E119)+1)","v":0},"",0,null,null,null,null,null,null,null,null,null,null,null,null,null,null,null,null,null,null,null,null,null,null,null,null,null,null,null,null,null,null,null,null,null,null,null,null,null,null,null,null,null,null,null,null,null,null,null,null,null,null,null,null,null,null,null,null,null,null,null,null,null,null,null,null,null,null,null,null,null,null,null,null,null,null,null,null,null,null,null,null,null,null,null,null,null,null,null,null,null,null,null,null,null,null,null,null,null,null,null,null,{"$f":"IF(EquipEarth_14=\"-\",\"N\",IF(EquipEarth_14=\"\",\"N\",IF(EquipEarth_14_Sel=\"\",\"N\",\"Y\")))","v":"N"},"","","","","","","","","","","","","","","","","","","","","","","","","","","","","","","","","","","","","","","","","","","","","","","","","","","","","","","","","","","","","","","","","","","","","","","","","","","","","","","","","","","","","","","","","","","","","","","","","","","","","",null,null,null,null,null,null,null,null,null,null,null,null,null,null,null,null,null,null,null,null,null,null,"","","","","","","","","","","","","","","","","","","",""]
[null,null,"-",null,{"$f":"IF(F121=\"\",0,MAX(E$4:E120)+1)","v":0},"",0,null,null,null,null,null,null,null,null,null,null,null,null,null,null,null,null,null,null,null,null,null,null,null,null,null,null,null,null,null,null,null,null,null,null,null,null,null,null,null,null,null,null,null,null,null,null,null,null,null,null,null,null,null,null,null,null,null,null,null,null,null,null,null,null,null,null,null,null,null,null,null,null,null,null,null,null,null,null,null,null,null,null,null,null,null,null,null,null,null,null,null,null,null,null,null,null,null,null,null,null,{"$f":"IF(EquipEarth_15=\"-\",\"N\",IF(EquipEarth_15=\"\",\"N\",IF(EquipEarth_15_Sel=\"\",\"N\",\"Y\")))","v":"N"},"","","","","","","","","","","","","","","","","","","","","","","","","","","","","","","","","","","","","","","","","","","","","","","","","","","","","","","","","","","","","","","","","","","","","","","","","","","","","","","","","","","","","","","","","","","","","","","","","","","","","",null,null,null,null,null,null,null,null,null,null,null,null,null,null,null,null,null,null,null,null,null,null,"","","","","","","","","","","","","","","","","","","",""]
[null,null,"-",null,{"$f":"IF(F122=\"\",0,MAX(E$4:E121)+1)","v":0},"",0,null,null,null,null,null,null,null,null,null,null,null,null,null,null,null,null,null,null,null,null,null,null,null,null,null,null,null,null,null,null,null,null,null,null,null,null,null,null,null,null,null,null,null,null,null,null,null,null,null,null,null,null,null,null,null,null,null,null,null,null,null,null,null,null,null,null,null,null,null,null,null,null,null,null,null,null,null,null,null,null,null,null,null,null,null,null,null,null,null,null,null,null,null,null,null,null,null,null,null,null,{"$f":"IF(EquipEarth_16=\"-\",\"N\",IF(EquipEarth_16=\"\",\"N\",IF(EquipEarth_16_Sel=\"\",\"N\",\"Y\")))","v":"N"},"","","","","","","","","","","","","","","","","","","","","","","","","","","","","","","","","","","","","","","","","","","","","","","","","","","","","","","","","","","","","","","","","","","","","","","","","","","","","","","","","","","","","","","","","","","","","","","","","","","","","",null,null,null,null,null,null,null,null,null,null,null,null,null,null,null,null,null,null,null,null,null,null,"","","","","","","","","","","","","","","","","","","",""]
[null,null,"-",null,{"$f":"IF(F123=\"\",0,MAX(E$4:E122)+1)","v":0},"",0,null,null,null,null,null,null,null,null,null,null,null,null,null,null,null,null,null,null,null,null,null,null,null,null,null,null,null,null,null,null,null,null,null,null,null,null,null,null,null,null,null,null,null,null,null,null,null,null,null,null,null,null,null,null,null,null,null,null,null,null,null,null,null,null,null,null,null,null,null,null,null,null,null,null,null,null,null,null,null,null,null,null,null,null,null,null,null,null,null,null,null,null,null,null,null,null,null,null,null,null,{"$f":"IF(EquipEarth_17=\"-\",\"N\",IF(EquipEarth_17=\"\",\"N\",IF(EquipEarth_17_Sel=\"\",\"N\",\"Y\")))","v":"N"},"","","","","","","","","","","","","","","","","","","","","","","","","","","","","","","","","","","","","","","","","","","","","","","","","","","","","","","","","","","","","","","","","","","","","","","","","","","","","","","","","","","","","","","","","","","","","","","","","","","","","",null,null,null,null,null,null,null,null,null,null,null,null,null,null,null,null,null,null,null,null,null,null,"","","","","","","","","","","","","","","","","","","",""]
[null,null,"-",null,{"$f":"IF(F124=\"\",0,MAX(E$4:E123)+1)","v":0},"",0,null,null,null,null,null,null,null,null,null,null,null,null,null,null,null,null,null,null,null,null,null,null,null,null,null,null,null,null,null,null,null,null,null,null,null,null,null,null,null,null,null,null,null,null,null,null,null,null,null,null,null,null,null,null,null,null,null,null,null,null,null,null,null,null,null,null,null,null,null,null,null,null,null,null,null,null,null,null,null,null,null,null,null,null,null,null,null,null,null,null,null,null,null,null,null,null,null,null,null,null,{"$f":"IF(EquipEarth_18=\"-\",\"N\",IF(EquipEarth_18=\"\",\"N\",IF(EquipEarth_18_Sel=\"\",\"N\",\"Y\")))","v":"N"},"","","","","","","","","","","","","","","","","","","","","","","","","","","","","","","","","","","","","","","","","","","","","","","","","","","","","","","","","","","","","","","","","","","","","","","","","","","","","","","","","","","","","","","","","","","","","","","","","","","","","",null,null,null,null,null,null,null,null,null,null,null,null,null,null,null,null,null,null,null,null,null,null,"","","","","","","","","","","","","","","","","","","",""]
[null,"Material Handling","Bobcat",null,{"$f":"IF(F125=\"\",0,MAX(E$4:E124)+1)","v":0},"",2,null,null,null,null,"X",null,null,null,null,null,null,null,null,null,null,null,"X",null,null,null,null,null,null,null,null,null,null,null,null,null,null,null,null,null,null,null,null,null,null,null,null,null,null,null,null,null,null,null,null,null,null,null,null,null,null,null,null,null,null,null,null,null,null,null,null,null,null,null,null,null,null,null,null,null,null,null,null,null,null,null,null,null,null,null,null,null,null,null,null,null,null,null,null,null,null,null,null,null,null,null,{"$f":"IF(EquipMat_1=\"-\",\"N\",IF(EquipMat_1=\"\",\"N\",IF(EquipMat_1_Sel=\"\",\"N\",\"Y\")))","v":"N"},"","","","","","","","","","","","","","","","","","","","","","","","","","","","","","","","","","","","","","","","","","","","","","","","","","","","","","","","","","","","","","","","","","","","","","","","","","","","","","","","","","","","","","","","","","","","","","","","","","","","","",null,null,null,null,null,null,null,null,null,null,null,"X","X",null,null,null,null,null,null,null,null,null,"","","","","","","","","","","","","","","","","","","",""]
[null,null,"Forklift",null,{"$f":"IF(F126=\"\",0,MAX(E$4:E125)+1)","v":0},"",3,null,null,null,null,"X",null,null,null,null,null,null,null,null,null,null,null,"X",null,null,null,null,null,null,"X",null,null,null,null,null,null,null,null,null,null,null,null,null,null,null,null,null,null,null,null,null,null,null,null,null,null,null,null,null,null,null,null,null,null,null,null,null,null,null,null,null,null,null,null,null,null,null,null,null,null,null,null,null,null,null,null,null,null,null,null,null,null,null,null,null,null,null,null,null,null,null,null,null,null,null,null,{"$f":"IF(EquipMat_2=\"-\",\"N\",IF(EquipMat_2=\"\",\"N\",IF(EquipMat_2_Sel=\"\",\"N\",\"Y\")))","v":"N"},"","","","","","","","","","","","","","","","","","","","","","","","","","","","","","","","","","","","","","","","","","","","","","","","","","","","","","","","","","","","","","","","","","","","","","","","","","","","","","","","","","","","","","","","","","","","","","","","","","","","","",null,null,null,null,null,null,null,null,null,null,null,"X","X",null,null,null,null,null,null,null,null,null,"","","","","","","","","","","","","","","","","","","",""]
[null,null,"Truck - Boom (Drywall)",null,{"$f":"IF(F131=\"\",0,MAX(E$4:E130)+1)","v":0},"",3,null,null,null,null,"X",null,null,null,null,null,null,null,null,null,null,null,"X",null,null,null,null,null,null,"X",null,null,null,null,null,null,null,null,null,null,null,null,null,null,null,null,null,null,null,null,null,null,null,null,null,null,null,null,null,null,null,null,null,null,null,null,null,null,null,null,null,null,null,null,null,null,null,null,null,null,null,null,null,null,null,null,null,null,null,null,null,null,null,null,null,null,null,null,null,null,null,null,null,null,null,null,{"$f":"IF(EquipMat_7=\"-\",\"N\",IF(EquipMat_7=\"\",\"N\",IF(EquipMat_7_Sel=\"\",\"N\",\"Y\")))","v":"N"},"","","","","","","","","","","","","","","","","","","","","","","","","","","","","","","","","","","","","","","","","","","","","","","","","","","","","","","","","","","","","","","","","","","","","","","","","","","","","","","","","","","","","","","","","","","","","","","","","","","","","",null,null,null,null,null,null,null,null,null,null,null,"X","X",null,null,null,null,null,null,null,null,null,"","","","","","","","","","","","","","","","","","","",""]
[null,null,"-",null,{"$f":"IF(F134=\"\",0,MAX(E$4:E133)+1)","v":0},"",0,null,null,null,null,null,null,null,null,null,null,null,null,null,null,null,null,null,null,null,null,null,null,null,null,null,null,null,null,null,null,null,null,null,null,null,null,null,null,null,null,null,null,null,null,null,null,null,null,null,null,null,null,null,null,null,null,null,null,null,null,null,null,null,null,null,null,null,null,null,null,null,null,null,null,null,null,null,null,null,null,null,null,null,null,null,null,null,null,null,null,null,null,null,null,null,null,null,null,null,null,{"$f":"IF(EquipMat_10=\"-\",\"N\",IF(EquipMat_10=\"\",\"N\",IF(EquipMat_10_Sel=\"\",\"N\",\"Y\")))","v":"N"},"","","","","","","","","","","","","","","","","","","","","","","","","","","","","","","","","","","","","","","","","","","","","","","","","","","","","","","","","","","","","","","","","","","","","","","","","","","","","","","","","","","","","","","","","","","","","","","","","","","","","",null,null,null,null,null,null,null,null,null,null,null,null,null,null,null,null,null,null,null,null,null,null,"","","","","","","","","","","","","","","","","","","",""]
[null,null,"-",null,{"$f":"IF(F136=\"\",0,MAX(E$4:E135)+1)","v":0},"",0,null,null,null,null,null,null,null,null,null,null,null,null,null,null,null,null,null,null,null,null,null,null,null,null,null,null,null,null,null,null,null,null,null,null,null,null,null,null,null,null,null,null,null,null,null,null,null,null,null,null,null,null,null,null,null,null,null,null,null,null,null,null,null,null,null,null,null,null,null,null,null,null,null,null,null,null,null,null,null,null,null,null,null,null,null,null,null,null,null,null,null,null,null,null,null,null,null,null,null,null,{"$f":"IF(EquipMat_12=\"-\",\"N\",IF(EquipMat_12=\"\",\"N\",IF(EquipMat_12_Sel=\"\",\"N\",\"Y\")))","v":"N"},"","","","","","","","","","","","","","","","","","","","","","","","","","","","","","","","","","","","","","","","","","","","","","","","","","","","","","","","","","","","","","","","","","","","","","","","","","","","","","","","","","","","","","","","","","","","","","","","","","","","","",null,null,null,null,null,null,null,null,null,null,null,null,null,null,null,null,null,null,null,null,null,null,"","","","","","","","","","","","","","","","","","","",""]
[null,"Roadway/Compaction ","Asphalt Paving Equipment",null,{"$f":"IF(F142=\"\",0,MAX(E$4:E141)+1)","v":0},"",4,null,null,null,null,"X",null,null,null,null,null,null,null,null,null,null,null,"X",null,"X",null,null,null,null,null,null,null,null,null,null,"X",null,null,null,null,null,null,null,null,null,null,null,null,null,null,null,null,null,null,null,null,null,null,null,null,null,null,null,null,null,null,null,null,null,null,null,null,null,null,null,null,null,null,null,null,null,null,null,null,null,null,null,null,null,null,null,null,null,null,null,null,null,null,null,null,null,null,null,null,null,null,{"$f":"IF(EquipRoad_1=\"-\",\"N\",IF(EquipRoad_1=\"\",\"N\",IF(EquipRoad_1_Sel=\"\",\"N\",\"Y\")))","v":"N"},"","","","","","","","","","","","","","","","","","","","","","","","","","","","","","","","","","","","","","","","","","","","","","","","","","","","","","","","","","","","","","","","","","","","","","","","","","","","","","","","","","","","","","","","","","","","","","","","",{"$f":"IF($DD142=\"Y\",IF(CZ142=\"X\",CONCATENATE($C142,\", \"),\"\"),\"\")","v":""},{"$f":"IF($DD142=\"Y\",IF(DA142=\"X\",CONCATENATE($C142,\", \"),\"\"),\"\")","v":""},{"$f":"IF($DD142=\"Y\",IF(DB142=\"X\",CONCATENATE($C142,\", \"),\"\"),\"\")","v":""},{"$f":"IF($DD142=\"Y\",IF(DC142=\"X\",CONCATENATE($C142,\", \"),\"\"),\"\")","v":""},"",{"$f":"CONCATENATE(HA142,HA143,HA144,HA145,HA146,HA147,HA148,HA149,HA150,HA151,HA152,HA153,HA154,HA155,HA156,HA157,HA158,HA159,HA160,HA161,HA162,HA163,HA164,HA165,HA166,HA167,HA168,HA169,HA170,HA171,HA172,HA173,HA174,HA175,HA176,HA177,HA178,HA179,HA180,HA181,HA182,HA183,HA184,HA185,HA186,HA187,HA188)","v":""},null,null,null,null,null,null,null,null,null,"X","X","X",null,null,null,null,null,null,null,null,null,"","","","","","","","","","","","","","","","","","","",""]
[null,null,"Motor Grader",null,{"$f":"IF(F145=\"\",0,MAX(E$4:E144)+1)","v":0},"",2,null,null,null,null,"X",null,null,null,null,null,null,null,null,null,null,null,"X",null,null,null,null,null,null,null,null,null,null,null,null,null,null,null,null,null,null,null,null,null,null,null,null,null,null,null,null,null,null,null,null,null,null,null,null,null,null,null,null,null,null,null,null,null,null,null,null,null,null,null,null,null,null,null,null,null,null,null,null,null,null,null,null,null,null,null,null,null,null,null,null,null,null,null,null,null,null,null,null,null,null,null,{"$f":"IF(EquipRoad_4=\"-\",\"N\",IF(EquipRoad_4=\"\",\"N\",IF(EquipRoad_4_Sel=\"\",\"N\",\"Y\")))","v":"N"},"","","","","","","","","","","","","","","","","","","","","","","","","","","","","","","","","","","","","","","","","","","","","","","","","","","","","","","","","","","","","","","","","","","","","","","","","","","","","","","","","","","","","","","","","","","","","","","","","","","","","",null,null,null,null,null,null,null,null,null,null,null,"X","X",null,null,null,null,null,null,null,null,null,"","","","","","","","","","","","","","","","","","","",""]
[null,null,"-",null,{"$f":"IF(F150=\"\",0,MAX(E$4:E149)+1)","v":0},"",0,null,null,null,null,null,null,null,null,null,null,null,null,null,null,null,null,null,null,null,null,null,null,null,null,null,null,null,null,null,null,null,null,null,null,null,null,null,null,null,null,null,null,null,null,null,null,null,null,null,null,null,null,null,null,null,null,null,null,null,null,null,null,null,null,null,null,null,null,null,null,null,null,null,null,null,null,null,null,null,null,null,null,null,null,null,null,null,null,null,null,null,null,null,null,null,null,null,null,null,null,{"$f":"IF(EquipRoad_9=\"-\",\"N\",IF(EquipRoad_9=\"\",\"N\",IF(EquipRoad_9_Sel=\"\",\"N\",\"Y\")))","v":"N"},"","","","","","","","","","","","","","","","","","","","","","","","","","","","","","","","","","","","","","","","","","","","","","","","","","","","","","","","","","","","","","","","","","","","","","","","","","","","","","","","","","","","","","","","","","","","","","","","","","","","","",null,null,null,null,null,null,null,null,null,null,null,null,null,null,null,null,null,null,null,null,null,null,"","","","","","","","","","","","","","","","","","","",""]
[null,null,"-",null,{"$f":"IF(F151=\"\",0,MAX(E$4:E150)+1)","v":0},"",0,null,null,null,null,null,null,null,null,null,null,null,null,null,null,null,null,null,null,null,null,null,null,null,null,null,null,null,null,null,null,null,null,null,null,null,null,null,null,null,null,null,null,null,null,null,null,null,null,null,null,null,null,null,null,null,null,null,null,null,null,null,null,null,null,null,null,null,null,null,null,null,null,null,null,null,null,null,null,null,null,null,null,null,null,null,null,null,null,null,null,null,null,null,null,null,null,null,null,null,null,{"$f":"IF(EquipRoad_10=\"-\",\"N\",IF(EquipRoad_10=\"\",\"N\",IF(EquipRoad_10_Sel=\"\",\"N\",\"Y\")))","v":"N"},"","","","","","","","","","","","","","","","","","","","","","","","","","","","","","","","","","","","","","","","","","","","","","","","","","","","","","","","","","","","","","","","","","","","","","","","",{"$f":"IF($DD151=\"Y\",IF(CB151=\"X\",CONCATENATE($C151,\", \"),\"\"),\"\")","v":""},{"$f":"IF($DD151=\"Y\",IF(CC151=\"X\",CONCATENATE($C151,\", \"),\"\"),\"\")","v":""},{"$f":"IF($DD151=\"Y\",IF(CD151=\"X\",CONCATENATE($C151,\", \"),\"\"),\"\")","v":""},{"$f":"IF($DD151=\"Y\",IF(CE151=\"X\",CONCATENATE($C151,\", \"),\"\"),\"\")","v":""},"","","","","","","","","","","","","","","","","","","","","","","","","",null,null,null,null,null,null,null,null,null,null,null,null,null,null,null,null,null,null,null,null,null,null,"","","","","","","","","","","","","","","","","","","",""]
[null,null,"-",null,{"$f":"IF(F155=\"\",0,MAX(E$4:E154)+1)","v":0},"",0,null,null,null,null,null,null,null,null,null,null,null,null,null,null,null,null,null,null,null,null,null,null,null,null,null,null,null,null,null,null,null,null,null,null,null,null,null,null,null,null,null,null,null,null,null,null,null,null,null,null,null,null,null,null,null,null,null,null,null,null,null,null,null,null,null,null,null,null,null,null,null,null,null,null,null,null,null,null,null,null,null,null,null,null,null,null,null,null,null,null,null,null,null,null,null,null,null,null,null,null,{"$f":"IF(EquipRoad_14=\"-\",\"N\",IF(EquipRoad_14=\"\",\"N\",IF(EquipRoad_14_Sel=\"\",\"N\",\"Y\")))","v":"N"},"","","","","","","","","","","","","","","","","","","","","","","","","","","","","","","","","","","","","","","","","","","","","","","","","","","","","","","","","","","","","","","","","","","","","","","","","","","","","","","","","","","","","","","","","","","","","","","","","","","","","",null,null,null,null,null,null,null,null,null,null,null,null,null,null,null,null,null,null,null,null,null,null,"","","","","","","","","","","","","","","","","","","",""]
[null,null,"Truck - Concrete",null,{"$f":"IF(F159=\"\",0,MAX(E$4:E158)+1)","v":0},"",3,null,null,null,null,"X",null,null,"X",null,null,null,null,null,null,null,null,"X",null,null,null,null,null,null,null,null,null,null,null,null,null,null,null,null,null,null,null,null,null,null,null,null,null,null,null,null,null,null,null,null,null,null,null,null,null,null,null,null,null,null,null,null,null,null,null,null,null,null,null,null,null,null,null,null,null,null,null,null,null,null,null,null,null,null,null,null,null,null,null,null,null,null,null,null,null,null,null,null,null,null,null,{"$f":"IF(EquipTruck_3=\"-\",\"N\",IF(EquipTruck_3=\"\",\"N\",IF(EquipTruck_3_Sel=\"\",\"N\",\"Y\")))","v":"N"},"","","","","","","","","","","","","","","","","","","","","","","","","","","","","","","","","","","","","","","","","","","","","","","","","","","","","","","","","","","","","","","","","","","","","","","","","","","","","","","","","","","","","","","","","","","","","","","","","","","","","",null,null,null,null,null,null,null,null,null,null,null,"X","X",null,null,null,null,null,null,null,null,null,"","","","","","","","","","","","","","","","","","","",""]
[null,null,"Truck - Vacuum",null,{"$f":"IF(F164=\"\",0,MAX(E$4:E163)+1)","v":0},"",3,null,null,null,null,"X",null,null,"X",null,null,null,null,null,null,null,null,"X",null,null,null,null,null,null,null,null,null,null,null,null,null,null,null,null,null,null,null,null,null,null,null,null,null,null,null,null,null,null,null,null,null,null,null,null,null,null,null,null,null,null,null,null,null,null,null,null,null,null,null,null,null,null,null,null,null,null,null,null,null,null,null,null,null,null,null,null,null,null,null,null,null,null,null,null,null,null,null,null,null,null,null,{"$f":"IF(EquipTruck_8=\"-\",\"N\",IF(EquipTruck_8=\"\",\"N\",IF(EquipTruck_8_Sel=\"\",\"N\",\"Y\")))","v":"N"},"","","","","","","","","","","","","","","","","","","","","","","","","","","","","","","","","","","","","","","","","","","","","","","","","","","","","","","","","","","","","","","","","","","","","","","","","","","","","","","","","","","","","","","","","","","","","","","","","","","","","",null,null,null,null,null,null,null,null,null,null,"X","X","X",null,null,null,null,null,null,null,null,null,"","","","","","","","","","","","","","","","","","","",""]
[null,null,"Truck - Water",null,{"$f":"IF(F165=\"\",0,MAX(E$4:E164)+1)","v":0},"",2,null,null,null,null,"X",null,null,null,null,null,null,null,null,null,null,null,"X",null,null,null,null,null,null,null,null,null,null,null,null,null,null,null,null,null,null,null,null,null,null,null,null,null,null,null,null,null,null,null,null,null,null,null,null,null,null,null,null,null,null,null,null,null,null,null,null,null,null,null,null,null,null,null,null,null,null,null,null,null,null,null,null,null,null,null,null,null,null,null,null,null,null,null,null,null,null,null,null,null,null,null,{"$f":"IF(EquipTruck_9=\"-\",\"N\",IF(EquipTruck_9=\"\",\"N\",IF(EquipTruck_9_Sel=\"\",\"N\",\"Y\")))","v":"N"},"","","","","","","","","","","","","","","","","","","","","","","","","","","","","","","","","","","","","","","","","","","","","","","","","","","","","","","","","","","","","","","","","","","","","","","","","","","","","","","","","","","","","","","","","","","","","","","","","","","","","",null,null,null,null,null,null,null,null,null,null,null,"X","X",null,null,null,null,null,null,null,null,null,"","","","","","","","","","","","","","","","","","","",""]
[null,null,"-",null,{"$f":"IF(F171=\"\",0,MAX(E$4:E170)+1)","v":0},"",0,null,null,null,null,null,null,null,null,null,null,null,null,null,null,null,null,null,null,null,null,null,null,null,null,null,null,null,null,null,null,null,null,null,null,null,null,null,null,null,null,null,null,null,null,null,null,null,null,null,null,null,null,null,null,null,null,null,null,null,null,null,null,null,null,null,null,null,null,null,null,null,null,null,null,null,null,null,null,null,null,null,null,null,null,null,null,null,null,null,null,null,null,null,null,null,null,null,null,null,null,{"$f":"IF(EquipTruck_15=\"-\",\"N\",IF(EquipTruck_15=\"\",\"N\",IF(EquipTruck_15_Sel=\"\",\"N\",\"Y\")))","v":"N"},"","","","","","","","","","","","","","","","","","","","","","","","","","","","","","","","","","","","","","","","","","","","","","","","","","","","","","","","","","","","","","","","","","","","","","","","","","","","","","","","","","","","","","","","","","","","","","","","","","","","","",null,null,null,null,null,null,null,null,null,null,null,null,null,null,null,null,null,null,null,null,null,null,"","","","","","","","","","","","","","","","","","","",""]
[null,null,"-",null,{"$f":"IF(F174=\"\",0,MAX(E$4:E173)+1)","v":0},"",0,null,null,null,null,null,null,null,null,null,null,null,null,null,null,null,null,null,null,null,null,null,null,null,null,null,null,null,null,null,null,null,null,null,null,null,null,null,null,null,null,null,null,null,null,null,null,null,null,null,null,null,null,null,null,null,null,null,null,null,null,null,null,null,null,null,null,null,null,null,null,null,null,null,null,null,null,null,null,null,null,null,null,null,null,null,null,null,null,null,null,null,null,null,null,null,null,null,null,null,null,{"$f":"IF(EquipTruck_18=\"-\",\"N\",IF(EquipTruck_18=\"\",\"N\",IF(EquipTruck_18_Sel=\"\",\"N\",\"Y\")))","v":"N"},"","","","","","","","","","","","","","","","","","","","","","","","","","","","","","","","","","","","","","","","","","","","","","","","","","","","","","","","","","","","","","","","","","","","","","","","","","","","","","","","","","","","","","","","","","","","","","","","","","","","","",null,null,null,null,null,null,null,null,null,null,null,null,null,null,null,null,null,null,null,null,null,null,"","","","","","","","","","","","","","","","","","","",""]
[null,"Underground/Mining ","Drill Jumbo",null,{"$f":"IF(F176=\"\",0,MAX(E$4:E175)+1)","v":0},"",5,null,null,null,null,"X","X",null,"X","X",null,null,null,null,null,null,null,"X",null,null,null,null,null,null,null,null,null,null,null,null,null,null,null,null,null,null,null,null,null,null,null,null,null,null,null,null,null,null,null,null,null,null,null,null,null,null,null,null,null,null,null,null,null,null,null,null,null,null,null,null,null,null,null,null,null,null,null,null,null,null,null,null,null,null,null,null,null,null,null,null,null,null,null,null,null,null,null,null,null,null,null,{"$f":"IF(EquipUG_1=\"-\",\"N\",IF(EquipUG_1=\"\",\"N\",IF(EquipUG_1_Sel=\"\",\"N\",\"Y\")))","v":"N"},"","","","","","","","","","","","","","","","","","","","","","","","","","","","","","","","","","","","","","","","","","","","","","","","","","","","","","","","","","","","","","","","","","","","","","","","","","","","","","","","","","","","","","","","","","","","","","","","","","","","","",null,null,null,null,null,null,null,null,null,null,"X",null,null,null,null,null,null,null,null,null,null,null,"","","","","","","","","","","","","","","","","","","",""]
[null,null,"-",null,{"$f":"IF(F179=\"\",0,MAX(E$4:E178)+1)","v":0},"",0,null,null,null,null,null,null,null,null,null,null,null,null,null,null,null,null,null,null,null,null,null,null,null,null,null,null,null,null,null,null,null,null,null,null,null,null,null,null,null,null,null,null,null,null,null,null,null,null,null,null,null,null,null,null,null,null,null,null,null,null,null,null,null,null,null,null,null,null,null,null,null,null,null,null,null,null,null,null,null,null,null,null,null,null,null,null,null,null,null,null,null,null,null,null,null,null,null,null,null,null,{"$f":"IF(EquipUG_4=\"-\",\"N\",IF(EquipUG_4=\"\",\"N\",IF(EquipUG_4_Sel=\"\",\"N\",\"Y\")))","v":"N"},"","","","","","","","","","","","","","","","","","","","","","","","","","","","","","","","","","","","","","","","","","","","","","","","","","","","","","","","","","","","","","","","","","","","","","","","","","","","","","","","","","","","","","","","","","","","","","","","","","","","","",null,null,null,null,null,null,null,null,null,null,null,null,null,null,null,null,null,null,null,null,null,null,"","","","","","","","","","","","","","","","","","","",""]
["Equipment",null,"-",null,{"$f":"IF(F184=\"\",0,MAX(E$4:E183)+1)","v":0},"",{"$f":"COUNTIF(H184:HH184,\"x\")","v":0},null,null,null,null,null,null,null,null,null,null,null,null,null,null,null,null,null,null,null,null,null,null,null,null,null,null,null,null,null,null,null,null,null,null,null,null,null,null,null,null,null,null,null,null,null,null,null,null,null,null,null,null,null,null,null,null,null,null,null,null,null,null,null,null,null,null,null,null,null,null,null,null,null,null,null,null,null,null,null,null,null,null,null,null,null,null,null,null,null,null,null,null,null,null,null,null,null,null,null,null,{"$f":"IF(EquipUG_9=\"-\",\"N\",IF(EquipUG_9=\"\",\"N\",IF(EquipUG_9_Sel=\"\",\"N\",\"Y\")))","v":"N"},"","","","","","","","","","","","","","","","","","","","","","","","","","","","",{"$f":"IF($DD184=\"Y\",IF(AJ184=\"X\",CONCATENATE($C184,\", \"),\"\"),\"\")","v":""},{"$f":"IF($DD184=\"Y\",IF(AK184=\"X\",CONCATENATE($C184,\", \"),\"\"),\"\")","v":""},{"$f":"IF($DD184=\"Y\",IF(AL184=\"X\",CONCATENATE($C184,\", \"),\"\"),\"\")","v":""},{"$f":"IF($DD184=\"Y\",IF(AM184=\"X\",CONCATENATE($C184,\", \"),\"\"),\"\")","v":""},{"$f":"IF($DD184=\"Y\",IF(AN184=\"X\",CONCATENATE($C184,\", \"),\"\"),\"\")","v":""},{"$f":"IF($DD184=\"Y\",IF(AO184=\"X\",CONCATENATE($C184,\", \"),\"\"),\"\")","v":""},{"$f":"IF($DD184=\"Y\",IF(AP184=\"X\",CONCATENATE($C184,\", \"),\"\"),\"\")","v":""},"","","","","","","","","","","","","","","","","","","","","","","","","","","","","","","","","","","","","",{"$f":"IF($DD184=\"Y\",IF(CB184=\"X\",CONCATENATE($C184,\", \"),\"\"),\"\")","v":""},{"$f":"IF($DD184=\"Y\",IF(CC184=\"X\",CONCATENATE($C184,\", \"),\"\"),\"\")","v":""},{"$f":"IF($DD184=\"Y\",IF(CD184=\"X\",CONCATENATE($C184,\", \"),\"\"),\"\")","v":""},{"$f":"IF($DD184=\"Y\",IF(CE184=\"X\",CONCATENATE($C184,\", \"),\"\"),\"\")","v":""},"","","","","","","","","","","","","","","","","","","","","","","","","",null,null,null,null,null,null,null,null,null,null,null,null,null,null,null,null,null,null,null,null,null,null,"","","","","","","","","","","","","","","","","","","",""]
[null,null,"-",null,{"$f":"IF(F188=\"\",0,MAX(E$4:E187)+1)","v":0},"",0,null,null,null,null,null,null,null,null,null,null,null,null,null,null,null,null,null,null,null,null,null,null,null,null,null,null,null,null,null,null,null,null,null,null,null,null,null,null,null,null,null,null,null,null,null,null,null,null,null,null,null,null,null,null,null,null,null,null,null,null,null,null,null,null,null,null,null,null,null,null,null,null,null,null,null,null,null,null,null,null,null,null,null,null,null,null,null,null,null,null,null,null,null,null,null,null,null,null,null,null,{"$f":"IF(EquipUG_13=\"-\",\"N\",IF(EquipUG_13=\"\",\"N\",IF(EquipUG_13_Sel=\"\",\"N\",\"Y\")))","v":"N"},"","","","","","","","","","","","","","","","","","","","","","","","","","","","","","","","","","","","","","","","","","","","","","","","","","","","","","","","","","","","","","","","","","","","","","","","","","","","","","","","","","","","","","","","","","","","","","","","","","","","","",null,null,null,null,null,null,null,null,null,null,null,null,null,null,null,null,null,null,null,null,null,null,"","","","","","","","","","","","","","","","","","","",""]
[null,"Other","Floor Scraper / Terminator",null,{"$f":"IF(F193=\"\",0,MAX(E$4:E192)+1)","v":0},"",4,null,"X",null,null,null,"X",null,"X",null,null,null,null,null,null,null,null,null,null,null,null,null,null,null,null,null,null,null,"X",null,null,null,null,null,null,null,null,null,null,null,null,null,null,null,null,null,null,null,null,null,null,null,null,null,null,null,null,null,null,null,null,null,null,null,null,null,null,null,null,null,null,null,null,null,null,null,null,null,null,null,null,null,null,null,null,null,null,null,null,null,null,null,null,null,null,null,null,null,null,null,null,{"$f":"IF(EquipOth_5=\"-\",\"N\",IF(EquipOth_5=\"\",\"N\",IF(EquipOth_5_Sel=\"\",\"N\",\"Y\")))","v":"N"},"","","","","","","","","","","","","","","","","","","","","","","","","","","","","","","","","","","","","","","","","","","","","","","","","","","","","","","","","","","","","","","","","","","","","","","","","","","","","","","","","","","","","","","","","","","","","","","","","","","","","",null,null,null,null,null,null,null,null,"X",null,null,null,null,null,null,null,null,null,null,null,null,null,"","","","","","","","","","","","","","","","","","","",""]
["Equipment",null,"Pile Driver",null,{"$f":"IF(F196=\"\",0,MAX(E$4:E195)+1)","v":0},"",5,null,null,null,null,"X",null,"X","X",null,null,"X",null,null,null,null,null,"X",null,null,null,null,null,null,null,null,null,null,null,null,null,null,null,null,null,null,null,null,null,null,null,null,null,null,null,null,null,null,null,null,null,null,null,null,null,null,null,null,null,null,null,null,null,null,null,null,null,null,null,null,null,null,null,null,null,null,null,null,null,null,null,null,null,null,null,null,null,null,null,null,null,null,null,null,null,null,null,null,null,null,null,{"$f":"IF(EquipOth_8=\"-\",\"N\",IF(EquipOth_8=\"\",\"N\",IF(EquipOth_8_Sel=\"\",\"N\",\"Y\")))","v":"N"},"","","","","","","","","","","","","","","","","","","","","","","","","","","","","","","","","","","","","","","","","","","","","","","","","","","","","","","","","","","","","","","","","","","","","","","","","","","","","","","","","","","","","","","","","","","","","","","","","","","","","",null,null,null,null,null,null,null,null,null,null,"X",null,"X",null,null,null,null,null,null,null,null,null,"","","","","","","","","","","","","","","","","","","",""]
[null,null,"Shot Blaster",null,{"$f":"IF(F198=\"\",0,MAX(E$4:E197)+1)","v":0},"",3,null,"X",null,null,null,"X",null,"X",null,null,null,null,null,null,null,null,null,null,null,null,null,null,null,null,null,null,null,null,null,null,null,null,null,null,null,null,null,null,null,null,null,null,null,null,null,null,null,null,null,null,null,null,null,null,null,null,null,null,null,null,null,null,null,null,null,null,null,null,null,null,null,null,null,null,null,null,null,null,null,null,null,null,null,null,null,null,null,null,null,null,null,null,null,null,null,null,null,null,null,null,{"$f":"IF(EquipOth_10=\"-\",\"N\",IF(EquipOth_10=\"\",\"N\",IF(EquipOth_10_Sel=\"\",\"N\",\"Y\")))","v":"N"},"","","","","","","","","","","","","","","","","","","","","","","","","","","","","","","","","","","","","","","","","","","","","","","","","","","","","","","","","","","","","","","","","","","","","","","","","","","","","","","","","","","","","","","","","","","","","","","","","","","","","",null,null,null,null,null,null,null,null,"X",null,null,"X",null,null,null,null,null,null,null,null,null,null,"","","","","","","","","","","","","","","","","","","",""]
[null,"Other","-",null,{"$f":"IF(F201=\"\",0,MAX(E$4:E200)+1)","v":0},"",0,null,null,null,null,null,null,null,null,null,null,null,null,null,null,null,null,null,null,null,null,null,null,null,null,null,null,null,null,null,null,null,null,null,null,null,null,null,null,null,null,null,null,null,null,null,null,null,null,null,null,null,null,null,null,null,null,null,null,null,null,null,null,null,null,null,null,null,null,null,null,null,null,null,null,null,null,null,null,null,null,null,null,null,null,null,null,null,null,null,null,null,null,null,null,null,null,null,null,null,null,{"$f":"IF(EquipOth_13=\"-\",\"N\",IF(EquipOth_13=\"\",\"N\",IF(EquipOth_13_Sel=\"\",\"N\",\"Y\")))","v":"N"},"","","","","","","","","","","","","","","","","","","","","","","","","","","","","","","","","","","",{"$f":"IF($DD201=\"Y\",IF(AQ201=\"X\",CONCATENATE($C201,\", \"),\"\"),\"\")","v":""},{"$f":"IF($DD201=\"Y\",IF(AR201=\"X\",CONCATENATE($C201,\", \"),\"\"),\"\")","v":""},{"$f":"IF($DD201=\"Y\",IF(AS201=\"X\",CONCATENATE($C201,\", \"),\"\"),\"\")","v":""},{"$f":"IF($DD201=\"Y\",IF(AT201=\"X\",CONCATENATE($C201,\", \"),\"\"),\"\")","v":""},{"$f":"IF($DD201=\"Y\",IF(AU201=\"X\",CONCATENATE($C201,\", \"),\"\"),\"\")","v":""},{"$f":"IF($DD201=\"Y\",IF(AV201=\"X\",CONCATENATE($C201,\", \"),\"\"),\"\")","v":""},"","","","","","","","","","","","","","","","","","","","","","","","","",{"$f":"IF($DD201=\"Y\",IF(BV201=\"X\",CONCATENATE($C201,\", \"),\"\"),\"\")","v":""},{"$f":"IF($DD201=\"Y\",IF(BW201=\"X\",CONCATENATE($C201,\", \"),\"\"),\"\")","v":""},{"$f":"IF($DD201=\"Y\",IF(BX201=\"X\",CONCATENATE($C201,\", \"),\"\"),\"\")","v":""},{"$f":"IF($DD201=\"Y\",IF(BY201=\"X\",CONCATENATE($C201,\", \"),\"\"),\"\")","v":""},{"$f":"IF($DD201=\"Y\",IF(BZ201=\"X\",CONCATENATE($C201,\", \"),\"\"),\"\")","v":""},"","","","","","","","","","","","","","","",{"$f":"IF($DD201=\"Y\",IF(CP201=\"X\",CONCATENATE($C201,\", \"),\"\"),\"\")","v":""},{"$f":"IF($DD201=\"Y\",IF(CQ201=\"X\",CONCATENATE($C201,\", \"),\"\"),\"\")","v":""},{"$f":"IF($DD201=\"Y\",IF(CR201=\"X\",CONCATENATE($C201,\", \"),\"\"),\"\")","v":""},{"$f":"IF($DD201=\"Y\",IF(CS201=\"X\",CONCATENATE($C201,\", \"),\"\"),\"\")","v":""},{"$f":"IF($DD201=\"Y\",IF(CT201=\"X\",CONCATENATE($C201,\", \"),\"\"),\"\")","v":""},{"$f":"IF($DD201=\"Y\",IF(CU201=\"X\",CONCATENATE($C201,\", \"),\"\"),\"\")","v":""},{"$f":"IF($DD201=\"Y\",IF(CV201=\"X\",CONCATENATE($C201,\", \"),\"\"),\"\")","v":""},{"$f":"IF($DD201=\"Y\",IF(CW201=\"X\",CONCATENATE($C201,\", \"),\"\"),\"\")","v":""},{"$f":"IF($DD201=\"Y\",IF(CX201=\"X\",CONCATENATE($C201,\", \"),\"\"),\"\")","v":""},{"$f":"IF($DD201=\"Y\",IF(CY201=\"X\",CONCATENATE($C201,\", \"),\"\"),\"\")","v":""},{"$f":"IF($DD201=\"Y\",IF(CZ201=\"X\",CONCATENATE($C201,\", \"),\"\"),\"\")","v":""},{"$f":"IF($DD201=\"Y\",IF(DA201=\"X\",CONCATENATE($C201,\", \"),\"\"),\"\")","v":""},{"$f":"IF($DD201=\"Y\",IF(DB201=\"X\",CONCATENATE($C201,\", \"),\"\"),\"\")","v":""},{"$f":"IF($DD201=\"Y\",IF(DC201=\"X\",CONCATENATE($C201,\", \"),\"\"),\"\")","v":""},{"$f":"IF(DD201=\"Y\",CONCATENATE(C201,\", \"),\"\")","v":""},null,null,null,null,null,null,null,null,null,null,null,null,null,null,null,null,null,null,null,null,null,null,"","","","","","","","","","","","","","","","","","","",""]
[null,null,"-",null,{"$f":"IF(F207=\"\",0,MAX(E$4:E206)+1)","v":0},"",0,null,null,null,null,null,null,null,null,null,null,null,null,null,null,null,null,null,null,null,null,null,null,null,null,null,null,null,null,null,null,null,null,null,null,null,null,null,null,null,null,null,null,null,null,null,null,null,null,null,null,null,null,null,null,null,null,null,null,null,null,null,null,null,null,null,null,null,null,null,null,null,null,null,null,null,null,null,null,null,null,null,null,null,null,null,null,null,null,null,null,null,null,null,null,null,null,null,null,null,null,{"$f":"IF(EquipOth_19=\"-\",\"N\",IF(EquipOth_19=\"\",\"N\",IF(EquipOth_19_Sel=\"\",\"N\",\"Y\")))","v":"N"},"","","","","","","","","","","","","","","","","","","","","","","","","","","","","","","","","","","","","","","","","","","","","","","","","","","","","","","","","","","","","","","","","","","","","","","","","","","","","","","",{"$f":"IF($DD207=\"Y\",IF(CI207=\"X\",CONCATENATE($C207,\", \"),\"\"),\"\")","v":""},{"$f":"IF($DD207=\"Y\",IF(CJ207=\"X\",CONCATENATE($C207,\", \"),\"\"),\"\")","v":""},{"$f":"IF($DD207=\"Y\",IF(CK207=\"X\",CONCATENATE($C207,\", \"),\"\"),\"\")","v":""},{"$f":"IF($DD207=\"Y\",IF(CL207=\"X\",CONCATENATE($C207,\", \"),\"\"),\"\")","v":""},{"$f":"IF($DD207=\"Y\",IF(CM207=\"X\",CONCATENATE($C207,\", \"),\"\"),\"\")","v":""},{"$f":"IF($DD207=\"Y\",IF(CN207=\"X\",CONCATENATE($C207,\", \"),\"\"),\"\")","v":""},{"$f":"IF($DD207=\"Y\",IF(CO207=\"X\",CONCATENATE($C207,\", \"),\"\"),\"\")","v":""},"","","","","","","","","","","","","","","",null,null,null,null,null,null,null,null,null,null,null,null,null,null,null,null,null,null,null,null,null,null,"","","","","","","","","","","","","","","","","","","",""]
[null,null,"-",null,{"$f":"IF(F208=\"\",0,MAX(E$4:E207)+1)","v":0},"",0,null,null,null,null,null,null,null,null,null,null,null,null,null,null,null,null,null,null,null,null,null,null,null,null,null,null,null,null,null,null,null,null,null,null,null,null,null,null,null,null,null,null,null,null,null,null,null,null,null,null,null,null,null,null,null,null,null,null,null,null,null,null,null,null,null,null,null,null,null,null,null,null,null,null,null,null,null,null,null,null,null,null,null,null,null,null,null,null,null,null,null,null,null,null,null,null,null,null,null,null,{"$f":"IF(EquipOth_20=\"-\",\"N\",IF(EquipOth_20=\"\",\"N\",IF(EquipOth_20_Sel=\"\",\"N\",\"Y\")))","v":"N"},"","","","","","","","","","","","","","","","","","","","","","","","","","","","","","","","","","","","","","","","","","","","","","","","","","","","","","","","","","","","","","","","","","","","","","","","","","","","","","","","","","","","","","","","","","","","","","","","","","","","","",null,null,null,null,null,null,null,null,null,null,null,null,null,null,null,null,null,null,null,null,null,null,"","","","","","","","","","","","","","","","","","","",""]
[null,"Other","-",null,{"$f":"IF(F213=\"\",0,MAX(E$4:E212)+1)","v":0},"",0,null,null,null,null,null,null,null,null,null,null,null,null,null,null,null,null,null,null,null,null,null,null,null,null,null,null,null,null,null,null,null,null,null,null,null,null,null,null,null,null,null,null,null,null,null,null,null,null,null,null,null,null,null,null,null,null,null,null,null,null,null,null,null,null,null,null,null,null,null,null,null,null,null,null,null,null,null,null,null,null,null,null,null,null,null,null,null,null,null,null,null,null,null,null,null,null,null,null,null,null,{"$f":"IF(EquipOth_25=\"-\",\"N\",IF(EquipOth_25=\"\",\"N\",IF(EquipOth_25_Sel=\"\",\"N\",\"Y\")))","v":"N"},"","","","","","","","","","","","","","","","","","","","","","","","","","","","","","","","","","","","","","","","","","","","","","","","","","","","","","","","","","","","","","","","","","","","","","","","","","","","","","","","","","","","","","","","","","","","","","","","","","",{"$f":"IF($DD213=\"Y\",IF(DB213=\"X\",CONCATENATE($C213,\", \"),\"\"),\"\")","v":""},{"$f":"IF($DD213=\"Y\",IF(DC213=\"X\",CONCATENATE($C213,\", \"),\"\"),\"\")","v":""},"",null,null,null,null,null,null,null,null,null,null,null,null,null,null,null,null,null,null,null,null,null,null,"","","","","","","","","","","","","","","","","","","",""]
[null,null,"-",null,{"$f":"IF(F217=\"\",0,MAX(E$4:E216)+1)","v":0},"",0,null,null,null,null,null,null,null,null,null,null,null,null,null,null,null,null,null,null,null,null,null,null,null,null,null,null,null,null,null,null,null,null,null,null,null,null,null,null,null,null,null,null,null,null,null,null,null,null,null,null,null,null,null,null,null,null,null,null,null,null,null,null,null,null,null,null,null,null,null,null,null,null,null,null,null,null,null,null,null,null,null,null,null,null,null,null,null,null,null,null,null,null,null,null,null,null,null,null,null,null,{"$f":"IF(EquipOth_29=\"-\",\"N\",IF(EquipOth_29=\"\",\"N\",IF(EquipOth_29_Sel=\"\",\"N\",\"Y\")))","v":"N"},"","","","","","","","","","","","","","","","","","","","","","","","","","","","","","","","","","","","","","","","","","","","","","","","","","","","","","","","","","","","","","","","","","","","","","","","","","","","","","","","","","","","","","","","","","","","","","","","","","","","","",null,null,null,null,null,null,null,null,null,null,null,null,null,null,null,null,null,null,null,null,null,null,"","","","","","","","","","","","","","","","","","","",""]
[null,null,"Banding Machine",null,{"$f":"IF(F220=\"\",0,MAX(E$4:E219)+1)","v":0},"",2,null,null,null,"X","X",null,null,null,null,null,null,null,null,null,null,null,null,null,null,null,null,null,null,null,null,null,null,null,null,null,null,null,null,null,null,null,null,null,null,null,null,null,null,null,null,null,null,null,null,null,null,null,null,null,null,null,null,null,null,null,null,null,null,null,null,null,null,null,null,null,null,null,null,null,null,null,null,null,null,null,null,null,null,null,null,null,null,null,null,null,null,null,null,null,null,null,null,null,null,null,{"$f":"IF(Tools_2=\"-\",\"N\",IF(Tools_2=\"\",\"N\",IF(Tools_2_Sel=\"\",\"N\",\"Y\")))","v":"N"},"","","","","","","","","","","","","","","","","","","","","","","","","","","","","","","","","","","","","","","","","","","","","","","","","","","","","","","","","","","","","","","","","","","","","","","","","","","","","","","","","","","","","","","","","","","","","","","","","","","","","",null,null,null,null,null,null,null,null,null,null,null,null,null,null,null,null,null,null,null,null,null,null,"","","","","","","","","","","","","","","","","","","","",null,"End of Links Tab"]
[null,null,"Breaker - 60lb",null,{"$f":"IF(F222=\"\",0,MAX(E$4:E221)+1)","v":0},"",5,null,null,null,"X",null,"X",null,"X","X",null,null,null,null,null,null,null,null,null,null,"X",null,null,null,null,null,null,null,null,null,null,null,null,null,null,null,null,null,null,null,null,null,null,null,null,null,null,null,null,null,null,null,null,null,null,null,null,null,null,null,null,null,null,null,null,null,null,null,null,null,null,null,null,null,null,null,null,null,null,null,null,null,null,null,null,null,null,null,null,null,null,null,null,null,null,null,null,null,null,null,null,{"$f":"IF(Tools_4=\"-\",\"N\",IF(Tools_4=\"\",\"N\",IF(Tools_4_Sel=\"\",\"N\",\"Y\")))","v":"N"},"","","","","","","","","","","","","","","","","","","","","","","","","","","","","","","","","","","","","","","","","","","","","","","","","","","","","","","","","","","","","","","","","","","","","","","","","","","","","","","","","","","","","","","","","","","","","","","","","","","","","",null,null,null,null,null,null,null,null,null,null,"X",null,null,null,null,null,null,null,null,null,null,null,"","","","","","","","","","","","","","","","","","","",""]
[null,null,"Chainsaw",null,{"$f":"IF(F228=\"\",0,MAX(E$4:E227)+1)","v":0},"",5,null,null,null,"X",null,"X",null,"X",null,null,null,null,null,null,null,null,null,null,null,null,null,null,null,null,null,null,null,null,null,null,null,null,null,null,null,null,null,null,null,null,null,null,null,null,null,null,null,null,null,null,null,null,null,null,null,null,null,null,null,null,null,null,null,null,null,null,null,null,null,null,null,null,null,null,null,null,null,null,null,null,null,null,null,null,null,null,null,null,null,null,null,null,null,null,null,null,null,null,null,null,{"$f":"IF(Tools_10=\"-\",\"N\",IF(Tools_10=\"\",\"N\",IF(Tools_10_Sel=\"\",\"N\",\"Y\")))","v":"N"},"","","","","","","","","","","","","","","","","","","","","","","","","","","","","","","","","","","","","","","","","","","","","","","","","","","","","","","","","","","","","","","","","","","","","","","","","","","","","","","","","","","","","","","","","","","","","","","","","","","","","",null,null,"X",null,null,null,"X",null,null,null,"X",null,"X",null,null,null,null,null,null,null,null,null,"","","","","","","","","","","","","","","","","","","",""]
[null,null,"Chop Saw",null,{"$f":"IF(F231=\"\",0,MAX(E$4:E230)+1)","v":0},"",1,null,null,null,"X",null,null,null,null,null,null,null,null,null,null,null,null,null,null,null,null,null,null,null,null,null,null,null,null,null,null,null,null,null,null,null,null,null,null,null,null,null,null,null,null,null,null,null,null,null,null,null,null,null,null,null,null,null,null,null,null,null,null,null,null,null,null,null,null,null,null,null,null,null,null,null,null,null,null,null,null,null,null,null,null,null,null,null,null,null,null,null,null,null,null,null,null,null,null,null,null,{"$f":"IF(Tools_13=\"-\",\"N\",IF(Tools_13=\"\",\"N\",IF(Tools_13_Sel=\"\",\"N\",\"Y\")))","v":"N"},"","","","","","","","","","","","","","","","","","","","","","","","","","","","","","","","","","","","","","","","","","","","","","","","","","","","","","","","","","","","","","","","","","","","","","","","","","","","","","","","","","","","","","","","","","","","","","","","","","","","","",null,null,null,null,null,null,null,null,null,null,"X",null,"X",null,null,null,null,null,null,null,null,null,"","","","","","","","","","","","","","","","","","","",""]
[null,null,"Concrete Saw",null,{"$f":"IF(F236=\"\",0,MAX(E$4:E235)+1)","v":0},"",3,null,null,null,"X",null,null,null,"X","X",null,null,null,null,null,null,null,null,null,null,null,null,null,null,null,null,null,null,null,null,null,null,null,null,null,null,null,null,null,null,null,null,null,null,null,null,null,null,null,null,null,null,null,null,null,null,null,null,null,null,null,null,null,null,null,null,null,null,null,null,null,null,null,null,null,null,null,null,null,null,null,null,null,null,null,null,null,null,null,null,null,null,null,null,null,null,null,null,null,null,null,{"$f":"IF(Tools_18=\"-\",\"N\",IF(Tools_18=\"\",\"N\",IF(Tools_18_Sel=\"\",\"N\",\"Y\")))","v":"N"},"","","","","","","","","","","","","","","","","","","","","","","","","","","","","","","","","","","","","","","","","","","","","","","","","","","","","","","","","","","","","","","","","","","","","","","","","","","","","","","","","","","","","","","","","","","","","","","","","","","","","",null,null,null,null,null,null,null,null,"X",null,"X","X","X",null,null,null,null,null,null,null,null,null,"","","","","","","","","","","","","","","","","","","",""]
[null,null,"Concrete Vibrator - Stick/Pencil",null,{"$f":"IF(F237=\"\",0,MAX(E$4:E236)+1)","v":0},"",3,null,null,null,null,null,null,null,"X",null,null,"X",null,null,null,null,null,null,null,null,null,null,null,null,null,null,null,null,null,null,"X",null,null,null,null,null,null,null,null,null,null,null,null,null,null,null,null,null,null,null,null,null,null,null,null,null,null,null,null,null,null,null,null,null,null,null,null,null,null,null,null,null,null,null,null,null,null,null,null,null,null,null,null,null,null,null,null,null,null,null,null,null,null,null,null,null,null,null,null,null,null,{"$f":"IF(Tools_19=\"-\",\"N\",IF(Tools_19=\"\",\"N\",IF(Tools_19_Sel=\"\",\"N\",\"Y\")))","v":"N"},"","","","","","","","","","","","","","","","","","","","","","","","","","","","","","","","","","","","","","","","","","","","","","","","","","","","","","","","","","","","","","","","","","","","","","","","","","","","","","","","","","","","","","","","","","","","","","","","","","","","","",null,null,null,null,null,null,null,null,null,null,"X",null,null,null,null,null,null,null,null,null,null,null,"","","","","","","","","","","","","","","","","","","",""]
[null,null,"Drill - Air",null,{"$f":"IF(F241=\"\",0,MAX(E$4:E240)+1)","v":0},"",3,null,null,null,"X",null,null,null,"X",null,null,null,null,null,null,null,null,null,null,null,"X",null,null,null,null,null,null,null,null,null,null,null,null,null,null,null,null,null,null,null,null,null,null,null,null,null,null,null,null,null,null,null,null,null,null,null,null,null,null,null,null,null,null,null,null,null,null,null,null,null,null,null,null,null,null,null,null,null,null,null,null,null,null,null,null,null,null,null,null,null,null,null,null,null,null,null,null,null,null,null,null,{"$f":"IF(Tools_23=\"-\",\"N\",IF(Tools_23=\"\",\"N\",IF(Tools_23_Sel=\"\",\"N\",\"Y\")))","v":"N"},"","","","","","","","","","","","","","","","","","","","","","","","","","","","","","","","","","","","","","","","","","","","","","","","","","","","","","","","","","","","","","","","","","","","","","","","","","","","","","","","","","","","","","","","","","","","","","","","","","","","","",null,null,null,null,null,null,null,null,null,null,"X",null,null,null,null,null,null,null,null,null,null,null,"","","","","","","","","","","","","","","","","","","",""]
["Tools",null,"Fire Extinguisher",null,{"$f":"IF(F245=\"\",0,MAX(E$4:E244)+1)","v":0},"",1,null,null,null,null,null,null,null,null,null,null,null,null,null,"X",null,null,null,null,null,null,null,null,null,null,null,null,null,null,null,null,null,null,null,null,null,null,null,null,null,null,null,null,null,null,null,null,null,null,null,null,null,null,null,null,null,null,null,null,null,null,null,null,null,null,null,null,null,null,null,null,null,null,null,null,null,null,null,null,null,null,null,null,null,null,null,null,null,null,null,null,null,null,null,null,null,null,null,null,null,null,{"$f":"IF(Tools_27=\"-\",\"N\",IF(Tools_27=\"\",\"N\",IF(Tools_27_Sel=\"\",\"N\",\"Y\")))","v":"N"},"","","","","","","","","","","","","","","","","","","","","","","","","","","","","","","","","","","","","","","","","","","","","","","","","","","","","","","","","","","","","","","","","","","","","","","","","","","","","","","","","","","","","","","","","","","","","","","","","","","","","",null,null,null,null,null,null,null,null,null,null,null,null,null,null,null,null,null,null,null,null,null,null,"","","","","","","","","","","","","","","","","","","",""]
["Tools",null,"Georgia Buggy",null,{"$f":"IF(F250=\"\",0,MAX(E$4:E249)+1)","v":0},"",1,null,null,null,"X",null,null,null,null,null,null,null,null,null,null,null,null,null,null,null,null,null,null,null,null,null,null,null,null,null,null,null,null,null,null,null,null,null,null,null,null,null,null,null,null,null,null,null,null,null,null,null,null,null,null,null,null,null,null,null,null,null,null,null,null,null,null,null,null,null,null,null,null,null,null,null,null,null,null,null,null,null,null,null,null,null,null,null,null,null,null,null,null,null,null,null,null,null,null,null,null,{"$f":"IF(Tools_32=\"-\",\"N\",IF(Tools_32=\"\",\"N\",IF(Tools_32_Sel=\"\",\"N\",\"Y\")))","v":"N"},"","","","","","","","","","","","","","","","","","","","","","","","","","","","","","","","","","","","","","","","","","","","","","","","","","","","","","","","","","","","","","","","","","","","","","","","","","","","","","","","","","","","","","","","","","","","","","","","","","","","","",null,null,null,null,null,null,null,null,"X",null,null,null,"X",null,null,null,null,null,null,null,null,null,"","","","","","","","","","","","","","","","","","","","",null,"End of Links Tab"]
[null,null,"GFCI",null,{"$f":"IF(F251=\"\",0,MAX(E$4:E250)+1)","v":0},"",1,null,null,null,null,null,null,null,null,null,null,"X",null,null,null,null,null,null,null,null,null,null,null,null,null,null,null,null,null,null,null,null,null,null,null,null,null,null,null,null,null,null,null,null,null,null,null,null,null,null,null,null,null,null,null,null,null,null,null,null,null,null,null,null,null,null,null,null,null,null,null,null,null,null,null,null,null,null,null,null,null,null,null,null,null,null,null,null,null,null,null,null,null,null,null,null,null,null,null,null,null,{"$f":"IF(Tools_33=\"-\",\"N\",IF(Tools_33=\"\",\"N\",IF(Tools_33_Sel=\"\",\"N\",\"Y\")))","v":"N"},"","","","","","","","","","","","","","","","","","","","","","","","","","","","","","","","","","","","","","","","","","","","","","","","","","","","","","","","","","","","","","","","","","","","","","","","","","","","","","","","","","","","","","","","","","","","","","","","","","","","","",null,null,null,null,null,null,null,null,null,null,null,null,null,null,null,null,null,null,null,null,null,null,"","","","","","","","","","","","","","","","","","","",""]
[null,null,"Hand Saw - Wood",null,{"$f":"IF(F257=\"\",0,MAX(E$4:E256)+1)","v":0},"",1,null,null,null,"X",null,null,null,null,null,null,null,null,null,null,null,null,null,null,null,null,null,null,null,null,null,null,null,null,null,null,null,null,null,null,null,null,null,null,null,null,null,null,null,null,null,null,null,null,null,null,null,null,null,null,null,null,null,null,null,null,null,null,null,null,null,null,null,null,null,null,null,null,null,null,null,null,null,null,null,null,null,null,null,null,null,null,null,null,null,null,null,null,null,null,null,null,null,null,null,null,{"$f":"IF(Tools_39=\"-\",\"N\",IF(Tools_39=\"\",\"N\",IF(Tools_39_Sel=\"\",\"N\",\"Y\")))","v":"N"},"","","","","","","","","","","","","","","","","","","","","","","","","","","","","","","","","","","","","","","","","","","","","","","","","","","","","","","","","","","","","","","","","","","","","","","","","","","","","","","","","","","","","","","","","","","","","","","","","","","","","",null,null,null,null,null,null,null,null,null,null,null,null,null,null,null,null,null,null,null,null,null,null,"","","","","","","","","","","","","","","","","","","",""]
["Tools",null,"Hoe Rake",null,{"$f":"IF(F260=\"\",0,MAX(E$4:E259)+1)","v":0},"",0,null,null,null,null,null,null,null,null,null,null,null,null,null,null,null,null,null,null,null,null,null,null,null,null,null,null,null,null,null,null,null,null,null,null,null,null,null,null,null,null,null,null,null,null,null,null,null,null,null,null,null,null,null,null,null,null,null,null,null,null,null,null,null,null,null,null,null,null,null,null,null,null,null,null,null,null,null,null,null,null,null,null,null,null,null,null,null,null,null,null,null,null,null,null,null,null,null,null,null,null,{"$f":"IF(Tools_42=\"-\",\"N\",IF(Tools_42=\"\",\"N\",IF(Tools_42_Sel=\"\",\"N\",\"Y\")))","v":"N"},"","","","","","","","","","","","","","","","","","","","","","","","","","","","","","","","","","","","","","","","","","","","","","","","","","","","","","","","","","","","","","","","","","","","","","","","","","","","","","","","","","","","","","","","","","","","","","","","","","","","","",null,null,null,null,null,null,null,null,null,null,null,null,null,null,null,null,null,null,null,null,null,null,"","","","","","","","","","","","","","","","","","","",""]
[null,null,"Hose - Manifold",null,{"$f":"IF(F262=\"\",0,MAX(E$4:E261)+1)","v":0},"",1,null,null,null,null,null,null,null,null,null,null,null,null,null,null,null,null,null,null,null,"X",null,null,null,null,null,null,null,null,null,null,null,null,null,null,null,null,null,null,null,null,null,null,null,null,null,null,null,null,null,null,null,null,null,null,null,null,null,null,null,null,null,null,null,null,null,null,null,null,null,null,null,null,null,null,null,null,null,null,null,null,null,null,null,null,null,null,null,null,null,null,null,null,null,null,null,null,null,null,null,null,{"$f":"IF(Tools_44=\"-\",\"N\",IF(Tools_44=\"\",\"N\",IF(Tools_44_Sel=\"\",\"N\",\"Y\")))","v":"N"},"","","","","","","","","","","","","","","","","","","","","","","","","","","","","","","","","","","","","","","","","","","","","","","","","","","","","","","","","","","","","","","","","","","","","","","","","","","","","","","","","","","","","","","","","","","","","","","","","","","","","",null,null,null,null,null,null,null,null,null,null,null,null,null,null,null,null,null,null,null,null,null,null,"","","","","","","","","","","","","","","","","","","",""]
["Tools",null,"Hydraulic Wrenches",null,{"$f":"IF(F265=\"\",0,MAX(E$4:E264)+1)","v":0},"",1,null,null,null,"X",null,null,null,null,null,null,null,null,null,null,null,null,null,null,null,null,null,null,null,null,null,null,null,null,null,null,null,null,null,null,null,null,null,null,null,null,null,null,null,null,null,null,null,null,null,null,null,null,null,null,null,null,null,null,null,null,null,null,null,null,null,null,null,null,null,null,null,null,null,null,null,null,null,null,null,null,null,null,null,null,null,null,null,null,null,null,null,null,null,null,null,null,null,null,null,null,{"$f":"IF(Tools_47=\"-\",\"N\",IF(Tools_47=\"\",\"N\",IF(Tools_47_Sel=\"\",\"N\",\"Y\")))","v":"N"},"","","","","","","","","","","","","","","","","","","","","","","","","","","","","","","","","","","","","","","","","","","","","","","","","","","","","","","","","","","","","","","","","","","","","","","","","","","","","","","","","","","","","","","","","","","","","","","","","","","","","",null,null,null,null,null,null,null,null,null,null,null,null,"X",null,null,null,null,null,null,null,null,null,"","","","","","","","","","","","","","","","","","","",""]
["Tools",null,"Ladder - Wood - Job Built",null,{"$f":"IF(F270=\"\",0,MAX(E$4:E269)+1)","v":0},"",2,"X",null,null,null,null,null,null,null,null,null,null,null,null,null,null,null,null,null,null,null,null,null,"X",null,null,null,null,null,null,null,null,null,null,null,null,null,null,null,null,null,null,null,null,null,null,null,null,null,null,null,null,null,null,null,null,null,null,null,null,null,null,null,null,null,null,null,null,null,null,null,null,null,null,null,null,null,null,null,null,null,null,null,null,null,null,null,null,null,null,null,null,null,null,null,null,null,null,null,null,null,{"$f":"IF(Tools_52=\"-\",\"N\",IF(Tools_52=\"\",\"N\",IF(Tools_52_Sel=\"\",\"N\",\"Y\")))","v":"N"},"","","","","","","","","","","","","","","","","","","","","","","","","","","","","","","","","","","","","","","","","","","","","","","","","","","","","","","","","","","","","","","","","","","","","","","","","","","","","","","","","","","","","","","","","","","","","","","","","","","","","",null,null,null,null,null,null,null,null,null,null,null,null,null,null,null,null,null,null,null,null,null,null,"","","","","","","","","","","","","","","","","","","",""]
[null,null,"Measuring Tape",null,{"$f":"IF(F274=\"\",0,MAX(E$4:E273)+1)","v":0},"",1,null,null,null,"X",null,null,null,null,null,null,null,null,null,null,null,null,null,null,null,null,null,null,null,null,null,null,null,null,null,null,null,null,null,null,null,null,null,null,null,null,null,null,null,null,null,null,null,null,null,null,null,null,null,null,null,null,null,null,null,null,null,null,null,null,null,null,null,null,null,null,null,null,null,null,null,null,null,null,null,null,null,null,null,null,null,null,null,null,null,null,null,null,null,null,null,null,null,null,null,null,{"$f":"IF(Tools_56=\"-\",\"N\",IF(Tools_56=\"\",\"N\",IF(Tools_56_Sel=\"\",\"N\",\"Y\")))","v":"N"},"","","","","","","","","","","","","","","","","","","","","","","","","","","","","","","","","","","","","","","","","","","","","","","","","","","","","","","","","","","","","","","","","","","","","","","","","","","","","","","","","","","","","","","","","","","","","","","","","","","","","",null,null,null,null,null,null,null,null,null,null,null,null,null,null,null,null,null,null,null,null,null,null,"","","","","","","","","","","","","","","","","","","",""]
[null,null,"Oxy/Ace - Flash Arresters","Welding shield, welding jacket & gloves",{"$f":"IF(F279=\"\",0,MAX(E$4:E278)+1)","v":0},"",1,null,null,null,null,null,null,null,null,null,null,null,null,null,"X",null,null,null,null,null,null,null,null,null,null,null,null,null,null,null,null,null,null,null,null,null,null,null,null,null,null,null,null,null,null,null,null,null,null,null,null,null,null,null,null,null,null,null,null,null,null,null,null,null,null,null,null,null,null,null,null,null,null,null,null,null,null,null,null,null,null,null,null,null,null,null,null,null,null,null,null,null,null,null,null,null,null,null,null,null,null,{"$f":"IF(Tools_61=\"-\",\"N\",IF(Tools_61=\"\",\"N\",IF(Tools_61_Sel=\"\",\"N\",\"Y\")))","v":"N"},"","","","","","","","","","","","","","","","","","","","","","","","","","","","","","","","","","","","","","","","","","","","","","","","","","","","","","","","","","","","","","","","","","","","","","","","","","","","","","","","","","","","","","","","","","","","","","","","","","","","","",{"$f":"CONCATENATE(HA279,HA280,HA281,HA282,HA283,HA284,HA285,HA286,HA287,HA288,HA289,HA290,HA291,HA292,HA293,HA294,HA295,HA296,HA297,HA298,HA299,HA300,HA301,HA302,HA303,HA304,HA305,HA306,HA307,HA308)","v":""},null,null,null,null,null,null,null,null,null,null,null,null,null,null,null,null,null,null,null,null,null,"","","","","","","","","","","","","","","","","","","",""]
[null,null,"Oxy/Ace - Torches","Welding shield, welding jacket & gloves",{"$f":"IF(F282=\"\",0,MAX(E$4:E281)+1)","v":0},"",1,null,null,null,null,null,null,null,null,null,null,null,null,null,"X",null,null,null,null,null,null,null,null,null,null,null,null,null,null,null,null,null,null,null,null,null,null,null,null,null,null,null,null,null,null,null,null,null,null,null,null,null,null,null,null,null,null,null,null,null,null,null,null,null,null,null,null,null,null,null,null,null,null,null,null,null,null,null,null,null,null,null,null,null,null,null,null,null,null,null,null,null,null,null,null,null,null,null,null,null,null,{"$f":"IF(Tools_64=\"-\",\"N\",IF(Tools_64=\"\",\"N\",IF(Tools_64_Sel=\"\",\"N\",\"Y\")))","v":"N"},"","","","","","","","","","","","","","","","","","","","","","","","","","","","","","","","","","","","","","","","","","","","","","","","","","","","","","","","","","","","","","","","","","","","","","","","","","","","","","","","","","","","","","","","","","","","","","","","","","","","","",null,null,null,null,null,null,null,null,null,null,null,null,null,null,null,null,null,null,null,null,null,null,"","","","","","","","","","","","","","","","","","","",""]
[null,null,"Paint Roller",null,{"$f":"IF(F284=\"\",0,MAX(E$4:E283)+1)","v":0},"",0,null,null,null,null,null,null,null,null,null,null,null,null,null,null,null,null,null,null,null,null,null,null,null,null,null,null,null,null,null,null,null,null,null,null,null,null,null,null,null,null,null,null,null,null,null,null,null,null,null,null,null,null,null,null,null,null,null,null,null,null,null,null,null,null,null,null,null,null,null,null,null,null,null,null,null,null,null,null,null,null,null,null,null,null,null,null,null,null,null,null,null,null,null,null,null,null,null,null,null,null,{"$f":"IF(Tools_66=\"-\",\"N\",IF(Tools_66=\"\",\"N\",IF(Tools_66_Sel=\"\",\"N\",\"Y\")))","v":"N"},"","","","","","","","","","","","","","","","","","","","","","","","","","","","","","","","","","","","","","","","","","","","","","","","","","","","","","","","","","","","","","","","","","","","","","","","","","","","","","","","","","","","","","","","","","","","","","","","","","","","","",null,null,null,null,null,null,null,null,null,null,null,null,null,null,null,null,null,null,null,null,null,null,"","","","","","","","","","","","","","","","","","","",""]
[null,null,"Pipe Cutters",null,{"$f":"IF(F287=\"\",0,MAX(E$4:E286)+1)","v":0},"",1,null,null,null,"X",null,null,null,null,null,null,null,null,null,null,null,null,null,null,null,null,null,null,null,null,null,null,null,null,null,null,null,null,null,null,null,null,null,null,null,null,null,null,null,null,null,null,null,null,null,null,null,null,null,null,null,null,null,null,null,null,null,null,null,null,null,null,null,null,null,null,null,null,null,null,null,null,null,null,null,null,null,null,null,null,null,null,null,null,null,null,null,null,null,null,null,null,null,null,null,null,{"$f":"IF(Tools_69=\"-\",\"N\",IF(Tools_69=\"\",\"N\",IF(Tools_69_Sel=\"\",\"N\",\"Y\")))","v":"N"},"","","","","","","","","","","","","","","","","","","","","","","","","","","","","","","","","","","","","","","","","","","","","","","","","","","","","","","","","","","","","","","","","","","","","","","","","","","","","","","","","","","","","","","","","","","","","","","","","","","","","",null,null,null,null,null,null,null,null,null,null,null,null,null,null,null,null,null,null,null,null,null,null,"","","","","","","","","","","","","","","","","","","",""]
[null,null,"Power Washer",null,{"$f":"IF(F293=\"\",0,MAX(E$4:E292)+1)","v":0},"",1,null,null,null,"X",null,null,null,null,null,null,null,null,null,null,null,null,null,null,null,null,null,null,null,null,null,null,null,null,null,null,null,null,null,null,null,null,null,null,null,null,null,null,null,null,null,null,null,null,null,null,null,null,null,null,null,null,null,null,null,null,null,null,null,null,null,null,null,null,null,null,null,null,null,null,null,null,null,null,null,null,null,null,null,null,null,null,null,null,null,null,null,null,null,null,null,null,null,null,null,null,{"$f":"IF(Tools_75=\"-\",\"N\",IF(Tools_75=\"\",\"N\",IF(Tools_75_Sel=\"\",\"N\",\"Y\")))","v":"N"},"","","","","","","","","","","","","","","","","","","","","","","","","","","","","","","","","","","","","","","","","","","","","","","","","","","","","","","","","","","","","","","","","","","","","","","","","","","","","","","","","","","","","","","","","","","","","","","","","","","","","",null,null,null,null,null,null,null,null,null,null,null,null,null,null,null,null,null,null,null,null,null,null,"","","","","","","","","","","","","","","","","","","",""]
[null,null,"Prybar",null,{"$f":"IF(F294=\"\",0,MAX(E$4:E293)+1)","v":0},"",2,null,null,"X","X",null,null,null,null,null,null,null,null,null,null,null,null,null,null,null,null,null,null,null,null,null,null,null,null,null,null,null,null,null,null,null,null,null,null,null,null,null,null,null,null,null,null,null,null,null,null,null,null,null,null,null,null,null,null,null,null,null,null,null,null,null,null,null,null,null,null,null,null,null,null,null,null,null,null,null,null,null,null,null,null,null,null,null,null,null,null,null,null,null,null,null,null,null,null,null,null,{"$f":"IF(Tools_76=\"-\",\"N\",IF(Tools_76=\"\",\"N\",IF(Tools_76_Sel=\"\",\"N\",\"Y\")))","v":"N"},"","","","","","","","","","","","","","","","","","","","","","","","","","","","","","","","","","","","","","","","","","","","","","","","","","","","","","","","","","","","","","","","","","","","","","","","","","","","","","","","","","","","","","","","","","","","","","","","","","","","","",null,null,null,null,null,null,null,null,null,null,null,null,null,null,null,null,null,null,null,null,null,null,"","","","","","","","","","","","","","","","","","","",""]
[null,null,"Rope",null,{"$f":"IF(F299=\"\",0,MAX(E$4:E298)+1)","v":0},"",1,null,null,null,null,null,null,"X",null,null,null,null,null,null,null,null,null,null,null,null,null,null,null,null,null,null,null,null,null,null,null,null,null,null,null,null,null,null,null,null,null,null,null,null,null,null,null,null,null,null,null,null,null,null,null,null,null,null,null,null,null,null,null,null,null,null,null,null,null,null,null,null,null,null,null,null,null,null,null,null,null,null,null,null,null,null,null,null,null,null,null,null,null,null,null,null,null,null,null,null,null,{"$f":"IF(Tools_81=\"-\",\"N\",IF(Tools_81=\"\",\"N\",IF(Tools_81_Sel=\"\",\"N\",\"Y\")))","v":"N"},"","","","","","","","","","","","","","","","","","","","","","","","","","","","","","","","","","","","","","","","","","","","","","","","","","","","","","","","","","","","","","","","","","","","","","","","","","","","","","","","","","","","","","","","","","","","","","","","","","","","","",null,null,null,null,null,null,null,null,null,null,null,null,null,null,null,null,null,null,null,null,null,null,"","","","","","","","","","","","","","","","","","","",""]
[null,null,"Saw - Reciprocating",null,{"$f":"IF(F303=\"\",0,MAX(E$4:E302)+1)","v":0},"",3,null,null,null,"X",null,"X",null,null,null,null,"X",null,null,null,null,null,null,null,null,null,null,null,null,null,null,null,null,null,null,null,null,null,null,null,null,null,null,null,null,null,null,null,null,null,null,null,null,null,null,null,null,null,null,null,null,null,null,null,null,null,null,null,null,null,null,null,null,null,null,null,null,null,null,null,null,null,null,null,null,null,null,null,null,null,null,null,null,null,null,null,null,null,null,null,null,null,null,null,null,null,{"$f":"IF(Tools_85=\"-\",\"N\",IF(Tools_85=\"\",\"N\",IF(Tools_85_Sel=\"\",\"N\",\"Y\")))","v":"N"},"","","","","","","","","","","","","","","","","","","","","","","","","","","","","","","","","","","","","","","","","","","","","","","","","","","","","","","","","","","","","","","","","","","","","","","","","","","","","","","","","","","","","","","","","","","","","","","","","","","","","",null,null,null,null,null,null,null,null,null,null,null,null,null,null,null,null,null,null,null,null,null,null,"","","","","","","","","","","","","","","","","","","",""]
[null,null,"Screwdriver",null,{"$f":"IF(F307=\"\",0,MAX(E$4:E306)+1)","v":0},"",1,null,null,null,"X",null,null,null,null,null,null,null,null,null,null,null,null,null,null,null,null,null,null,null,null,null,null,null,null,null,null,null,null,null,null,null,null,null,null,null,null,null,null,null,null,null,null,null,null,null,null,null,null,null,null,null,null,null,null,null,null,null,null,null,null,null,null,null,null,null,null,null,null,null,null,null,null,null,null,null,null,null,null,null,null,null,null,null,null,null,null,null,null,null,null,null,null,null,null,null,null,{"$f":"IF(Tools_89=\"-\",\"N\",IF(Tools_89=\"\",\"N\",IF(Tools_89_Sel=\"\",\"N\",\"Y\")))","v":"N"},"","","","","","","","","","","","","","","","","","","","","","","","","","","","","","","","","","","","","","","","","","","","","","","","","","","","","","","","","","","","","","","","","","","","","","","","","","","","","","","","","","","","","","","","","","","","","","","","","","","","","",null,null,null,null,null,null,null,null,null,null,null,null,null,null,null,null,null,null,null,null,null,null,"","","","","","","","","","","","","","","","","","","",""]
[null,null,"Shackle",null,{"$f":"IF(F308=\"\",0,MAX(E$4:E307)+1)","v":0},"",1,null,null,null,null,null,null,"X",null,null,null,null,null,null,null,null,null,null,null,null,null,null,null,null,null,null,null,null,null,null,null,null,null,null,null,null,null,null,null,null,null,null,null,null,null,null,null,null,null,null,null,null,null,null,null,null,null,null,null,null,null,null,null,null,null,null,null,null,null,null,null,null,null,null,null,null,null,null,null,null,null,null,null,null,null,null,null,null,null,null,null,null,null,null,null,null,null,null,null,null,null,{"$f":"IF(Tools_90=\"-\",\"N\",IF(Tools_90=\"\",\"N\",IF(Tools_90_Sel=\"\",\"N\",\"Y\")))","v":"N"},"","","","","","","","","","","","","","","","","","","","","","","","","","","","","","","","","","","","","","","","","","","","","","","","","","","","","","","","","","","","","","","","","","","","","","","","","","","","","","","","","","","","","","","","","","","","","","","","","","","","","",null,null,null,null,null,null,null,null,null,null,null,null,null,null,null,null,null,null,null,null,null,null,"","","","","","","","","","","","","","","","","","","",""]
[null,null,"Sprayer",null,{"$f":"IF(F314=\"\",0,MAX(E$4:E313)+1)","v":0},"",1,null,"X",null,null,null,null,null,null,null,null,null,null,null,null,null,null,null,null,null,null,null,null,null,null,null,null,null,null,null,null,null,null,null,null,null,null,null,null,null,null,null,null,null,null,null,null,null,null,null,null,null,null,null,null,null,null,null,null,null,null,null,null,null,null,null,null,null,null,null,null,null,null,null,null,null,null,null,null,null,null,null,null,null,null,null,null,null,null,null,null,null,null,null,null,null,null,null,null,null,null,{"$f":"IF(Tools_96=\"-\",\"N\",IF(Tools_96=\"\",\"N\",IF(Tools_96_Sel=\"\",\"N\",\"Y\")))","v":"N"},"","","","","","","","","","","","","","","","","","","","","","","","","","","","","","","","","","","","","","","","","","","","","","","","","","","","","","","","","","","","","","","","","","","","","","","","","","","","","","","","","","","","","","","","","","","","","","","","","","","","","",null,null,null,null,null,null,null,null,null,null,null,null,null,null,null,null,null,null,null,null,null,null,"","","","","","","","","","","","","","","","","","","",""]
[null,null,"Trowel Machine",null,{"$f":"IF(F317=\"\",0,MAX(E$4:E316)+1)","v":0},"",2,null,null,null,"X","X",null,null,null,null,null,null,null,null,null,null,null,null,null,null,null,null,null,null,null,null,null,null,null,null,null,null,null,null,null,null,null,null,null,null,null,null,null,null,null,null,null,null,null,null,null,null,null,null,null,null,null,null,null,null,null,null,null,null,null,null,null,null,null,null,null,null,null,null,null,null,null,null,null,null,null,null,null,null,null,null,null,null,null,null,null,null,null,null,null,null,null,null,null,null,null,{"$f":"IF(Tools_99=\"-\",\"N\",IF(Tools_99=\"\",\"N\",IF(Tools_99_Sel=\"\",\"N\",\"Y\")))","v":"N"},"","","","","","","","","","","","","","","","","","","","","","","","","","","","","","","","","","","","","","","","","","","","","","","","","","","","","","","","","","","","","","","","","","","","","","","","","","","","","","","","","","","","","","","","","","","","","","","","","","","","","",null,null,null,null,null,null,null,null,null,null,null,null,null,null,null,null,null,null,null,null,null,null,"","","","","","","","","","","","","","","","","","","",""]
[null,null,"Welding Lead",null,{"$f":"IF(F322=\"\",0,MAX(E$4:E321)+1)","v":0},"",1,null,null,null,null,null,null,null,null,null,null,"X",null,null,null,null,null,null,null,null,null,null,null,null,null,null,null,null,null,null,null,null,null,null,null,null,null,null,null,null,null,null,null,null,null,null,null,null,null,null,null,null,null,null,null,null,null,null,null,null,null,null,null,null,null,null,null,null,null,null,null,null,null,null,null,null,null,null,null,null,null,null,null,null,null,null,null,null,null,null,null,null,null,null,null,null,null,null,null,null,null,{"$f":"IF(Tools_104=\"-\",\"N\",IF(Tools_104=\"\",\"N\",IF(Tools_104_Sel=\"\",\"N\",\"Y\")))","v":"N"},"","","","","","","","","","","","","","","","","","","","","","","","","","","","","","","","","","","","","","","","","","","","","","","","","","","","","","","","","","","","","","","","","","","","","","","","","","","","","","","","","","","","","","","","","","","","","","","","","","","","","",null,null,null,null,null,null,null,null,null,null,null,null,null,null,null,null,null,null,null,null,null,null,"","","","","","","","","","","","","","","","","","","",""]
[null,null,"Wheelbarrow",null,{"$f":"IF(F324=\"\",0,MAX(E$4:E323)+1)","v":0},"",1,null,null,"X",null,null,null,null,null,null,null,null,null,null,null,null,null,null,null,null,null,null,null,null,null,null,null,null,null,null,null,null,null,null,null,null,null,null,null,null,null,null,null,null,null,null,null,null,null,null,null,null,null,null,null,null,null,null,null,null,null,null,null,null,null,null,null,null,null,null,null,null,null,null,null,null,null,null,null,null,null,null,null,null,null,null,null,null,null,null,null,null,null,null,null,null,null,null,null,null,null,{"$f":"IF(Tools_106=\"-\",\"N\",IF(Tools_106=\"\",\"N\",IF(Tools_106_Sel=\"\",\"N\",\"Y\")))","v":"N"},"","","","","","","","","","","","","","","","","","","","","","","","","","","","","","","","","","","","","","","","","","","","","","","","","","","","","","","","","","","","","","","","","","","","","","","","","","","","","","","","","","","","","","","","","","","","","","","","","","","","","",null,null,null,null,null,null,null,null,null,null,null,null,null,null,null,null,null,null,null,null,null,null,"","","","","","","","","","","","","","","","","","","",""]
[null,null,"Wire Rope",null,{"$f":"IF(F327=\"\",0,MAX(E$4:E326)+1)","v":0},"",1,null,null,null,null,null,null,"X",null,null,null,null,null,null,null,null,null,null,null,null,null,null,null,null,null,null,null,null,null,null,null,null,null,null,null,null,null,null,null,null,null,null,null,null,null,null,null,null,null,null,null,null,null,null,null,null,null,null,null,null,null,null,null,null,null,null,null,null,null,null,null,null,null,null,null,null,null,null,null,null,null,null,null,null,null,null,null,null,null,null,null,null,null,null,null,null,null,null,null,null,null,{"$f":"IF(Tools_109=\"-\",\"N\",IF(Tools_109=\"\",\"N\",IF(Tools_109_Sel=\"\",\"N\",\"Y\")))","v":"N"},"","","","","","","","","","","","","","","","","","","","","","","","","","","","","","","","","","","","","","","","","","","","","","","","","","","","","","","","","","","","","","","","","","","","","","","","","","","","","","","","","","","","","","","","","","","","","","","","","","","","","",null,null,null,null,null,null,null,null,null,null,null,null,null,null,null,null,null,null,null,null,null,null,"","","","","","","","","","","","","","","","","","","",""]
["Tools",null,"-",null,{"$f":"IF(F331=\"\",0,MAX(E$4:E330)+1)","v":0},"",0,null,null,null,null,null,null,null,null,null,null,null,null,null,null,null,null,null,null,null,null,null,null,null,null,null,null,null,null,null,null,null,null,null,null,null,null,null,null,null,null,null,null,null,null,null,null,null,null,null,null,null,null,null,null,null,null,null,null,null,null,null,null,null,null,null,null,null,null,null,null,null,null,null,null,null,null,null,null,null,null,null,null,null,null,null,null,null,null,null,null,null,null,null,null,null,null,null,null,null,null,{"$f":"IF(Tools_113=\"-\",\"N\",IF(Tools_113=\"\",\"N\",IF(Tools_113_Sel=\"\",\"N\",\"Y\")))","v":"N"},"","","","","","","","","","","","","","","","","","","","","","","","","","","","","","","","","","","","","","","","","","","","","","","","","","","","","","","","","","","","","","","","","","","","","","","","","","","","","","","","","","","","","","","","","","","","","","","","","","","","","",null,null,null,null,null,null,null,null,null,null,null,null,null,null,null,null,null,null,null,null,null,null,"","","","","","","","","","","","","","","","","","","",""]
["Tools",null,"-",null,{"$f":"IF(F336=\"\",0,MAX(E$4:E335)+1)","v":0},"",0,null,null,null,null,null,null,null,null,null,null,null,null,null,null,null,null,null,null,null,null,null,null,null,null,null,null,null,null,null,null,null,null,null,null,null,null,null,null,null,null,null,null,null,null,null,null,null,null,null,null,null,null,null,null,null,null,null,null,null,null,null,null,null,null,null,null,null,null,null,null,null,null,null,null,null,null,null,null,null,null,null,null,null,null,null,null,null,null,null,null,null,null,null,null,null,null,null,null,null,null,{"$f":"IF(Tools_118=\"-\",\"N\",IF(Tools_118=\"\",\"N\",IF(Tools_118_Sel=\"\",\"N\",\"Y\")))","v":"N"},"","","","","","","","","","","","","","","","","","","","","","","","","","","","","","","","","","","","","","","","","","","","","","","","","","","","","","","","","","","",{"$f":"IF($DD336=\"Y\",IF(BO336=\"X\",CONCATENATE($C336,\", \"),\"\"),\"\")","v":""},{"$f":"IF($DD336=\"Y\",IF(BP336=\"X\",CONCATENATE($C336,\", \"),\"\"),\"\")","v":""},{"$f":"IF($DD336=\"Y\",IF(BQ336=\"X\",CONCATENATE($C336,\", \"),\"\"),\"\")","v":""},"","","","","","","","","","","","","","","","","","","","","","","","","","","","","","","","","","","","","","","",null,null,null,null,null,null,null,null,null,null,null,null,null,null,null,null,null,null,null,null,null,null,"","","","","","","","","","","","","","","","","","","",""]
[null,null,"-",null,{"$f":"IF(F337=\"\",0,MAX(E$4:E336)+1)","v":0},"",0,null,null,null,null,null,null,null,null,null,null,null,null,null,null,null,null,null,null,null,null,null,null,null,null,null,null,null,null,null,null,null,null,null,null,null,null,null,null,null,null,null,null,null,null,null,null,null,null,null,null,null,null,null,null,null,null,null,null,null,null,null,null,null,null,null,null,null,null,null,null,null,null,null,null,null,null,null,null,null,null,null,null,null,null,null,null,null,null,null,null,null,null,null,null,null,null,null,null,null,null,{"$f":"IF(Tools_119=\"-\",\"N\",IF(Tools_119=\"\",\"N\",IF(Tools_119_Sel=\"\",\"N\",\"Y\")))","v":"N"},"","","","","","","","","","","","","","","","","","","","","","","","","","","","","","","","","","","","","","","","","","","","","","","","","","","","","","","","","","","","","","","","","","","","","","","","","","","","","","","","","","","","","","","","","","","","","","","","","","","","","",null,null,null,null,null,null,null,null,null,null,null,null,null,null,null,null,null,null,null,null,null,null,"","","","","","","","","","","","","","","","","","","",""]
[null,null,"-",null,{"$f":"IF(F343=\"\",0,MAX(E$4:E342)+1)","v":0},"",0,null,null,null,null,null,null,null,null,null,null,null,null,null,null,null,null,null,null,null,null,null,null,null,null,null,null,null,null,null,null,null,null,null,null,null,null,null,null,null,null,null,null,null,null,null,null,null,null,null,null,null,null,null,null,null,null,null,null,null,null,null,null,null,null,null,null,null,null,null,null,null,null,null,null,null,null,null,null,null,null,null,null,null,null,null,null,null,null,null,null,null,null,null,null,null,null,null,null,null,null,{"$f":"IF(Tools_125=\"-\",\"N\",IF(Tools_125=\"\",\"N\",IF(Tools_125_Sel=\"\",\"N\",\"Y\")))","v":"N"},"","","","","","","","","","","","","","","","","","","","","","","","","","","","","","","","","","","","","","","","","","","","","","","","","","","","","","","","","","","","","","","","","","","","","","","","","","","","","","","","","","","","","","","","","","","","","","","","","","","","","",null,null,null,null,null,null,null,null,null,null,null,null,null,null,null,null,null,null,null,null,null,null,"","","","","","","","","","","","","","","","","","","",""]
["Tools",null,"-",null,{"$f":"IF(F346=\"\",0,MAX(E$4:E345)+1)","v":0},"",0,null,null,null,null,null,null,null,null,null,null,null,null,null,null,null,null,null,null,null,null,null,null,null,null,null,null,null,null,null,null,null,null,null,null,null,null,null,null,null,null,null,null,null,null,null,null,null,null,null,null,null,null,null,null,null,null,null,null,null,null,null,null,null,null,null,null,null,null,null,null,null,null,null,null,null,null,null,null,null,null,null,null,null,null,null,null,null,null,null,null,null,null,null,null,null,null,null,null,null,null,{"$f":"IF(Tools_128=\"-\",\"N\",IF(Tools_128=\"\",\"N\",IF(Tools_128_Sel=\"\",\"N\",\"Y\")))","v":"N"},"","","","","","","","","","","","","","","","","","","","","","","","","","","","","","","","","","","","","","","","","","","","","","","","","","","","","","","","","","","","","","","","","","","","","","","","","","","","","","","","","","","","","","","","","","","","","","","","","","","","","",null,null,null,null,null,null,null,null,null,null,null,null,null,null,null,null,null,null,null,null,null,null,"","","","","","","","","","","","","","","","","","","",""]
[null,null,"-",null,{"$f":"IF(F348=\"\",0,MAX(E$4:E347)+1)","v":0},"",0,null,null,null,null,null,null,null,null,null,null,null,null,null,null,null,null,null,null,null,null,null,null,null,null,null,null,null,null,null,null,null,null,null,null,null,null,null,null,null,null,null,null,null,null,null,null,null,null,null,null,null,null,null,null,null,null,null,null,null,null,null,null,null,null,null,null,null,null,null,null,null,null,null,null,null,null,null,null,null,null,null,null,null,null,null,null,null,null,null,null,null,null,null,null,null,null,null,null,null,null,{"$f":"IF(Tools_130=\"-\",\"N\",IF(Tools_130=\"\",\"N\",IF(Tools_130_Sel=\"\",\"N\",\"Y\")))","v":"N"},{"$f":"IF($DD348=\"Y\",IF(H348=\"X\",CONCATENATE($C348,\", \"),\"\"),\"\")","v":""},{"$f":"IF($DD348=\"Y\",IF(I348=\"X\",CONCATENATE($C348,\", \"),\"\"),\"\")","v":""},{"$f":"IF($DD348=\"Y\",IF(J348=\"X\",CONCATENATE($C348,\", \"),\"\"),\"\")","v":""},{"$f":"IF($DD348=\"Y\",IF(K348=\"X\",CONCATENATE($C348,\", \"),\"\"),\"\")","v":""},{"$f":"IF($DD348=\"Y\",IF(L348=\"X\",CONCATENATE($C348,\", \"),\"\"),\"\")","v":""},{"$f":"IF($DD348=\"Y\",IF(M348=\"X\",CONCATENATE($C348,\", \"),\"\"),\"\")","v":""},{"$f":"IF($DD348=\"Y\",IF(N348=\"X\",CONCATENATE($C348,\", \"),\"\"),\"\")","v":""},{"$f":"IF($DD348=\"Y\",IF(O348=\"X\",CONCATENATE($C348,\", \"),\"\"),\"\")","v":""},{"$f":"IF($DD348=\"Y\",IF(P348=\"X\",CONCATENATE($C348,\", \"),\"\"),\"\")","v":""},{"$f":"IF($DD348=\"Y\",IF(Q348=\"X\",CONCATENATE($C348,\", \"),\"\"),\"\")","v":""},{"$f":"IF($DD348=\"Y\",IF(R348=\"X\",CONCATENATE($C348,\", \"),\"\"),\"\")","v":""},{"$f":"IF($DD348=\"Y\",IF(S348=\"X\",CONCATENATE($C348,\", \"),\"\"),\"\")","v":""},{"$f":"IF($DD348=\"Y\",IF(T348=\"X\",CONCATENATE($C348,\", \"),\"\"),\"\")","v":""},{"$f":"IF($DD348=\"Y\",IF(U348=\"X\",CONCATENATE($C348,\", \"),\"\"),\"\")","v":""},{"$f":"IF($DD348=\"Y\",IF(V348=\"X\",CONCATENATE($C348,\", \"),\"\"),\"\")","v":""},{"$f":"IF($DD348=\"Y\",IF(W348=\"X\",CONCATENATE($C348,\", \"),\"\"),\"\")","v":""},"","","","","","","",{"$f":"IF($DD348=\"Y\",IF(AE348=\"X\",CONCATENATE($C348,\", \"),\"\"),\"\")","v":""},{"$f":"IF($DD348=\"Y\",IF(AF348=\"X\",CONCATENATE($C348,\", \"),\"\"),\"\")","v":""},{"$f":"IF($DD348=\"Y\",IF(AG348=\"X\",CONCATENATE($C348,\", \"),\"\"),\"\")","v":""},{"$f":"IF($DD348=\"Y\",IF(AH348=\"X\",CONCATENATE($C348,\", \"),\"\"),\"\")","v":""},{"$f":"IF($DD348=\"Y\",IF(AI348=\"X\",CONCATENATE($C348,\", \"),\"\"),\"\")","v":""},"","","","","","","","","","","","","",{"$f":"IF($DD348=\"Y\",IF(AW348=\"X\",CONCATENATE($C348,\", \"),\"\"),\"\")","v":""},{"$f":"IF($DD348=\"Y\",IF(AX348=\"X\",CONCATENATE($C348,\", \"),\"\"),\"\")","v":""},{"$f":"IF($DD348=\"Y\",IF(AY348=\"X\",CONCATENATE($C348,\", \"),\"\"),\"\")","v":""},{"$f":"IF($DD348=\"Y\",IF(AZ348=\"X\",CONCATENATE($C348,\", \"),\"\"),\"\")","v":""},{"$f":"IF($DD348=\"Y\",IF(BA348=\"X\",CONCATENATE($C348,\", \"),\"\"),\"\")","v":""},{"$f":"IF($DD348=\"Y\",IF(BB348=\"X\",CONCATENATE($C348,\", \"),\"\"),\"\")","v":""},"","","","","","","","","","","","","","","","","","","","","","","","","","","","","","","","","","","","","","","","","","","","","","","","","","","","","","",null,null,null,null,null,null,null,null,null,null,null,null,null,null,null,null,null,null,null,null,null,null,"","","","","","","","","","","","","","","","","","","",""]
["Tools",null,"-",null,{"$f":"IF(F351=\"\",0,MAX(E$4:E350)+1)","v":0},"",0,null,null,null,null,null,null,null,null,null,null,null,null,null,null,null,null,null,null,null,null,null,null,null,null,null,null,null,null,null,null,null,null,null,null,null,null,null,null,null,null,null,null,null,null,null,null,null,null,null,null,null,null,null,null,null,null,null,null,null,null,null,null,null,null,null,null,null,null,null,null,null,null,null,null,null,null,null,null,null,null,null,null,null,null,null,null,null,null,null,null,null,null,null,null,null,null,null,null,null,null,{"$f":"IF(Tools_133=\"-\",\"N\",IF(Tools_133=\"\",\"N\",IF(Tools_133_Sel=\"\",\"N\",\"Y\")))","v":"N"},"","","","","","","","","","","","","","","","","","","","","","","","","","","","","","","","","","","","","","","","","","","","","","","","","","","","","","","","","","","","","","","","","","","","","","","","","","","","","","","","","","","","","","","","","","","","","","","","","","","","","",null,null,null,null,null,null,null,null,null,null,null,null,null,null,null,null,null,null,null,null,null,null,"","","","","","","","","","","","","","","","","","","",""]
["Tools",null,"-",null,{"$f":"IF(F356=\"\",0,MAX(E$4:E355)+1)","v":0},"",0,null,null,null,null,null,null,null,null,null,null,null,null,null,null,null,null,null,null,null,null,null,null,null,null,null,null,null,null,null,null,null,null,null,null,null,null,null,null,null,null,null,null,null,null,null,null,null,null,null,null,null,null,null,null,null,null,null,null,null,null,null,null,null,null,null,null,null,null,null,null,null,null,null,null,null,null,null,null,null,null,null,null,null,null,null,null,null,null,null,null,null,null,null,null,null,null,null,null,null,null,{"$f":"IF(Tools_138=\"-\",\"N\",IF(Tools_138=\"\",\"N\",IF(Tools_138_Sel=\"\",\"N\",\"Y\")))","v":"N"},"","","","","","","","","","","","","","","","","","","","","","","","","","","","","","","","","","","","","","","","","","","","","","","","","","","","","","","","","","","","","","","","","","","","","","","","","","","","","","","","","","","","","","","","","","","","","","","","","","","","","",null,null,null,null,null,null,null,null,null,null,null,null,null,null,null,null,null,null,null,null,null,null,"","","","","","","","","","","","","","","","","","","",""]
[null,null,"-",null,{"$f":"IF(F360=\"\",0,MAX(E$4:E359)+1)","v":0},"",0,null,null,null,null,null,null,null,null,null,null,null,null,null,null,null,null,null,null,null,null,null,null,null,null,null,null,null,null,null,null,null,null,null,null,null,null,null,null,null,null,null,null,null,null,null,null,null,null,null,null,null,null,null,null,null,null,null,null,null,null,null,null,null,null,null,null,null,null,null,null,null,null,null,null,null,null,null,null,null,null,null,null,null,null,null,null,null,null,null,null,null,null,null,null,null,null,null,null,null,null,{"$f":"IF(Tools_142=\"-\",\"N\",IF(Tools_142=\"\",\"N\",IF(Tools_142_Sel=\"\",\"N\",\"Y\")))","v":"N"},"","","","","","","","","","","","","","","","","","","","","","","","","","","","","","","","","","","","","","","","","","","","","","","","","","","","","","","","","","","","","","","","","","","","","","","","","",{"$f":"IF($DD360=\"Y\",IF(CC360=\"X\",CONCATENATE($C360,\", \"),\"\"),\"\")","v":""},{"$f":"IF($DD360=\"Y\",IF(CD360=\"X\",CONCATENATE($C360,\", \"),\"\"),\"\")","v":""},{"$f":"IF($DD360=\"Y\",IF(CE360=\"X\",CONCATENATE($C360,\", \"),\"\"),\"\")","v":""},{"$f":"IF($DD360=\"Y\",IF(CF360=\"X\",CONCATENATE($C360,\", \"),\"\"),\"\")","v":""},{"$f":"IF($DD360=\"Y\",IF(CG360=\"X\",CONCATENATE($C360,\", \"),\"\"),\"\")","v":""},{"$f":"IF($DD360=\"Y\",IF(CH360=\"X\",CONCATENATE($C360,\", \"),\"\"),\"\")","v":""},{"$f":"IF($DD360=\"Y\",IF(CI360=\"X\",CONCATENATE($C360,\", \"),\"\"),\"\")","v":""},"","","","","","","","","","","","","","","","","","","","","",null,null,null,null,null,null,null,null,null,null,null,null,null,null,null,null,null,null,null,null,null,null,"","","","","","","","","","","","","","","","","","","",""]
[null,null,"-",null,{"$f":"IF(F365=\"\",0,MAX(E$4:E364)+1)","v":0},"",0,null,null,null,null,null,null,null,null,null,null,null,null,null,null,null,null,null,null,null,null,null,null,null,null,null,null,null,null,null,null,null,null,null,null,null,null,null,null,null,null,null,null,null,null,null,null,null,null,null,null,null,null,null,null,null,null,null,null,null,null,null,null,null,null,null,null,null,null,null,null,null,null,null,null,null,null,null,null,null,null,null,null,null,null,null,null,null,null,null,null,null,null,null,null,null,null,null,null,null,null,{"$f":"IF(Tools_147=\"-\",\"N\",IF(Tools_147=\"\",\"N\",IF(Tools_147_Sel=\"\",\"N\",\"Y\")))","v":"N"},"","","","","","","","","","","","","","","","","","","","","","","","","","","","","","","","","","","","","","","","","","","","","","","","","","","","","","","","","","","","","","","","","","","","","","","","","","","","","","","","","","","","","","","","","","","","","","","","","","","","","",null,null,null,null,null,null,null,null,null,null,null,null,null,null,null,null,null,null,null,null,null,null,"","","","","","","","","","","","","","","","","","","",""]
[null,null,"-",null,{"$f":"IF(F368=\"\",0,MAX(E$4:E367)+1)","v":0},"",0,null,null,null,null,null,null,null,null,null,null,null,null,null,null,null,null,null,null,null,null,null,null,null,null,null,null,null,null,null,null,null,null,null,null,null,null,null,null,null,null,null,null,null,null,null,null,null,null,null,null,null,null,null,null,null,null,null,null,null,null,null,null,null,null,null,null,null,null,null,null,null,null,null,null,null,null,null,null,null,null,null,null,null,null,null,null,null,null,null,null,null,null,null,null,null,null,null,null,null,null,{"$f":"IF(Tools_150=\"-\",\"N\",IF(Tools_150=\"\",\"N\",IF(Tools_150_Sel=\"\",\"N\",\"Y\")))","v":"N"},"","","","","","","","","","","","","","","","","","","","","","","","","","","","","","","","","","","","","","","","","","","","","","","","","","","","","","","","","","","","","","","","","","","","","","","","","","","","","","","","","","","","","","","","","","","","","","","","","","","","","",null,null,null,null,null,null,null,null,null,null,null,null,null,null,null,null,null,null,null,null,null,null,"","","","","","","","","","","","","","","","","","","",""]
[null,null,"-",null,{"$f":"IF(F370=\"\",0,MAX(E$4:E369)+1)","v":0},"",0,null,null,null,null,null,null,null,null,null,null,null,null,null,null,null,null,null,null,null,null,null,null,null,null,null,null,null,null,null,null,null,null,null,null,null,null,null,null,null,null,null,null,null,null,null,null,null,null,null,null,null,null,null,null,null,null,null,null,null,null,null,null,null,null,null,null,null,null,null,null,null,null,null,null,null,null,null,null,null,null,null,null,null,null,null,null,null,null,null,null,null,null,null,null,null,null,null,null,null,null,{"$f":"IF(Tools_152=\"-\",\"N\",IF(Tools_152=\"\",\"N\",IF(Tools_152_Sel=\"\",\"N\",\"Y\")))","v":"N"},"","","","","","","","","","","","","","","","","","","","","","","","","","","","","","","","","","","","","","","","","","","","","","","","","","","","","","","","","","","","","","","","","","","","","","","","","","","","","","","","","","","","","","","","","","","","","","","","","","","","","",null,null,null,null,null,null,null,null,null,null,null,null,null,null,null,null,null,null,null,null,null,null,"","","","","","","","","","","","","","","","","","","","",null,"End of Links Tab"]
[null,null,"-",null,{"$f":"IF(F373=\"\",0,MAX(E$4:E372)+1)","v":0},"",0,null,null,null,null,null,null,null,null,null,null,null,null,null,null,null,null,null,null,null,null,null,null,null,null,null,null,null,null,null,null,null,null,null,null,null,null,null,null,null,null,null,null,null,null,null,null,null,null,null,null,null,null,null,null,null,null,null,null,null,null,null,null,null,null,null,null,null,null,null,null,null,null,null,null,null,null,null,null,null,null,null,null,null,null,null,null,null,null,null,null,null,null,null,null,null,null,null,null,null,null,{"$f":"IF(Tools_155=\"-\",\"N\",IF(Tools_155=\"\",\"N\",IF(Tools_155_Sel=\"\",\"N\",\"Y\")))","v":"N"},"","","","","","","","","","","","","","","","","","","","","","","","","","","","","","","","","","","","","","","","","","","","","","","","","","","","","","","","","","","","","","","","","","","","","","","","","","","","","","","","","","","","","","","","","","","","","","","","","","","","","",null,null,null,null,null,null,null,null,null,null,null,null,null,null,null,null,null,null,null,null,null,null,"","","","","","","","","","","","","","","","","","","",""]
[null,null,"-",null,{"$f":"IF(F379=\"\",0,MAX(E$4:E378)+1)","v":0},"",0,null,null,null,null,null,null,null,null,null,null,null,null,null,null,null,null,null,null,null,null,null,null,null,null,null,null,null,null,null,null,null,null,null,null,null,null,null,null,null,null,null,null,null,null,null,null,null,null,null,null,null,null,null,null,null,null,null,null,null,null,null,null,null,null,null,null,null,null,null,null,null,null,null,null,null,null,null,null,null,null,null,null,null,null,null,null,null,null,null,null,null,null,null,null,null,null,null,null,null,null,{"$f":"IF(Tools_161=\"-\",\"N\",IF(Tools_161=\"\",\"N\",IF(Tools_161_Sel=\"\",\"N\",\"Y\")))","v":"N"},"","","","","","","","","","","","","","","","","","","","","","","","","","","","","","","","","","","","","","","","","","","","","","","","","","","","","","","","","","","","","","","","","","","","","","","","","","","","","","","","","","","","","","","","","","","","","","","","","","","","","",null,null,null,null,null,null,null,null,null,null,null,null,null,null,null,null,null,null,null,null,null,null,"","","","","","","","","","","","","","","","","","","",""]
[null,null,"-",null,{"$f":"IF(F380=\"\",0,MAX(E$4:E379)+1)","v":0},"",0,null,null,null,null,null,null,null,null,null,null,null,null,null,null,null,null,null,null,null,null,null,null,null,null,null,null,null,null,null,null,null,null,null,null,null,null,null,null,null,null,null,null,null,null,null,null,null,null,null,null,null,null,null,null,null,null,null,null,null,null,null,null,null,null,null,null,null,null,null,null,null,null,null,null,null,null,null,null,null,null,null,null,null,null,null,null,null,null,null,null,null,null,null,null,null,null,null,null,null,null,{"$f":"IF(Tools_162=\"-\",\"N\",IF(Tools_162=\"\",\"N\",IF(Tools_162_Sel=\"\",\"N\",\"Y\")))","v":"N"},"","","","","","","","","","","","","","","","","","","","","","","","","","","","","","","","","","","","","","","","","","","","","","","","","","","","","","","","","","","","","","","","","","","","","","","","","","","","","","","","","","","","","","","","","","","","","","","","","","","","","",null,null,null,null,null,null,null,null,null,null,null,null,null,null,null,null,null,null,null,null,null,null,"","","","","","","","","","","","","","","","","","","",""]
[null,null,"-",null,{"$f":"IF(F385=\"\",0,MAX(E$4:E384)+1)","v":0},"",0,null,null,null,null,null,null,null,null,null,null,null,null,null,null,null,null,null,null,null,null,null,null,null,null,null,null,null,null,null,null,null,null,null,null,null,null,null,null,null,null,null,null,null,null,null,null,null,null,null,null,null,null,null,null,null,null,null,null,null,null,null,null,null,null,null,null,null,null,null,null,null,null,null,null,null,null,null,null,null,null,null,null,null,null,null,null,null,null,null,null,null,null,null,null,null,null,null,null,null,null,{"$f":"IF(Tools_167=\"-\",\"N\",IF(Tools_167=\"\",\"N\",IF(Tools_167_Sel=\"\",\"N\",\"Y\")))","v":"N"},"","","","","","","","","","","","","","","","",{"$f":"IF($DD385=\"Y\",IF(X385=\"X\",CONCATENATE($C385,\", \"),\"\"),\"\")","v":""},{"$f":"IF($DD385=\"Y\",IF(Y385=\"X\",CONCATENATE($C385,\", \"),\"\"),\"\")","v":""},{"$f":"IF($DD385=\"Y\",IF(Z385=\"X\",CONCATENATE($C385,\", \"),\"\"),\"\")","v":""},"","","","","","","","","","","","","","","","","","","","","","","","","","","","","","","","","","",{"$f":"IF($DD385=\"Y\",IF(BI385=\"X\",CONCATENATE($C385,\", \"),\"\"),\"\")","v":""},{"$f":"IF($DD385=\"Y\",IF(BJ385=\"X\",CONCATENATE($C385,\", \"),\"\"),\"\")","v":""},{"$f":"IF($DD385=\"Y\",IF(BK385=\"X\",CONCATENATE($C385,\", \"),\"\"),\"\")","v":""},{"$f":"IF($DD385=\"Y\",IF(BL385=\"X\",CONCATENATE($C385,\", \"),\"\"),\"\")","v":""},{"$f":"IF($DD385=\"Y\",IF(BM385=\"X\",CONCATENATE($C385,\", \"),\"\"),\"\")","v":""},{"$f":"IF($DD385=\"Y\",IF(BN385=\"X\",CONCATENATE($C385,\", \"),\"\"),\"\")","v":""},"","","","","","","","","","","","","","","","","","","","","","","","","","","","","","","","","","","","","","","","","","",null,null,null,null,null,null,null,null,null,null,null,null,null,null,null,null,null,null,null,null,null,null,"","","","","","","","","","","","","","","","","","","",""]
[null,null,"-",null,{"$f":"IF(F389=\"\",0,MAX(E$4:E388)+1)","v":0},"",0,null,null,null,null,null,null,null,null,null,null,null,null,null,null,null,null,null,null,null,null,null,null,null,null,null,null,null,null,null,null,null,null,null,null,null,null,null,null,null,null,null,null,null,null,null,null,null,null,null,null,null,null,null,null,null,null,null,null,null,null,null,null,null,null,null,null,null,null,null,null,null,null,null,null,null,null,null,null,null,null,null,null,null,null,null,null,null,null,null,null,null,null,null,null,null,null,null,null,null,null,{"$f":"IF(Tools_171=\"-\",\"N\",IF(Tools_171=\"\",\"N\",IF(Tools_171_Sel=\"\",\"N\",\"Y\")))","v":"N"},"","","","","","","","","","","","","","","","","","","","","","","","","","","","","","","","","","","","","","","","","","","","","","","","","","","","","","","","","","","","","","","","","","","","","","","","","","","","","","","","","","","","","","","","","","","","","","","","","","","","","",null,null,null,null,null,null,null,null,null,null,null,null,null,null,null,null,null,null,null,null,null,null,"","","","","","","","","","","","","","","","","","","",""]
[null,null,"-",null,{"$f":"IF(F393=\"\",0,MAX(E$4:E392)+1)","v":0},"",0,null,null,null,null,null,null,null,null,null,null,null,null,null,null,null,null,null,null,null,null,null,null,null,null,null,null,null,null,null,null,null,null,null,null,null,null,null,null,null,null,null,null,null,null,null,null,null,null,null,null,null,null,null,null,null,null,null,null,null,null,null,null,null,null,null,null,null,null,null,null,null,null,null,null,null,null,null,null,null,null,null,null,null,null,null,null,null,null,null,null,null,null,null,null,null,null,null,null,null,null,{"$f":"IF(Tools_175=\"-\",\"N\",IF(Tools_175=\"\",\"N\",IF(Tools_175_Sel=\"\",\"N\",\"Y\")))","v":"N"},"","","","","","","","","","","","","","","","","","","","","","","","","","","","","","","","","","","","","","","","","","","","","","","","","","","","","","","","","","","","","","","","","","","","","","","","","","","","","","","","","","","","","","","","","","","","","","","","","","","","","",null,null,null,null,null,null,null,null,null,null,null,null,null,null,null,null,null,null,null,null,null,null,"","","","","","","","","","","","","","","","","","","",""]
[null,null,"-",null,{"$f":"IF(F394=\"\",0,MAX(E$4:E393)+1)","v":0},"",0,null,null,null,null,null,null,null,null,null,null,null,null,null,null,null,null,null,null,null,null,null,null,null,null,null,null,null,null,null,null,null,null,null,null,null,null,null,null,null,null,null,null,null,null,null,null,null,null,null,null,null,null,null,null,null,null,null,null,null,null,null,null,null,null,null,null,null,null,null,null,null,null,null,null,null,null,null,null,null,null,null,null,null,null,null,null,null,null,null,null,null,null,null,null,null,null,null,null,null,null,{"$f":"IF(Tools_176=\"-\",\"N\",IF(Tools_176=\"\",\"N\",IF(Tools_176_Sel=\"\",\"N\",\"Y\")))","v":"N"},"","","","","","","","","","","","","","","","","","","","","","","","","","","","","","","","","","","","","","","","","","","","","","","","","","","","","","","","","","","","","","","","","","","","","","","","","","","","","","","","","","","","","","","","","","","","","","","","","","","","","",null,null,null,null,null,null,null,null,null,null,null,null,null,null,null,null,null,null,null,null,null,null,"","","","","","","","","","","","","","","","","","","",""]
[null,null,"-",null,{"$f":"IF(F398=\"\",0,MAX(E$4:E397)+1)","v":0},"",0,null,null,null,null,null,null,null,null,null,null,null,null,null,null,null,null,null,null,null,null,null,null,null,null,null,null,null,null,null,null,null,null,null,null,null,null,null,null,null,null,null,null,null,null,null,null,null,null,null,null,null,null,null,null,null,null,null,null,null,null,null,null,null,null,null,null,null,null,null,null,null,null,null,null,null,null,null,null,null,null,null,null,null,null,null,null,null,null,null,null,null,null,null,null,null,null,null,null,null,null,{"$f":"IF(Tools_180=\"-\",\"N\",IF(Tools_180=\"\",\"N\",IF(Tools_180_Sel=\"\",\"N\",\"Y\")))","v":"N"},"","","","","","","","","","","","","","","","","","","","","","","","","","","","","","","","","","","","","","","","","","","","","","","","","","","","","","","","","","","","","","","","","","","","","","","","","","","","","","","","","","","","","","","","","","","","","",{"$f":"IF($DD398=\"Y\",IF(CW398=\"X\",CONCATENATE($C398,\", \"),\"\"),\"\")","v":""},"","","","","","","",null,null,null,null,null,null,null,null,null,null,null,null,null,null,null,null,null,null,null,null,null,null,"","","","","","","","","","","","","","","","","","","",""]
[null,null,"Bolts",null,{"$f":"IF(F403=\"\",0,MAX(E$4:E402)+1)","v":0},"",0,null,null,null,null,null,null,null,null,null,null,null,null,null,null,null,null,null,null,null,null,null,null,null,null,null,null,null,null,null,null,null,null,null,null,null,null,null,null,null,null,null,null,null,null,null,null,null,null,null,null,null,null,null,null,null,null,null,null,null,null,null,null,null,null,null,null,null,null,null,null,null,null,null,null,null,null,null,null,null,null,null,null,null,null,null,null,null,null,null,null,null,null,null,null,null,null,null,null,null,null,{"$f":"IF(Mats_5=\"-\",\"N\",IF(Mats_5=\"\",\"N\",IF(Mats_5_Sel=\"\",\"N\",\"Y\")))","v":"N"},"","","","","","","","","","","","","","","","","","","","","","","","","","","","","","","","","","","","","","","","","","","","","","","","","","","","","","","","","","","","","","","","","","","","","","","","","","","","","","","","","","","","","","","","","","","","","","","","","","","","","",null,null,null,null,null,null,null,null,null,null,null,null,null,null,null,null,null,null,null,null,null,null,"","","","","","","","","","","","","","","","","","","",""]
["Materials",null,"Concrete Curing Compound",null,{"$f":"IF(F408=\"\",0,MAX(E$4:E407)+1)","v":0},"",1,null,null,null,null,null,null,null,null,null,null,null,null,null,null,null,null,"X",null,null,null,null,null,null,null,null,null,null,null,null,null,null,null,null,null,null,null,null,null,null,null,null,null,null,null,null,null,null,null,null,null,null,null,null,null,null,null,null,null,null,null,null,null,null,null,null,null,null,null,null,null,null,null,null,null,null,null,null,null,null,null,null,null,null,null,null,null,null,null,null,null,null,null,null,null,null,null,null,null,null,null,{"$f":"IF(Mats_10=\"-\",\"N\",IF(Mats_10=\"\",\"N\",IF(Mats_10_Sel=\"\",\"N\",\"Y\")))","v":"N"},"","","","","","","","","","","","","","","","","","","","","","","","","","","","","","","","","","","","","","","","","","","","","","","","","","","","","","","","","","","","","","","","","","","","","","","","","","","","","","","","","","","","","","","","","","","","","","","","","","","","","",null,null,null,null,null,null,null,null,null,null,null,null,null,null,null,null,null,null,null,null,null,null,"","","","","","","","","","","","","","","","","","","",""]
[null,null,"Concrete Plank",null,{"$f":"IF(F410=\"\",0,MAX(E$4:E409)+1)","v":0},"",0,null,null,null,null,null,null,null,null,null,null,null,null,null,null,null,null,null,null,null,null,null,null,null,null,null,null,null,null,null,null,null,null,null,null,null,null,null,null,null,null,null,null,null,null,null,null,null,null,null,null,null,null,null,null,null,null,null,null,null,null,null,null,null,null,null,null,null,null,null,null,null,null,null,null,null,null,null,null,null,null,null,null,null,null,null,null,null,null,null,null,null,null,null,null,null,null,null,null,null,null,{"$f":"IF(Mats_12=\"-\",\"N\",IF(Mats_12=\"\",\"N\",IF(Mats_12_Sel=\"\",\"N\",\"Y\")))","v":"N"},"","","","","","","","","","","","","","","","","","","","","","","","","","","","","","","","","","","","","","","","","","","","","","","","","","","","","","","","","","","","","","","","","","","","","","","","","","","","","","","","","","","","","","","","","","","","","","","","","","","","","",null,null,null,null,null,null,null,null,null,null,null,null,null,null,null,null,null,null,null,null,null,null,"","","","","","","","","","","","","","","","","","","",""]
[null,null,"Debris - Concrete",null,{"$f":"IF(F413=\"\",0,MAX(E$4:E412)+1)","v":0},"",1,null,null,null,null,null,null,null,null,"X",null,null,null,null,null,null,null,null,null,null,null,null,null,null,null,null,null,null,null,null,null,null,null,null,null,null,null,null,null,null,null,null,null,null,null,null,null,null,null,null,null,null,null,null,null,null,null,null,null,null,null,null,null,null,null,null,null,null,null,null,null,null,null,null,null,null,null,null,null,null,null,null,null,null,null,null,null,null,null,null,null,null,null,null,null,null,null,null,null,null,null,{"$f":"IF(Mats_15=\"-\",\"N\",IF(Mats_15=\"\",\"N\",IF(Mats_15_Sel=\"\",\"N\",\"Y\")))","v":"N"},"","","","","","","","","","","","","","","","","","","","","","","","","","","","","","","","","","","","","","","","","","","","","","","","","","","","","","","","","","","","","","","","","","","","","","","","","","","","","","","","","","","","","","","","","","","","","","","","","","","","","",null,null,null,null,null,null,null,null,null,"X",null,null,null,null,null,null,null,null,null,null,null,null,"","","","","","","","","","","","","","","","","","","",""]
["Materials",null,"Debris - Steel",null,{"$f":"IF(F417=\"\",0,MAX(E$4:E416)+1)","v":0},"",0,null,null,null,null,null,null,null,null,null,null,null,null,null,null,null,null,null,null,null,null,null,null,null,null,null,null,null,null,null,null,null,null,null,null,null,null,null,null,null,null,null,null,null,null,null,null,null,null,null,null,null,null,null,null,null,null,null,null,null,null,null,null,null,null,null,null,null,null,null,null,null,null,null,null,null,null,null,null,null,null,null,null,null,null,null,null,null,null,null,null,null,null,null,null,null,null,null,null,null,null,{"$f":"IF(Mats_19=\"-\",\"N\",IF(Mats_19=\"\",\"N\",IF(Mats_19_Sel=\"\",\"N\",\"Y\")))","v":"N"},"","","","","","","","","","","","","","","","","","","","","","","","","","","","","","","","","","","","","","","","","","","","","","","","","","","","","","","","","","","","","","","","","","","","","","","","","","","","","","","","","","","","","","","","","","","","","","","","","","","","","",null,null,null,null,null,null,null,null,null,"X",null,null,null,null,null,null,null,null,null,null,null,null,"","","","","","","","","","","","","","","","","","","",""]
[null,null,"Elevator Rails",null,{"$f":"IF(F422=\"\",0,MAX(E$4:E421)+1)","v":0},"",2,"X",null,null,null,"X",null,null,null,null,null,null,null,null,null,null,null,null,null,null,null,null,null,null,null,null,null,null,null,null,null,null,null,null,null,null,null,null,null,null,null,null,null,null,null,null,null,null,null,null,null,null,null,null,null,null,null,null,null,null,null,null,null,null,null,null,null,null,null,null,null,null,null,null,null,null,null,null,null,null,null,null,null,null,null,null,null,null,null,null,null,null,null,null,null,null,null,null,null,null,null,{"$f":"IF(Mats_24=\"-\",\"N\",IF(Mats_24=\"\",\"N\",IF(Mats_24_Sel=\"\",\"N\",\"Y\")))","v":"N"},"","","","","","","","","","","","","","","","","","","","","","","","","","","","","","","","","","","","","","","","","","","","","","","","","","","","","","","","","","","","","","","","","","","","","","","","","","","","","","","","","","","","","","","","","","","","","","","","","","","","","",null,null,null,null,null,null,null,null,null,null,null,null,null,null,null,null,null,null,null,null,null,null,"","","","","","","","","","","","","","","","","","","",""]
[null,null,"Fence Chain Link",null,{"$f":"IF(F423=\"\",0,MAX(E$4:E422)+1)","v":0},"",0,null,null,null,null,null,null,null,null,null,null,null,null,null,null,null,null,null,null,null,null,null,null,null,null,null,null,null,null,null,null,null,null,null,null,null,null,null,null,null,null,null,null,null,null,null,null,null,null,null,null,null,null,null,null,null,null,null,null,null,null,null,null,null,null,null,null,null,null,null,null,null,null,null,null,null,null,null,null,null,null,null,null,null,null,null,null,null,null,null,null,null,null,null,null,null,null,null,null,null,null,{"$f":"IF(Mats_25=\"-\",\"N\",IF(Mats_25=\"\",\"N\",IF(Mats_25_Sel=\"\",\"N\",\"Y\")))","v":"N"},"","","","","","","","","","","","","","","","","","","","","","","","","","","","","","","","","","","","","","","","","","","","","","","","","","","","","","","","","","","","","","","","","","","","","","","","","","","","","","","","","","","","","","","","","","","","","","","","","","","","","",null,null,null,null,null,null,null,null,null,null,null,null,null,null,null,null,null,null,null,null,null,null,"","","","","","","","","","","","","","","","","","","",""]
[null,null,"Forms - Timber",null,{"$f":"IF(F427=\"\",0,MAX(E$4:E426)+1)","v":0},"",0,null,null,null,null,null,null,null,null,null,null,null,null,null,null,null,null,null,null,null,null,null,null,null,null,null,null,null,null,null,null,null,null,null,null,null,null,null,null,null,null,null,null,null,null,null,null,null,null,null,null,null,null,null,null,null,null,null,null,null,null,null,null,null,null,null,null,null,null,null,null,null,null,null,null,null,null,null,null,null,null,null,null,null,null,null,null,null,null,null,null,null,null,null,null,null,null,null,null,null,null,{"$f":"IF(Mats_29=\"-\",\"N\",IF(Mats_29=\"\",\"N\",IF(Mats_29_Sel=\"\",\"N\",\"Y\")))","v":"N"},"","","","","","","","","","","","","","","","","","","","","","","","","","","","","","","","","","","","","","","","","","","","","","","","","","","","","","","","","","","","","","","","","","","","","","","","","","","","","","","","","","","","","","","","","","","","","","","","","","","","","",null,null,null,null,null,null,null,null,null,null,null,null,null,null,null,null,null,null,null,null,null,null,"","","","","","","","","","","","","","","","","","","",""]
[null,null,"Geo Textile",null,{"$f":"IF(F432=\"\",0,MAX(E$4:E431)+1)","v":0},"",0,null,null,null,null,null,null,null,null,null,null,null,null,null,null,null,null,null,null,null,null,null,null,null,null,null,null,null,null,null,null,null,null,null,null,null,null,null,null,null,null,null,null,null,null,null,null,null,null,null,null,null,null,null,null,null,null,null,null,null,null,null,null,null,null,null,null,null,null,null,null,null,null,null,null,null,null,null,null,null,null,null,null,null,null,null,null,null,null,null,null,null,null,null,null,null,null,null,null,null,null,{"$f":"IF(Mats_34=\"-\",\"N\",IF(Mats_34=\"\",\"N\",IF(Mats_34_Sel=\"\",\"N\",\"Y\")))","v":"N"},"","","","","","","","","","","","","","","","","","","","","","","","","","","","","","","","","","","","","","","","","","","","","","","","","","","","","","","","","","","","","","","","","","","","","","","","","","","","","","","","","","","","","","","","","","","","","","","","","","","","","",null,null,null,null,null,null,null,null,null,null,null,null,null,null,null,null,null,null,null,null,null,null,"","","","","","","","","","","","","","","","","","","",""]
[null,null,"Glass",null,{"$f":"IF(F434=\"\",0,MAX(E$4:E433)+1)","v":0},"",0,null,null,null,null,null,null,null,null,null,null,null,null,null,null,null,null,null,null,null,null,null,null,null,null,null,null,null,null,null,null,null,null,null,null,null,null,null,null,null,null,null,null,null,null,null,null,null,null,null,null,null,null,null,null,null,null,null,null,null,null,null,null,null,null,null,null,null,null,null,null,null,null,null,null,null,null,null,null,null,null,null,null,null,null,null,null,null,null,null,null,null,null,null,null,null,null,null,null,null,null,{"$f":"IF(Mats_36=\"-\",\"N\",IF(Mats_36=\"\",\"N\",IF(Mats_36_Sel=\"\",\"N\",\"Y\")))","v":"N"},"","","","","","","","","","","","","","","","","","","","","","","","","","","","","","","","","","","","","","","","","","","","","","","","","","","","","","","","","","","","","","","","","","","","","","","","","","","","","","","","","","","","","","","","","","","","","","","","","","","","","",null,null,null,null,null,null,null,null,null,null,null,null,null,null,null,null,null,null,null,null,null,null,"","","","","","","","","","","","","","","","","","","",""]
[null,null,"Halon",null,{"$f":"IF(F437=\"\",0,MAX(E$4:E436)+1)","v":0},"",2,null,null,null,null,"X",null,null,null,null,null,null,null,null,null,null,null,null,null,null,null,null,null,null,null,null,null,null,null,null,"X",null,null,null,null,null,null,null,null,null,null,null,null,null,null,null,null,null,null,null,null,null,null,null,null,null,null,null,null,null,null,null,null,null,null,null,null,null,null,null,null,null,null,null,null,null,null,null,null,null,null,null,null,null,null,null,null,null,null,null,null,null,null,null,null,null,null,null,null,null,null,{"$f":"IF(Mats_39=\"-\",\"N\",IF(Mats_39=\"\",\"N\",IF(Mats_39_Sel=\"\",\"N\",\"Y\")))","v":"N"},"","","","","","","","","","","","","","","","","","","","","","","","","","","","","","","","","","","","","","","","","","","","","","","","","","","","","","","","","","","","","","","","","","","","","","","","","","","","","","","","","","","","","","","","","","","","","","","","","","","","","",null,null,null,null,null,null,null,null,null,null,null,null,null,null,null,null,null,null,null,null,null,null,"","","","","","","","","","","","","","","","","","","",""]
[null,null,"Masonry Blocks",null,{"$f":"IF(F442=\"\",0,MAX(E$4:E441)+1)","v":0},"",0,null,null,null,null,null,null,null,null,null,null,null,null,null,null,null,null,null,null,null,null,null,null,null,null,null,null,null,null,null,null,null,null,null,null,null,null,null,null,null,null,null,null,null,null,null,null,null,null,null,null,null,null,null,null,null,null,null,null,null,null,null,null,null,null,null,null,null,null,null,null,null,null,null,null,null,null,null,null,null,null,null,null,null,null,null,null,null,null,null,null,null,null,null,null,null,null,null,null,null,null,{"$f":"IF(Mats_44=\"-\",\"N\",IF(Mats_44=\"\",\"N\",IF(Mats_44_Sel=\"\",\"N\",\"Y\")))","v":"N"},"","","","","","","","","","","","","","","","","","","","","","","","","","","","","","","","","","","","","","","","","","","","","","","","","","","","","","","","","","","","","","","","","","","","","","","","","","","","","","","","","","","","","","","","","","","","","","","","","","","","","",null,null,null,null,null,null,null,null,null,"X",null,null,null,null,null,null,null,null,null,null,null,null,"","","","","","","","","","","","","","","","","","","",""]
[null,null,"Mortar",null,{"$f":"IF(F446=\"\",0,MAX(E$4:E445)+1)","v":0},"",0,null,null,null,null,null,null,null,null,null,null,null,null,null,null,null,null,null,null,null,null,null,null,null,null,null,null,null,null,null,null,null,null,null,null,null,null,null,null,null,null,null,null,null,null,null,null,null,null,null,null,null,null,null,null,null,null,null,null,null,null,null,null,null,null,null,null,null,null,null,null,null,null,null,null,null,null,null,null,null,null,null,null,null,null,null,null,null,null,null,null,null,null,null,null,null,null,null,null,null,null,{"$f":"IF(Mats_48=\"-\",\"N\",IF(Mats_48=\"\",\"N\",IF(Mats_48_Sel=\"\",\"N\",\"Y\")))","v":"N"},"","","","","","","","","","","","","","","","","","","","","","","","","","","","","","","","","","","","","","","","","","","","","","","","","","","","","","","","","","","","","","","","","","","","","","","","","","","","","","","","","","","","","","","","","","","","","","","","","","","","","",null,null,null,null,null,null,null,null,null,null,null,null,null,null,null,null,null,null,null,null,null,null,"","","","","","","","","","","","","","","","","","","",""]
[null,null,"Pipe - Metal",null,{"$f":"IF(F451=\"\",0,MAX(E$4:E450)+1)","v":0},"",1,null,null,"X",null,null,null,null,null,null,null,null,null,null,null,null,null,null,null,null,null,null,null,null,null,null,null,null,null,null,null,null,null,null,null,null,null,null,null,null,null,null,null,null,null,null,null,null,null,null,null,null,null,null,null,null,null,null,null,null,null,null,null,null,null,null,null,null,null,null,null,null,null,null,null,null,null,null,null,null,null,null,null,null,null,null,null,null,null,null,null,null,null,null,null,null,null,null,null,null,null,{"$f":"IF(Mats_53=\"-\",\"N\",IF(Mats_53=\"\",\"N\",IF(Mats_53_Sel=\"\",\"N\",\"Y\")))","v":"N"},"","","","","","","","","","","","","","","","","","","","","","","","","","","","","","","","","","","","","","","","","","","","","","","","","","","","","","","","","","","","","","","","","","","","","","","","","","","","","","","","","","","","","","","","","","","","","","","","","","","","","",null,null,null,null,null,null,null,null,null,"X",null,null,null,null,null,null,null,null,null,null,null,null,"","","","","","","","","","","","","","","","","","","",""]
[null,null,"Plants",null,{"$f":"IF(F454=\"\",0,MAX(E$4:E453)+1)","v":0},"",1,null,null,null,null,null,null,null,null,null,null,null,null,null,null,null,null,null,null,null,null,null,null,null,null,null,null,null,null,null,null,null,null,null,null,null,null,null,null,null,null,null,null,null,null,null,null,null,null,null,null,null,null,null,null,null,null,null,null,null,null,null,null,null,null,null,null,null,null,null,null,null,null,null,null,null,null,null,null,null,null,null,null,null,null,null,null,null,null,null,null,null,null,null,null,null,null,null,null,null,null,{"$f":"IF(Mats_56=\"-\",\"N\",IF(Mats_56=\"\",\"N\",IF(Mats_56_Sel=\"\",\"N\",\"Y\")))","v":"N"},"","","","","","","","","","","","","","","","","","","","","","","","","","","","","","","","","","","","","","","","","","","","","","","","","","","","","","","","","","","","","","","","","","","","","","","","","","","","","","","","","","","","","","","","","","","","","","","","","","","","","",null,null,null,null,null,null,"X",null,null,null,null,null,null,null,null,null,null,null,null,null,null,null,"","","","","","","","","","","","","","","","","","","",""]
[null,null,"Polyethylene",null,{"$f":"IF(F456=\"\",0,MAX(E$4:E455)+1)","v":0},"",0,null,null,null,null,null,null,null,null,null,null,null,null,null,null,null,null,null,null,null,null,null,null,null,null,null,null,null,null,null,null,null,null,null,null,null,null,null,null,null,null,null,null,null,null,null,null,null,null,null,null,null,null,null,null,null,null,null,null,null,null,null,null,null,null,null,null,null,null,null,null,null,null,null,null,null,null,null,null,null,null,null,null,null,null,null,null,null,null,null,null,null,null,null,null,null,null,null,null,null,null,{"$f":"IF(Mats_58=\"-\",\"N\",IF(Mats_58=\"\",\"N\",IF(Mats_58_Sel=\"\",\"N\",\"Y\")))","v":"N"},"","","","","","","","","","","","","","","","","","","","","","","","","","","","","","","","","","","","","","","","","","","","","","","","","","","","","","","","","","","","","","","","","","","","","","","","","","","","","","","","","","","","","","","","","","","","","","","","","","","","","",null,null,null,null,null,null,null,null,null,"X",null,null,null,null,null,null,null,null,null,null,null,null,"","","","","","","","","","","","","","","","","","","",""]
[null,null,"Rebar",null,{"$f":"IF(F459=\"\",0,MAX(E$4:E458)+1)","v":0},"",2,null,"X",null,null,null,null,null,null,null,null,null,null,null,null,null,null,null,null,null,null,null,null,null,null,null,"X",null,null,null,null,null,null,null,null,null,null,null,null,null,null,null,null,null,null,null,null,null,null,null,null,null,null,null,null,null,null,null,null,null,null,null,null,null,null,null,null,null,null,null,null,null,null,null,null,null,null,null,null,null,null,null,null,null,null,null,null,null,null,null,null,null,null,null,null,null,null,null,null,null,null,{"$f":"IF(Mats_61=\"-\",\"N\",IF(Mats_61=\"\",\"N\",IF(Mats_61_Sel=\"\",\"N\",\"Y\")))","v":"N"},"","","","","","","","","","","","","","","","","","","","","","","","","","","","","","","","","","","","","","","","","","","","","","","","","","","","","","","","","","","","","","","","","","","","","","","","","","","","","","","","","","","","","","","","","","","","","","","","","","","","","",{"$f":"CONCATENATE(HA459,HA460,HA461,HA462,HA463,HA464,HA465,HA466,HA467,HA468,HA469,HA470,HA471,HA472,HA473,HA474,HA475,HA476,HA477,HA478,HA479,HA480,HA481,HA482,HA483,HA484,HA485,HA486,HA487,HA488)","v":""},null,null,null,null,null,null,null,null,null,null,null,null,null,null,null,null,null,null,null,null,null,"","","","","","","","","","","","","","","","","","","",""]
[null,null,"Silt Fence",null,{"$f":"IF(F465=\"\",0,MAX(E$4:E464)+1)","v":0},"",0,null,null,null,null,null,null,null,null,null,null,null,null,null,null,null,null,null,null,null,null,null,null,null,null,null,null,null,null,null,null,null,null,null,null,null,null,null,null,null,null,null,null,null,null,null,null,null,null,null,null,null,null,null,null,null,null,null,null,null,null,null,null,null,null,null,null,null,null,null,null,null,null,null,null,null,null,null,null,null,null,null,null,null,null,null,null,null,null,null,null,null,null,null,null,null,null,null,null,null,null,{"$f":"IF(Mats_67=\"-\",\"N\",IF(Mats_67=\"\",\"N\",IF(Mats_67_Sel=\"\",\"N\",\"Y\")))","v":"N"},"","","","","","","","","","","","","","","","","","","","","","","","","","","","","","","","","","","","","","","","","","","","","","","","","","","","","","","","","","","","","","","","","","","","","","","","","","","","","","","","","","","","","","","","","","","","","","","","","","","","","",null,null,null,null,null,null,null,null,null,null,null,null,null,null,null,null,null,null,null,null,null,null,"","","","","","","","","","","","","","","","","","","",""]
[null,null,"Snow Fence",null,{"$f":"IF(F466=\"\",0,MAX(E$4:E465)+1)","v":0},"",0,null,null,null,null,null,null,null,null,null,null,null,null,null,null,null,null,null,null,null,null,null,null,null,null,null,null,null,null,null,null,null,null,null,null,null,null,null,null,null,null,null,null,null,null,null,null,null,null,null,null,null,null,null,null,null,null,null,null,null,null,null,null,null,null,null,null,null,null,null,null,null,null,null,null,null,null,null,null,null,null,null,null,null,null,null,null,null,null,null,null,null,null,null,null,null,null,null,null,null,null,{"$f":"IF(Mats_68=\"-\",\"N\",IF(Mats_68=\"\",\"N\",IF(Mats_68_Sel=\"\",\"N\",\"Y\")))","v":"N"},"","","","","","","","","","","","","","","","","","","","","","","","","","","","","","","","","","","","","","","","","","","","","","","","","","","","","","","","","","","","","","","","","","","","","","","","","","","","","","","","","","","","","","","","","","","","","","","","","","","","","",null,null,null,null,null,null,null,null,null,null,null,null,null,null,null,null,null,null,null,null,null,null,"","","","","","","","","","","","","","","","","","","",""]
["Materials",null,"Stone",null,{"$f":"IF(F471=\"\",0,MAX(E$4:E470)+1)","v":0},"",0,null,null,null,null,null,null,null,null,null,null,null,null,null,null,null,null,null,null,null,null,null,null,null,null,null,null,null,null,null,null,null,null,null,null,null,null,null,null,null,null,null,null,null,null,null,null,null,null,null,null,null,null,null,null,null,null,null,null,null,null,null,null,null,null,null,null,null,null,null,null,null,null,null,null,null,null,null,null,null,null,null,null,null,null,null,null,null,null,null,null,null,null,null,null,null,null,null,null,null,null,{"$f":"IF(Mats_73=\"-\",\"N\",IF(Mats_73=\"\",\"N\",IF(Mats_73_Sel=\"\",\"N\",\"Y\")))","v":"N"},"","","","","","","","","","","","","","","","","","","","","","","","","","","","","","","","","","","","","","","","","","","","","","","","","","","","","","","","","","","","","","","","","","","","","","","","","","","","","","","","","","","","","","","","","","","","","","","","","","","","","",null,null,null,null,null,null,null,null,null,null,null,null,null,null,null,null,null,null,null,null,null,null,"","","","","","","","","","","","","","","","","","","",""]
[null,null,"Tie Wraps",null,{"$f":"IF(F475=\"\",0,MAX(E$4:E474)+1)","v":0},"",0,null,null,null,null,null,null,null,null,null,null,null,null,null,null,null,null,null,null,null,null,null,null,null,null,null,null,null,null,null,null,null,null,null,null,null,null,null,null,null,null,null,null,null,null,null,null,null,null,null,null,null,null,null,null,null,null,null,null,null,null,null,null,null,null,null,null,null,null,null,null,null,null,null,null,null,null,null,null,null,null,null,null,null,null,null,null,null,null,null,null,null,null,null,null,null,null,null,null,null,null,{"$f":"IF(Mats_77=\"-\",\"N\",IF(Mats_77=\"\",\"N\",IF(Mats_77_Sel=\"\",\"N\",\"Y\")))","v":"N"},"","","","","","","","","","","","","","","","","","","","","","","","","","","","","","","","","","","","","","","","","","","","","","","","","","","","","","","","","","","","","","","","","","","","","","","","","","","","","","","","","","","","","","","","","","","","","","","","","","","","","",null,null,null,null,null,null,null,null,null,null,null,null,null,null,null,null,null,null,null,null,null,null,"","","","","","","","","","","","","","","","","","","",""]
[null,null,"Timber - Plywood",null,{"$f":"IF(F479=\"\",0,MAX(E$4:E478)+1)","v":0},"",0,null,null,null,null,null,null,null,null,null,null,null,null,null,null,null,null,null,null,null,null,null,null,null,null,null,null,null,null,null,null,null,null,null,null,null,null,null,null,null,null,null,null,null,null,null,null,null,null,null,null,null,null,null,null,null,null,null,null,null,null,null,null,null,null,null,null,null,null,null,null,null,null,null,null,null,null,null,null,null,null,null,null,null,null,null,null,null,null,null,null,null,null,null,null,null,null,null,null,null,null,{"$f":"IF(Mats_81=\"-\",\"N\",IF(Mats_81=\"\",\"N\",IF(Mats_81_Sel=\"\",\"N\",\"Y\")))","v":"N"},"","","","","","","","","","","","","","","","","","","","","","","","","","","","","","","","","","","","","","","","","","","","","","","","","","","","","","","","","","","","","","","","","","","","","","","","","","","","","","","","","","","","","","","","","","","","","","","","","","","","","",null,null,null,null,null,null,null,null,null,"X",null,null,null,null,null,null,null,null,null,null,null,null,"","","","","","","","","","","","","","","","","","","",""]
["Materials",null,"Timber - Wedges",null,{"$f":"IF(F480=\"\",0,MAX(E$4:E479)+1)","v":0},"",0,null,null,null,null,null,null,null,null,null,null,null,null,null,null,null,null,null,null,null,null,null,null,null,null,null,null,null,null,null,null,null,null,null,null,null,null,null,null,null,null,null,null,null,null,null,null,null,null,null,null,null,null,null,null,null,null,null,null,null,null,null,null,null,null,null,null,null,null,null,null,null,null,null,null,null,null,null,null,null,null,null,null,null,null,null,null,null,null,null,null,null,null,null,null,null,null,null,null,null,null,{"$f":"IF(Mats_82=\"-\",\"N\",IF(Mats_82=\"\",\"N\",IF(Mats_82_Sel=\"\",\"N\",\"Y\")))","v":"N"},"","","","","","","","","","","","","","","","","","","","","","","","","","","","","","","","","","","","","","","","","","","","","","","","","","","","","","","","","","","","","","","","","","","","","","","","","","","","","","","","","","","","","","","","","","","","","","","","","","","","","",null,null,null,null,null,null,null,null,null,"X",null,null,null,null,null,null,null,null,null,null,null,null,"","","","","","","","","","","","","","","","","","","",""]
[null,null,"Traffic Protection Devices",null,{"$f":"IF(F484=\"\",0,MAX(E$4:E483)+1)","v":0},"",1,null,null,null,null,null,null,null,null,null,null,null,null,null,null,null,null,null,null,null,null,null,null,null,null,null,null,null,null,null,null,null,null,null,null,null,null,null,null,null,null,null,null,null,null,null,null,null,null,null,null,null,null,null,null,null,null,null,null,null,null,null,null,null,null,null,null,null,null,null,null,null,null,null,null,null,null,null,null,null,null,null,null,null,null,null,null,null,null,null,null,null,null,null,null,null,null,null,null,null,null,{"$f":"IF(Mats_86=\"-\",\"N\",IF(Mats_86=\"\",\"N\",IF(Mats_86_Sel=\"\",\"N\",\"Y\")))","v":"N"},"","","","","","","","","","","","","","","","","","","","","","","","","","","","","","","","","","","","","","","","","","","","","","","","","","","","","","","","","","","","","","","","","","","","","","","","","","","","","","","","","","","","","","","","","","","","","","","","","","","","","",null,null,null,"X",null,null,null,null,null,null,null,null,null,"X",null,null,null,null,null,null,null,null,"","","","","","","","","","","","","","","","","","","",""]
["Materials",null,"White or Black Bags",null,{"$f":"IF(F489=\"\",0,MAX(E$4:E488)+1)","v":0},"",0,null,null,null,null,null,null,null,null,null,null,null,null,null,null,null,null,null,null,null,null,null,null,null,null,null,null,null,null,null,null,null,null,null,null,null,null,null,null,null,null,null,null,null,null,null,null,null,null,null,null,null,null,null,null,null,null,null,null,null,null,null,null,null,null,null,null,null,null,null,null,null,null,null,null,null,null,null,null,null,null,null,null,null,null,null,null,null,null,null,null,null,null,null,null,null,null,null,null,null,null,{"$f":"IF(Mats_91=\"-\",\"N\",IF(Mats_91=\"\",\"N\",IF(Mats_91_Sel=\"\",\"N\",\"Y\")))","v":"N"},"","","","","","","","","","","","","","","","","","","","","","","","","","","","","","","","","","","","","","","","","","","","","","","","","","","","","","","","","","","","","","","","","","","","","","","","","","","","","","","","","","","","","","","","","","","","","","","","","","","","","",{"$f":"CONCATENATE(HA489,HA490,HA491,HA492,HA493,HA494,HA495,HA496,HA497,HA498,HA499,HA500,HA501,HA502,HA503,HA504,HA505,HA506,HA507,HA508,HA509,HA510,HA511,HA512,HA513,HA514,HA515,HA516,HA517,HA518)","v":""},null,null,null,null,null,null,null,null,"X",null,null,null,null,null,null,null,null,null,null,null,null,"","","","","","","","","","","","","","","","","","","",""]
[null,null,"-",null,{"$f":"IF(F494=\"\",0,MAX(E$4:E493)+1)","v":0},"",0,null,null,null,null,null,null,null,null,null,null,null,null,null,null,null,null,null,null,null,null,null,null,null,null,null,null,null,null,null,null,null,null,null,null,null,null,null,null,null,null,null,null,null,null,null,null,null,null,null,null,null,null,null,null,null,null,null,null,null,null,null,null,null,null,null,null,null,null,null,null,null,null,null,null,null,null,null,null,null,null,null,null,null,null,null,null,null,null,null,null,null,null,null,null,null,null,null,null,null,null,{"$f":"IF(Mats_96=\"-\",\"N\",IF(Mats_96=\"\",\"N\",IF(Mats_96_Sel=\"\",\"N\",\"Y\")))","v":"N"},"","","","","","","","","","","","","","","","","","","","","","","","","","","","","","","","","","","","","","","","","","","","","","","","","","","","","","","","","","","","","","","","","","","","","","","","","","","","","","","","","","","","","","","","","","","","","","","","","","","","","",null,null,null,null,null,null,null,null,null,null,null,null,null,null,null,null,null,null,null,null,null,null,"","","","","","","","","","","","","","","","","","","",""]
[null,null,"-",null,{"$f":"IF(F496=\"\",0,MAX(E$4:E495)+1)","v":0},"",0,null,null,null,null,null,null,null,null,null,null,null,null,null,null,null,null,null,null,null,null,null,null,null,null,null,null,null,null,null,null,null,null,null,null,null,null,null,null,null,null,null,null,null,null,null,null,null,null,null,null,null,null,null,null,null,null,null,null,null,null,null,null,null,null,null,null,null,null,null,null,null,null,null,null,null,null,null,null,null,null,null,null,null,null,null,null,null,null,null,null,null,null,null,null,null,null,null,null,null,null,{"$f":"IF(Mats_98=\"-\",\"N\",IF(Mats_98=\"\",\"N\",IF(Mats_98_Sel=\"\",\"N\",\"Y\")))","v":"N"},"","","","","","","","","","","","","","","","","","","","","","","","","","","","","","","","","","","","","","","","","","","","","","","","","","","","","","","","","","","","","","","","","","","","","","","","","","","","","","","","","","","","","","","","","","","","","","","","","","","","","",null,null,null,null,null,null,null,null,null,null,null,null,null,null,null,null,null,null,null,null,null,null,"","","","","","","","","","","","","","","","","","","",""]
[null,null,"-",null,{"$f":"IF(F499=\"\",0,MAX(E$4:E498)+1)","v":0},"",0,null,null,null,null,null,null,null,null,null,null,null,null,null,null,null,null,null,null,null,null,null,null,null,null,null,null,null,null,null,null,null,null,null,null,null,null,null,null,null,null,null,null,null,null,null,null,null,null,null,null,null,null,null,null,null,null,null,null,null,null,null,null,null,null,null,null,null,null,null,null,null,null,null,null,null,null,null,null,null,null,null,null,null,null,null,null,null,null,null,null,null,null,null,null,null,null,null,null,null,null,{"$f":"IF(Mats_101=\"-\",\"N\",IF(Mats_101=\"\",\"N\",IF(Mats_101_Sel=\"\",\"N\",\"Y\")))","v":"N"},"","","","","","","","","","","","","","","","","","","","","","","","","","","","","","","","","","","","","","","","","","","","","","","","","","","","","","","","","","","","","","","","","","","","","","","","","","","","","","","","","","","","","","","","","","","","","","","","","","","","","",null,null,null,null,null,null,null,null,null,null,null,null,null,null,null,null,null,null,null,null,null,null,"","","","","","","","","","","","","","","","","","","",""]
[null,null,"-",null,{"$f":"IF(F504=\"\",0,MAX(E$4:E503)+1)","v":0},"",0,null,null,null,null,null,null,null,null,null,null,null,null,null,null,null,null,null,null,null,null,null,null,null,null,null,null,null,null,null,null,null,null,null,null,null,null,null,null,null,null,null,null,null,null,null,null,null,null,null,null,null,null,null,null,null,null,null,null,null,null,null,null,null,null,null,null,null,null,null,null,null,null,null,null,null,null,null,null,null,null,null,null,null,null,null,null,null,null,null,null,null,null,null,null,null,null,null,null,null,null,{"$f":"IF(Mats_106=\"-\",\"N\",IF(Mats_106=\"\",\"N\",IF(Mats_106_Sel=\"\",\"N\",\"Y\")))","v":"N"},"","","","","","","","","","","","","","","","","","","","","","","","","","","","","","","","","","","","","","","","","","","","","","","","","","","","","","","","","","","","","","","","","","","","","","","","","","","","","","","","","","","","","","","","","","","","","","","","","","","",{"$f":"IF($DD504=\"Y\",IF(DC504=\"X\",CONCATENATE($C504,\", \"),\"\"),\"\")","v":""},"",null,null,null,null,null,null,null,null,null,null,null,null,null,null,null,null,null,null,null,null,null,null,"","","","","","","","","","","","","","","","","","","",""]
[null,null,"-",null,{"$f":"IF(F508=\"\",0,MAX(E$4:E507)+1)","v":0},{"$f":"IF(D508=\"\",\"\",IF(DD508=\"N\",\"\",CONCATENATE(D508,\" (\",C508,\"), \")))","v":""},0,null,null,null,null,null,null,null,null,null,null,null,null,null,null,null,null,null,null,null,null,null,null,null,null,null,null,null,null,null,null,null,null,null,null,null,null,null,null,null,null,null,null,null,null,null,null,null,null,null,null,null,null,null,null,null,null,null,null,null,null,null,null,null,null,null,null,null,null,null,null,null,null,null,null,null,null,null,null,null,null,null,null,null,null,null,null,null,null,null,null,null,null,null,null,null,null,null,null,null,null,{"$f":"IF(Mats_110=\"-\",\"N\",IF(Mats_110=\"\",\"N\",IF(Mats_110_Sel=\"\",\"N\",\"Y\")))","v":"N"},"","","","","","","","","","","","","","","","","","","","","","","","","","","","",{"$f":"IF($DD508=\"Y\",IF(AJ508=\"X\",CONCATENATE($C508,\", \"),\"\"),\"\")","v":""},{"$f":"IF($DD508=\"Y\",IF(AK508=\"X\",CONCATENATE($C508,\", \"),\"\"),\"\")","v":""},{"$f":"IF($DD508=\"Y\",IF(AL508=\"X\",CONCATENATE($C508,\", \"),\"\"),\"\")","v":""},"","","","","","","","","","","","","","","","","","","","","","","","","","","","","","","","","","","","","","","","","","","","","","","","","","","","","","","","","","","","","","","","","","","","","",{"$f":"IF(DD508=\"Y\",CONCATENATE(C508,\", \"),\"\")","v":""},null,null,null,null,null,null,null,null,null,null,null,null,null,null,null,null,null,null,null,null,null,null,{"$f":"IF($DD508=\"Y\",HD508,\"\")","v":""},{"$f":"IF($DD508=\"Y\",HE508,\"\")","v":""},{"$f":"IF($DD508=\"Y\",HF508,\"\")","v":""},{"$f":"IF($DD508=\"Y\",HG508,\"\")","v":""},{"$f":"IF($DD508=\"Y\",HH508,\"\")","v":""},{"$f":"IF($DD508=\"Y\",HI508,\"\")","v":""},{"$f":"IF($DD508=\"Y\",HJ508,\"\")","v":""},{"$f":"IF($DD508=\"Y\",HK508,\"\")","v":""},{"$f":"IF($DD508=\"Y\",HL508,\"\")","v":""},{"$f":"IF($DD508=\"Y\",HM508,\"\")","v":""},{"$f":"IF($DD508=\"Y\",HN508,\"\")","v":""},{"$f":"IF($DD508=\"Y\",HO508,\"\")","v":""},{"$f":"IF($DD508=\"Y\",HP508,\"\")","v":""},{"$f":"IF($DD508=\"Y\",HQ508,\"\")","v":""},{"$f":"IF($DD508=\"Y\",HR508,\"\")","v":""},{"$f":"IF($DD508=\"Y\",HS508,\"\")","v":""},{"$f":"IF($DD508=\"Y\",HT508,\"\")","v":""},{"$f":"IF($DD508=\"Y\",HU508,\"\")","v":""},{"$f":"IF($DD508=\"Y\",HV508,\"\")","v":""},{"$f":"IF($DD508=\"Y\",HW508,\"\")","v":""}]
[null,null,"-",null,{"$f":"IF(F509=\"\",0,MAX(E$4:E508)+1)","v":0},"",0,null,null,null,null,null,null,null,null,null,null,null,null,null,null,null,null,null,null,null,null,null,null,null,null,null,null,null,null,null,null,null,null,null,null,null,null,null,null,null,null,null,null,null,null,null,null,null,null,null,null,null,null,null,null,null,null,null,null,null,null,null,null,null,null,null,null,null,null,null,null,null,null,null,null,null,null,null,null,null,null,null,null,null,null,null,null,null,null,null,null,null,null,null,null,null,null,null,null,null,null,{"$f":"IF(Mats_111=\"-\",\"N\",IF(Mats_111=\"\",\"N\",IF(Mats_111_Sel=\"\",\"N\",\"Y\")))","v":"N"},"","","","","","","","","","","","","","","","","","","","","","",{"$f":"IF($DD509=\"Y\",IF(AD509=\"X\",CONCATENATE($C509,\", \"),\"\"),\"\")","v":""},{"$f":"IF($DD509=\"Y\",IF(AE509=\"X\",CONCATENATE($C509,\", \"),\"\"),\"\")","v":""},{"$f":"IF($DD509=\"Y\",IF(AF509=\"X\",CONCATENATE($C509,\", \"),\"\"),\"\")","v":""},"","","","","","","","","","","",{"$f":"IF($DD509=\"Y\",IF(AR509=\"X\",CONCATENATE($C509,\", \"),\"\"),\"\")","v":""},{"$f":"IF($DD509=\"Y\",IF(AS509=\"X\",CONCATENATE($C509,\", \"),\"\"),\"\")","v":""},{"$f":"IF($DD509=\"Y\",IF(AT509=\"X\",CONCATENATE($C509,\", \"),\"\"),\"\")","v":""},{"$f":"IF($DD509=\"Y\",IF(AU509=\"X\",CONCATENATE($C509,\", \"),\"\"),\"\")","v":""},{"$f":"IF($DD509=\"Y\",IF(AV509=\"X\",CONCATENATE($C509,\", \"),\"\"),\"\")","v":""},"","","","","","","","","","","","","","","","","","","","","","","","","","","","","","","","","","","","","","","","","","","","","","","","","","","","","","","","","","","","",null,null,null,null,null,null,null,null,null,null,null,null,null,null,null,null,null,null,null,null,null,null,"","","","","","","","","","","","","","","","","","","",""]
[null,null,"-",null,{"$f":"IF(F513=\"\",0,MAX(E$4:E512)+1)","v":0},"",0,null,null,null,null,null,null,null,null,null,null,null,null,null,null,null,null,null,null,null,null,null,null,null,null,null,null,null,null,null,null,null,null,null,null,null,null,null,null,null,null,null,null,null,null,null,null,null,null,null,null,null,null,null,null,null,null,null,null,null,null,null,null,null,null,null,null,null,null,null,null,null,null,null,null,null,null,null,null,null,null,null,null,null,null,null,null,null,null,null,null,null,null,null,null,null,null,null,null,null,null,{"$f":"IF(Mats_115=\"-\",\"N\",IF(Mats_115=\"\",\"N\",IF(Mats_115_Sel=\"\",\"N\",\"Y\")))","v":"N"},"","","","","","","","","","","","","","","","","","","","","","","","","","","","","","","","","","","","","","","","","","","","","","","","","","","","","","","","","","","","","","","","","","","","","","","","","","","","","","","","","","","","","","","","","","","","","","","","","","","","","",null,null,null,null,null,null,null,null,null,null,null,null,null,null,null,null,null,null,null,null,null,null,"","","","","","","","","","","","","","","","","","","",""]
[null,null,"-",null,{"$f":"IF(F518=\"\",0,MAX(E$4:E517)+1)","v":0},"",0,null,null,null,null,null,null,null,null,null,null,null,null,null,null,null,null,null,null,null,null,null,null,null,null,null,null,null,null,null,null,null,null,null,null,null,null,null,null,null,null,null,null,null,null,null,null,null,null,null,null,null,null,null,null,null,null,null,null,null,null,null,null,null,null,null,null,null,null,null,null,null,null,null,null,null,null,null,null,null,null,null,null,null,null,null,null,null,null,null,null,null,null,null,null,null,null,null,null,null,null,{"$f":"IF(Mats_120=\"-\",\"N\",IF(Mats_120=\"\",\"N\",IF(Mats_120_Sel=\"\",\"N\",\"Y\")))","v":"N"},"","","","","","","","","","","","","","","","","","","","","","","","","","","","","","","","","","","","","","","","","","","","","","","","","","","","","","","","","","","","","","","","","","","","","","","","","","","","","","","","","","","","","","","","","","","","","","","","","","","","","",null,null,null,null,null,null,null,null,null,null,null,null,null,null,null,null,null,null,null,null,null,null,"","","","","","","","","","","","","","","","","","","",""]
[null,null,"-",null,{"$f":"IF(F521=\"\",0,MAX(E$4:E520)+1)","v":0},"",0,null,null,null,null,null,null,null,null,null,null,null,null,null,null,null,null,null,null,null,null,null,null,null,null,null,null,null,null,null,null,null,null,null,null,null,null,null,null,null,null,null,null,null,null,null,null,null,null,null,null,null,null,null,null,null,null,null,null,null,null,null,null,null,null,null,null,null,null,null,null,null,null,null,null,null,null,null,null,null,null,null,null,null,null,null,null,null,null,null,null,null,null,null,null,null,null,null,null,null,null,{"$f":"IF(Mats_123=\"-\",\"N\",IF(Mats_123=\"\",\"N\",IF(Mats_123_Sel=\"\",\"N\",\"Y\")))","v":"N"},"","","","","","","","","","","","","","","","","","","","","","","","","","","","","","","","","","","","","","","","","","","","","","","","","",{"$f":"IF($DD521=\"Y\",IF(BE521=\"X\",CONCATENATE($C521,\", \"),\"\"),\"\")","v":""},{"$f":"IF($DD521=\"Y\",IF(BF521=\"X\",CONCATENATE($C521,\", \"),\"\"),\"\")","v":""},{"$f":"IF($DD521=\"Y\",IF(BG521=\"X\",CONCATENATE($C521,\", \"),\"\"),\"\")","v":""},{"$f":"IF($DD521=\"Y\",IF(BH521=\"X\",CONCATENATE($C521,\", \"),\"\"),\"\")","v":""},"","","","","","","","","","","","","","","","","","","","","","","","","","","","","","","","","","","","","","","","","","","","","","","","",null,null,null,null,null,null,null,null,null,null,null,null,null,null,null,null,null,null,null,null,null,null,"","","","","","","","","","","","","","","","","","","",""]
[null,null,"-",null,{"$f":"IF(F523=\"\",0,MAX(E$4:E522)+1)","v":0},"",0,null,null,null,null,null,null,null,null,null,null,null,null,null,null,null,null,null,null,null,null,null,null,null,null,null,null,null,null,null,null,null,null,null,null,null,null,null,null,null,null,null,null,null,null,null,null,null,null,null,null,null,null,null,null,null,null,null,null,null,null,null,null,null,null,null,null,null,null,null,null,null,null,null,null,null,null,null,null,null,null,null,null,null,null,null,null,null,null,null,null,null,null,null,null,null,null,null,null,null,null,{"$f":"IF(Mats_125=\"-\",\"N\",IF(Mats_125=\"\",\"N\",IF(Mats_125_Sel=\"\",\"N\",\"Y\")))","v":"N"},"","","","","","","","","","","","","","","","","","","","","","","","","","","","","","","","","","","","","","","","","","","","","","","","","","","","","","","","","","","","","","","","","","","","","","","","","","","","","","","","","","","","","","","","","","","","","","","","","","","","","",null,null,null,null,null,null,null,null,null,null,null,null,null,null,null,null,null,null,null,null,null,null,"","","","","","","","","","","","","","","","","","","",""]
[null,null,"-",null,{"$f":"IF(F528=\"\",0,MAX(E$4:E527)+1)","v":0},"",0,null,null,null,null,null,null,null,null,null,null,null,null,null,null,null,null,null,null,null,null,null,null,null,null,null,null,null,null,null,null,null,null,null,null,null,null,null,null,null,null,null,null,null,null,null,null,null,null,null,null,null,null,null,null,null,null,null,null,null,null,null,null,null,null,null,null,null,null,null,null,null,null,null,null,null,null,null,null,null,null,null,null,null,null,null,null,null,null,null,null,null,null,null,null,null,null,null,null,null,null,{"$f":"IF(Mats_130=\"-\",\"N\",IF(Mats_130=\"\",\"N\",IF(Mats_130_Sel=\"\",\"N\",\"Y\")))","v":"N"},"","","","","","","","","","","","","","","","","","","","","","","","","","","","","","","","","","","","","","","","","","","","","","","","","","","","","","","","","","","","","","","","","","","","","","","","","","","","","","","","","","","","","","","","","","","","","","","","","","","","","",null,null,null,null,null,null,null,null,null,null,null,null,null,null,null,null,null,null,null,null,null,null,"","","","","","","","","","","","","","","","","","","",""]
[null,null,"-",null,{"$f":"IF(F532=\"\",0,MAX(E$4:E531)+1)","v":0},"",0,null,null,null,null,null,null,null,null,null,null,null,null,null,null,null,null,null,null,null,null,null,null,null,null,null,null,null,null,null,null,null,null,null,null,null,null,null,null,null,null,null,null,null,null,null,null,null,null,null,null,null,null,null,null,null,null,null,null,null,null,null,null,null,null,null,null,null,null,null,null,null,null,null,null,null,null,null,null,null,null,null,null,null,null,null,null,null,null,null,null,null,null,null,null,null,null,null,null,null,null,{"$f":"IF(Mats_134=\"-\",\"N\",IF(Mats_134=\"\",\"N\",IF(Mats_134_Sel=\"\",\"N\",\"Y\")))","v":"N"},"","","","","","","","","","","","","","","","","","","","","","","","","","","","","","","","","","","","","","","","","","","","","","","","","","","","","","","","","","","","","","","","","",{"$f":"IF($DD532=\"Y\",IF(BU532=\"X\",CONCATENATE($C532,\", \"),\"\"),\"\")","v":""},"","","","","","","","","","","","","","","","","","","","","","","","","","","","","","","","","","","",null,null,null,null,null,null,null,null,null,null,null,null,null,null,null,null,null,null,null,null,null,null,"","","","","","","","","","","","","","","","","","","",""]
[null,null,"-",null,{"$f":"IF(F537=\"\",0,MAX(E$4:E536)+1)","v":0},"",0,null,null,null,null,null,null,null,null,null,null,null,null,null,null,null,null,null,null,null,null,null,null,null,null,null,null,null,null,null,null,null,null,null,null,null,null,null,null,null,null,null,null,null,null,null,null,null,null,null,null,null,null,null,null,null,null,null,null,null,null,null,null,null,null,null,null,null,null,null,null,null,null,null,null,null,null,null,null,null,null,null,null,null,null,null,null,null,null,null,null,null,null,null,null,null,null,null,null,null,null,{"$f":"IF(Mats_139=\"-\",\"N\",IF(Mats_139=\"\",\"N\",IF(Mats_139_Sel=\"\",\"N\",\"Y\")))","v":"N"},"","","","","","","","","","","","","","","","","","","","","","","","","","","","","","","","","","","","","","","","","","","","","","","","","","","","","","","","","","",{"$f":"IF($DD537=\"Y\",IF(BN537=\"X\",CONCATENATE($C537,\", \"),\"\"),\"\")","v":""},"","","","","","","","","","","","","","","","","","","","","","","","","","","","","","","","","","","","","","",{"$f":"IF($DD537=\"Y\",IF(DA537=\"X\",CONCATENATE($C537,\", \"),\"\"),\"\")","v":""},{"$f":"IF($DD537=\"Y\",IF(DB537=\"X\",CONCATENATE($C537,\", \"),\"\"),\"\")","v":""},"","",null,null,null,null,null,null,null,null,null,null,null,null,null,null,null,null,null,null,null,null,null,null,"","","","","","","","","","","","","","","","","","","",""]
[null,null,"-",null,{"$f":"IF(F540=\"\",0,MAX(E$4:E539)+1)","v":0},"",0,null,null,null,null,null,null,null,null,null,null,null,null,null,null,null,null,null,null,null,null,null,null,null,null,null,null,null,null,null,null,null,null,null,null,null,null,null,null,null,null,null,null,null,null,null,null,null,null,null,null,null,null,null,null,null,null,null,null,null,null,null,null,null,null,null,null,null,null,null,null,null,null,null,null,null,null,null,null,null,null,null,null,null,null,null,null,null,null,null,null,null,null,null,null,null,null,null,null,null,null,{"$f":"IF(Mats_142=\"-\",\"N\",IF(Mats_142=\"\",\"N\",IF(Mats_142_Sel=\"\",\"N\",\"Y\")))","v":"N"},"","","","","","","","","","","","","","","","","","","","","","","","","","","","","","","","","","","","","","","","","","","","","","","","","","","","","","","","","","","","","","","","","","","","","","","","","","","","","","","","","","","","","","","","","","","","","","","","","","","","","",null,null,null,null,null,null,null,null,null,null,null,null,null,null,null,null,null,null,null,null,null,null,"","","","","","","","","","","","","","","","","","","",""]
[null,null,"-",null,{"$f":"IF(F542=\"\",0,MAX(E$4:E541)+1)","v":0},"",0,null,null,null,null,null,null,null,null,null,null,null,null,null,null,null,null,null,null,null,null,null,null,null,null,null,null,null,null,null,null,null,null,null,null,null,null,null,null,null,null,null,null,null,null,null,null,null,null,null,null,null,null,null,null,null,null,null,null,null,null,null,null,null,null,null,null,null,null,null,null,null,null,null,null,null,null,null,null,null,null,null,null,null,null,null,null,null,null,null,null,null,null,null,null,null,null,null,null,null,null,{"$f":"IF(Mats_144=\"-\",\"N\",IF(Mats_144=\"\",\"N\",IF(Mats_144_Sel=\"\",\"N\",\"Y\")))","v":"N"},"","","","","","","","","","","","","","","","","","","","","","","","","","","","","","","","","","","","","","","","","","","","","","","","","","","","","","","","","","","","","","","","","","","","","","","","","","","","","","","","","","","","","","","","","","","","","","","","","","","","","",null,null,null,null,null,null,null,null,null,null,null,null,null,null,null,null,null,null,null,null,null,null,"","","","","","","","","","","","","","","","","","","",""]
[null,null,"-",null,{"$f":"IF(F545=\"\",0,MAX(E$4:E544)+1)","v":0},"",0,null,null,null,null,null,null,null,null,null,null,null,null,null,null,null,null,null,null,null,null,null,null,null,null,null,null,null,null,null,null,null,null,null,null,null,null,null,null,null,null,null,null,null,null,null,null,null,null,null,null,null,null,null,null,null,null,null,null,null,null,null,null,null,null,null,null,null,null,null,null,null,null,null,null,null,null,null,null,null,null,null,null,null,null,null,null,null,null,null,null,null,null,null,null,null,null,null,null,null,null,{"$f":"IF(Mats_147=\"-\",\"N\",IF(Mats_147=\"\",\"N\",IF(Mats_147_Sel=\"\",\"N\",\"Y\")))","v":"N"},"","","","","","","","","","","","","","","","","","","","","","","","","","","","","","","","","","","","","","","","","","","","","","","","","","","","","","","","","","","","","","","","","","","","","","","","","","","","","","","","","","","","","","","","","","","","","","","","","","","","","",null,null,null,null,null,null,null,null,null,null,null,null,null,null,null,null,null,null,null,null,null,null,"","","","","","","","","","","","","","","","","","","",""]
[null,null,"-",null,{"$f":"IF(F551=\"\",0,MAX(E$4:E550)+1)","v":0},"",0,null,null,null,null,null,null,null,null,null,null,null,null,null,null,null,null,null,null,null,null,null,null,null,null,null,null,null,null,null,null,null,null,null,null,null,null,null,null,null,null,null,null,null,null,null,null,null,null,null,null,null,null,null,null,null,null,null,null,null,null,null,null,null,null,null,null,null,null,null,null,null,null,null,null,null,null,null,null,null,null,null,null,null,null,null,null,null,null,null,null,null,null,null,null,null,null,null,null,null,null,{"$f":"IF(Mats_153=\"-\",\"N\",IF(Mats_153=\"\",\"N\",IF(Mats_153_Sel=\"\",\"N\",\"Y\")))","v":"N"},"","","","","","","","","","","","","","","","","","","","","","","","","","","","","","","","","","","","","","","","","","","","","","","","","","","","","","","","","","","","","","","","","","","","","","","","","","","","","","","","","","","","","","","","","","","","","","","","","","","","","",null,null,null,null,null,null,null,null,null,null,null,null,null,null,null,null,null,null,null,null,null,null,"","","","","","","","","","","","","","","","","","","",""]
["Materials",null,"-",null,{"$f":"IF(F552=\"\",0,MAX(E$4:E551)+1)","v":0},"",0,null,null,null,null,null,null,null,null,null,null,null,null,null,null,null,null,null,null,null,null,null,null,null,null,null,null,null,null,null,null,null,null,null,null,null,null,null,null,null,null,null,null,null,null,null,null,null,null,null,null,null,null,null,null,null,null,null,null,null,null,null,null,null,null,null,null,null,null,null,null,null,null,null,null,null,null,null,null,null,null,null,null,null,null,null,null,null,null,null,null,null,null,null,null,null,null,null,null,null,null,{"$f":"IF(Mats_154=\"-\",\"N\",IF(Mats_154=\"\",\"N\",IF(Mats_154_Sel=\"\",\"N\",\"Y\")))","v":"N"},"","","","","","","","","","","","","","","","","","","",{"$f":"IF($DD552=\"Y\",IF(AA552=\"X\",CONCATENATE($C552,\", \"),\"\"),\"\")","v":""},{"$f":"IF($DD552=\"Y\",IF(AB552=\"X\",CONCATENATE($C552,\", \"),\"\"),\"\")","v":""},{"$f":"IF($DD552=\"Y\",IF(AC552=\"X\",CONCATENATE($C552,\", \"),\"\"),\"\")","v":""},{"$f":"IF($DD552=\"Y\",IF(AD552=\"X\",CONCATENATE($C552,\", \"),\"\"),\"\")","v":""},{"$f":"IF($DD552=\"Y\",IF(AE552=\"X\",CONCATENATE($C552,\", \"),\"\"),\"\")","v":""},{"$f":"IF($DD552=\"Y\",IF(AF552=\"X\",CONCATENATE($C552,\", \"),\"\"),\"\")","v":""},{"$f":"IF($DD552=\"Y\",IF(AG552=\"X\",CONCATENATE($C552,\", \"),\"\"),\"\")","v":""},{"$f":"IF($DD552=\"Y\",IF(AH552=\"X\",CONCATENATE($C552,\", \"),\"\"),\"\")","v":""},{"$f":"IF($DD552=\"Y\",IF(AI552=\"X\",CONCATENATE($C552,\", \"),\"\"),\"\")","v":""},{"$f":"IF($DD552=\"Y\",IF(AJ552=\"X\",CONCATENATE($C552,\", \"),\"\"),\"\")","v":""},{"$f":"IF($DD552=\"Y\",IF(AK552=\"X\",CONCATENATE($C552,\", \"),\"\"),\"\")","v":""},{"$f":"IF($DD552=\"Y\",IF(AL552=\"X\",CONCATENATE($C552,\", \"),\"\"),\"\")","v":""},{"$f":"IF($DD552=\"Y\",IF(AM552=\"X\",CONCATENATE($C552,\", \"),\"\"),\"\")","v":""},{"$f":"IF($DD552=\"Y\",IF(AN552=\"X\",CONCATENATE($C552,\", \"),\"\"),\"\")","v":""},{"$f":"IF($DD552=\"Y\",IF(AO552=\"X\",CONCATENATE($C552,\", \"),\"\"),\"\")","v":""},{"$f":"IF($DD552=\"Y\",IF(AP552=\"X\",CONCATENATE($C552,\", \"),\"\"),\"\")","v":""},"","","","","","","","","","","","","","","","","","","","","","","","","","","","","","","","","","","","","","","","","","","","","","","","","","","","","","","","","","","","","","","","","","",null,null,null,null,null,null,null,null,null,null,null,null,null,null,null,null,null,null,null,null,null,null,"","","","","","","","","","","","","","","","","","","",""]
[null,null,"-",null,{"$f":"IF(F557=\"\",0,MAX(E$4:E556)+1)","v":0},"",0,null,null,null,null,null,null,null,null,null,null,null,null,null,null,null,null,null,null,null,null,null,null,null,null,null,null,null,null,null,null,null,null,null,null,null,null,null,null,null,null,null,null,null,null,null,null,null,null,null,null,null,null,null,null,null,null,null,null,null,null,null,null,null,null,null,null,null,null,null,null,null,null,null,null,null,null,null,null,null,null,null,null,null,null,null,null,null,null,null,null,null,null,null,null,null,null,null,null,null,null,{"$f":"IF(Mats_159=\"-\",\"N\",IF(Mats_159=\"\",\"N\",IF(Mats_159_Sel=\"\",\"N\",\"Y\")))","v":"N"},"","","","","","","","","","","","","","","","","","","","","","","","","","","","","","","","","","","","","","","","","","","","","","","","","","","","","","","","","","","","","","","","","","","","","","","","","","","","","","","","","","","","","","","","","","","","","","","","","","","","","",null,null,null,null,null,null,null,null,null,null,null,null,null,null,null,null,null,null,null,null,null,null,"","","","","","","","","","","","","","","","","","","",""]
["Materials",null,"-",null,{"$f":"IF(F561=\"\",0,MAX(E$4:E560)+1)","v":0},"",0,null,null,null,null,null,null,null,null,null,null,null,null,null,null,null,null,null,null,null,null,null,null,null,null,null,null,null,null,null,null,null,null,null,null,null,null,null,null,null,null,null,null,null,null,null,null,null,null,null,null,null,null,null,null,null,null,null,null,null,null,null,null,null,null,null,null,null,null,null,null,null,null,null,null,null,null,null,null,null,null,null,null,null,null,null,null,null,null,null,null,null,null,null,null,null,null,null,null,null,null,{"$f":"IF(Mats_163=\"-\",\"N\",IF(Mats_163=\"\",\"N\",IF(Mats_163_Sel=\"\",\"N\",\"Y\")))","v":"N"},"","","","","","","","","","","","","","","","","","","","","","","","","","","","","","","","","","","","","","","","","","","","","","","","","","","","","","","","","","","","","","","","","","","","","","","","","","","","","","","","","","","","","","","","","","","","","","","","","","","","","",null,null,null,null,null,null,null,null,null,null,null,null,null,null,null,null,null,null,null,null,null,null,"","","","","","","","","","","","","","","","","","","",""]
[null,null,"-",null,{"$f":"IF(F565=\"\",0,MAX(E$4:E564)+1)","v":0},"",0,null,null,null,null,null,null,null,null,null,null,null,null,null,null,null,null,null,null,null,null,null,null,null,null,null,null,null,null,null,null,null,null,null,null,null,null,null,null,null,null,null,null,null,null,null,null,null,null,null,null,null,null,null,null,null,null,null,null,null,null,null,null,null,null,null,null,null,null,null,null,null,null,null,null,null,null,null,null,null,null,null,null,null,null,null,null,null,null,null,null,null,null,null,null,null,null,null,null,null,null,{"$f":"IF(Mats_167=\"-\",\"N\",IF(Mats_167=\"\",\"N\",IF(Mats_167_Sel=\"\",\"N\",\"Y\")))","v":"N"},{"$f":"IF($DD565=\"Y\",IF(H565=\"X\",CONCATENATE($C565,\", \"),\"\"),\"\")","v":""},{"$f":"IF($DD565=\"Y\",IF(I565=\"X\",CONCATENATE($C565,\", \"),\"\"),\"\")","v":""},{"$f":"IF($DD565=\"Y\",IF(J565=\"X\",CONCATENATE($C565,\", \"),\"\"),\"\")","v":""},{"$f":"IF($DD565=\"Y\",IF(K565=\"X\",CONCATENATE($C565,\", \"),\"\"),\"\")","v":""},{"$f":"IF($DD565=\"Y\",IF(L565=\"X\",CONCATENATE($C565,\", \"),\"\"),\"\")","v":""},{"$f":"IF($DD565=\"Y\",IF(M565=\"X\",CONCATENATE($C565,\", \"),\"\"),\"\")","v":""},{"$f":"IF($DD565=\"Y\",IF(N565=\"X\",CONCATENATE($C565,\", \"),\"\"),\"\")","v":""},{"$f":"IF($DD565=\"Y\",IF(O565=\"X\",CONCATENATE($C565,\", \"),\"\"),\"\")","v":""},{"$f":"IF($DD565=\"Y\",IF(P565=\"X\",CONCATENATE($C565,\", \"),\"\"),\"\")","v":""},{"$f":"IF($DD565=\"Y\",IF(Q565=\"X\",CONCATENATE($C565,\", \"),\"\"),\"\")","v":""},{"$f":"IF($DD565=\"Y\",IF(R565=\"X\",CONCATENATE($C565,\", \"),\"\"),\"\")","v":""},"","","","","","","","","","","","","","","","","","","","","","","","","","","","","","","","","","","","","","","","","","","","","","","","","","","","","","","","","","","","","","","","","","","","","","","","","","","","","","","","","","","","","","","","","","",null,null,null,null,null,null,null,null,null,null,null,null,null,null,null,null,null,null,null,null,null,null,"","","","","","","","","","","","","","","","","","","",""]
[null,null,"-",null,{"$f":"IF(F566=\"\",0,MAX(E$4:E565)+1)","v":0},"",0,null,null,null,null,null,null,null,null,null,null,null,null,null,null,null,null,null,null,null,null,null,null,null,null,null,null,null,null,null,null,null,null,null,null,null,null,null,null,null,null,null,null,null,null,null,null,null,null,null,null,null,null,null,null,null,null,null,null,null,null,null,null,null,null,null,null,null,null,null,null,null,null,null,null,null,null,null,null,null,null,null,null,null,null,null,null,null,null,null,null,null,null,null,null,null,null,null,null,null,null,{"$f":"IF(Mats_168=\"-\",\"N\",IF(Mats_168=\"\",\"N\",IF(Mats_168_Sel=\"\",\"N\",\"Y\")))","v":"N"},"","","","","","","","","","","","","","","","","","","","","","","","","","","","","","","","","","","","","","","","","","","","","","","","","","","","","","","","","","","","","","","","","","","","","","","","","","","","","","","","","","","","","","",{"$f":"IF($DD566=\"Y\",IF(CP566=\"X\",CONCATENATE($C566,\", \"),\"\"),\"\")","v":""},{"$f":"IF($DD566=\"Y\",IF(CQ566=\"X\",CONCATENATE($C566,\", \"),\"\"),\"\")","v":""},{"$f":"IF($DD566=\"Y\",IF(CR566=\"X\",CONCATENATE($C566,\", \"),\"\"),\"\")","v":""},{"$f":"IF($DD566=\"Y\",IF(CS566=\"X\",CONCATENATE($C566,\", \"),\"\"),\"\")","v":""},{"$f":"IF($DD566=\"Y\",IF(CT566=\"X\",CONCATENATE($C566,\", \"),\"\"),\"\")","v":""},{"$f":"IF($DD566=\"Y\",IF(CU566=\"X\",CONCATENATE($C566,\", \"),\"\"),\"\")","v":""},"","","","","","","","","",null,null,null,null,null,null,null,null,null,null,null,null,null,null,null,null,null,null,null,null,null,null,"","","","","","","","","","","","","","","","","","","",""]
[null,null,"-",null,{"$f":"IF(F571=\"\",0,MAX(E$4:E570)+1)","v":0},"",{"$f":"COUNTIF(H571:HH571,\"x\")","v":0},null,null,null,null,null,null,null,null,null,null,null,null,null,null,null,null,null,null,null,null,null,null,null,null,null,null,null,null,null,null,null,null,null,null,null,null,null,null,null,null,null,null,null,null,null,null,null,null,null,null,null,null,null,null,null,null,null,null,null,null,null,null,null,null,null,null,null,null,null,null,null,null,null,null,null,null,null,null,null,null,null,null,null,null,null,null,null,null,null,null,null,null,null,null,null,null,null,null,null,null,{"$f":"IF(Mats_173=\"-\",\"N\",IF(Mats_173=\"\",\"N\",IF(Mats_173_Sel=\"\",\"N\",\"Y\")))","v":"N"},"","","","","","","","","","","","","","","","","","","","","","","","","","","","","","","","","","","","","","","","","","","","","","","","","","","","","","","","","","","","","","","","","","","","","","","","","","","","","","","","","","","","","","","","","","","","","","","","","","","","","",null,null,null,null,null,null,null,null,null,null,null,null,null,null,null,null,null,null,null,null,null,null,"","","","","","","","","","","","","","","","","","","",""]
[null,null,"-",null,{"$f":"IF(F574=\"\",0,MAX(E$4:E573)+1)","v":0},"",0,null,null,null,null,null,null,null,null,null,null,null,null,null,null,null,null,null,null,null,null,null,null,null,null,null,null,null,null,null,null,null,null,null,null,null,null,null,null,null,null,null,null,null,null,null,null,null,null,null,null,null,null,null,null,null,null,null,null,null,null,null,null,null,null,null,null,null,null,null,null,null,null,null,null,null,null,null,null,null,null,null,null,null,null,null,null,null,null,null,null,null,null,null,null,null,null,null,null,null,null,{"$f":"IF(Mats_176=\"-\",\"N\",IF(Mats_176=\"\",\"N\",IF(Mats_176_Sel=\"\",\"N\",\"Y\")))","v":"N"},"","","","","","","","","","","","","","","","","","","","","","","","","","","","","","","","","","","","","","","","","","","","","","","","","","","","","","","","","","","","","","","","","","","","","","","","","","","","","","","","","","","","","","","","","","","","","","","","","","","","","",null,null,null,null,null,null,null,null,null,null,null,null,null,null,null,null,null,null,null,null,null,null,"","","","","","","","","","","","","","","","","","","",""]
[null,null,"-",null,{"$f":"IF(F575=\"\",0,MAX(E$4:E574)+1)","v":0},"",0,null,null,null,null,null,null,null,null,null,null,null,null,null,null,null,null,null,null,null,null,null,null,null,null,null,null,null,null,null,null,null,null,null,null,null,null,null,null,null,null,null,null,null,null,null,null,null,null,null,null,null,null,null,null,null,null,null,null,null,null,null,null,null,null,null,null,null,null,null,null,null,null,null,null,null,null,null,null,null,null,null,null,null,null,null,null,null,null,null,null,null,null,null,null,null,null,null,null,null,null,{"$f":"IF(Mats_177=\"-\",\"N\",IF(Mats_177=\"\",\"N\",IF(Mats_177_Sel=\"\",\"N\",\"Y\")))","v":"N"},"","","","","","","","","","","","","","","","","","","","","","","","","","","","","","","","","","","","","","","","","","","","","","","","","","","","","","","","","","","","","","","","","","","","","","","","","","","","","","","","","","","","","","","","","","","","","","","","","","","","","",null,null,null,null,null,null,null,null,null,null,null,null,null,null,null,null,null,null,null,null,null,null,"","","","","","","","","","","","","","","","","","","",""]
[null,null,"-",null,{"$f":"IF(F576=\"\",0,MAX(E$4:E575)+1)","v":0},"",0,null,null,null,null,null,null,null,null,null,null,null,null,null,null,null,null,null,null,null,null,null,null,null,null,null,null,null,null,null,null,null,null,null,null,null,null,null,null,null,null,null,null,null,null,null,null,null,null,null,null,null,null,null,null,null,null,null,null,null,null,null,null,null,null,null,null,null,null,null,null,null,null,null,null,null,null,null,null,null,null,null,null,null,null,null,null,null,null,null,null,null,null,null,null,null,null,null,null,null,null,{"$f":"IF(Mats_178=\"-\",\"N\",IF(Mats_178=\"\",\"N\",IF(Mats_178_Sel=\"\",\"N\",\"Y\")))","v":"N"},"","","","","","","","","","","","","","","","","","","","","","","","","","","","","","","","","","","","","","","","","","","","","","","","","","","","","","","","","","","","","","","","","","","","","","","","","","","","","","","","","","","","","","","","","","","","","","","","","","","","","",null,null,null,null,null,null,null,null,null,null,null,null,null,null,null,null,null,null,null,null,null,null,"","","","","","","","","","","","","","","","","","","",""]
[null,null,"-",null,{"$f":"IF(F577=\"\",0,MAX(E$4:E576)+1)","v":0},"",0,null,null,null,null,null,null,null,null,null,null,null,null,null,null,null,null,null,null,null,null,null,null,null,null,null,null,null,null,null,null,null,null,null,null,null,null,null,null,null,null,null,null,null,null,null,null,null,null,null,null,null,null,null,null,null,null,null,null,null,null,null,null,null,null,null,null,null,null,null,null,null,null,null,null,null,null,null,null,null,null,null,null,null,null,null,null,null,null,null,null,null,null,null,null,null,null,null,null,null,null,{"$f":"IF(Mats_179=\"-\",\"N\",IF(Mats_179=\"\",\"N\",IF(Mats_179_Sel=\"\",\"N\",\"Y\")))","v":"N"},"","","","","","","","","","","","","","","","","","","","","","","","","","","","","","","","","","","","","","","","","","","","","","","","","","","","","","","","","","","","","","","","","","","","","","","","","","","","","","","","","","","","","","","","","","","","","","","","","","","","","",null,null,null,null,null,null,null,null,null,null,null,null,null,null,null,null,null,null,null,null,null,null,"","","","","","","","","","","","","","","","","","","",""]
[null,null,"-",null,{"$f":"IF(F578=\"\",0,MAX(E$4:E577)+1)","v":0},"",0,null,null,null,null,null,null,null,null,null,null,null,null,null,null,null,null,null,null,null,null,null,null,null,null,null,null,null,null,null,null,null,null,null,null,null,null,null,null,null,null,null,null,null,null,null,null,null,null,null,null,null,null,null,null,null,null,null,null,null,null,null,null,null,null,null,null,null,null,null,null,null,null,null,null,null,null,null,null,null,null,null,null,null,null,null,null,null,null,null,null,null,null,null,null,null,null,null,null,null,null,{"$f":"IF(Mats_180=\"-\",\"N\",IF(Mats_180=\"\",\"N\",IF(Mats_180_Sel=\"\",\"N\",\"Y\")))","v":"N"},"","","","","","","","","","","","","","","","","","","","","","","","","","","","","","","","","","","","","","","","","","","","","","","","","","","","","","","","","","","","","","","","","","","","","","","","","","","","","","","","","","","","","","","","","","","","","","","","","","","","","",null,null,null,null,null,null,null,null,null,null,null,null,null,null,null,null,null,null,null,null,null,null,"","","","","","","","","","","","","","","","","","","",""]
[null,null,null,null,null,null,null,null,null,null,null,null,null,null,null,null,null,null,null,null,null,null,null,null,null,null,null,null,null,null,null,null,null,null,null,null,null,null,null,null,null,null,null,null,null,null,null,null,null,null,null,null,null,null,null,null,null,null,null,null,null,null,null,null,null,null,null,null,null,null,null,null,null,null,null,null,null,null,null,null,null,null,null,null,null,null,null,null,null,null,null,null,null,null,null,null,null,null,null,null,null,null,null,null,null,null,null,"4-33",{"$f":"CONCATENATE(DE4,DE5,DE6,DE7,DE8,DE9,DE10,DE11,DE12,DE13,DE14,DE15,DE16,DE17,DE18,DE19,DE20,DE21,DE22,DE23,DE24,DE25,DE26,DE27,DE28,DE29,DE30,DE31,DE32,DE33)","v":""},{"$f":"CONCATENATE(DF4,DF5,DF6,DF7,DF8,DF9,DF10,DF11,DF12,DF13,DF14,DF15,DF16,DF17,DF18,DF19,DF20,DF21,DF22,DF23,DF24,DF25,DF26,DF27,DF28,DF29,DF30,DF31,DF32,DF33)","v":""},"","","","","","","","","","","","","","","","","","","","","","","","","","","","","","","","","","","","","","","","","","","","","","","","","","","","","","","","","","","","","","","",{"$f":"CONCATENATE(FR4,FR5,FR6,FR7,FR8,FR9,FR10,FR11,FR12,FR13,FR14,FR15,FR16,FR17,FR18,FR19,FR20,FR21,FR22,FR23,FR24,FR25,FR26,FR27,FR28,FR29,FR30,FR31,FR32,FR33)","v":""},"","","","","","","","","","","","","","","","","","","","","","","","","","","","","","","","","","",null,null,null,null,null,null,null,null,null,null,null,null,null,null,null,null,null,null,null,null,null,null,null,{"$f":"COUNTIF(HX4:HX578,\"X\")","v":0},0,0,0,0,0,0,0,0,0,0,0,0,0,0,0,0,0,0,0]
[null,"X",null,null,null,null,null,null,null,null,null,null,null,null,null,null,null,null,null,null,null,null,null,null,null,null,null,null,null,null,null,null,null,null,null,null,null,null,null,null,null,null,null,null,null,null,null,null,null,null,null,null,null,null,null,null,null,null,null,null,null,null,null,null,null,null,null,null,null,null,null,null,null,null,null,null,null,null,null,null,null,null,null,null,null,null,null,null,null,null,null,null,null,null,null,null,null,null,null,null,null,null,null,null,null,null,null,"34-76",{"$f":"CONCATENATE(DE34,DE35,DE36,DE37,DE38,DE39,DE40,DE41,DE42,DE43,DE44,DE45,DE46,DE47,DE48,DE49,DE50,DE51,DE52,DE53,DE54,DE55,DE56,DE57,DE58,DE59,DE60,DE61,DE62,DE63,DE64,DE65,DE66,DE67,DE68,DE69,DE70,DE71,DE72,DE73,DE74,DE75,DE76)","v":""},{"$f":"CONCATENATE(DF34,DF35,DF36,DF37,DF38,DF39,DF40,DF41,DF42,DF43,DF44,DF45,DF46,DF47,DF48,DF49,DF50,DF51,DF52,DF53,DF54,DF55,DF56,DF57,DF58,DF59,DF60,DF61,DF62,DF63,DF64,DF65,DF66,DF67,DF68,DF69,DF70,DF71,DF72,DF73,DF74,DF75,DF76)","v":""},"","","","","","","","","","","","","","","","","","","","","","","","","","","","","","","","","","","","","","","","","","","","","","","","","","","","","","","","","","","","","","","",{"$f":"CONCATENATE(FR34,FR35,FR36,FR37,FR38,FR39,FR40,FR41,FR42,FR43,FR44,FR45,FR46,FR47,FR48,FR49,FR50,FR51,FR52,FR53,FR54,FR55,FR56,FR57,FR58,FR59,FR60,FR61,FR62,FR63,FR64,FR65,FR66,FR67,FR68,FR69,FR70,FR71,FR72,FR73,FR74,FR75,FR76)","v":""},"","","","","","","","","","","","","","","","","","","","","","","","","","","","","","","","","",""]
[null,null,null,null,null,null,null,null,null,null,null,null,null,null,null,null,null,null,null,null,null,null,null,null,null,null,null,null,null,null,null,null,null,null,null,null,null,null,null,null,null,null,null,null,null,null,null,null,null,null,null,null,null,null,null,null,null,null,null,null,null,null,null,null,null,null,null,null,null,null,null,null,null,null,null,null,null,null,null,null,null,null,null,null,null,null,null,null,null,null,null,null,null,null,null,null,null,null,null,null,null,null,null,null,null,null,null,"77-124",{"$f":"CONCATENATE(DE77,DE78,DE79,DE80,DE81,DE82,DE83,DE84,DE85,DE86,DE87,DE88,DE89,DE90,DE91,DE92,DE93,DE94,DE95,DE96,DE97,DE98,DE99,DE100,DE101,DE102,DE103,DE104,DE105,DE106,DE107,DE108,DE109,DE110,DE111,DE112,DE113,DE114,DE115,DE116,DE117,DE118,DE119,DE120,DE121,DE122,DE123,DE124)","v":""},{"$f":"CONCATENATE(DF77,DF78,DF79,DF80,DF81,DF82,DF83,DF84,DF85,DF86,DF87,DF88,DF89,DF90,DF91,DF92,DF93,DF94,DF95,DF96,DF97,DF98,DF99,DF100,DF101,DF102,DF103,DF104,DF105,DF106,DF107,DF108,DF109,DF110,DF111,DF112,DF113,DF114,DF115,DF116,DF117,DF118,DF119,DF120,DF121,DF122,DF123,DF124)","v":""},"","","","","","","","","","","","","","","","","","","","","","","","","","","","","","","","","","","","","","","","","","","","","","","","","","","","","","","","","","","","","","","",{"$f":"CONCATENATE(FR77,FR78,FR79,FR80,FR81,FR82,FR83,FR84,FR85,FR86,FR87,FR88,FR89,FR90,FR91,FR92,FR93,FR94,FR95,FR96,FR97,FR98,FR99,FR100,FR101,FR102,FR103,FR104,FR105,FR106,FR107,FR108,FR109,FR110,FR111,FR112,FR113,FR114,FR115,FR116,FR117,FR118,FR119,FR120,FR121,FR122,FR123,FR124)","v":""},"","","","","","","","","","","","","","","","","","","","","","","","","","","","","","","","","",""]
[null,null,null,null,1,{"$f":"IF(E582>MAX(E$4:E$578),\"\",VLOOKUP(E582,E$4:F$578,2,FALSE))","v":""},null,null,null,null,null,null,null,null,null,null,null,null,null,null,null,null,null,null,null,null,null,null,null,null,null,null,null,null,null,null,null,null,null,null,null,null,null,null,null,null,null,null,null,null,null,null,null,null,null,null,null,null,null,null,null,null,null,null,null,null,null,null,null,null,null,null,null,null,null,null,null,null,null,null,null,null,null,null,null,null,null,null,null,null,null,null,null,null,null,null,null,null,null,null,null,null,null,null,null,null,null,"125-175",{"$f":"CONCATENATE(DE125,DE126,DE127,DE128,DE129,DE130,DE131,DE132,DE133,DE134,DE135,DE136,DE137,DE138,DE139,DE140,DE141,DE142,DE143,DE144,DE145,DE146,DE147,DE148,DE149,DE150,DE151,DE152,DE153,DE154,DE155,DE156,DE157,DE158,DE159,DE160,DE161,DE162,DE163,DE164,DE165,DE166,DE167,DE168,DE169,DE170,DE171,DE172,DE173,DE174,DE175)","v":""},{"$f":"CONCATENATE(DF125,DF126,DF127,DF128,DF129,DF130,DF131,DF132,DF133,DF134,DF135,DF136,DF137,DF138,DF139,DF140,DF141,DF142,DF143,DF144,DF145,DF146,DF147,DF148,DF149,DF150,DF151,DF152,DF153,DF154,DF155,DF156,DF157,DF158,DF159,DF160,DF161,DF162,DF163,DF164,DF165,DF166,DF167,DF168,DF169,DF170,DF171,DF172,DF173,DF174,DF175)","v":""},"","","","","","","","","","","","","","","","","","","","","","","","","","","","","","","","","","","","","","","","","","","","","","","","","","","","","","","","","","","","","","","",{"$f":"CONCATENATE(FR125,FR126,FR127,FR128,FR129,FR130,FR131,FR132,FR133,FR134,FR135,FR136,FR137,FR138,FR139,FR140,FR141,FR142,FR143,FR144,FR145,FR146,FR147,FR148,FR149,FR150,FR151,FR152,FR153,FR154,FR155,FR156,FR157,FR158,FR159,FR160,FR161,FR162,FR163,FR164,FR165,FR166,FR167,FR168,FR169,FR170,FR171,FR172,FR173,FR174,FR175)","v":""},"","","","","","","","","","","","","","","","","","","","","","","","","","","","","","","","","",""]
[null,null,null,null,{"$f":"E582+1","v":2},"",null,null,null,null,null,null,null,null,null,null,null,null,null,null,null,null,null,null,null,null,null,null,null,null,null,null,null,null,null,null,null,null,null,null,null,null,null,null,null,null,null,null,null,null,null,null,null,null,null,null,null,null,null,null,null,null,null,null,null,null,null,null,null,null,null,null,null,null,null,null,null,null,null,null,null,null,null,null,null,null,null,null,null,null,null,null,null,null,null,null,null,null,null,null,null,null,null,null,null,null,null,"176-208",{"$f":"CONCATENATE(DE176,DE177,DE178,DE179,DE180,DE181,DE182,DE183,DE184,DE185,DE186,DE187,DE188,DE189,DE190,DE191,DE192,DE193,DE194,DE195,DE196,DE197,DE198,DE199,DE200,DE201,DE202,DE203,DE204,DE205,DE206,DE207,DE208)","v":""},{"$f":"CONCATENATE(DF176,DF177,DF178,DF179,DF180,DF181,DF182,DF183,DF184,DF185,DF186,DF187,DF188,DF189,DF190,DF191,DF192,DF193,DF194,DF195,DF196,DF197,DF198,DF199,DF200,DF201,DF202,DF203,DF204,DF205,DF206,DF207,DF208)","v":""},"","","","","","","","","","","","","","","","","","","","","","","","","","","","","","","","","","","","","","","","","","","","","","","","","","","","","","","","","","","","","","","",{"$f":"CONCATENATE(FR176,FR177,FR178,FR179,FR180,FR181,FR182,FR183,FR184,FR185,FR186,FR187,FR188,FR189,FR190,FR191,FR192,FR193,FR194,FR195,FR196,FR197,FR198,FR199,FR200,FR201,FR202,FR203,FR204,FR205,FR206,FR207,FR208)","v":""},"","","","","","","","","","","","","","","","","","","","","","","","","","","","","","","","","",""]
[null,null,null,null,{"$f":"E583+1","v":3},"",null,null,null,null,null,null,null,null,null,null,null,null,null,null,null,null,null,null,null,null,null,null,null,null,null,null,null,null,null,null,null,null,null,null,null,null,null,null,null,null,null,null,null,null,null,null,null,null,null,null,null,null,null,null,null,null,null,null,null,null,null,null,null,null,null,null,null,null,null,null,null,null,null,null,null,null,null,null,null,null,null,null,null,null,null,null,null,null,null,null,null,null,null,null,null,null,null,null,null,null,null,"209-238",{"$f":"CONCATENATE(DE209,DE210,DE211,DE212,DE213,DE214,DE215,DE216,DE217,DE218,DE219,DE220,DE221,DE222,DE223,DE224,DE225,DE226,DE227,DE228,DE229,DE230,DE231,DE232,DE233,DE234,DE235,DE236,DE237,DE238)","v":""},{"$f":"CONCATENATE(DF209,DF210,DF211,DF212,DF213,DF214,DF215,DF216,DF217,DF218,DF219,DF220,DF221,DF222,DF223,DF224,DF225,DF226,DF227,DF228,DF229,DF230,DF231,DF232,DF233,DF234,DF235,DF236,DF237,DF238)","v":""},"","","","","","","","","","","","","","","","","","","","","","","","","","","","","","","","","","","","","","","","","","","","","","","","","","","","","","","","","","","","","","","",{"$f":"CONCATENATE(FR209,FR210,FR211,FR212,FR213,FR214,FR215,FR216,FR217,FR218,FR219,FR220,FR221,FR222,FR223,FR224,FR225,FR226,FR227,FR228,FR229,FR230,FR231,FR232,FR233,FR234,FR235,FR236,FR237,FR238)","v":""},"","","","","","","","","","","","","","","","","","","","","","","","","","","","","","","","","",""]
[null,null,null,null,4,"",null,null,null,null,null,null,null,null,null,null,null,null,null,null,null,null,null,null,null,null,null,null,null,null,null,null,null,null,null,null,null,null,null,null,null,null,null,null,null,null,null,null,null,null,null,null,null,null,null,null,null,null,null,null,null,null,null,null,null,null,null,null,null,null,null,null,null,null,null,null,null,null,null,null,null,null,null,null,null,null,null,null,null,null,null,null,null,null,null,null,null,null,null,null,null,null,null,null,null,null,null,"239-269",{"$f":"CONCATENATE(DE239,DE240,DE241,DE242,DE243,DE244,DE245,DE246,DE247,DE248,DE249,DE250,DE251,DE252,DE253,DE254,DE255,DE256,DE257,DE258,DE259,DE260,DE261,DE262,DE263,DE264,DE265,DE266,DE267,DE268,DE269)","v":""},{"$f":"CONCATENATE(DF239,DF240,DF241,DF242,DF243,DF244,DF245,DF246,DF247,DF248,DF249,DF250,DF251,DF252,DF253,DF254,DF255,DF256,DF257,DF258,DF259,DF260,DF261,DF262,DF263,DF264,DF265,DF266,DF267,DF268,DF269)","v":""},"","","","","","","","","","","","","","","","","","","","","","","","","","","","","","","","","","","","","","","","","","","","","","","","","","","","","","","","","","","","","","","",{"$f":"CONCATENATE(FR239,FR240,FR241,FR242,FR243,FR244,FR245,FR246,FR247,FR248,FR249,FR250,FR251,FR252,FR253,FR254,FR255,FR256,FR257,FR258,FR259,FR260,FR261,FR262,FR263,FR264,FR265,FR266,FR267,FR268,FR269)","v":""},"","","","","","","","","","","","","","","","","","","","","","","","","","","","","","","","","",""]
[null,null,null,null,5,"",null,null,null,null,null,null,null,null,null,null,null,null,null,null,null,null,null,null,null,null,null,null,null,null,null,null,null,null,null,null,null,null,null,null,null,null,null,null,null,null,null,null,null,null,null,null,null,null,null,null,null,null,null,null,null,null,null,null,null,null,null,null,null,null,null,null,null,null,null,null,null,null,null,null,null,null,null,null,null,null,null,null,null,null,null,null,null,null,null,null,null,null,null,null,null,null,null,null,null,null,null,"270-300",{"$f":"CONCATENATE(DE270,DE271,DE272,DE273,DE274,DE275,DE276,DE277,DE278,DE279,DE280,DE281,DE282,DE283,DE284,DE285,DE286,DE287,DE288,DE289,DE290,DE291,DE292,DE293,DE294,DE295,DE296,DE297,DE298,DE299,DE300)","v":""},{"$f":"CONCATENATE(DF270,DF271,DF272,DF273,DF274,DF275,DF276,DF277,DF278,DF279,DF280,DF281,DF282,DF283,DF284,DF285,DF286,DF287,DF288,DF289,DF290,DF291,DF292,DF293,DF294,DF295,DF296,DF297,DF298,DF299,DF300)","v":""},"","","","","","","","","","","","","","","","","","","","","","","","","","","","","","","","","","","","","","","","","","","","","","","","","","","","","","","","","","","","","","","",{"$f":"CONCATENATE(FR270,FR271,FR272,FR273,FR274,FR275,FR276,FR277,FR278,FR279,FR280,FR281,FR282,FR283,FR284,FR285,FR286,FR287,FR288,FR289,FR290,FR291,FR292,FR293,FR294,FR295,FR296,FR297,FR298,FR299,FR300)","v":""},"","","","","","","","","","","","","","","","","","","","","","","","","","","","","","","","","",""]
[null,null,null,null,6,"",null,null,null,null,null,null,null,null,null,null,null,null,null,null,null,null,null,null,null,null,null,null,null,null,null,null,null,null,null,null,null,null,null,null,null,null,null,null,null,null,null,null,null,null,null,null,null,null,null,null,null,null,null,null,null,null,null,null,null,null,null,null,null,null,null,null,null,null,null,null,null,null,null,null,null,null,null,null,null,null,null,null,null,null,null,null,null,null,null,null,null,null,null,null,null,null,null,null,null,null,null,"301-330",{"$f":"CONCATENATE(DE301,DE302,DE303,DE304,DE305,DE306,DE307,DE308,DE309,DE310,DE311,DE312,DE313,DE314,DE315,DE316,DE317,DE318,DE319,DE320,DE321,DE322,DE323,DE324,DE325,DE326,DE327,DE328,DE329,DE330)","v":""},{"$f":"CONCATENATE(DF301,DF302,DF303,DF304,DF305,DF306,DF307,DF308,DF309,DF310,DF311,DF312,DF313,DF314,DF315,DF316,DF317,DF318,DF319,DF320,DF321,DF322,DF323,DF324,DF325,DF326,DF327,DF328,DF329,DF330)","v":""},"","","","","","","","","","","","","","","","","","","","","","","","","","","","","","","","","","","","","","","","","","","","","","","","","","","","","","","","","","","","","","","",{"$f":"CONCATENATE(FR301,FR302,FR303,FR304,FR305,FR306,FR307,FR308,FR309,FR310,FR311,FR312,FR313,FR314,FR315,FR316,FR317,FR318,FR319,FR320,FR321,FR322,FR323,FR324,FR325,FR326,FR327,FR328,FR329,FR330)","v":""},"","","","","","","","","","","","","","","","","","","","","","","","","","","","","","","","","",""]
[null,null,null,null,7,"",null,null,null,null,null,null,null,null,null,null,null,null,null,null,null,null,null,null,null,null,null,null,null,null,null,null,null,null,null,null,null,null,null,null,null,null,null,null,null,null,null,null,null,null,null,null,null,null,null,null,null,null,null,null,null,null,null,null,null,null,null,null,null,null,null,null,null,null,null,null,null,null,null,null,null,null,null,null,null,null,null,null,null,null,null,null,null,null,null,null,null,null,null,null,null,null,null,null,null,null,null,"331-360",{"$f":"CONCATENATE(DE331,DE332,DE333,DE334,DE335,DE336,DE337,DE338,DE339,DE340,DE341,DE342,DE343,DE344,DE345,DE346,DE347,DE348,DE349,DE350,DE351,DE352,DE353,DE354,DE355,DE356,DE357,DE358,DE359,DE360)","v":""},{"$f":"CONCATENATE(DF331,DF332,DF333,DF334,DF335,DF336,DF337,DF338,DF339,DF340,DF341,DF342,DF343,DF344,DF345,DF346,DF347,DF348,DF349,DF350,DF351,DF352,DF353,DF354,DF355,DF356,DF357,DF358,DF359,DF360)","v":""},"","","","","","","","","","","","","","","","","","","","","","","","","","","","","","","","","","","","","","","","","","","","","","","","","","","","","","","","","","","","","","","",{"$f":"CONCATENATE(FR331,FR332,FR333,FR334,FR335,FR336,FR337,FR338,FR339,FR340,FR341,FR342,FR343,FR344,FR345,FR346,FR347,FR348,FR349,FR350,FR351,FR352,FR353,FR354,FR355,FR356,FR357,FR358,FR359,FR360)","v":""},"","","","","","","","","","","","","","","","","","","","","","","","","","","","","","","","","",""]
[null,null,null,null,8,"",null,null,null,null,null,null,null,null,null,null,null,null,null,null,null,null,null,null,null,null,null,null,null,null,null,null,null,null,null,null,null,null,null,null,null,null,null,null,null,null,null,null,null,null,null,null,null,null,null,null,null,null,null,null,null,null,null,null,null,null,null,null,null,null,null,null,null,null,null,null,null,null,null,null,null,null,null,null,null,null,null,null,null,null,null,null,null,null,null,null,null,null,null,null,null,null,null,null,null,null,null,"361-390",{"$f":"CONCATENATE(DE361,DE362,DE363,DE364,DE365,DE366,DE367,DE368,DE369,DE370,DE371,DE372,DE373,DE374,DE375,DE376,DE377,DE378,DE379,DE380,DE381,DE382,DE383,DE384,DE385,DE386,DE387,DE388,DE389,DE390)","v":""},{"$f":"CONCATENATE(DF361,DF362,DF363,DF364,DF365,DF366,DF367,DF368,DF369,DF370,DF371,DF372,DF373,DF374,DF375,DF376,DF377,DF378,DF379,DF380,DF381,DF382,DF383,DF384,DF385,DF386,DF387,DF388,DF389,DF390)","v":""},"","","","","","","","","","","","","","","","","","","","","","","","","","","","","","","","","","","","","","","","","","","","","","","","","","","","","","","","","","","","","","","",{"$f":"CONCATENATE(FR361,FR362,FR363,FR364,FR365,FR366,FR367,FR368,FR369,FR370,FR371,FR372,FR373,FR374,FR375,FR376,FR377,FR378,FR379,FR380,FR381,FR382,FR383,FR384,FR385,FR386,FR387,FR388,FR389,FR390)","v":""},"","","","","","","","","","","","","","","","","","","","","","","","","","","","","","","","","",""]
[null,null,null,null,9,"",null,null,null,null,null,null,null,null,null,null,null,null,null,null,null,null,null,null,null,null,null,null,null,null,null,null,null,null,null,null,null,null,null,null,null,null,null,null,null,null,null,null,null,null,null,null,null,null,null,null,null,null,null,null,null,null,null,null,null,null,null,null,null,null,null,null,null,null,null,null,null,null,null,null,null,null,null,null,null,null,null,null,null,null,null,null,null,null,null,null,null,null,null,null,null,null,null,null,null,null,null,"391-418",{"$f":"CONCATENATE(DE391,DE392,DE393,DE394,DE395,DE396,DE397,DE398,DE399,DE400,DE401,DE402,DE403,DE404,DE405,DE406,DE407,DE408,DE409,DE410,DE411,DE412,DE413,DE414,DE415,DE416,DE417,DE418)","v":""},{"$f":"CONCATENATE(DF391,DF392,DF393,DF394,DF395,DF396,DF397,DF398,DF399,DF400,DF401,DF402,DF403,DF404,DF405,DF406,DF407,DF408,DF409,DF410,DF411,DF412,DF413,DF414,DF415,DF416,DF417,DF418)","v":""},"","","","","","","","","","","","","","","","","","","","","","","","","","","","","","","","","","","","","","","","","","","","","","","","","","","","","","","","","","","","","","","",{"$f":"CONCATENATE(FR391,FR392,FR393,FR394,FR395,FR396,FR397,FR398,FR399,FR400,FR401,FR402,FR403,FR404,FR405,FR406,FR407,FR408,FR409,FR410,FR411,FR412,FR413,FR414,FR415,FR416,FR417,FR418)","v":""},"","","","","","","","","","","","","","","","","","","","","","","","","","","","","","","","","",""]
[null,null,null,null,10,"",null,null,null,null,null,null,null,null,null,null,null,null,null,null,null,null,null,null,null,null,null,null,null,null,null,null,null,null,null,null,null,null,null,null,null,null,null,null,null,null,null,null,null,null,null,null,null,null,null,null,null,null,null,null,null,null,null,null,null,null,null,null,null,null,null,null,null,null,null,null,null,null,null,null,null,null,null,null,null,null,null,null,null,null,null,null,null,null,null,null,null,null,null,null,null,null,null,null,null,null,null,"419-448",{"$f":"CONCATENATE(DE419,DE420,DE421,DE422,DE423,DE424,DE425,DE426,DE427,DE428,DE429,DE430,DE431,DE432,DE433,DE434,DE435,DE436,DE437,DE438,DE439,DE440,DE441,DE442,DE443,DE444,DE445,DE446,DE447,DE448)","v":""},{"$f":"CONCATENATE(DF419,DF420,DF421,DF422,DF423,DF424,DF425,DF426,DF427,DF428,DF429,DF430,DF431,DF432,DF433,DF434,DF435,DF436,DF437,DF438,DF439,DF440,DF441,DF442,DF443,DF444,DF445,DF446,DF447,DF448)","v":""},"","","","","","","","","","","","","","","","","","","","","","","","","","","","","","","","","","","","","","","","","","","","","","","","","","","","","","","","","","","","","","","",{"$f":"CONCATENATE(FR419,FR420,FR421,FR422,FR423,FR424,FR425,FR426,FR427,FR428,FR429,FR430,FR431,FR432,FR433,FR434,FR435,FR436,FR437,FR438,FR439,FR440,FR441,FR442,FR443,FR444,FR445,FR446,FR447,FR448)","v":""},"","","","","","","","","","","","","","","","","","","","","","","","","","","","","","","","","",""]
[null,null,null,null,11,"",null,null,null,null,null,null,null,null,null,null,null,null,null,null,null,null,null,null,null,null,null,null,null,null,null,null,null,null,null,null,null,null,null,null,null,null,null,null,null,null,null,null,null,null,null,null,null,null,null,null,null,null,null,null,null,null,null,null,null,null,null,null,null,null,null,null,null,null,null,null,null,null,null,null,null,null,null,null,null,null,null,null,null,null,null,null,null,null,null,null,null,null,null,null,null,null,null,null,null,null,null,"449-478",{"$f":"CONCATENATE(DE449,DE450,DE451,DE452,DE453,DE454,DE455,DE456,DE457,DE458,DE459,DE460,DE461,DE462,DE463,DE464,DE465,DE466,DE467,DE468,DE469,DE470,DE471,DE472,DE473,DE474,DE475,DE476,DE477,DE478)","v":""},{"$f":"CONCATENATE(DF449,DF450,DF451,DF452,DF453,DF454,DF455,DF456,DF457,DF458,DF459,DF460,DF461,DF462,DF463,DF464,DF465,DF466,DF467,DF468,DF469,DF470,DF471,DF472,DF473,DF474,DF475,DF476,DF477,DF478)","v":""},"","","","","","","","","","","","","","","","","","","","","","","","","","","","","","","","","","","","","","","","","","","","","","","","","","","","","","","","","","","","","","","",{"$f":"CONCATENATE(FR449,FR450,FR451,FR452,FR453,FR454,FR455,FR456,FR457,FR458,FR459,FR460,FR461,FR462,FR463,FR464,FR465,FR466,FR467,FR468,FR469,FR470,FR471,FR472,FR473,FR474,FR475,FR476,FR477,FR478)","v":""},"","","","","","","","","","","","","","","","","","","","","","","","","","","","","","","","","",""]
[null,null,null,null,12,"",null,null,null,null,null,null,null,null,null,null,null,null,null,null,null,null,null,null,null,null,null,null,null,null,null,null,null,null,null,null,null,null,null,null,null,null,null,null,null,null,null,null,null,null,null,null,null,null,null,null,null,null,null,null,null,null,null,null,null,null,null,null,null,null,null,null,null,null,null,null,null,null,null,null,null,null,null,null,null,null,null,null,null,null,null,null,null,null,null,null,null,null,null,null,null,null,null,null,null,null,null,"479-508",{"$f":"CONCATENATE(DE479,DE480,DE481,DE482,DE483,DE484,DE485,DE486,DE487,DE488,DE489,DE490,DE491,DE492,DE493,DE494,DE495,DE496,DE497,DE498,DE499,DE500,DE501,DE502,DE503,DE504,DE505,DE506,DE507,DE508)","v":""},{"$f":"CONCATENATE(DF479,DF480,DF481,DF482,DF483,DF484,DF485,DF486,DF487,DF488,DF489,DF490,DF491,DF492,DF493,DF494,DF495,DF496,DF497,DF498,DF499,DF500,DF501,DF502,DF503,DF504,DF505,DF506,DF507,DF508)","v":""},"","","","","","","","","","","","","","","","","","","","","","","","","","","","","","","","","","","","","","","","","","","","","","","","","","","","","","","","","","","","","","","",{"$f":"CONCATENATE(FR479,FR480,FR481,FR482,FR483,FR484,FR485,FR486,FR487,FR488,FR489,FR490,FR491,FR492,FR493,FR494,FR495,FR496,FR497,FR498,FR499,FR500,FR501,FR502,FR503,FR504,FR505,FR506,FR507,FR508)","v":""},"","","","","","","","","","","","","","","","","","","","","","","","","","","","","","","","","",""]
[null,null,null,null,13,"",null,null,null,null,null,null,null,null,null,null,null,null,null,null,null,null,null,null,null,null,null,null,null,null,null,null,null,null,null,null,null,null,null,null,null,null,null,null,null,null,null,null,null,null,null,null,null,null,null,null,null,null,null,null,null,null,null,null,null,null,null,null,null,null,null,null,null,null,null,null,null,null,null,null,null,null,null,null,null,null,null,null,null,null,null,null,null,null,null,null,null,null,null,null,null,null,null,null,null,null,null,"509-538",{"$f":"CONCATENATE(DE509,DE510,DE511,DE512,DE513,DE514,DE515,DE516,DE517,DE518,DE519,DE520,DE521,DE522,DE523,DE524,DE525,DE526,DE527,DE528,DE529,DE530,DE531,DE532,DE533,DE534,DE535,DE536,DE537,DE538)","v":""},{"$f":"CONCATENATE(DF509,DF510,DF511,DF512,DF513,DF514,DF515,DF516,DF517,DF518,DF519,DF520,DF521,DF522,DF523,DF524,DF525,DF526,DF527,DF528,DF529,DF530,DF531,DF532,DF533,DF534,DF535,DF536,DF537,DF538)","v":""},"","","","","","","","","","","","","","","","","","","","","","","","","","","","","","","","","","","","","","","","","","","","","","","","","","","","","","","","","","","","","","","",{"$f":"CONCATENATE(FR509,FR510,FR511,FR512,FR513,FR514,FR515,FR516,FR517,FR518,FR519,FR520,FR521,FR522,FR523,FR524,FR525,FR526,FR527,FR528,FR529,FR530,FR531,FR532,FR533,FR534,FR535,FR536,FR537,FR538)","v":""},"","","","","","","","","","","","","","","","","","","","","","","","","","","","","","","","","",""]
[null,null,null,null,14,"",null,null,null,null,null,null,null,null,null,null,null,null,null,null,null,null,null,null,null,null,null,null,null,null,null,null,null,null,null,null,null,null,null,null,null,null,null,null,null,null,null,null,null,null,null,null,null,null,null,null,null,null,null,null,null,null,null,null,null,null,null,null,null,null,null,null,null,null,null,null,null,null,null,null,null,null,null,null,null,null,null,null,null,null,null,null,null,null,null,null,null,null,null,null,null,null,null,null,null,null,null,"539-568",{"$f":"CONCATENATE(DE539,DE540,DE541,DE542,DE543,DE544,DE545,DE546,DE547,DE548,DE549,DE550,DE551,DE552,DE553,DE554,DE555,DE556,DE557,DE558,DE559,DE560,DE561,DE562,DE563,DE564,DE565,DE566,DE567,DE568)","v":""},{"$f":"CONCATENATE(DF539,DF540,DF541,DF542,DF543,DF544,DF545,DF546,DF547,DF548,DF549,DF550,DF551,DF552,DF553,DF554,DF555,DF556,DF557,DF558,DF559,DF560,DF561,DF562,DF563,DF564,DF565,DF566,DF567,DF568)","v":""},"","","","","","","","","","","","","","","","","","","","","","","","","","","","","","","","","","","","","","","","","","","","","","","","","","","","","","","","","","","","","","","",{"$f":"CONCATENATE(FR539,FR540,FR541,FR542,FR543,FR544,FR545,FR546,FR547,FR548,FR549,FR550,FR551,FR552,FR553,FR554,FR555,FR556,FR557,FR558,FR559,FR560,FR561,FR562,FR563,FR564,FR565,FR566,FR567,FR568)","v":""},"","","","","","","","","","","","","","","","","","","","","","","","","","","","","","","","","",""]
[null,null,null,null,15,"",null,null,null,null,null,null,null,null,null,null,null,null,null,null,null,null,null,null,null,null,null,null,null,null,null,null,null,null,null,null,null,null,null,null,null,null,null,null,null,null,null,null,null,null,null,null,null,null,null,null,null,null,null,null,null,null,null,null,null,null,null,null,null,null,null,null,null,null,null,null,null,null,null,null,null,null,null,null,null,null,null,null,null,null,null,null,null,null,null,null,null,null,null,null,null,null,null,null,null,null,null,"569-578",{"$f":"CONCATENATE(DE569,DE570,DE571,DE572,DE573,DE574,DE575,DE576,DE577,DE578)","v":""},{"$f":"CONCATENATE(DF569,DF570,DF571,DF572,DF573,DF574,DF575,DF576,DF577,DF578)","v":""},"","","","","","","","","","","","","","","","","","","","","","","","","","","","","","","","","","","","","","","","","","","","","","","","","","","","","","","","","","","","","","","",{"$f":"CONCATENATE(FR569,FR570,FR571,FR572,FR573,FR574,FR575,FR576,FR577,FR578)","v":""},"","","","","","","","","","","","","","","","","","","","","","","","","","","","","","","","","",""]
[null,null,null,null,16,"",null,null,null,null,null,null,null,null,null,null,null,null,null,null,null,null,null,null,null,null,null,null,null,null,null,null,null,null,null,null,null,null,null,null,null,null,null,null,null,null,null,null,null,null,null,null,null,null,null,null,null,null,null,null,null,null,null,null,null,null,null,null,null,null,null,null,null,null,null,null,null,null,null,null,null,null,null,null,null,null,null,null,null,null,null,null,null,null,null,null,null,null,null,null,null,null,null,null,null,null,null," ",{"$f":"CONCATENATE(DE579,DE580,DE581,DE582,DE583,DE584,DE585,DE586,DE587,DE588,DE589,DE590,DE591,DE592,DE593,DE594,DE595,DE596)","v":""},{"$f":"CONCATENATE(DF579,DF580,DF581,DF582,DF583,DF584,DF585,DF586,DF587,DF588,DF589,DF590,DF591,DF592,DF593,DF594,DF595,DF596)","v":""},"","","","","","","","","","","","","","","","","","","","","","","","","","","","","","","","","","","","","","","","","","","","","","","","","","","","","","","","","","","","","","","",{"$f":"CONCATENATE(FR579,FR580,FR581,FR582,FR583,FR584,FR585,FR586,FR587,FR588,FR589,FR590,FR591,FR592,FR593,FR594,FR595,FR596)","v":""},"","","","","","","","","","","","","","","","","","","","","","","","","","","","","","","","","",""]
[null,null,null,null,17,"",null,null,null,null,null,null,null,null,null,null,null,null,null,null,null,null,null,null,null,null,null,null,null,null,null,null,null,null,null,null,null,null,null,null,null,null,null,null,null,null,null,null,null,null,null,null,null,null,null,null,null,null,null,null,null,null,null,null,null,null,null,null,null,null,null,null,null,null,null,null,null,null,null,null,null,null,null,null,null,null,null,null,null,null,null,null,null,null,null,null,null,null,null,null,null,null,null,null,null,null,null," ",{"$f":"IF(DE597=\"\",\"\",LEFT(DE597,LEN(DE597)-2))","v":""},{"$f":"IF(DF597=\"\",\"\",LEFT(DF597,LEN(DF597)-2))","v":""},"","","","","","","","","","","","","","","","","","","","","","","","","","","","","","","","","","","","","","","","","","","","","","","","","","","","","","","","","","","","","","","",{"$f":"IF(FR597=\"\",\"\",LEFT(FR597,LEN(FR597)-2))","v":""},"","","","","","","","","","","","","","","","","","","","","","","","","","","","","","","","","",""]
[null,null,null,null,18,"",null,null,null,null,null,null,null,null,null,null,null,null,null,null,null,null,null,null,null,null,null,null,null,null,null,null,null,null,null,null,null,null,null,null,null,null,null,null,null,null,null,null,null,null,null,null,null,null,null,null,null,null,null,null,null,null,null,null,null,null,null,null,null,null,null,null,null,null,null,null,null,null,null,null,null,null,null,null,null,null,null,null,null,null,null,null,null,null,null,null,null,null,null,null,null,null,null,null,null,null,null,null,{"$f":"IF(DE598=\"\",\"\",\"X\")","v":""},{"$f":"IF(DF598=\"\",\"\",\"X\")","v":""},"","","","","","","","","","","","","","","","","","","","","","","","","","","","","","","","","","","","","","","","","","","","","","","","","","","","","","","","","","","","","","","",{"$f":"IF(FR598=\"\",\"\",\"X\")","v":""},"","","","","","","","","","","","","","","","","","","","","","","","","","","","","","","","","",""]
[null,null,null,null,19,""]
[null,null,null,null,20,""]
[null,null,null,null,null,{"$f":"IF(F582=\"\",\"\",LEFT(CONCATENATE(F582,F583,F584,F585,F586,F587,F588,F589,F590,F591,F592,F593,F594,F595,F596,F597,F598,F599,F600,F601),LEN(CONCATENATE(F582,F583,F584,F585,F586,F587,F588,F589,F590,F591,F592,F593,F594,F595,F596,F597,F598,F599,F600,F601))-2))","v":""}]
[]
["End of Links Tab"]

{"sheet":"Controls","index":6,"n_rows":65,"n_cols":302,"rows_kept":65,"cut":false,"hidden":false,"merged":[[2,296,3,298],[2,299,3,301],[4,284,4,286],[4,287,4,289],[4,290,4,292],[4,293,4,295],[4,296,4,298],[4,299,4,301],[4,224,4,226],[4,227,4,229],[4,230,4,232],[4,233,4,235],[4,236,4,238],[4,239,4,241],[4,242,4,244],[4,245,4,247],[4,248,4,250],[4,251,4,253],[4,254,4,256],[4,257,4,259],[4,260,4,262],[4,263,4,265],[4,266,4,268],[4,269,4,271],[4,272,4,274],[4,281,4,283],[2,284,3,286],[2,287,3,289],[2,290,3,292],[2,293,3,295],[2,257,3,259],[2,260,3,262],[2,263,3,265],[2,266,3,268],[2,269,3,271],[2,272,3,274],[2,275,3,277],[2,278,3,280],[2,281,3,283],[2,203,3,205],[2,206,3,208],[2,209,3,211],[2,212,3,214],[4,86,4,88],[4,89,4,91],[4,92,4,94],[4,95,4,97],[4,98,4,100],[4,101,4,103],[4,104,4,106],[4,107,4,109],[4,110,4,112],[4,113,4,115],[4,116,4,118],[4,119,4,121],[4,122,4,124],[4,125,4,127],[4,128,4,130],[4,131,4,133],[4,134,4,136],[2,176,3,178],[4,164,4,166],[4,167,4,169],[4,170,4,172],[2,0,3,0],[2,86,3,88],[2,89,3,91],[2,92,3,94],[2,95,3,97],[2,98,3,100],[2,101,3,103],[2,104,3,106],[2,107,3,109],[2,110,3,112],[2,113,3,115],[2,116,3,118],[2,119,3,121],[2,122,3,124],[2,125,3,127],[2,128,3,130],[2,131,3,133],[2,14,3,16],[2,17,3,19],[2,20,3,22],[2,23,3,25],[2,26,3,28],[2,29,3,31],[2,32,3,34],[2,35,3,37],[2,38,3,40],[2,80,3,82],[2,83,3,85],[2,8,3,10],[2,59,3,61],[2,62,3,64],[4,2,4,4],[4,5,4,7],[4,8,4,10],[4,11,4,13],[4,14,4,16],[4,17,4,19],[4,20,4,22],[4,23,4,25],[4,26,4,28],[4,29,4,31],[4,32,4,34],[4,35,4,37],[4,38,4,40],[4,41,4,43],[4,44,4,46],[4,47,4,49],[4,50,4,52],[43,53,43,55],[8,56,11,58],[15,56,18,58],[24,56,39,58],[43,56,43,58],[8,59,11,61],[15,59,18,61],[24,59,39,61],[43,59,43,61],[2,41,3,43],[2,44,3,46],[2,47,3,49],[2,50,3,52],[12,59,13,61],[4,83,4,85],[4,80,4,82],[2,65,3,67],[2,68,3,70],[2,71,3,73],[2,74,3,76],[2,77,3,79],[4,53,4,55],[4,56,4,58],[4,59,4,61],[4,62,4,64],[4,65,4,67],[4,68,4,70],[4,71,4,73],[4,74,4,76],[4,77,4,79],[2,53,3,55],[2,56,3,58],[40,296,41,298],[40,299,41,301],[40,173,41,175],[40,176,41,178],[40,179,41,181],[40,182,41,184],[40,185,41,187],[40,188,41,190],[40,191,41,193],[40,194,41,196],[40,197,41,199],[40,146,41,148],[40,149,41,151],[40,152,41,154],[40,155,41,157],[40,158,41,160],[40,161,41,163],[40,164,41,166],[40,167,41,169],[40,170,41,172],[40,200,41,202],[40,203,41,205],[40,206,41,208],[40,209,41,211],[40,212,41,214],[40,260,41,262],[40,263,41,265],[40,266,41,268],[24,287,39,289],[24,290,39,292],[24,293,39,295],[24,296,39,298],[24,299,39,301],[40,8,41,10],[40,11,41,13],[40,14,41,16],[40,17,41,19],[40,20,41,22],[40,23,41,25],[40,26,41,28],[40,29,41,31],[40,32,41,34],[40,35,41,37],[40,38,41,40],[40,41,41,43],[40,44,41,46],[40,47,41,49],[40,50,41,52],[40,53,41,55],[40,56,41,58],[40,119,41,121],[40,122,41,124],[40,125,41,127],[40,128,41,130],[40,131,41,133],[40,134,41,136],[40,137,41,139],[40,140,41,142],[40,290,41,292],[40,293,41,295],[40,71,41,73],[40,74,41,76],[40,77,41,79],[40,80,41,82],[40,83,41,85],[40,86,41,88],[40,89,41,91],[40,95,41,97],[40,98,41,100],[40,101,41,103],[40,104,41,106],[40,107,41,109],[40,110,41,112],[40,113,41,115],[40,116,41,118],[40,269,41,271],[40,272,41,274],[24,203,39,205],[24,152,39,154],[24,155,39,157],[24,158,39,160],[24,161,39,163],[24,164,39,166],[24,167,39,169],[24,170,39,172],[24,173,39,175],[24,263,39,265],[24,266,39,268],[24,269,39,271],[24,272,39,274],[24,275,39,277],[24,278,39,280],[40,143,41,145],[40,92,41,94],[24,206,39,208],[24,209,39,211],[24,212,39,214],[24,215,39,217],[24,218,39,220],[24,221,39,223],[24,224,39,226],[24,227,39,229],[24,230,39,232],[24,179,39,181],[24,182,39,184],[24,185,39,187],[24,188,39,190],[24,125,39,127],[24,128,39,130],[23,299,23,301],[23,281,23,283],[19,167,20,169],[19,170,20,172],[19,173,20,175],[19,290,20,292],[19,293,20,295],[19,296,20,298],[19,203,20,205],[19,206,20,208],[19,209,20,211],[19,212,20,214],[19,215,20,217],[19,218,20,220],[19,221,20,223],[19,224,20,226],[23,278,23,280],[19,248,20,250],[19,251,20,253],[19,254,20,256],[19,257,20,259],[19,260,20,262],[19,263,20,265],[19,266,20,268],[19,269,20,271],[19,272,20,274],[19,179,20,181],[19,182,20,184],[19,185,20,187],[23,239,23,241],[23,242,23,244],[23,245,23,247],[24,131,39,133],[24,134,39,136],[24,137,39,139],[24,140,39,142],[24,143,39,145],[24,146,39,148],[24,149,39,151],[24,122,39,124],[24,191,39,193],[19,281,20,283],[23,284,23,286],[23,287,23,289],[23,290,23,292],[23,293,23,295],[23,296,23,298],[24,281,39,283],[24,284,39,286],[24,233,39,235],[24,236,39,238],[24,239,39,241],[24,242,39,244],[24,245,39,247],[24,248,39,250],[24,251,39,253],[24,254,39,256],[24,257,39,259],[24,260,39,262],[24,194,39,196],[24,197,39,199],[24,200,39,202],[19,275,20,277],[19,278,20,280],[24,8,39,10],[24,11,39,13],[24,14,39,16],[24,17,39,19],[24,20,39,22],[24,23,39,25],[24,26,39,28],[24,29,39,31],[24,32,39,34],[23,257,23,259],[23,260,23,262],[23,263,23,265],[23,266,23,268],[23,269,23,271],[23,272,23,274],[23,275,23,277],[19,62,20,64],[23,65,23,67],[23,95,23,97],[23,98,23,100],[23,101,23,103],[24,50,39,52],[24,119,39,121],[23,164,23,166],[23,167,23,169],[23,224,23,226],[23,227,23,229],[23,230,23,232],[23,233,23,235],[23,149,23,151],[24,176,39,178],[19,176,20,178],[23,197,23,199],[23,200,23,202],[23,203,23,205],[23,206,23,208],[23,209,23,211],[23,212,23,214],[23,215,23,217],[23,218,23,220],[23,221,23,223],[19,194,20,196],[19,197,20,199],[19,200,20,202],[23,236,23,238],[19,191,20,193],[23,188,23,190],[23,191,23,193],[23,194,23,196],[19,227,20,229],[19,230,20,232],[19,233,20,235],[19,236,20,238],[19,239,20,241],[19,242,20,244],[19,245,20,247],[15,287,18,289],[15,290,18,292],[15,293,18,295],[15,296,18,298],[15,299,18,301],[19,110,20,112],[19,113,20,115],[19,116,20,118],[19,119,20,121],[19,122,20,124],[19,125,20,127],[19,128,20,130],[19,131,20,133],[19,134,20,136],[19,137,20,139],[19,140,20,142],[19,143,20,145],[19,146,20,148],[19,149,20,151],[19,152,20,154],[19,155,20,157],[19,158,20,160],[19,284,20,286],[15,269,18,271],[15,272,18,274],[15,275,18,277],[15,278,18,280],[19,299,20,301],[19,287,20,289],[15,281,18,283],[15,284,18,286],[15,233,18,235],[15,236,18,238],[15,239,18,241],[15,242,18,244],[15,245,18,247],[15,248,18,250],[15,251,18,253],[15,254,18,256],[15,257,18,259],[15,206,18,208],[15,209,18,211],[15,212,18,214],[15,215,18,217],[15,218,18,220],[15,221,18,223],[15,224,18,226],[15,227,18,229],[15,230,18,232],[15,197,18,199],[15,200,18,202],[15,203,18,205],[12,296,13,298],[12,299,13,301],[15,110,18,112],[15,113,18,115],[15,116,18,118],[15,119,18,121],[15,122,18,124],[15,125,18,127],[15,128,18,130],[15,131,18,133],[15,134,18,136],[15,137,18,139],[15,140,18,142],[15,143,18,145],[15,146,18,148],[15,149,18,151],[15,152,18,154],[15,155,18,157],[15,158,18,160],[15,161,18,163],[15,164,18,166],[15,167,18,169],[15,170,18,172],[15,173,18,175],[12,269,13,271],[12,272,13,274],[15,260,18,262],[15,263,18,265],[15,266,18,268],[12,206,13,208],[12,209,13,211],[12,212,13,214],[12,215,13,217],[12,218,13,220],[12,221,13,223],[12,224,13,226],[12,227,13,229],[12,230,13,232],[12,113,13,115],[12,116,13,118],[12,119,13,121],[12,122,13,124],[12,125,13,127],[12,128,13,130],[12,131,13,133],[12,134,13,136],[12,137,13,139],[12,152,13,154],[12,155,13,157],[12,158,13,160],[12,161,13,163],[12,197,13,199],[12,200,13,202],[12,203,13,205],[12,164,13,166],[12,167,13,169],[12,170,13,172],[12,173,13,175],[12,176,13,178],[12,179,13,181],[12,182,13,184],[8,281,11,283],[8,284,11,286],[8,287,11,289],[8,290,11,292],[8,293,11,295],[8,296,11,298],[8,299,11,301],[8,248,11,250],[8,251,11,253],[8,254,11,256],[8,257,11,259],[8,260,11,262],[8,263,11,265],[8,266,11,268],[8,269,11,271],[8,272,11,274],[12,275,13,277],[12,278,13,280],[12,281,13,283],[12,284,13,286],[12,287,13,289],[12,290,13,292],[12,293,13,295],[12,257,13,259],[12,260,13,262],[12,263,13,265],[12,266,13,268],[8,143,11,145],[8,146,11,148],[8,149,11,151],[8,152,11,154],[8,155,11,157],[8,158,11,160],[8,161,11,163],[8,164,11,166],[8,167,11,169],[8,170,11,172],[8,173,11,175],[8,176,11,178],[7,272,7,274],[7,275,7,277],[7,278,7,280],[7,281,7,283],[7,284,7,286],[8,221,11,223],[8,224,11,226],[8,227,11,229],[8,230,11,232],[8,233,11,235],[8,236,11,238],[8,239,11,241],[8,242,11,244],[8,245,11,247],[8,194,11,196],[8,197,11,199],[8,200,11,202],[8,203,11,205],[8,206,11,208],[8,209,11,211],[4,176,4,178],[7,269,7,271],[7,218,7,220],[7,221,7,223],[7,224,7,226],[7,227,7,229],[7,230,7,232],[7,233,7,235],[7,236,7,238],[7,239,7,241],[7,242,7,244],[7,299,7,301],[7,287,7,289],[7,290,7,292],[7,293,7,295],[4,185,4,187],[4,188,4,190],[4,191,4,193],[4,194,4,196],[4,197,4,199],[4,200,4,202],[4,203,4,205],[4,206,4,208],[4,209,4,211],[4,212,4,214],[4,275,4,277],[4,278,4,280],[2,146,3,148],[2,149,3,151],[2,152,3,154],[2,155,3,157],[2,158,3,160],[2,161,3,163],[4,155,4,157],[4,158,4,160],[4,161,4,163],[7,134,7,136],[7,137,7,139],[7,140,7,142],[7,143,7,145],[2,164,3,166],[2,167,3,169],[2,170,3,172],[2,173,3,175],[4,137,4,139],[4,140,4,142],[4,143,4,145],[4,146,4,148],[4,149,4,151],[4,152,4,154],[4,173,4,175],[1,167,1,168],[1,170,1,171],[1,173,1,174],[1,176,1,177],[1,179,1,180],[1,182,1,183],[1,185,1,186],[1,188,1,189],[1,191,1,192],[1,194,1,195],[1,197,1,198],[1,200,1,201],[1,203,1,204],[1,257,1,258],[1,260,1,261],[1,263,1,264],[1,254,1,255],[1,161,1,162],[7,110,7,112],[7,113,7,115],[7,116,7,118],[7,119,7,121],[7,122,7,124],[7,125,7,127],[7,128,7,130],[7,131,7,133],[7,146,7,148],[7,149,7,151],[7,152,7,154],[7,155,7,157],[7,158,7,160],[23,152,23,154],[23,155,23,157],[1,164,1,165],[7,161,7,163],[7,164,7,166],[23,158,23,160],[23,161,23,163],[12,140,13,142],[12,143,13,145],[12,146,13,148],[12,149,13,151],[23,116,23,118],[23,119,23,121],[23,122,23,124],[23,125,23,127],[23,128,23,130],[23,131,23,133],[23,134,23,136],[1,140,1,141],[1,143,1,144],[8,38,11,40],[15,38,18,40],[24,38,39,40],[43,38,43,40],[8,41,11,43],[15,41,18,43],[24,41,39,43],[43,41,43,43],[8,44,11,46],[15,44,18,46],[24,44,39,46],[43,44,43,46],[8,47,11,49],[15,47,18,49],[24,47,39,49],[2,134,3,136],[2,137,3,139],[2,140,3,142],[2,143,3,145],[8,110,11,112],[8,113,11,115],[8,116,11,118],[8,119,11,121],[8,122,11,124],[8,125,11,127],[8,128,11,130],[8,131,11,133],[8,134,11,136],[8,137,11,139],[1,74,1,75],[1,77,1,78],[1,80,1,81],[7,2,7,4],[46,2,50,4],[12,2,13,4],[7,5,7,7],[19,2,20,4],[23,2,23,4],[40,2,41,4],[42,2,42,4],[44,2,45,4],[15,8,18,10],[15,11,18,13],[19,5,20,7],[19,8,20,10],[19,11,20,13],[8,2,11,4],[15,2,18,4],[24,2,39,4],[43,2,43,4],[44,62,45,64],[44,65,45,67],[44,68,45,70],[43,5,43,7],[43,8,43,10],[43,11,43,13],[42,5,42,7],[42,8,42,10],[42,11,42,13],[2,2,3,4],[2,5,3,7],[2,11,3,13],[51,0,52,0],[46,0,50,0],[46,11,50,11],[46,5,50,5],[46,8,50,8],[8,0,10,0],[23,50,23,52],[23,53,23,55],[24,5,39,7],[40,5,41,7],[23,5,23,7],[23,8,23,10],[23,11,23,13],[23,14,23,16],[23,17,23,19],[23,20,23,22],[23,23,23,25],[23,26,23,28],[23,29,23,31],[23,32,23,34],[23,35,23,37],[23,38,23,40],[46,29,50,29],[46,14,50,14],[46,17,50,17],[15,0,17,0],[42,26,42,28],[8,8,11,10],[8,11,11,13],[8,14,11,16],[8,17,11,19],[8,20,11,22],[12,92,13,94],[12,95,13,97],[15,92,18,94],[8,5,11,7],[46,20,50,20],[46,23,50,23],[46,32,50,32],[46,35,50,35],[46,26,50,26],[46,41,50,41],[46,59,50,59],[46,38,50,38],[46,50,50,50],[46,56,50,56],[46,53,50,53],[46,83,50,83],[46,68,50,68],[46,62,50,62],[46,65,50,65],[40,62,41,64],[12,65,13,67],[12,68,13,70],[19,71,20,73],[19,74,20,76],[19,77,20,79],[44,56,45,58],[44,59,45,61],[43,74,43,76],[24,35,39,37],[44,80,45,82],[44,83,45,85],[12,50,13,52],[19,104,20,106],[19,107,20,109],[7,167,7,169],[7,170,7,172],[7,173,7,175],[7,176,7,178],[8,140,11,142],[8,179,11,181],[43,65,43,67],[15,50,18,52],[23,83,23,85],[23,86,23,88],[7,86,7,88],[7,89,7,91],[7,92,7,94],[23,77,23,79],[15,74,18,76],[23,107,23,109],[8,74,11,76],[24,83,39,85],[15,80,18,82],[8,83,11,85],[15,83,18,85],[40,59,41,61],[7,71,7,73],[7,74,7,76],[7,77,7,79],[8,77,11,79],[15,77,18,79],[7,68,7,70],[8,86,11,88],[19,86,20,88],[12,185,13,187],[12,188,13,190],[12,191,13,193],[12,194,13,196],[15,176,18,178],[15,188,18,190],[15,191,18,193],[15,194,18,196],[19,161,20,163],[19,164,20,166],[15,179,18,181],[15,182,18,184],[15,185,18,187],[23,170,23,172],[23,173,23,175],[23,176,23,178],[23,179,23,181],[23,182,23,184],[23,185,23,187],[19,188,20,190],[2,218,3,220],[2,221,3,223],[4,215,4,217],[4,218,4,220],[4,221,4,223],[7,194,7,196],[7,197,7,199],[7,200,7,202],[7,203,7,205],[7,206,7,208],[7,209,7,211],[7,212,7,214],[7,215,7,217],[2,179,3,181],[2,182,3,184],[2,185,3,187],[2,188,3,190],[2,191,3,193],[2,194,3,196],[2,197,3,199],[2,200,3,202],[4,179,4,181],[4,182,4,184],[7,188,7,190],[7,191,7,193],[2,227,3,229],[2,230,3,232],[2,233,3,235],[2,236,3,238],[2,239,3,241],[2,242,3,244],[2,245,3,247],[2,248,3,250],[2,251,3,253],[2,254,3,256],[12,233,13,235],[12,236,13,238],[12,239,13,241],[12,242,13,244],[12,245,13,247],[12,248,13,250],[12,251,13,253],[12,254,13,256],[8,182,11,184],[8,185,11,187],[8,188,11,190],[8,191,11,193],[7,179,7,181],[7,182,7,184],[7,185,7,187],[2,215,3,217],[7,296,7,298],[7,257,7,259],[7,260,7,262],[7,263,7,265],[23,251,23,253],[23,254,23,256],[40,215,41,217],[40,218,41,220],[40,221,41,223],[40,224,41,226],[40,227,41,229],[40,230,41,232],[40,233,41,235],[40,236,41,238],[40,239,41,241],[40,242,41,244],[40,245,41,247],[40,248,41,250],[40,251,41,253],[40,254,41,256],[40,257,41,259],[23,248,23,250],[40,275,41,277],[2,224,3,226],[46,269,50,269],[46,194,50,194],[46,215,50,215],[46,200,50,200],[40,278,41,280],[40,281,41,283],[40,284,41,286],[40,287,41,289],[7,245,7,247],[7,248,7,250],[7,251,7,253],[7,254,7,256],[7,266,7,268],[43,284,43,286],[43,287,43,289],[42,227,42,229],[42,230,42,232],[42,233,42,235],[43,263,43,265],[42,218,42,220],[43,227,43,229],[43,230,43,232],[43,233,43,235],[43,275,43,277],[43,278,43,280],[43,281,43,283],[42,287,42,289],[8,212,11,214],[8,215,11,217],[8,218,11,220],[8,275,11,277],[8,278,11,280],[46,152,50,152],[46,155,50,155],[46,146,50,146],[46,119,50,119],[46,149,50,149],[43,191,43,193],[43,194,43,196],[43,197,43,199],[43,200,43,202],[43,203,43,205],[43,206,43,208],[43,209,43,211],[43,212,43,214],[42,224,42,226],[46,122,50,122],[46,125,50,125],[46,128,50,128],[46,137,50,137],[46,161,50,161],[46,164,50,164],[46,167,50,167],[46,188,50,188],[46,191,50,191],[46,206,50,206],[46,209,50,209],[46,218,50,218],[46,185,50,185],[46,173,50,173],[46,176,50,176],[46,182,50,182],[46,170,50,170],[44,158,45,160],[46,74,50,74],[46,77,50,77],[46,80,50,80],[46,89,50,89],[46,113,50,113],[46,101,50,101],[46,95,50,95],[46,92,50,92],[46,86,50,86],[46,140,50,140],[46,143,50,143],[7,95,7,97],[8,80,11,82],[7,80,7,82],[7,83,7,85],[8,92,11,94],[8,95,11,97],[8,98,11,100],[8,101,11,103],[8,104,11,106],[8,107,11,109],[15,98,18,100],[15,104,18,106],[15,107,18,109],[12,74,13,76],[15,86,18,88],[15,89,18,91],[23,74,23,76],[15,101,18,103],[7,104,7,106],[7,107,7,109],[19,101,20,103],[46,266,50,266],[46,179,50,179],[8,23,11,25],[8,26,11,28]],"merged_total":1608,"flags":["merged_cut"]}
["Overall #","Index",1,{"$f":"VLOOKUP(C1,'4'!$C$14:$I$115,6,FALSE)","v":" "},{"$f":"VLOOKUP(C1,'4'!$C$14:$I$115,4,FALSE)","v":""},{"$f":"C1+3","v":4},{"$f":"VLOOKUP(F1,'4'!$C$14:$I$115,6,FALSE)","v":" "},{"$f":"VLOOKUP(F1,'4'!$C$14:$I$115,4,FALSE)","v":""},{"$f":"F1+3","v":7},{"$f":"VLOOKUP(I1,'4'!$C$14:$I$115,6,FALSE)","v":" "},{"$f":"VLOOKUP(I1,'4'!$C$14:$I$115,4,FALSE)","v":""},{"$f":"I1+3","v":10},{"$f":"VLOOKUP(L1,'4'!$C$14:$I$115,6,FALSE)","v":" "},{"$f":"VLOOKUP(L1,'4'!$C$14:$I$115,4,FALSE)","v":""},{"$f":"L1+3","v":13},{"$f":"VLOOKUP(O1,'4'!$C$14:$I$115,6,FALSE)","v":" "},{"$f":"VLOOKUP(O1,'4'!$C$14:$I$115,4,FALSE)","v":""},{"$f":"O1+3","v":16},{"$f":"VLOOKUP(R1,'4'!$C$14:$I$115,6,)","v":" "},{"$f":"VLOOKUP(R1,'4'!$C$14:$I$115,4,)","v":""},{"$f":"R1+3","v":19},{"$f":"VLOOKUP(U1,'4'!$C$14:$I$115,6,FALSE)","v":" "},{"$f":"VLOOKUP(U1,'4'!$C$14:$I$115,4,FALSE)","v":""},{"$f":"U1+3","v":22},{"$f":"VLOOKUP(X1,'4'!$C$14:$I$115,6,FALSE)","v":" "},{"$f":"VLOOKUP(X1,'4'!$C$14:$I$115,4,FALSE)","v":""},{"$f":"X1+3","v":25},{"$f":"VLOOKUP(AA1,'4'!$C$14:$I$115,6,FALSE)","v":" "},{"$f":"VLOOKUP(AA1,'4'!$C$14:$I$115,4,FALSE)","v":""},{"$f":"AA1+3","v":28},{"$f":"VLOOKUP(AD1,'4'!$C$14:$I$115,6,FALSE)","v":" "},{"$f":"VLOOKUP(AD1,'4'!$C$14:$I$115,4,FALSE)","v":""},{"$f":"AD1+3","v":31},{"$f":"VLOOKUP(AG1,'4'!$C$14:$I$115,6,FALSE)","v":" "},{"$f":"VLOOKUP(AG1,'4'!$C$14:$I$115,4,FALSE)","v":""},{"$f":"AG1+3","v":34},{"$f":"VLOOKUP(AJ1,'4'!$C$14:$I$115,6,FALSE)","v":" "},{"$f":"VLOOKUP(AJ1,'4'!$C$14:$I$115,4,FALSE)","v":""},{"$f":"AJ1+3","v":37},{"$f":"VLOOKUP(AM1,'4'!$C$14:$I$115,6,FALSE)","v":" "},{"$f":"VLOOKUP(AM1,'4'!$C$14:$I$115,4,FALSE)","v":""},{"$f":"AM1+3","v":40},{"$f":"VLOOKUP(AP1,'4'!$C$14:$I$115,6,FALSE)","v":" "},{"$f":"VLOOKUP(AP1,'4'!$C$14:$I$115,4,FALSE)","v":""},{"$f":"AP1+3","v":43},{"$f":"VLOOKUP(AS1,'4'!$C$14:$I$115,6,FALSE)","v":" "},{"$f":"VLOOKUP(AS1,'4'!$C$14:$I$115,4,FALSE)","v":""},{"$f":"AS1+3","v":46},{"$f":"VLOOKUP(AV1,'4'!$C$14:$I$115,6,FALSE)","v":" "},{"$f":"VLOOKUP(AV1,'4'!$C$14:$I$115,4,FALSE)","v":""},{"$f":"AV1+3","v":49},{"$f":"VLOOKUP(AY1,'4'!$C$14:$I$115,6,FALSE)","v":" "},{"$f":"VLOOKUP(AY1,'4'!$C$14:$I$115,4,FALSE)","v":""},{"$f":"AY1+3","v":52},{"$f":"VLOOKUP(BB1,'4'!$C$14:$I$115,6,FALSE)","v":" "},{"$f":"VLOOKUP(BB1,'4'!$C$14:$I$115,4,FALSE)","v":""},{"$f":"BB1+3","v":55},{"$f":"VLOOKUP(BE1,'4'!$C$14:$I$115,6,FALSE)","v":" "},{"$f":"VLOOKUP(BE1,'4'!$C$14:$I$115,4,FALSE)","v":""},{"$f":"BE1+3","v":58},{"$f":"VLOOKUP(BH1,'4'!$C$14:$I$115,6,FALSE)","v":" "},{"$f":"VLOOKUP(BH1,'4'!$C$14:$I$115,4,FALSE)","v":""},{"$f":"BH1+3","v":61},{"$f":"VLOOKUP(BK1,'4'!$C$14:$I$115,6,FALSE)","v":" "},{"$f":"VLOOKUP(BK1,'4'!$C$14:$I$115,4,FALSE)","v":""},{"$f":"BK1+3","v":64},{"$f":"VLOOKUP(BN1,'4'!$C$14:$I$115,6,FALSE)","v":" "},{"$f":"VLOOKUP(BN1,'4'!$C$14:$I$115,4,FALSE)","v":""},{"$f":"BN1+3","v":67},{"$f":"VLOOKUP(BQ1,'4'!$C$14:$I$115,6,FALSE)","v":" "},{"$f":"VLOOKUP(BQ1,'4'!$C$14:$I$115,4,FALSE)","v":""},{"$f":"BQ1+3","v":70},{"$f":"VLOOKUP(BT1,'4'!$C$14:$I$115,6,FALSE)","v":" "},{"$f":"VLOOKUP(BT1,'4'!$C$14:$I$115,4,FALSE)","v":""},{"$f":"BT1+3","v":73},{"$f":"VLOOKUP(BW1,'4'!$C$14:$I$115,6,FALSE)","v":" "},{"$f":"VLOOKUP(BW1,'4'!$C$14:$I$115,4,FALSE)","v":""},{"$f":"BW1+3","v":76},{"$f":"VLOOKUP(BZ1,'4'!$C$14:$I$115,6,FALSE)","v":" "},{"$f":"VLOOKUP(BZ1,'4'!$C$14:$I$115,4,FALSE)","v":""},{"$f":"BZ1+3","v":79},{"$f":"VLOOKUP(CC1,'4'!$C$14:$I$115,6,FALSE)","v":" "},{"$f":"VLOOKUP(CC1,'4'!$C$14:$I$115,4,FALSE)","v":""},{"$f":"CC1+3","v":82},{"$f":"VLOOKUP(CF1,'4'!$C$14:$I$115,6,FALSE)","v":" "},{"$f":"VLOOKUP(CF1,'4'!$C$14:$I$115,4,FALSE)","v":""},{"$f":"CF1+3","v":85},{"$f":"VLOOKUP(CI1,'4'!$C$14:$I$115,6,FALSE)","v":" "},{"$f":"VLOOKUP(CI1,'4'!$C$14:$I$115,4,FALSE)","v":""},{"$f":"CI1+3","v":88},{"$f":"VLOOKUP(CL1,'4'!$C$14:$I$115,6,FALSE)","v":" "},{"$f":"VLOOKUP(CL1,'4'!$C$14:$I$115,4,FALSE)","v":""},{"$f":"CL1+3","v":91},{"$f":"VLOOKUP(CO1,'4'!$C$14:$I$115,6,FALSE)","v":" "},{"$f":"VLOOKUP(CO1,'4'!$C$14:$I$115,4,FALSE)","v":""},{"$f":"CO1+3","v":94},{"$f":"VLOOKUP(CR1,'4'!$C$14:$I$115,6,FALSE)","v":" "},{"$f":"VLOOKUP(CR1,'4'!$C$14:$I$115,4,FALSE)","v":""},{"$f":"CR1+3","v":97},{"$f":"VLOOKUP(CU1,'4'!$C$14:$I$115,6,FALSE)","v":" "},{"$f":"VLOOKUP(CU1,'4'!$C$14:$I$115,4,FALSE)","v":""},{"$f":"CU1+3","v":100},{"$f":"VLOOKUP(CX1,'4'!$C$14:$I$115,6,FALSE)","v":" "},{"$f":"VLOOKUP(CX1,'4'!$C$14:$I$115,4,FALSE)","v":""},{"$f":"CX1+3","v":103},{"$f":"VLOOKUP(DA1,'4'!$C$14:$I$115,6,FALSE)","v":" "},{"$f":"VLOOKUP(DA1,'4'!$C$14:$I$115,4,FALSE)","v":""},{"$f":"DA1+3","v":106},{"$f":"VLOOKUP(DD1,'4'!$C$14:$I$115,6,FALSE)","v":" "},{"$f":"VLOOKUP(DD1,'4'!$C$14:$I$115,4,FALSE)","v":""},{"$f":"DD1+3","v":109},{"$f":"VLOOKUP(DG1,'4'!$C$14:$I$115,6,FALSE)","v":" "},{"$f":"VLOOKUP(DG1,'4'!$C$14:$I$115,4,FALSE)","v":""},{"$f":"DG1+3","v":112},{"$f":"VLOOKUP(DJ1,'4'!$C$14:$I$115,6,FALSE)","v":" "},{"$f":"VLOOKUP(DJ1,'4'!$C$14:$I$115,4,FALSE)","v":""},{"$f":"DJ1+3","v":115},{"$f":"VLOOKUP(DM1,'4'!$C$14:$I$115,6,FALSE)","v":" "},{"$f":"VLOOKUP(DM1,'4'!$C$14:$I$115,4,FALSE)","v":""},{"$f":"DM1+3","v":118},{"$f":"VLOOKUP(DP1,'4'!$C$14:$I$115,6,FALSE)","v":" "},{"$f":"VLOOKUP(DP1,'4'!$C$14:$I$115,4,FALSE)","v":""},{"$f":"DP1+3","v":121},{"$f":"VLOOKUP(DS1,'4'!$C$14:$I$115,6,FALSE)","v":" "},{"$f":"VLOOKUP(DS1,'4'!$C$14:$I$115,4,FALSE)","v":""},{"$f":"DS1+3","v":124},{"$f":"VLOOKUP(DV1,'4'!$C$14:$I$115,6,FALSE)","v":" "},{"$f":"VLOOKUP(DV1,'4'!$C$14:$I$115,4,FALSE)","v":""},{"$f":"DV1+3","v":127},{"$f":"VLOOKUP(DY1,'4'!$C$14:$I$115,6,FALSE)","v":" "},{"$f":"VLOOKUP(DY1,'4'!$C$14:$I$115,4,FALSE)","v":""},{"$f":"DY1+3","v":130},{"$f":"VLOOKUP(EB1,'4'!$C$14:$I$115,6,FALSE)","v":" "},{"$f":"VLOOKUP(EB1,'4'!$C$14:$I$115,4,FALSE)","v":""},{"$f":"EB1+3","v":133},{"$f":"VLOOKUP(EE1,'4'!$C$14:$I$115,6,FALSE)","v":" "},{"$f":"VLOOKUP(EE1,'4'!$C$14:$I$115,4,FALSE)","v":""},{"$f":"EE1+3","v":136},{"$f":"VLOOKUP(EH1,'4'!$C$14:$I$115,6,FALSE)","v":" "},{"$f":"VLOOKUP(EH1,'4'!$C$14:$I$115,4,FALSE)","v":""},{"$f":"EH1+3","v":139},{"$f":"VLOOKUP(EK1,'4'!$C$14:$I$115,6,FALSE)","v":" "},{"$f":"VLOOKUP(EK1,'4'!$C$14:$I$115,4,FALSE)","v":""},{"$f":"EK1+3","v":142},{"$f":"VLOOKUP(EN1,'4'!$C$14:$I$115,6,FALSE)","v":" "},{"$f":"VLOOKUP(EN1,'4'!$C$14:$I$115,4,FALSE)","v":""},{"$f":"EN1+3","v":145},{"$f":"VLOOKUP(EQ1,'4'!$C$14:$I$115,6,FALSE)","v":" "},{"$f":"VLOOKUP(EQ1,'4'!$C$14:$I$115,4,FALSE)","v":""},{"$f":"EQ1+3","v":148},{"$f":"VLOOKUP(ET1,'4'!$C$14:$I$115,6,FALSE)","v":" "},{"$f":"VLOOKUP(ET1,'4'!$C$14:$I$115,4,FALSE)","v":""},{"$f":"ET1+3","v":151},{"$f":"VLOOKUP(EW1,'4'!$C$14:$I$115,6,FALSE)","v":" "},{"$f":"VLOOKUP(EW1,'4'!$C$14:$I$115,4,FALSE)","v":""},{"$f":"EW1+3","v":154},{"$f":"VLOOKUP(EZ1,'4'!$C$14:$I$115,6,FALSE)","v":" "},{"$f":"VLOOKUP(EZ1,'4'!$C$14:$I$115,4,FALSE)","v":""},{"$f":"EZ1+3","v":157},{"$f":"VLOOKUP(FC1,'4'!$C$14:$I$115,6,FALSE)","v":" "},{"$f":"VLOOKUP(FC1,'4'!$C$14:$I$115,4,FALSE)","v":""},{"$f":"FC1+3","v":160},{"$f":"VLOOKUP(FF1,'4'!$C$14:$I$115,6,FALSE)","v":" "},{"$f":"VLOOKUP(FF1,'4'!$C$14:$I$115,4,FALSE)","v":""},{"$f":"FF1+3","v":163},{"$f":"VLOOKUP(FI1,'4'!$C$14:$I$115,6,FALSE)","v":" "},{"$f":"VLOOKUP(FI1,'4'!$C$14:$I$115,4,FALSE)","v":""},{"$f":"FI1+3","v":166},{"$f":"VLOOKUP(FL1,'4'!$C$14:$I$115,6,FALSE)","v":" "},{"$f":"VLOOKUP(FL1,'4'!$C$14:$I$115,4,FALSE)","v":""},{"$f":"FL1+3","v":169},{"$f":"VLOOKUP(FO1,'4'!$C$14:$I$115,6,FALSE)","v":" "},{"$f":"VLOOKUP(FO1,'4'!$C$14:$I$115,4,FALSE)","v":""},{"$f":"FO1+3","v":172},{"$f":"VLOOKUP(FR1,'4'!$C$14:$I$115,6,FALSE)","v":" "},{"$f":"VLOOKUP(FR1,'4'!$C$14:$I$115,4,FALSE)","v":""},{"$f":"FR1+3","v":175},{"$f":"VLOOKUP(FU1,'4'!$C$14:$I$115,6,FALSE)","v":" "},{"$f":"VLOOKUP(FU1,'4'!$C$14:$I$115,4,FALSE)","v":""},{"$f":"FU1+3","v":178},{"$f":"VLOOKUP(FX1,'4'!$C$14:$I$115,6,FALSE)","v":" "},{"$f":"VLOOKUP(FX1,'4'!$C$14:$I$115,4,FALSE)","v":""},{"$f":"FX1+3","v":181},{"$f":"VLOOKUP(GA1,'4'!$C$14:$I$115,6,FALSE)","v":" "},{"$f":"VLOOKUP(GA1,'4'!$C$14:$I$115,4,FALSE)","v":""},{"$f":"GA1+3","v":184},{"$f":"VLOOKUP(GD1,'4'!$C$14:$I$115,6,FALSE)","v":" "},{"$f":"VLOOKUP(GD1,'4'!$C$14:$I$115,4,FALSE)","v":""},{"$f":"GD1+3","v":187},{"$f":"VLOOKUP(GG1,'4'!$C$14:$I$115,6,FALSE)","v":" "},{"$f":"VLOOKUP(GG1,'4'!$C$14:$I$115,4,FALSE)","v":""},{"$f":"GG1+3","v":190},{"$f":"VLOOKUP(GJ1,'4'!$C$14:$I$115,6,FALSE)","v":" "},{"$f":"VLOOKUP(GJ1,'4'!$C$14:$I$115,4,FALSE)","v":""},{"$f":"GJ1+3","v":193},{"$f":"VLOOKUP(GM1,'4'!$C$14:$I$115,6,FALSE)","v":" "},{"$f":"VLOOKUP(GM1,'4'!$C$14:$I$115,4,FALSE)","v":""},{"$f":"GM1+3","v":196},{"$f":"VLOOKUP(GP1,'4'!$C$14:$I$115,6,FALSE)","v":" "},{"$f":"VLOOKUP(GP1,'4'!$C$14:$I$115,4,FALSE)","v":""},{"$f":"GP1+3","v":199},{"$f":"VLOOKUP(GS1,'4'!$C$14:$I$115,6,FALSE)","v":" "},{"$f":"VLOOKUP(GS1,'4'!$C$14:$I$115,4,FALSE)","v":""},{"$f":"GS1+3","v":202},{"$f":"VLOOKUP(GV1,'4'!$C$14:$I$115,6,FALSE)","v":" "},{"$f":"VLOOKUP(GV1,'4'!$C$14:$I$115,4,FALSE)","v":""},{"$f":"GV1+3","v":205},{"$f":"VLOOKUP(GY1,'4'!$C$14:$I$115,6,FALSE)","v":" "},{"$f":"VLOOKUP(GY1,'4'!$C$14:$I$115,4,FALSE)","v":""},{"$f":"GY1+3","v":208},{"$f":"VLOOKUP(HB1,'4'!$C$14:$I$115,6,FALSE)","v":" "},{"$f":"VLOOKUP(HB1,'4'!$C$14:$I$115,4,FALSE)","v":""},{"$f":"HB1+3","v":211},{"$f":"VLOOKUP(HE1,'4'!$C$14:$I$115,6,FALSE)","v":" "},{"$f":"VLOOKUP(HE1,'4'!$C$14:$I$115,4,FALSE)","v":""},{"$f":"HE1+3","v":214},{"$f":"VLOOKUP(HH1,'4'!$C$14:$I$115,6,FALSE)","v":" "},{"$f":"VLOOKUP(HH1,'4'!$C$14:$I$115,4,FALSE)","v":""},{"$f":"HH1+3","v":217},{"$f":"VLOOKUP(HK1,'4'!$C$14:$I$115,6,FALSE)","v":" "},{"$f":"VLOOKUP(HK1,'4'!$C$14:$I$115,4,FALSE)","v":""},{"$f":"HK1+3","v":220},{"$f":"VLOOKUP(HN1,'4'!$C$14:$I$115,6,FALSE)","v":" "},{"$f":"VLOOKUP(HN1,'4'!$C$14:$I$115,4,FALSE)","v":""},{"$f":"HN1+3","v":223},{"$f":"VLOOKUP(HQ1,'4'!$C$14:$I$115,6,FALSE)","v":" "},{"$f":"VLOOKUP(HQ1,'4'!$C$14:$I$115,4,FALSE)","v":""},{"$f":"HQ1+3","v":226},{"$f":"VLOOKUP(HT1,'4'!$C$14:$I$115,6,FALSE)","v":" "},{"$f":"VLOOKUP(HT1,'4'!$C$14:$I$115,4,FALSE)","v":""},{"$f":"HT1+3","v":229},{"$f":"VLOOKUP(HW1,'4'!$C$14:$I$115,6,FALSE)","v":" "},{"$f":"VLOOKUP(HW1,'4'!$C$14:$I$115,4,FALSE)","v":""},{"$f":"HW1+3","v":232},{"$f":"VLOOKUP(HZ1,'4'!$C$14:$I$115,6,FALSE)","v":" "},{"$f":"VLOOKUP(HZ1,'4'!$C$14:$I$115,4,FALSE)","v":""},{"$f":"HZ1+3","v":235},{"$f":"VLOOKUP(IC1,'4'!$C$14:$I$115,6,FALSE)","v":" "},{"$f":"VLOOKUP(IC1,'4'!$C$14:$I$115,4,FALSE)","v":""},{"$f":"IC1+3","v":238},{"$f":"VLOOKUP(IF1,'4'!$C$14:$I$115,6,FALSE)","v":" "},{"$f":"VLOOKUP(IF1,'4'!$C$14:$I$115,4,FALSE)","v":""},{"$f":"IF1+3","v":241},{"$f":"VLOOKUP(II1,'4'!$C$14:$I$115,6,FALSE)","v":" "},{"$f":"VLOOKUP(II1,'4'!$C$14:$I$115,4,FALSE)","v":""},{"$f":"II1+3","v":244},{"$f":"VLOOKUP(IL1,'4'!$C$14:$I$115,6,FALSE)","v":" "},{"$f":"VLOOKUP(IL1,'4'!$C$14:$I$115,4,FALSE)","v":""},{"$f":"IL1+3","v":247},{"$f":"VLOOKUP(IO1,'4'!$C$14:$I$115,6,FALSE)","v":" "},{"$f":"VLOOKUP(IO1,'4'!$C$14:$I$115,4,FALSE)","v":""},{"$f":"IO1+3","v":250},{"$f":"VLOOKUP(IR1,'4'!$C$14:$I$115,6,FALSE)","v":" "},{"$f":"VLOOKUP(IR1,'4'!$C$14:$I$115,4,FALSE)","v":""},{"$f":"IR1+3","v":253},{"$f":"VLOOKUP(IU1,'4'!$C$14:$I$115,6,FALSE)","v":" "},{"$f":"VLOOKUP(IU1,'4'!$C$14:$I$115,4,FALSE)","v":""},{"$f":"IU1+3","v":256},{"$f":"VLOOKUP(IX1,'4'!$C$14:$I$115,6,FALSE)","v":" "},{"$f":"VLOOKUP(IX1,'4'!$C$14:$I$115,4,FALSE)","v":""},{"$f":"IX1+3","v":259},{"$f":"VLOOKUP(JA1,'4'!$C$14:$I$115,6,FALSE)","v":" "},{"$f":"VLOOKUP(JA1,'4'!$C$14:$I$115,4,FALSE)","v":""},{"$f":"JA1+3","v":262},{"$f":"VLOOKUP(JD1,'4'!$C$14:$I$115,6,FALSE)","v":" "},{"$f":"VLOOKUP(JD1,'4'!$C$14:$I$115,4,FALSE)","v":""},{"$f":"JD1+3","v":265},{"$f":"VLOOKUP(JG1,'4'!$C$14:$I$115,6,FALSE)","v":" "},{"$f":"VLOOKUP(JG1,'4'!$C$14:$I$115,4,FALSE)","v":""},{"$f":"JG1+3","v":268},{"$f":"VLOOKUP(JJ1,'4'!$C$14:$I$115,6,FALSE)","v":" "},{"$f":"VLOOKUP(JJ1,'4'!$C$14:$I$115,4,FALSE)","v":""},{"$f":"JJ1+3","v":271},{"$f":"VLOOKUP(JM1,'4'!$C$14:$I$115,6,FALSE)","v":" "},{"$f":"VLOOKUP(JM1,'4'!$C$14:$I$115,4,FALSE)","v":""},{"$f":"JM1+3","v":274},{"$f":"VLOOKUP(JP1,'4'!$C$14:$I$115,6,FALSE)","v":" "},{"$f":"VLOOKUP(JP1,'4'!$C$14:$I$115,4,FALSE)","v":""},{"$f":"JP1+3","v":277},{"$f":"VLOOKUP(JS1,'4'!$C$14:$I$115,6,FALSE)","v":" "},{"$f":"VLOOKUP(JS1,'4'!$C$14:$I$115,4,FALSE)","v":""},{"$f":"JS1+3","v":280},{"$f":"VLOOKUP(JV1,'4'!$C$14:$I$115,6,FALSE)","v":" "},{"$f":"VLOOKUP(JV1,'4'!$C$14:$I$115,4,FALSE)","v":""},{"$f":"JV1+3","v":283},{"$f":"VLOOKUP(JY1,'4'!$C$14:$I$115,6,FALSE)","v":" "},{"$f":"VLOOKUP(JY1,'4'!$C$14:$I$115,4,FALSE)","v":""},{"$f":"JY1+3","v":286},{"$f":"VLOOKUP(KB1,'4'!$C$14:$I$115,6,FALSE)","v":" "},{"$f":"VLOOKUP(KB1,'4'!$C$14:$I$115,4,FALSE)","v":""},{"$f":"KB1+3","v":289},{"$f":"VLOOKUP(KE1,'4'!$C$14:$I$115,6,FALSE)","v":" "},{"$f":"VLOOKUP(KE1,'4'!$C$14:$I$115,4,FALSE)","v":""},{"$f":"KE1+3","v":292},{"$f":"VLOOKUP(KH1,'4'!$C$14:$I$115,6,FALSE)","v":" "},{"$f":"VLOOKUP(KH1,'4'!$C$14:$I$115,4,FALSE)","v":""},{"$f":"KH1+3","v":295},{"$f":"VLOOKUP(KK1,'4'!$C$14:$I$115,6,FALSE)","v":" "},{"$f":"VLOOKUP(KK1,'4'!$C$14:$I$115,4,FALSE)","v":""},{"$f":"KK1+3","v":298},{"$f":"VLOOKUP(KN1,'4'!$C$14:$I$115,6,FALSE)","v":" "},{"$f":"VLOOKUP(KN1,'4'!$C$14:$I$115,4,FALSE)","v":""}]
["Hazards & Controls",1,"Fall From Height",null,null,"Slips, Trips & Falls",null,null,"Strains & Pulled Muscles",null,null,"Power / Hand Tool Injuries",null,null,"Struck By / Caught Between",null,null,"Flying Objects",null,null,"Rigging Failure (Slings / Shackles / Taglines)",null,null,"Noise Exposure",null,null,"Silica Dust Exposure",null,null,"Pickup Trucks / Flat Trucks",null,null,"Electrocution / Shock",null,null,"Confined Space",null,null,"Aerial Work Platforms",null,null,"Hotwork (Burning / Welding / etc.)",null,null,"Lead Exposure",null,null,"Trenching & Excavation Cave-In / Utilities",null,null,"Spill / Leak",null,null,"Inadequate Illumination",null,null,"Heat Illness  ",null,null,"Compressor / Air Pneumatic Tools",null,null,"Hazardous Soil",null,null,"Scaffolds / Temporary Works",null,null,"Stairways / Ladders",null,null,"Lifting equipment other than cranes",null,null,"Train / Train Tracks",null,null,"Impalement hazards",null,null,"Lockout / Tagout",null,null,"Asbestos",null,null,"Hazardous Material ",null,null,"Chemicals",null,null," -",null,null," -",null,null," -",null,null," -",null,null," -",null,null," -",null,null," -",null,null," -",null,null," -",null,null," -",null,null," -",null,null," -",null,null," -",null,null," -",null,null," -",null,null," -",null,null," -",null,null," -",null,null," -",null,null," -",null,null," -",null,null," -",null,null," -",null,null," -",null,null," -",null,null," -",null,null," -",null,null," -",null,null," -",null,null," -",null,null," -",null,null," -",null,null," -",null,null," -",null,null," -",null,null," -",null,null," -",null,null," -",null,null," -",null,null," -",null,null," -",null,null," -",null,null," -",null,null," -",null,null," -",null,null," -",null,null," -",null,null," -",null,null," -",null,null," -",null,null," -",null,null," -",null,null," -",null,null," -",null,null," -",null,null," -",null,null," -",null,null," -",null,null," -",null,null," -",null,null," -",null,null," -",null,null," -",null,null," -",null,null," -",null,null," -",null,null," -",null,null," -",null,null," -",null,null," -"]
["Triggers associated with each hazard.",2,{"$f":"IF(HLOOKUP(C1,Links!$DE$3:$GZ$598,596,FALSE)=0,\"\",HLOOKUP(C1,Links!$DE$3:$GZ$598,596,FALSE))","v":""},null,null,{"$f":"IF(HLOOKUP(F1,Links!$DE$3:$GZ$598,596,FALSE)=0,\"\",HLOOKUP(F1,Links!$DE$3:$GZ$598,596,FALSE))","v":""},null,null,{"$f":"IF(HLOOKUP(I1,Links!$DE$3:$GZ$598,596,FALSE)=0,\"\",HLOOKUP(I1,Links!$DE$3:$GZ$598,596,FALSE))","v":""},null,null,{"$f":"IF(HLOOKUP(L1,Links!$DE$3:$GZ$598,596,FALSE)=0,\"\",HLOOKUP(L1,Links!$DE$3:$GZ$598,596,FALSE))","v":""},null,null,{"$f":"IF(HLOOKUP(O1,Links!$DE$3:$GZ$598,596,FALSE)=0,\"\",HLOOKUP(O1,Links!$DE$3:$GZ$598,596,FALSE))","v":""},null,null,{"$f":"IF(HLOOKUP(R1,Links!$DE$3:$GZ$598,596,FALSE)=0,\"\",HLOOKUP(R1,Links!$DE$3:$GZ$598,596,FALSE))","v":""},null,null,{"$f":"IF(HLOOKUP(U1,Links!$DE$3:$GZ$598,596,FALSE)=0,\"\",HLOOKUP(U1,Links!$DE$3:$GZ$598,596,FALSE))","v":""},null,null,{"$f":"IF(HLOOKUP(X1,Links!$DE$3:$GZ$598,596,FALSE)=0,\"\",HLOOKUP(X1,Links!$DE$3:$GZ$598,596,FALSE))","v":""},null,null,{"$f":"IF(HLOOKUP(AA1,Links!$DE$3:$GZ$598,596,FALSE)=0,\"\",HLOOKUP(AA1,Links!$DE$3:$GZ$598,596,FALSE))","v":""},null,null,{"$f":"IF(HLOOKUP(AD1,Links!$DE$3:$GZ$598,596,FALSE)=0,\"\",HLOOKUP(AD1,Links!$DE$3:$GZ$598,596,FALSE))","v":""},null,null,{"$f":"IF(HLOOKUP(AG1,Links!$DE$3:$GZ$598,596,FALSE)=0,\"\",HLOOKUP(AG1,Links!$DE$3:$GZ$598,596,FALSE))","v":""},null,null,{"$f":"IF(HLOOKUP(AJ1,Links!$DE$3:$GZ$598,596,FALSE)=0,\"\",HLOOKUP(AJ1,Links!$DE$3:$GZ$598,596,FALSE))","v":""},null,null,{"$f":"IF(HLOOKUP(AM1,Links!$DE$3:$GZ$598,596,FALSE)=0,\"\",HLOOKUP(AM1,Links!$DE$3:$GZ$598,596,FALSE))","v":""},null,null,{"$f":"IF(HLOOKUP(AP1,Links!$DE$3:$GZ$598,596,FALSE)=0,\"\",HLOOKUP(AP1,Links!$DE$3:$GZ$598,596,FALSE))","v":""},null,null,{"$f":"IF(HLOOKUP(AS1,Links!$DE$3:$GZ$598,596,FALSE)=0,\"\",HLOOKUP(AS1,Links!$DE$3:$GZ$598,596,FALSE))","v":""},null,null,{"$f":"IF(HLOOKUP(AV1,Links!$DE$3:$GZ$598,596,FALSE)=0,\"\",HLOOKUP(AV1,Links!$DE$3:$GZ$598,596,FALSE))","v":""},null,null,{"$f":"IF(HLOOKUP(AY1,Links!$DE$3:$GZ$598,596,FALSE)=0,\"\",HLOOKUP(AY1,Links!$DE$3:$GZ$598,596,FALSE))","v":""},null,null,{"$f":"IF(HLOOKUP(BB1,Links!$DE$3:$GZ$598,596,FALSE)=0,\"\",HLOOKUP(BB1,Links!$DE$3:$GZ$598,596,FALSE))","v":""},null,null,{"$f":"IF(HLOOKUP(BE1,Links!$DE$3:$GZ$598,596,FALSE)=0,\"\",HLOOKUP(BE1,Links!$DE$3:$GZ$598,596,FALSE))","v":""},null,null,{"$f":"IF(HLOOKUP(BH1,Links!$DE$3:$GZ$598,596,FALSE)=0,\"\",HLOOKUP(BH1,Links!$DE$3:$GZ$598,596,FALSE))","v":""},null,null,{"$f":"IF(HLOOKUP(BK1,Links!$DE$3:$GZ$598,596,FALSE)=0,\"\",HLOOKUP(BK1,Links!$DE$3:$GZ$598,596,FALSE))","v":""},null,null,{"$f":"IF(HLOOKUP(BN1,Links!$DE$3:$GZ$598,596,FALSE)=0,\"\",HLOOKUP(BN1,Links!$DE$3:$GZ$598,596,FALSE))","v":""},null,null,{"$f":"IF(HLOOKUP(BQ1,Links!$DE$3:$GZ$598,596,FALSE)=0,\"\",HLOOKUP(BQ1,Links!$DE$3:$GZ$598,596,FALSE))","v":""},null,null,{"$f":"IF(HLOOKUP(BT1,Links!$DE$3:$GZ$598,596,FALSE)=0,\"\",HLOOKUP(BT1,Links!$DE$3:$GZ$598,596,FALSE))","v":""},null,null,{"$f":"IF(HLOOKUP(BW1,Links!$DE$3:$GZ$598,596,FALSE)=0,\"\",HLOOKUP(BW1,Links!$DE$3:$GZ$598,596,FALSE))","v":""},null,null,{"$f":"IF(HLOOKUP(BZ1,Links!$DE$3:$GZ$598,596,FALSE)=0,\"\",HLOOKUP(BZ1,Links!$DE$3:$GZ$598,596,FALSE))","v":""},null,null,{"$f":"IF(HLOOKUP(CC1,Links!$DE$3:$GZ$598,596,FALSE)=0,\"\",HLOOKUP(CC1,Links!$DE$3:$GZ$598,596,FALSE))","v":""},null,null,{"$f":"IF(HLOOKUP(CF1,Links!$DE$3:$GZ$598,596,FALSE)=0,\"\",HLOOKUP(CF1,Links!$DE$3:$GZ$598,596,FALSE))","v":""},null,null,{"$f":"IF(HLOOKUP(CI1,Links!$DE$3:$GZ$598,596,FALSE)=0,\"\",HLOOKUP(CI1,Links!$DE$3:$GZ$598,596,FALSE))","v":""},null,null,{"$f":"IF(HLOOKUP(CL1,Links!$DE$3:$GZ$598,596,FALSE)=0,\"\",HLOOKUP(CL1,Links!$DE$3:$GZ$598,596,FALSE))","v":""},null,null,{"$f":"IF(HLOOKUP(CO1,Links!$DE$3:$GZ$598,596,FALSE)=0,\"\",HLOOKUP(CO1,Links!$DE$3:$GZ$598,596,FALSE))","v":""},null,null,{"$f":"IF(HLOOKUP(CR1,Links!$DE$3:$GZ$598,596,FALSE)=0,\"\",HLOOKUP(CR1,Links!$DE$3:$GZ$598,596,FALSE))","v":""},null,null,{"$f":"IF(HLOOKUP(CU1,Links!$DE$3:$GZ$598,596,FALSE)=0,\"\",HLOOKUP(CU1,Links!$DE$3:$GZ$598,596,FALSE))","v":""},null,null,{"$f":"IF(HLOOKUP(CX1,Links!$DE$3:$GZ$598,596,FALSE)=0,\"\",HLOOKUP(CX1,Links!$DE$3:$GZ$598,596,FALSE))","v":""},null,null,{"$f":"IF(HLOOKUP(DA1,Links!$DE$3:$GZ$598,596,FALSE)=0,\"\",HLOOKUP(DA1,Links!$DE$3:$GZ$598,596,FALSE))","v":""},null,null,{"$f":"IF(HLOOKUP(DD1,Links!$DE$3:$GZ$598,596,FALSE)=0,\"\",HLOOKUP(DD1,Links!$DE$3:$GZ$598,596,FALSE))","v":""},null,null,{"$f":"IF(HLOOKUP(DG1,Links!$DE$3:$GZ$598,596,FALSE)=0,\"\",HLOOKUP(DG1,Links!$DE$3:$GZ$598,596,FALSE))","v":""},null,null,{"$f":"IF(HLOOKUP(DJ1,Links!$DE$3:$GZ$598,596,FALSE)=0,\"\",HLOOKUP(DJ1,Links!$DE$3:$GZ$598,596,FALSE))","v":""},null,null,{"$f":"IF(HLOOKUP(DM1,Links!$DE$3:$GZ$598,596,FALSE)=0,\"\",HLOOKUP(DM1,Links!$DE$3:$GZ$598,596,FALSE))","v":""},null,null,{"$f":"IF(HLOOKUP(DP1,Links!$DE$3:$GZ$598,596,FALSE)=0,\"\",HLOOKUP(DP1,Links!$DE$3:$GZ$598,596,FALSE))","v":""},null,null,{"$f":"IF(HLOOKUP(DS1,Links!$DE$3:$GZ$598,596,FALSE)=0,\"\",HLOOKUP(DS1,Links!$DE$3:$GZ$598,596,FALSE))","v":""},null,null,{"$f":"IF(HLOOKUP(DV1,Links!$DE$3:$GZ$598,596,FALSE)=0,\"\",HLOOKUP(DV1,Links!$DE$3:$GZ$598,596,FALSE))","v":""},null,null,{"$f":"IF(HLOOKUP(DY1,Links!$DE$3:$GZ$598,596,FALSE)=0,\"\",HLOOKUP(DY1,Links!$DE$3:$GZ$598,596,FALSE))","v":""},null,null,{"$f":"IF(HLOOKUP(EB1,Links!$DE$3:$GZ$598,596,FALSE)=0,\"\",HLOOKUP(EB1,Links!$DE$3:$GZ$598,596,FALSE))","v":""},null,null,{"$f":"IF(HLOOKUP(EE1,Links!$DE$3:$GZ$598,596,FALSE)=0,\"\",HLOOKUP(EE1,Links!$DE$3:$GZ$598,596,FALSE))","v":""},null,null,{"$f":"IF(HLOOKUP(EH1,Links!$DE$3:$GZ$598,596,FALSE)=0,\"\",HLOOKUP(EH1,Links!$DE$3:$GZ$598,596,FALSE))","v":""},null,null,{"$f":"IF(HLOOKUP(EK1,Links!$DE$3:$GZ$598,596,FALSE)=0,\"\",HLOOKUP(EK1,Links!$DE$3:$GZ$598,596,FALSE))","v":""},null,null,{"$f":"IF(HLOOKUP(EN1,Links!$DE$3:$GZ$598,596,FALSE)=0,\"\",HLOOKUP(EN1,Links!$DE$3:$GZ$598,596,FALSE))","v":""},null,null,{"$f":"IF(HLOOKUP(EQ1,Links!$DE$3:$GZ$598,596,FALSE)=0,\"\",HLOOKUP(EQ1,Links!$DE$3:$GZ$598,596,FALSE))","v":""},null,null,{"$f":"IF(HLOOKUP(ET1,Links!$DE$3:$GZ$598,596,FALSE)=0,\"\",HLOOKUP(ET1,Links!$DE$3:$GZ$598,596,FALSE))","v":""},null,null,{"$f":"IF(HLOOKUP(EW1,Links!$DE$3:$GZ$598,596,FALSE)=0,\"\",HLOOKUP(EW1,Links!$DE$3:$GZ$598,596,FALSE))","v":""},null,null,{"$f":"IF(HLOOKUP(EZ1,Links!$DE$3:$GZ$598,596,FALSE)=0,\"\",HLOOKUP(EZ1,Links!$DE$3:$GZ$598,596,FALSE))","v":""},null,null,{"$f":"IF(HLOOKUP(FC1,Links!$DE$3:$GZ$598,596,FALSE)=0,\"\",HLOOKUP(FC1,Links!$DE$3:$GZ$598,596,FALSE))","v":""},null,null,{"$f":"IF(HLOOKUP(FF1,Links!$DE$3:$GZ$598,596,FALSE)=0,\"\",HLOOKUP(FF1,Links!$DE$3:$GZ$598,596,FALSE))","v":""},null,null,{"$f":"IF(HLOOKUP(FI1,Links!$DE$3:$GZ$598,596,FALSE)=0,\"\",HLOOKUP(FI1,Links!$DE$3:$GZ$598,596,FALSE))","v":""},null,null,{"$f":"IF(HLOOKUP(FL1,Links!$DE$3:$GZ$598,596,FALSE)=0,\"\",HLOOKUP(FL1,Links!$DE$3:$GZ$598,596,FALSE))","v":""},null,null,{"$f":"IF(HLOOKUP(FO1,Links!$DE$3:$GZ$598,596,FALSE)=0,\"\",HLOOKUP(FO1,Links!$DE$3:$GZ$598,596,FALSE))","v":""},null,null,{"$f":"IF(HLOOKUP(FR1,Links!$DE$3:$GZ$598,596,FALSE)=0,\"\",HLOOKUP(FR1,Links!$DE$3:$GZ$598,596,FALSE))","v":""},null,null,{"$f":"IF(HLOOKUP(FU1,Links!$DE$3:$GZ$598,596,FALSE)=0,\"\",HLOOKUP(FU1,Links!$DE$3:$GZ$598,596,FALSE))","v":""},null,null,{"$f":"IF(HLOOKUP(FX1,Links!$DE$3:$GZ$598,596,FALSE)=0,\"\",HLOOKUP(FX1,Links!$DE$3:$GZ$598,596,FALSE))","v":""},null,null,{"$f":"IF(HLOOKUP(GA1,Links!$DE$3:$GZ$598,596,FALSE)=0,\"\",HLOOKUP(GA1,Links!$DE$3:$GZ$598,596,FALSE))","v":""},null,null,{"$f":"IF(HLOOKUP(GD1,Links!$DE$3:$GZ$598,596,FALSE)=0,\"\",HLOOKUP(GD1,Links!$DE$3:$GZ$598,596,FALSE))","v":""},null,null,{"$f":"IF(HLOOKUP(GG1,Links!$DE$3:$GZ$598,596,FALSE)=0,\"\",HLOOKUP(GG1,Links!$DE$3:$GZ$598,596,FALSE))","v":""},null,null,{"$f":"IF(HLOOKUP(GJ1,Links!$DE$3:$GZ$598,596,FALSE)=0,\"\",HLOOKUP(GJ1,Links!$DE$3:$GZ$598,596,FALSE))","v":""},null,null,{"$f":"IF(HLOOKUP(GM1,Links!$DE$3:$GZ$598,596,FALSE)=0,\"\",HLOOKUP(GM1,Links!$DE$3:$GZ$598,596,FALSE))","v":""},null,null,{"$f":"IF(HLOOKUP(GP1,Links!$DE$3:$GZ$598,596,FALSE)=0,\"\",HLOOKUP(GP1,Links!$DE$3:$GZ$598,596,FALSE))","v":""},null,null,{"$f":"IF(HLOOKUP(GS1,Links!$DE$3:$GZ$598,596,FALSE)=0,\"\",HLOOKUP(GS1,Links!$DE$3:$GZ$598,596,FALSE))","v":""},null,null,{"$f":"IF(HLOOKUP(GV1,Links!$DE$3:$GZ$598,596,FALSE)=0,\"\",HLOOKUP(GV1,Links!$DE$3:$GZ$598,596,FALSE))","v":""},null,null,{"$f":"IF(HLOOKUP(GY1,Links!$DE$3:$GZ$598,596,FALSE)=0,\"\",HLOOKUP(GY1,Links!$DE$3:$GZ$598,596,FALSE))","v":""},null,null,{"$f":"IF(HLOOKUP(HB1,Links!$DE$3:$GZ$598,596,FALSE)=0,\"\",HLOOKUP(HB1,Links!$DE$3:$GZ$598,596,FALSE))","v":""},null,null,{"$f":"IF(HLOOKUP(HE1,Links!$DE$3:$GZ$598,596,FALSE)=0,\"\",HLOOKUP(HE1,Links!$DE$3:$GZ$598,596,FALSE))","v":""},null,null,{"$f":"IF(HLOOKUP(HH1,Links!$DE$3:$GZ$598,596,FALSE)=0,\"\",HLOOKUP(HH1,Links!$DE$3:$GZ$598,596,FALSE))","v":""},null,null,{"$f":"IF(HLOOKUP(HK1,Links!$DE$3:$GZ$598,596,FALSE)=0,\"\",HLOOKUP(HK1,Links!$DE$3:$GZ$598,596,FALSE))","v":""},null,null,{"$f":"IF(HLOOKUP(HN1,Links!$DE$3:$GZ$598,596,FALSE)=0,\"\",HLOOKUP(HN1,Links!$DE$3:$GZ$598,596,FALSE))","v":""},null,null,{"$f":"IF(HLOOKUP(HQ1,Links!$DE$3:$GZ$598,596,FALSE)=0,\"\",HLOOKUP(HQ1,Links!$DE$3:$GZ$598,596,FALSE))","v":""},null,null,{"$f":"IF(HLOOKUP(HT1,Links!$DE$3:$GZ$598,596,FALSE)=0,\"\",HLOOKUP(HT1,Links!$DE$3:$GZ$598,596,FALSE))","v":""},null,null,{"$f":"IF(HLOOKUP(HW1,Links!$DE$3:$GZ$598,596,FALSE)=0,\"\",HLOOKUP(HW1,Links!$DE$3:$GZ$598,596,FALSE))","v":""},null,null,{"$f":"IF(HLOOKUP(HZ1,Links!$DE$3:$GZ$598,596,FALSE)=0,\"\",HLOOKUP(HZ1,Links!$DE$3:$GZ$598,596,FALSE))","v":""},null,null,{"$f":"IF(HLOOKUP(IC1,Links!$DE$3:$GZ$598,596,FALSE)=0,\"\",HLOOKUP(IC1,Links!$DE$3:$GZ$598,596,FALSE))","v":""},null,null,{"$f":"IF(HLOOKUP(IF1,Links!$DE$3:$GZ$598,596,FALSE)=0,\"\",HLOOKUP(IF1,Links!$DE$3:$GZ$598,596,FALSE))","v":""},null,null,{"$f":"IF(HLOOKUP(II1,Links!$DE$3:$GZ$598,596,FALSE)=0,\"\",HLOOKUP(II1,Links!$DE$3:$GZ$598,596,FALSE))","v":""},null,null,{"$f":"IF(HLOOKUP(IL1,Links!$DE$3:$GZ$598,596,FALSE)=0,\"\",HLOOKUP(IL1,Links!$DE$3:$GZ$598,596,FALSE))","v":""},null,null,{"$f":"IF(HLOOKUP(IO1,Links!$DE$3:$GZ$598,596,FALSE)=0,\"\",HLOOKUP(IO1,Links!$DE$3:$GZ$598,596,FALSE))","v":""},null,null,{"$f":"IF(HLOOKUP(IR1,Links!$DE$3:$GZ$598,596,FALSE)=0,\"\",HLOOKUP(IR1,Links!$DE$3:$GZ$598,596,FALSE))","v":""},null,null,{"$f":"IF(HLOOKUP(IU1,Links!$DE$3:$GZ$598,596,FALSE)=0,\"\",HLOOKUP(IU1,Links!$DE$3:$GZ$598,596,FALSE))","v":""},null,null,{"$f":"IF(HLOOKUP(IX1,Links!$DE$3:$GZ$598,596,FALSE)=0,\"\",HLOOKUP(IX1,Links!$DE$3:$GZ$598,596,FALSE))","v":""},null,null,{"$f":"IF(HLOOKUP(JA1,Links!$DE$3:$GZ$598,596,FALSE)=0,\"\",HLOOKUP(JA1,Links!$DE$3:$GZ$598,596,FALSE))","v":""},null,null,{"$f":"IF(HLOOKUP(JD1,Links!$DE$3:$GZ$598,596,FALSE)=0,\"\",HLOOKUP(JD1,Links!$DE$3:$GZ$598,596,FALSE))","v":""},null,null,{"$f":"IF(HLOOKUP(JG1,Links!$DE$3:$GZ$598,596,FALSE)=0,\"\",HLOOKUP(JG1,Links!$DE$3:$GZ$598,596,FALSE))","v":""},null,null,{"$f":"IF(HLOOKUP(JJ1,Links!$DE$3:$GZ$598,596,FALSE)=0,\"\",HLOOKUP(JJ1,Links!$DE$3:$GZ$598,596,FALSE))","v":""},null,null,{"$f":"IF(HLOOKUP(JM1,Links!$DE$3:$GZ$598,596,FALSE)=0,\"\",HLOOKUP(JM1,Links!$DE$3:$GZ$598,596,FALSE))","v":""},null,null,{"$f":"IF(HLOOKUP(JP1,Links!$DE$3:$GZ$598,596,FALSE)=0,\"\",HLOOKUP(JP1,Links!$DE$3:$GZ$598,596,FALSE))","v":""},null,null,{"$f":"IF(HLOOKUP(JS1,Links!$DE$3:$GZ$598,596,FALSE)=0,\"\",HLOOKUP(JS1,Links!$DE$3:$GZ$598,596,FALSE))","v":""},null,null,{"$f":"IF(HLOOKUP(JV1,Links!$DE$3:$GZ$598,596,FALSE)=0,\"\",HLOOKUP(JV1,Links!$DE$3:$GZ$598,596,FALSE))","v":""},null,null,{"$f":"IF(HLOOKUP(JY1,Links!$DE$3:$GZ$598,596,FALSE)=0,\"\",HLOOKUP(JY1,Links!$DE$3:$GZ$598,596,FALSE))","v":""},null,null,{"$f":"IF(HLOOKUP(KB1,Links!$DE$3:$GZ$598,596,FALSE)=0,\"\",HLOOKUP(KB1,Links!$DE$3:$GZ$598,596,FALSE))","v":""},null,null,{"$f":"IF(HLOOKUP(KE1,Links!$DE$3:$GZ$598,596,FALSE)=0,\"\",HLOOKUP(KE1,Links!$DE$3:$GZ$598,596,FALSE))","v":""},null,null,{"$f":"IF(HLOOKUP(KH1,Links!$DE$3:$GZ$598,596,FALSE)=0,\"\",HLOOKUP(KH1,Links!$DE$3:$GZ$598,596,FALSE))","v":""},null,null,{"$f":"IF(HLOOKUP(KK1,Links!$DE$3:$GZ$598,596,FALSE)=0,\"\",HLOOKUP(KK1,Links!$DE$3:$GZ$598,596,FALSE))","v":""},null,null,{"$f":"IF(HLOOKUP(KN1,Links!$DE$3:$GZ$598,596,FALSE)=0,\"\",HLOOKUP(KN1,Links!$DE$3:$GZ$598,596,FALSE))","v":""}]
[null,{"$f":"B3+1","v":3}]
["Review the Hazards marked in this row g",{"$f":"B4+1","v":4},{"$f":"IF(E1=\"X\",\"Triggered\",IF(D1=\"X\",\"Additional Selected\",\"\"))","v":""},null,null,{"$f":"IF(H1=\"X\",\"Triggered\",IF(G1=\"X\",\"Additional Selected\",\"\"))","v":""},null,null,{"$f":"IF(K1=\"X\",\"Triggered\",IF(J1=\"X\",\"Additional Selected\",\"\"))","v":""},null,null,{"$f":"IF(N1=\"X\",\"Triggered\",IF(M1=\"X\",\"Additional Selected\",\"\"))","v":""},null,null,{"$f":"IF(Q1=\"X\",\"Triggered\",IF(P1=\"X\",\"Additional Selected\",\"\"))","v":""},null,null,{"$f":"IF(T1=\"X\",\"Triggered\",IF(S1=\"X\",\"Additional Selected\",\"\"))","v":""},null,null,{"$f":"IF(W1=\"X\",\"Triggered\",IF(V1=\"X\",\"Additional Selected\",\"\"))","v":""},null,null,{"$f":"IF(Z1=\"X\",\"Triggered\",IF(Y1=\"X\",\"Additional Selected\",\"\"))","v":""},null,null,{"$f":"IF(AC1=\"X\",\"Triggered\",IF(AB1=\"X\",\"Additional Selected\",\"\"))","v":""},null,null,{"$f":"IF(AF1=\"X\",\"Triggered\",IF(AE1=\"X\",\"Additional Selected\",\"\"))","v":""},null,null,{"$f":"IF(AI1=\"X\",\"Triggered\",IF(AH1=\"X\",\"Additional Selected\",\"\"))","v":""},null,null,{"$f":"IF(AL1=\"X\",\"Triggered\",IF(AK1=\"X\",\"Additional Selected\",\"\"))","v":""},null,null,{"$f":"IF(AO1=\"X\",\"Triggered\",IF(AN1=\"X\",\"Additional Selected\",\"\"))","v":""},null,null,{"$f":"IF(AR1=\"X\",\"Triggered\",IF(AQ1=\"X\",\"Additional Selected\",\"\"))","v":""},null,null,{"$f":"IF(AU1=\"X\",\"Triggered\",IF(AT1=\"X\",\"Additional Selected\",\"\"))","v":""},null,null,{"$f":"IF(AX1=\"X\",\"Triggered\",IF(AW1=\"X\",\"Additional Selected\",\"\"))","v":""},null,null,{"$f":"IF(BA1=\"X\",\"Triggered\",IF(AZ1=\"X\",\"Additional Selected\",\"\"))","v":""},null,null,{"$f":"IF(BD1=\"X\",\"Triggered\",IF(BC1=\"X\",\"Additional Selected\",\"\"))","v":""},null,null,{"$f":"IF(BG1=\"X\",\"Triggered\",IF(BF1=\"X\",\"Additional Selected\",\"\"))","v":""},null,null,{"$f":"IF(BJ1=\"X\",\"Triggered\",IF(BI1=\"X\",\"Additional Selected\",\"\"))","v":""},null,null,{"$f":"IF(BM1=\"X\",\"Triggered\",IF(BL1=\"X\",\"Additional Selected\",\"\"))","v":""},null,null,{"$f":"IF(BP1=\"X\",\"Triggered\",IF(BO1=\"X\",\"Additional Selected\",\"\"))","v":""},null,null,{"$f":"IF(BS1=\"X\",\"Triggered\",IF(BR1=\"X\",\"Additional Selected\",\"\"))","v":""},null,null,{"$f":"IF(BV1=\"X\",\"Triggered\",IF(BU1=\"X\",\"Additional Selected\",\"\"))","v":""},null,null,{"$f":"IF(BY1=\"X\",\"Triggered\",IF(BX1=\"X\",\"Additional Selected\",\"\"))","v":""},null,null,{"$f":"IF(CB1=\"X\",\"Triggered\",IF(CA1=\"X\",\"Additional Selected\",\"\"))","v":""},null,null,{"$f":"IF(CE1=\"X\",\"Triggered\",IF(CD1=\"X\",\"Additional Selected\",\"\"))","v":""},null,null,{"$f":"IF(CH1=\"X\",\"Triggered\",IF(CG1=\"X\",\"Additional Selected\",\"\"))","v":""},null,null,{"$f":"IF(CK1=\"X\",\"Triggered\",IF(CJ1=\"X\",\"Additional Selected\",\"\"))","v":""},null,null,{"$f":"IF(CN1=\"X\",\"Triggered\",IF(CM1=\"X\",\"Additional Selected\",\"\"))","v":""},null,null,{"$f":"IF(CQ1=\"X\",\"Triggered\",IF(CP1=\"X\",\"Additional Selected\",\"\"))","v":""},null,null,{"$f":"IF(CT1=\"X\",\"Triggered\",IF(CS1=\"X\",\"Additional Selected\",\"\"))","v":""},null,null,{"$f":"IF(CW1=\"X\",\"Triggered\",IF(CV1=\"X\",\"Additional Selected\",\"\"))","v":""},null,null,{"$f":"IF(CZ1=\"X\",\"Triggered\",IF(CY1=\"X\",\"Additional Selected\",\"\"))","v":""},null,null,{"$f":"IF(DC1=\"X\",\"Triggered\",IF(DB1=\"X\",\"Additional Selected\",\"\"))","v":""},null,null,{"$f":"IF(DF1=\"X\",\"Triggered\",IF(DE1=\"X\",\"Additional Selected\",\"\"))","v":""},null,null,{"$f":"IF(DI1=\"X\",\"Triggered\",IF(DH1=\"X\",\"Additional Selected\",\"\"))","v":""},null,null,{"$f":"IF(DL1=\"X\",\"Triggered\",IF(DK1=\"X\",\"Additional Selected\",\"\"))","v":""},null,null,{"$f":"IF(DO1=\"X\",\"Triggered\",IF(DN1=\"X\",\"Additional Selected\",\"\"))","v":""},null,null,{"$f":"IF(DR1=\"X\",\"Triggered\",IF(DQ1=\"X\",\"Additional Selected\",\"\"))","v":""},null,null,{"$f":"IF(DU1=\"X\",\"Triggered\",IF(DT1=\"X\",\"Additional Selected\",\"\"))","v":""},null,null,{"$f":"IF(DX1=\"X\",\"Triggered\",IF(DW1=\"X\",\"Additional Selected\",\"\"))","v":""},null,null,{"$f":"IF(EA1=\"X\",\"Triggered\",IF(DZ1=\"X\",\"Additional Selected\",\"\"))","v":""},null,null,{"$f":"IF(ED1=\"X\",\"Triggered\",IF(EC1=\"X\",\"Additional Selected\",\"\"))","v":""},null,null,{"$f":"IF(EG1=\"X\",\"Triggered\",IF(EF1=\"X\",\"Additional Selected\",\"\"))","v":""},null,null,{"$f":"IF(EJ1=\"X\",\"Triggered\",IF(EI1=\"X\",\"Additional Selected\",\"\"))","v":""},null,null,{"$f":"IF(EM1=\"X\",\"Triggered\",IF(EL1=\"X\",\"Additional Selected\",\"\"))","v":""},null,null,{"$f":"IF(EP1=\"X\",\"Triggered\",IF(EO1=\"X\",\"Additional Selected\",\"\"))","v":""},null,null,{"$f":"IF(ES1=\"X\",\"Triggered\",IF(ER1=\"X\",\"Additional Selected\",\"\"))","v":""},null,null,{"$f":"IF(EV1=\"X\",\"Triggered\",IF(EU1=\"X\",\"Additional Selected\",\"\"))","v":""},null,null,{"$f":"IF(EY1=\"X\",\"Triggered\",IF(EX1=\"X\",\"Additional Selected\",\"\"))","v":""},null,null,{"$f":"IF(FB1=\"X\",\"Triggered\",IF(FA1=\"X\",\"Additional Selected\",\"\"))","v":""},null,null,{"$f":"IF(FE1=\"X\",\"Triggered\",IF(FD1=\"X\",\"Additional Selected\",\"\"))","v":""},null,null,{"$f":"IF(FH1=\"X\",\"Triggered\",IF(FG1=\"X\",\"Additional Selected\",\"\"))","v":""},null,null,{"$f":"IF(FK1=\"X\",\"Triggered\",IF(FJ1=\"X\",\"Additional Selected\",\"\"))","v":""},null,null,{"$f":"IF(FN1=\"X\",\"Triggered\",IF(FM1=\"X\",\"Additional Selected\",\"\"))","v":""},null,null,{"$f":"IF(FQ1=\"X\",\"Triggered\",IF(FP1=\"X\",\"Additional Selected\",\"\"))","v":""},null,null,{"$f":"IF(FT1=\"X\",\"Triggered\",IF(FS1=\"X\",\"Additional Selected\",\"\"))","v":""},null,null,{"$f":"IF(FW1=\"X\",\"Triggered\",IF(FV1=\"X\",\"Additional Selected\",\"\"))","v":""},null,null,{"$f":"IF(FZ1=\"X\",\"Triggered\",IF(FY1=\"X\",\"Additional Selected\",\"\"))","v":""},null,null,{"$f":"IF(GC1=\"X\",\"Triggered\",IF(GB1=\"X\",\"Additional Selected\",\"\"))","v":""},null,null,{"$f":"IF(GF1=\"X\",\"Triggered\",IF(GE1=\"X\",\"Additional Selected\",\"\"))","v":""},null,null,{"$f":"IF(GI1=\"X\",\"Triggered\",IF(GH1=\"X\",\"Additional Selected\",\"\"))","v":""},null,null,{"$f":"IF(GL1=\"X\",\"Triggered\",IF(GK1=\"X\",\"Additional Selected\",\"\"))","v":""},null,null,{"$f":"IF(GO1=\"X\",\"Triggered\",IF(GN1=\"X\",\"Additional Selected\",\"\"))","v":""},null,null,{"$f":"IF(GR1=\"X\",\"Triggered\",IF(GQ1=\"X\",\"Additional Selected\",\"\"))","v":""},null,null,{"$f":"IF(GU1=\"X\",\"Triggered\",IF(GT1=\"X\",\"Additional Selected\",\"\"))","v":""},null,null,{"$f":"IF(GX1=\"X\",\"Triggered\",IF(GW1=\"X\",\"Additional Selected\",\"\"))","v":""},null,null,{"$f":"IF(HA1=\"X\",\"Triggered\",IF(GZ1=\"X\",\"Additional Selected\",\"\"))","v":""},null,null,{"$f":"IF(HD1=\"X\",\"Triggered\",IF(HC1=\"X\",\"Additional Selected\",\"\"))","v":""},null,null,{"$f":"IF(HG1=\"X\",\"Triggered\",IF(HF1=\"X\",\"Additional Selected\",\"\"))","v":""},null,null,{"$f":"IF(HJ1=\"X\",\"Triggered\",IF(HI1=\"X\",\"Additional Selected\",\"\"))","v":""},null,null,{"$f":"IF(HM1=\"X\",\"Triggered\",IF(HL1=\"X\",\"Additional Selected\",\"\"))","v":""},null,null,{"$f":"IF(HP1=\"X\",\"Triggered\",IF(HO1=\"X\",\"Additional Selected\",\"\"))","v":""},null,null,{"$f":"IF(HS1=\"X\",\"Triggered\",IF(HR1=\"X\",\"Additional Selected\",\"\"))","v":""},null,null,{"$f":"IF(HV1=\"X\",\"Triggered\",IF(HU1=\"X\",\"Additional Selected\",\"\"))","v":""},null,null,{"$f":"IF(HY1=\"X\",\"Triggered\",IF(HX1=\"X\",\"Additional Selected\",\"\"))","v":""},null,null,{"$f":"IF(IB1=\"X\",\"Triggered\",IF(IA1=\"X\",\"Additional Selected\",\"\"))","v":""},null,null,{"$f":"IF(IE1=\"X\",\"Triggered\",IF(ID1=\"X\",\"Additional Selected\",\"\"))","v":""},null,null,{"$f":"IF(IH1=\"X\",\"Triggered\",IF(IG1=\"X\",\"Additional Selected\",\"\"))","v":""},null,null,{"$f":"IF(IK1=\"X\",\"Triggered\",IF(IJ1=\"X\",\"Additional Selected\",\"\"))","v":""},null,null,{"$f":"IF(IN1=\"X\",\"Triggered\",IF(IM1=\"X\",\"Additional Selected\",\"\"))","v":""},null,null,{"$f":"IF(IQ1=\"X\",\"Triggered\",IF(IP1=\"X\",\"Additional Selected\",\"\"))","v":""},null,null,{"$f":"IF(IT1=\"X\",\"Triggered\",IF(IS1=\"X\",\"Additional Selected\",\"\"))","v":""},null,null,{"$f":"IF(IW1=\"X\",\"Triggered\",IF(IV1=\"X\",\"Additional Selected\",\"\"))","v":""},null,null,{"$f":"IF(IZ1=\"X\",\"Triggered\",IF(IY1=\"X\",\"Additional Selected\",\"\"))","v":""},null,null,{"$f":"IF(JC1=\"X\",\"Triggered\",IF(JB1=\"X\",\"Additional Selected\",\"\"))","v":""},null,null,{"$f":"IF(JF1=\"X\",\"Triggered\",IF(JE1=\"X\",\"Additional Selected\",\"\"))","v":""},null,null,{"$f":"IF(JI1=\"X\",\"Triggered\",IF(JH1=\"X\",\"Additional Selected\",\"\"))","v":""},null,null,{"$f":"IF(JL1=\"X\",\"Triggered\",IF(JK1=\"X\",\"Additional Selected\",\"\"))","v":""},null,null,{"$f":"IF(JO1=\"X\",\"Triggered\",IF(JN1=\"X\",\"Additional Selected\",\"\"))","v":""},null,null,{"$f":"IF(JR1=\"X\",\"Triggered\",IF(JQ1=\"X\",\"Additional Selected\",\"\"))","v":""},null,null,{"$f":"IF(JU1=\"X\",\"Triggered\",IF(JT1=\"X\",\"Additional Selected\",\"\"))","v":""},null,null,{"$f":"IF(JX1=\"X\",\"Triggered\",IF(JW1=\"X\",\"Additional Selected\",\"\"))","v":""},null,null,{"$f":"IF(KA1=\"X\",\"Triggered\",IF(JZ1=\"X\",\"Additional Selected\",\"\"))","v":""},null,null,{"$f":"IF(KD1=\"X\",\"Triggered\",IF(KC1=\"X\",\"Additional Selected\",\"\"))","v":""},null,null,{"$f":"IF(KG1=\"X\",\"Triggered\",IF(KF1=\"X\",\"Additional Selected\",\"\"))","v":""},null,null,{"$f":"IF(KJ1=\"X\",\"Triggered\",IF(KI1=\"X\",\"Additional Selected\",\"\"))","v":""},null,null,{"$f":"IF(KM1=\"X\",\"Triggered\",IF(KL1=\"X\",\"Additional Selected\",\"\"))","v":""},null,null,{"$f":"IF(KP1=\"X\",\"Triggered\",IF(KO1=\"X\",\"Additional Selected\",\"\"))","v":""}]
["If green, you may change the Severity & Initial Likeli-hood of the Hazard. The Initial Risk is derived.",{"$f":"B5+1","v":5},"Severity","Initial Likelihood","Initial Risk","Severity","Initial Likelihood","Initial Risk","Severity","Initial Likelihood","Initial Risk","Severity","Initial Likelihood","Initial Risk","Severity","Initial Likelihood","Initial Risk","Severity","Initial Likelihood","Initial Risk","Severity","Initial Likelihood","Initial Risk","Severity","Initial Likelihood","Initial Risk","Severity","Initial Likelihood","Initial Risk","Severity","Initial Likelihood","Initial Risk","Severity","Initial Likelihood","Initial Risk","Severity","Initial Likelihood","Initial Risk","Severity","Initial Likelihood","Initial Risk","Severity","Initial Likelihood","Initial Risk","Severity","Initial Likelihood","Initial Risk","Severity","Initial Likelihood","Initial Risk","Severity","Initial Likelihood","Initial Risk","Severity","Initial Likelihood","Initial Risk","Severity","Initial Likelihood","Initial Risk","Severity","Initial Likelihood","Initial Risk","Severity","Initial Likelihood","Initial Risk","Severity","Initial Likelihood","Initial Risk","Severity","Initial Likelihood","Initial Risk","Severity","Initial Likelihood","Initial Risk","Severity","Initial Likelihood","Initial Risk","Severity","Initial Likelihood","Initial Risk","Severity","Initial Likelihood","Initial Risk","Severity","Initial Likelihood","Initial Risk","Severity","Initial Likelihood","Initial Risk","Severity","Initial Likelihood","Initial Risk","Severity","Initial Likelihood","Initial Risk","Severity","Initial Likelihood","Initial Risk","Severity","Initial Likelihood","Initial Risk","Severity","Initial Likelihood","Initial Risk","Severity","Initial Likelihood","Initial Risk","Severity","Initial Likelihood","Initial Risk","Severity","Initial Likelihood","Initial Risk","Severity","Initial Likelihood","Initial Risk","Severity","Initial Likelihood","Initial Risk","Severity","Initial Likelihood","Initial Risk","Severity","Initial Likelihood","Initial Risk","Severity","Initial Likelihood","Initial Risk","Severity","Initial Likelihood","Initial Risk","Severity","Initial Likelihood","Initial Risk","Severity","Initial Likelihood","Initial Risk","Severity","Initial Likelihood","Initial Risk","Severity","Initial Likelihood","Initial Risk","Severity","Initial Likelihood","Initial Risk","Severity","Initial Likelihood","Initial Risk","Severity","Initial Likelihood","Initial Risk","Severity","Initial Likelihood","Initial Risk","Severity","Initial Likelihood","Initial Risk","Severity","Initial Likelihood","Initial Risk","Severity","Initial Likelihood","Initial Risk","Severity","Initial Likelihood","Initial Risk","Severity","Initial Likelihood","Initial Risk","Severity","Initial Likelihood","Initial Risk","Severity","Initial Likelihood","Initial Risk","Severity","Initial Likelihood","Initial Risk","Severity","Initial Likelihood","Initial Risk","Severity","Initial Likelihood","Initial Risk","Severity","Initial Likelihood","Initial Risk","Severity","Initial Likelihood","Initial Risk","Severity","Initial Likelihood","Initial Risk","Severity","Initial Likelihood","Initial Risk","Severity","Initial Likelihood","Initial Risk","Severity","Initial Likelihood","Initial Risk","Severity","Initial Likelihood","Initial Risk","Severity","Initial Likelihood","Initial Risk","Severity","Initial Likelihood","Initial Risk","Severity","Initial Likelihood","Initial Risk","Severity","Initial Likelihood","Initial Risk","Severity","Initial Likelihood","Initial Risk","Severity","Initial Likelihood","Initial Risk","Severity","Initial Likelihood","Initial Risk","Severity","Initial Likelihood","Initial Risk","Severity","Initial Likelihood","Initial Risk","Severity","Initial Likelihood","Initial Risk","Severity","Initial Likelihood","Initial Risk","Severity","Initial Likelihood","Initial Risk","Severity","Initial Likelihood","Initial Risk","Severity","Initial Likelihood","Initial Risk","Severity","Initial Likelihood","Initial Risk","Severity","Initial Likelihood","Initial Risk","Severity","Initial Likelihood","Initial Risk","Severity","Initial Likelihood","Initial Risk","Severity","Initial Likelihood","Initial Risk","Severity","Initial Likelihood","Initial Risk","Severity","Initial Likelihood","Initial Risk","Severity","Initial Likelihood","Initial Risk","Severity","Initial Likelihood","Initial Risk","Severity","Initial Likelihood","Initial Risk","Severity","Initial Likelihood","Initial Risk","Severity","Initial Likelihood","Initial Risk","Severity","Initial Likelihood","Initial Risk","Severity","Initial Likelihood","Initial Risk","Severity","Initial Likelihood","Initial Risk","Severity","Initial Likelihood","Initial Risk","Severity","Initial Likelihood","Initial Risk","Severity","Initial Likelihood","Initial Risk"]
[null,{"$f":"B6+1","v":6},"Catastrophic","Very Likely",{"$f":"INDEX(Sev_Matrix_Values,VLOOKUP(C7,Sev_Matrix_for_VLookup,6),HLOOKUP(D7,Sev_Matrix_for_HLookup,6))","v":"Extreme"},"Major","Very Likely",{"$f":"INDEX(Sev_Matrix_Values,VLOOKUP(F7,Sev_Matrix_for_VLookup,6),HLOOKUP(G7,Sev_Matrix_for_HLookup,6))","v":"High"},"Moderate","Very Likely",{"$f":"INDEX(Sev_Matrix_Values,VLOOKUP(I7,Sev_Matrix_for_VLookup,6),HLOOKUP(J7,Sev_Matrix_for_HLookup,6))","v":"High"},"Major","Likely",{"$f":"INDEX(Sev_Matrix_Values,VLOOKUP(L7,Sev_Matrix_for_VLookup,6),HLOOKUP(M7,Sev_Matrix_for_HLookup,6))","v":"High"},"Catastrophic","Likely",{"$f":"INDEX(Sev_Matrix_Values,VLOOKUP(O7,Sev_Matrix_for_VLookup,6),HLOOKUP(P7,Sev_Matrix_for_HLookup,6))","v":"High"},"Major","Likely",{"$f":"INDEX(Sev_Matrix_Values,VLOOKUP(R7,Sev_Matrix_for_VLookup,6),HLOOKUP(S7,Sev_Matrix_for_HLookup,6))","v":"High"},"Catastrophic","Likely",{"$f":"INDEX(Sev_Matrix_Values,VLOOKUP(U7,Sev_Matrix_for_VLookup,6),HLOOKUP(V7,Sev_Matrix_for_HLookup,6))","v":"High"},"Major","Very Likely",{"$f":"INDEX(Sev_Matrix_Values,VLOOKUP(X7,Sev_Matrix_for_VLookup,6),HLOOKUP(Y7,Sev_Matrix_for_HLookup,6))","v":"High"},"Major","Very Likely",{"$f":"INDEX(Sev_Matrix_Values,VLOOKUP(AA7,Sev_Matrix_for_VLookup,6),HLOOKUP(AB7,Sev_Matrix_for_HLookup,6))","v":"High"},"Catastrophic","Likely",{"$f":"INDEX(Sev_Matrix_Values,VLOOKUP(AD7,Sev_Matrix_for_VLookup,6),HLOOKUP(AE7,Sev_Matrix_for_HLookup,6))","v":"High"},"Catastrophic","Likely",{"$f":"INDEX(Sev_Matrix_Values,VLOOKUP(AG7,Sev_Matrix_for_VLookup,6),HLOOKUP(AH7,Sev_Matrix_for_HLookup,6))","v":"High"},"Catastrophic","Likely",{"$f":"INDEX(Sev_Matrix_Values,VLOOKUP(AJ7,Sev_Matrix_for_VLookup,6),HLOOKUP(AK7,Sev_Matrix_for_HLookup,6))","v":"High"},"Major","Very Likely",{"$f":"INDEX(Sev_Matrix_Values,VLOOKUP(AM7,Sev_Matrix_for_VLookup,6),HLOOKUP(AN7,Sev_Matrix_for_HLookup,6))","v":"High"},"Major","Very Likely",{"$f":"INDEX(Sev_Matrix_Values,VLOOKUP(AP7,Sev_Matrix_for_VLookup,6),HLOOKUP(AQ7,Sev_Matrix_for_HLookup,6))","v":"High"},"Major","Very Likely",{"$f":"INDEX(Sev_Matrix_Values,VLOOKUP(AS7,Sev_Matrix_for_VLookup,6),HLOOKUP(AT7,Sev_Matrix_for_HLookup,6))","v":"High"},"Catastrophic","Likely",{"$f":"INDEX(Sev_Matrix_Values,VLOOKUP(AV7,Sev_Matrix_for_VLookup,6),HLOOKUP(AW7,Sev_Matrix_for_HLookup,6))","v":"High"},"Moderate","Likely",{"$f":"INDEX(Sev_Matrix_Values,VLOOKUP(AY7,Sev_Matrix_for_VLookup,6),HLOOKUP(AZ7,Sev_Matrix_for_HLookup,6))","v":"Moderate"},"Moderate","Seldom",{"$f":"INDEX(Sev_Matrix_Values,VLOOKUP(BB7,Sev_Matrix_for_VLookup,6),HLOOKUP(BC7,Sev_Matrix_for_HLookup,6))","v":"Moderate"},"Major","Likely",{"$f":"INDEX(Sev_Matrix_Values,VLOOKUP(BE7,Sev_Matrix_for_VLookup,6),HLOOKUP(BF7,Sev_Matrix_for_HLookup,6))","v":"High"},"Major","Likely",{"$f":"INDEX(Sev_Matrix_Values,VLOOKUP(BH7,Sev_Matrix_for_VLookup,6),HLOOKUP(BI7,Sev_Matrix_for_HLookup,6))","v":"High"},"Major","Likely",{"$f":"INDEX(Sev_Matrix_Values,VLOOKUP(BK7,Sev_Matrix_for_VLookup,6),HLOOKUP(BL7,Sev_Matrix_for_HLookup,6))","v":"High"},"Major","Likely",{"$f":"INDEX(Sev_Matrix_Values,VLOOKUP(BN7,Sev_Matrix_for_VLookup,6),HLOOKUP(BO7,Sev_Matrix_for_HLookup,6))","v":"High"},"Major","Likely",{"$f":"INDEX(Sev_Matrix_Values,VLOOKUP(BQ7,Sev_Matrix_for_VLookup,6),HLOOKUP(BR7,Sev_Matrix_for_HLookup,6))","v":"High"},"Catastrophic","Likely",{"$f":"INDEX(Sev_Matrix_Values,VLOOKUP(BT7,Sev_Matrix_for_VLookup,6),HLOOKUP(BU7,Sev_Matrix_for_HLookup,6))","v":"High"},"Catastrophic","Likely",{"$f":"INDEX(Sev_Matrix_Values,VLOOKUP(BW7,Sev_Matrix_for_VLookup,6),HLOOKUP(BX7,Sev_Matrix_for_HLookup,6))","v":"High"},"Moderate","Likely",{"$f":"INDEX(Sev_Matrix_Values,VLOOKUP(BZ7,Sev_Matrix_for_VLookup,6),HLOOKUP(CA7,Sev_Matrix_for_HLookup,6))","v":"Moderate"},"Catastrophic","Likely",{"$f":"INDEX(Sev_Matrix_Values,VLOOKUP(CC7,Sev_Matrix_for_VLookup,6),HLOOKUP(CD7,Sev_Matrix_for_HLookup,6))","v":"High"},"Major","Seldom",{"$f":"INDEX(Sev_Matrix_Values,VLOOKUP(CF7,Sev_Matrix_for_VLookup,6),HLOOKUP(CG7,Sev_Matrix_for_HLookup,6))","v":"Moderate"},"Major","Likely",{"$f":"INDEX(Sev_Matrix_Values,VLOOKUP(CI7,Sev_Matrix_for_VLookup,6),HLOOKUP(CJ7,Sev_Matrix_for_HLookup,6))","v":"High"},"Major","Likely",{"$f":"INDEX(Sev_Matrix_Values,VLOOKUP(CL7,Sev_Matrix_for_VLookup,6),HLOOKUP(CM7,Sev_Matrix_for_HLookup,6))","v":"High"},"Major","Likely",{"$f":"INDEX(Sev_Matrix_Values,VLOOKUP(CO7,Sev_Matrix_for_VLookup,6),HLOOKUP(CP7,Sev_Matrix_for_HLookup,6))","v":"High"},"Major","Likely",{"$f":"INDEX(Sev_Matrix_Values,VLOOKUP(CR7,Sev_Matrix_for_VLookup,6),HLOOKUP(CS7,Sev_Matrix_for_HLookup,6))","v":"High"},"Major","Likely",{"$f":"INDEX(Sev_Matrix_Values,VLOOKUP(CU7,Sev_Matrix_for_VLookup,6),HLOOKUP(CV7,Sev_Matrix_for_HLookup,6))","v":"High"},"Major","Likely",{"$f":"INDEX(Sev_Matrix_Values,VLOOKUP(CX7,Sev_Matrix_for_VLookup,6),HLOOKUP(CY7,Sev_Matrix_for_HLookup,6))","v":"High"},"Major","Likely",{"$f":"INDEX(Sev_Matrix_Values,VLOOKUP(DA7,Sev_Matrix_for_VLookup,6),HLOOKUP(DB7,Sev_Matrix_for_HLookup,6))","v":"High"},"Major","Likely",{"$f":"INDEX(Sev_Matrix_Values,VLOOKUP(DD7,Sev_Matrix_for_VLookup,6),HLOOKUP(DE7,Sev_Matrix_for_HLookup,6))","v":"High"},"Major","Likely",{"$f":"INDEX(Sev_Matrix_Values,VLOOKUP(DG7,Sev_Matrix_for_VLookup,6),HLOOKUP(DH7,Sev_Matrix_for_HLookup,6))","v":"High"},"Major","Likely",{"$f":"INDEX(Sev_Matrix_Values,VLOOKUP(DJ7,Sev_Matrix_for_VLookup,6),HLOOKUP(DK7,Sev_Matrix_for_HLookup,6))","v":"High"},"Major","Likely",{"$f":"INDEX(Sev_Matrix_Values,VLOOKUP(DM7,Sev_Matrix_for_VLookup,6),HLOOKUP(DN7,Sev_Matrix_for_HLookup,6))","v":"High"},"Major","Likely",{"$f":"INDEX(Sev_Matrix_Values,VLOOKUP(DP7,Sev_Matrix_for_VLookup,6),HLOOKUP(DQ7,Sev_Matrix_for_HLookup,6))","v":"High"},"Major","Likely",{"$f":"INDEX(Sev_Matrix_Values,VLOOKUP(DS7,Sev_Matrix_for_VLookup,6),HLOOKUP(DT7,Sev_Matrix_for_HLookup,6))","v":"High"},"Major","Likely",{"$f":"INDEX(Sev_Matrix_Values,VLOOKUP(DV7,Sev_Matrix_for_VLookup,6),HLOOKUP(DW7,Sev_Matrix_for_HLookup,6))","v":"High"},"Major","Likely",{"$f":"INDEX(Sev_Matrix_Values,VLOOKUP(DY7,Sev_Matrix_for_VLookup,6),HLOOKUP(DZ7,Sev_Matrix_for_HLookup,6))","v":"High"},"Major","Likely",{"$f":"INDEX(Sev_Matrix_Values,VLOOKUP(EB7,Sev_Matrix_for_VLookup,6),HLOOKUP(EC7,Sev_Matrix_for_HLookup,6))","v":"High"},"Major","Likely",{"$f":"INDEX(Sev_Matrix_Values,VLOOKUP(EE7,Sev_Matrix_for_VLookup,6),HLOOKUP(EF7,Sev_Matrix_for_HLookup,6))","v":"High"},"Major","Likely",{"$f":"INDEX(Sev_Matrix_Values,VLOOKUP(EH7,Sev_Matrix_for_VLookup,6),HLOOKUP(EI7,Sev_Matrix_for_HLookup,6))","v":"High"},"Major","Likely",{"$f":"INDEX(Sev_Matrix_Values,VLOOKUP(EK7,Sev_Matrix_for_VLookup,6),HLOOKUP(EL7,Sev_Matrix_for_HLookup,6))","v":"High"},"Major","Likely",{"$f":"INDEX(Sev_Matrix_Values,VLOOKUP(EN7,Sev_Matrix_for_VLookup,6),HLOOKUP(EO7,Sev_Matrix_for_HLookup,6))","v":"High"},"Major","Likely",{"$f":"INDEX(Sev_Matrix_Values,VLOOKUP(EQ7,Sev_Matrix_for_VLookup,6),HLOOKUP(ER7,Sev_Matrix_for_HLookup,6))","v":"High"},"Major","Likely",{"$f":"INDEX(Sev_Matrix_Values,VLOOKUP(ET7,Sev_Matrix_for_VLookup,6),HLOOKUP(EU7,Sev_Matrix_for_HLookup,6))","v":"High"},"Major","Likely",{"$f":"INDEX(Sev_Matrix_Values,VLOOKUP(EW7,Sev_Matrix_for_VLookup,6),HLOOKUP(EX7,Sev_Matrix_for_HLookup,6))","v":"High"},"Major","Likely",{"$f":"INDEX(Sev_Matrix_Values,VLOOKUP(EZ7,Sev_Matrix_for_VLookup,6),HLOOKUP(FA7,Sev_Matrix_for_HLookup,6))","v":"High"},"Major","Likely",{"$f":"INDEX(Sev_Matrix_Values,VLOOKUP(FC7,Sev_Matrix_for_VLookup,6),HLOOKUP(FD7,Sev_Matrix_for_HLookup,6))","v":"High"},"Major","Likely",{"$f":"INDEX(Sev_Matrix_Values,VLOOKUP(FF7,Sev_Matrix_for_VLookup,6),HLOOKUP(FG7,Sev_Matrix_for_HLookup,6))","v":"High"},"Major","Likely",{"$f":"INDEX(Sev_Matrix_Values,VLOOKUP(FI7,Sev_Matrix_for_VLookup,6),HLOOKUP(FJ7,Sev_Matrix_for_HLookup,6))","v":"High"},"Major","Likely",{"$f":"INDEX(Sev_Matrix_Values,VLOOKUP(FL7,Sev_Matrix_for_VLookup,6),HLOOKUP(FM7,Sev_Matrix_for_HLookup,6))","v":"High"},"Major","Likely",{"$f":"INDEX(Sev_Matrix_Values,VLOOKUP(FO7,Sev_Matrix_for_VLookup,6),HLOOKUP(FP7,Sev_Matrix_for_HLookup,6))","v":"High"},"Major","Likely",{"$f":"INDEX(Sev_Matrix_Values,VLOOKUP(FR7,Sev_Matrix_for_VLookup,6),HLOOKUP(FS7,Sev_Matrix_for_HLookup,6))","v":"High"},"Major","Likely",{"$f":"INDEX(Sev_Matrix_Values,VLOOKUP(FU7,Sev_Matrix_for_VLookup,6),HLOOKUP(FV7,Sev_Matrix_for_HLookup,6))","v":"High"},"Major","Likely",{"$f":"INDEX(Sev_Matrix_Values,VLOOKUP(FX7,Sev_Matrix_for_VLookup,6),HLOOKUP(FY7,Sev_Matrix_for_HLookup,6))","v":"High"},"Major","Likely",{"$f":"INDEX(Sev_Matrix_Values,VLOOKUP(GA7,Sev_Matrix_for_VLookup,6),HLOOKUP(GB7,Sev_Matrix_for_HLookup,6))","v":"High"},"Major","Likely",{"$f":"INDEX(Sev_Matrix_Values,VLOOKUP(GD7,Sev_Matrix_for_VLookup,6),HLOOKUP(GE7,Sev_Matrix_for_HLookup,6))","v":"High"},"Major","Likely",{"$f":"INDEX(Sev_Matrix_Values,VLOOKUP(GG7,Sev_Matrix_for_VLookup,6),HLOOKUP(GH7,Sev_Matrix_for_HLookup,6))","v":"High"},"Major","Likely",{"$f":"INDEX(Sev_Matrix_Values,VLOOKUP(GJ7,Sev_Matrix_for_VLookup,6),HLOOKUP(GK7,Sev_Matrix_for_HLookup,6))","v":"High"},"Major","Likely",{"$f":"INDEX(Sev_Matrix_Values,VLOOKUP(GM7,Sev_Matrix_for_VLookup,6),HLOOKUP(GN7,Sev_Matrix_for_HLookup,6))","v":"High"},"Major","Likely",{"$f":"INDEX(Sev_Matrix_Values,VLOOKUP(GP7,Sev_Matrix_for_VLookup,6),HLOOKUP(GQ7,Sev_Matrix_for_HLookup,6))","v":"High"},"Major","Likely",{"$f":"INDEX(Sev_Matrix_Values,VLOOKUP(GS7,Sev_Matrix_for_VLookup,6),HLOOKUP(GT7,Sev_Matrix_for_HLookup,6))","v":"High"},"Major","Likely",{"$f":"INDEX(Sev_Matrix_Values,VLOOKUP(GV7,Sev_Matrix_for_VLookup,6),HLOOKUP(GW7,Sev_Matrix_for_HLookup,6))","v":"High"},"Major","Likely",{"$f":"INDEX(Sev_Matrix_Values,VLOOKUP(GY7,Sev_Matrix_for_VLookup,6),HLOOKUP(GZ7,Sev_Matrix_for_HLookup,6))","v":"High"},"Major","Likely",{"$f":"INDEX(Sev_Matrix_Values,VLOOKUP(HB7,Sev_Matrix_for_VLookup,6),HLOOKUP(HC7,Sev_Matrix_for_HLookup,6))","v":"High"},"Major","Likely",{"$f":"INDEX(Sev_Matrix_Values,VLOOKUP(HE7,Sev_Matrix_for_VLookup,6),HLOOKUP(HF7,Sev_Matrix_for_HLookup,6))","v":"High"},"Major","Likely",{"$f":"INDEX(Sev_Matrix_Values,VLOOKUP(HH7,Sev_Matrix_for_VLookup,6),HLOOKUP(HI7,Sev_Matrix_for_HLookup,6))","v":"High"},"Major","Likely",{"$f":"INDEX(Sev_Matrix_Values,VLOOKUP(HK7,Sev_Matrix_for_VLookup,6),HLOOKUP(HL7,Sev_Matrix_for_HLookup,6))","v":"High"},"Major","Likely",{"$f":"INDEX(Sev_Matrix_Values,VLOOKUP(HN7,Sev_Matrix_for_VLookup,6),HLOOKUP(HO7,Sev_Matrix_for_HLookup,6))","v":"High"},"Major","Likely",{"$f":"INDEX(Sev_Matrix_Values,VLOOKUP(HQ7,Sev_Matrix_for_VLookup,6),HLOOKUP(HR7,Sev_Matrix_for_HLookup,6))","v":"High"},"Major","Likely",{"$f":"INDEX(Sev_Matrix_Values,VLOOKUP(HT7,Sev_Matrix_for_VLookup,6),HLOOKUP(HU7,Sev_Matrix_for_HLookup,6))","v":"High"},"Major","Likely",{"$f":"INDEX(Sev_Matrix_Values,VLOOKUP(HW7,Sev_Matrix_for_VLookup,6),HLOOKUP(HX7,Sev_Matrix_for_HLookup,6))","v":"High"},"Major","Likely",{"$f":"INDEX(Sev_Matrix_Values,VLOOKUP(HZ7,Sev_Matrix_for_VLookup,6),HLOOKUP(IA7,Sev_Matrix_for_HLookup,6))","v":"High"},"Major","Likely",{"$f":"INDEX(Sev_Matrix_Values,VLOOKUP(IC7,Sev_Matrix_for_VLookup,6),HLOOKUP(ID7,Sev_Matrix_for_HLookup,6))","v":"High"},"Major","Likely",{"$f":"INDEX(Sev_Matrix_Values,VLOOKUP(IF7,Sev_Matrix_for_VLookup,6),HLOOKUP(IG7,Sev_Matrix_for_HLookup,6))","v":"High"},"Major","Likely",{"$f":"INDEX(Sev_Matrix_Values,VLOOKUP(II7,Sev_Matrix_for_VLookup,6),HLOOKUP(IJ7,Sev_Matrix_for_HLookup,6))","v":"High"},"Major","Likely",{"$f":"INDEX(Sev_Matrix_Values,VLOOKUP(IL7,Sev_Matrix_for_VLookup,6),HLOOKUP(IM7,Sev_Matrix_for_HLookup,6))","v":"High"},"Major","Likely",{"$f":"INDEX(Sev_Matrix_Values,VLOOKUP(IO7,Sev_Matrix_for_VLookup,6),HLOOKUP(IP7,Sev_Matrix_for_HLookup,6))","v":"High"},"Major","Likely",{"$f":"INDEX(Sev_Matrix_Values,VLOOKUP(IR7,Sev_Matrix_for_VLookup,6),HLOOKUP(IS7,Sev_Matrix_for_HLookup,6))","v":"High"},"Major","Likely",{"$f":"INDEX(Sev_Matrix_Values,VLOOKUP(IU7,Sev_Matrix_for_VLookup,6),HLOOKUP(IV7,Sev_Matrix_for_HLookup,6))","v":"High"},"Major","Likely",{"$f":"INDEX(Sev_Matrix_Values,VLOOKUP(IX7,Sev_Matrix_for_VLookup,6),HLOOKUP(IY7,Sev_Matrix_for_HLookup,6))","v":"High"},"Major","Likely",{"$f":"INDEX(Sev_Matrix_Values,VLOOKUP(JA7,Sev_Matrix_for_VLookup,6),HLOOKUP(JB7,Sev_Matrix_for_HLookup,6))","v":"High"},"Major","Likely",{"$f":"INDEX(Sev_Matrix_Values,VLOOKUP(JD7,Sev_Matrix_for_VLookup,6),HLOOKUP(JE7,Sev_Matrix_for_HLookup,6))","v":"High"},"Major","Likely",{"$f":"INDEX(Sev_Matrix_Values,VLOOKUP(JG7,Sev_Matrix_for_VLookup,6),HLOOKUP(JH7,Sev_Matrix_for_HLookup,6))","v":"High"},"Major","Likely",{"$f":"INDEX(Sev_Matrix_Values,VLOOKUP(JJ7,Sev_Matrix_for_VLookup,6),HLOOKUP(JK7,Sev_Matrix_for_HLookup,6))","v":"High"},"Major","Likely",{"$f":"INDEX(Sev_Matrix_Values,VLOOKUP(JM7,Sev_Matrix_for_VLookup,6),HLOOKUP(JN7,Sev_Matrix_for_HLookup,6))","v":"High"},"Major","Likely",{"$f":"INDEX(Sev_Matrix_Values,VLOOKUP(JP7,Sev_Matrix_for_VLookup,6),HLOOKUP(JQ7,Sev_Matrix_for_HLookup,6))","v":"High"},"Major","Likely",{"$f":"INDEX(Sev_Matrix_Values,VLOOKUP(JS7,Sev_Matrix_for_VLookup,6),HLOOKUP(JT7,Sev_Matrix_for_HLookup,6))","v":"High"},"Major","Likely",{"$f":"INDEX(Sev_Matrix_Values,VLOOKUP(JV7,Sev_Matrix_for_VLookup,6),HLOOKUP(JW7,Sev_Matrix_for_HLookup,6))","v":"High"},"Major","Likely",{"$f":"INDEX(Sev_Matrix_Values,VLOOKUP(JY7,Sev_Matrix_for_VLookup,6),HLOOKUP(JZ7,Sev_Matrix_for_HLookup,6))","v":"High"},"Major","Likely",{"$f":"INDEX(Sev_Matrix_Values,VLOOKUP(KB7,Sev_Matrix_for_VLookup,6),HLOOKUP(KC7,Sev_Matrix_for_HLookup,6))","v":"High"},"Major","Likely",{"$f":"INDEX(Sev_Matrix_Values,VLOOKUP(KE7,Sev_Matrix_for_VLookup,6),HLOOKUP(KF7,Sev_Matrix_for_HLookup,6))","v":"High"},"Major","Likely",{"$f":"INDEX(Sev_Matrix_Values,VLOOKUP(KH7,Sev_Matrix_for_VLookup,6),HLOOKUP(KI7,Sev_Matrix_for_HLookup,6))","v":"High"},"Major","Likely",{"$f":"INDEX(Sev_Matrix_Values,VLOOKUP(KK7,Sev_Matrix_for_VLookup,6),HLOOKUP(KL7,Sev_Matrix_for_HLookup,6))","v":"High"},"Major","Likely",{"$f":"INDEX(Sev_Matrix_Values,VLOOKUP(KN7,Sev_Matrix_for_VLookup,6),HLOOKUP(KO7,Sev_Matrix_for_HLookup,6))","v":"High"}]
["Engineering Controls",{"$f":"B7+1","v":7},"Engineering Controls",null,null,"Engineering Controls",null,null,"Engineering Controls",null,null,"Engineering Controls",null,null,"Engineering Controls",null,null,"Engineering Controls",null,null,"Engineering Controls",null,null,"Engineering Controls",null,null,"Engineering Controls",null,null,"Engineering Controls",null,null,"Engineering Controls",null,null,"Engineering Controls",null,null,"Engineering Controls",null,null,"Engineering Controls",null,null,"Engineering Controls",null,null,"Engineering Controls",null,null,"Engineering Controls",null,null,"Engineering Controls",null,null,"Engineering Controls",null,null,"Engineering Controls",null,null,"Engineering Controls",null,null,"Engineering Controls",null,null,"Engineering Controls",null,null,"Engineering Controls",null,null,"Engineering Controls",null,null,"Engineering Controls",null,null,"Engineering Controls",null,null,"Engineering Controls",null,null,"Engineering Controls",null,null,"Engineering Controls",null,null,"Engineering Controls",null,null,"Engineering Controls",null,null,"Engineering Controls",null,null,"Engineering Controls",null,null,"Engineering Controls",null,null,"Engineering Controls",null,null,"Engineering Controls",null,null,"Engineering Controls",null,null,"Engineering Controls",null,null,"Engineering Controls",null,null,"Engineering Controls",null,null,"Engineering Controls",null,null,"Engineering Controls",null,null,"Engineering Controls",null,null,"Engineering Controls",null,null,"Engineering Controls",null,null,"Engineering Controls",null,null,"Engineering Controls",null,null,"Engineering Controls",null,null,"Engineering Controls",null,null,"Engineering Controls",null,null,"Engineering Controls",null,null,"Engineering Controls",null,null,"Engineering Controls",null,null,"Engineering Controls",null,null,"Engineering Controls",null,null,"Engineering Controls",null,null,"Engineering Controls",null,null,"Engineering Controls",null,null,"Engineering Controls",null,null,"Engineering Controls",null,null,"Engineering Controls",null,null,"Engineering Controls",null,null,"Engineering Controls",null,null,"Engineering Controls",null,null,"Engineering Controls",null,null,"Engineering Controls",null,null,"Engineering Controls",null,null,"Engineering Controls",null,null,"Engineering Controls",null,null,"Engineering Controls",null,null,"Engineering Controls",null,null,"Engineering Controls",null,null,"Engineering Controls",null,null,"Engineering Controls",null,null,"Engineering Controls",null,null,"Engineering Controls",null,null,"Engineering Controls",null,null,"Engineering Controls",null,null,"Engineering Controls",null,null,"Engineering Controls",null,null,"Engineering Controls",null,null,"Engineering Controls",null,null,"Engineering Controls",null,null,"Engineering Controls",null,null,"Engineering Controls",null,null,"Engineering Controls",null,null,"Engineering Controls",null,null,"Engineering Controls",null,null,"Engineering Controls",null,null,"Engineering Controls",null,null,"Engineering Controls",null,null,"Engineering Controls",null,null,"Engineering Controls",null,null,"Engineering Controls",null,null,"Engineering Controls",null,null,"Engineering Controls",null,null,"Engineering Controls",null,null,"Engineering Controls",null,null,"Engineering Controls"]
["Defined as … \"Equipment, material, or process that reduces the source of hazardous exposure\"",8,"Use guardrails and install floor hole covers where possible to reduce the exposure to falling.\n",null,null,"Designate controlled pathways.\nUse cord protection ramps.\nElevate cords a minimum of 7 feet above walkways where feasible.\nProvide adequate lighting for work areas and pathways.",null,null,"Use material handling equipment as much as possible. ",null,null,"All guards must be in place.\nSecure materials.\nUse a designated cutting station.\n",null,null,"Barricade work areas such as equipment swing radius, overhead work, traffic, etc.\nEnsure adequate illumination.\nUse backup alarms and horns.\nEnsure overhead protection.",null,null,"Machine and tool guarding\nControlled access zones\nBarricades\nWater and/or sweeping compound for dust control",null,null,"Spreader bar\nLoad tests\nRated capacities of components\nSofteners",null,null,"Mufflers\nSound barriers",null,null,"Wet cutting and drilling methods                                                 HEPA vacuuming\nUse water or soil amendments for off highway haul roads.      Enclosed cabs\nUse water for dust generating activities. \n\n",null,null,"Manufacturer's design\nBackup camera\nAudible warning devices",null,null,"Barricades and enclosures                                             Insulated overhead power lines\nGFCI                                                                                  Utility relocates\nOvercurrent devices\nGrounding systems / rods",null,null,"Ventilation",null,null,"Anti-crush devices                                                          Secured to floating surfaces\nManufacturer installed safety devices\nPot hole protection for scissor lifts\nOut-riggers\n",null,null,"Welding shield\nFire blanket\nWater\nVentilation",null,null,"Needle gun with HEPA vacuum to remove paint\n",null,null,"Trench boxes, speedy shores, timber lagging, benching, sloping, and supported excavation\nDewatering\nUnderpinning",null,null,"Secondary containment\nBarricades\nPreventative / predictive maintenance",null,null,"Lights",null,null,"Provide a shaded area ",null,null,"Whip checks\n",null,null,"Encapsulation\n",null,null,"Manufacturer's engineered system",null,null,"Manufacturer's engineered design",null,null,"Engineered picking attachments\nManufacturer's specifications\nBarricades\n",null,null,"Train signals \nLockout / Tagout for overhead catenary and third rail systems",null,null,"Protective covers\nBending of material\nBarricades",null,null,"Enclosures, locks, barricades, grounds, etc. ",null,null,"Encapsulation",null,null,"Encapsulation\nIsolation\nDilution",null,null,"Substitution\nElimination\nContainment"]
[null,9]
[null,10]
["Global Controls are provided in the white box.",11]
["Add State & Local Controls in the green box.",12]
[null,13]
["Administrative Controls",14,"Administrative Controls","Competent Person Assigned","Toolbox Talks","Administrative Controls","Competent Person Assigned","Toolbox Talks","Administrative Controls","Competent Person Assigned","Toolbox Talks","Administrative Controls","Competent Person Assigned","Toolbox Talks","Administrative Controls","Competent Person Assigned","Toolbox Talks","Administrative Controls","Competent Person Assigned","Toolbox Talks","Administrative Controls","Competent Person Assigned","Toolbox Talks","Administrative Controls","Competent Person Assigned","Toolbox Talks","Administrative Controls","Competent Person Assigned","Toolbox Talks","Administrative Controls","Competent Person Assigned","Toolbox Talks","Administrative Controls","Competent Person Assigned","Toolbox Talks","Administrative Controls","Competent Person Assigned","Toolbox Talks","Administrative Controls","Competent Person Assigned","Toolbox Talks","Administrative Controls","Competent Person Assigned","Toolbox Talks","Administrative Controls","Competent Person Assigned","Toolbox Talks","Administrative Controls","Competent Person Assigned","Toolbox Talks","Administrative Controls","Competent Person Assigned","Toolbox Talks","Administrative Controls","Competent Person Assigned","Toolbox Talks","Administrative Controls","Competent Person Assigned","Toolbox Talks","Administrative Controls","Competent Person Assigned","Toolbox Talks","Administrative Controls","Competent Person Assigned","Toolbox Talks","Administrative Controls","Competent Person Assigned","Toolbox Talks","Administrative Controls","Competent Person Assigned","Toolbox Talks","Administrative Controls","Competent Person Assigned","Toolbox Talks","Administrative Controls","Competent Person Assigned","Toolbox Talks","Administrative Controls","Competent Person Assigned","Toolbox Talks","Administrative Controls","Competent Person Assigned","Toolbox Talks","Administrative Controls","Competent Person Assigned","Toolbox Talks","Administrative Controls","Competent Person Assigned","Toolbox Talks","Administrative Controls","Competent Person Assigned","Toolbox Talks","Administrative Controls","Competent Person Assigned","Toolbox Talks","Administrative Controls","Competent Person Assigned","Toolbox Talks","Administrative Controls","Competent Person Assigned","Toolbox Talks","Administrative Controls","Competent Person Assigned","Toolbox Talks","Administrative Controls","Competent Person Assigned","Toolbox Talks","Administrative Controls","Competent Person Assigned","Toolbox Talks","Administrative Controls","Competent Person Assigned","Toolbox Talks","Administrative Controls","Competent Person Assigned","Toolbox Talks","Administrative Controls","Competent Person Assigned","Toolbox Talks","Administrative Controls","Competent Person Assigned","Toolbox Talks","Administrative Controls","Competent Person Assigned","Toolbox Talks","Administrative Controls","Competent Person Assigned","Toolbox Talks","Administrative Controls","Competent Person Assigned","Toolbox Talks","Administrative Controls","Competent Person Assigned","Toolbox Talks","Administrative Controls","Competent Person Assigned","Toolbox Talks","Administrative Controls","Competent Person Assigned","Toolbox Talks","Administrative Controls","Competent Person Assigned","Toolbox Talks","Administrative Controls","Competent Person Assigned","Toolbox Talks","Administrative Controls","Competent Person Assigned","Toolbox Talks","Administrative Controls","Competent Person Assigned","Toolbox Talks","Administrative Controls","Competent Person Assigned","Toolbox Talks","Administrative Controls","Competent Person Assigned","Toolbox Talks","Administrative Controls","Competent Person Assigned","Toolbox Talks","Administrative Controls","Competent Person Assigned","Toolbox Talks","Administrative Controls","Competent Person Assigned","Toolbox Talks","Administrative Controls","Competent Person Assigned","Toolbox Talks","Administrative Controls","Competent Person Assigned","Toolbox Talks","Administrative Controls","Competent Person Assigned","Toolbox Talks","Administrative Controls","Competent Person Assigned","Toolbox Talks","Administrative Controls","Competent Person Assigned","Toolbox Talks","Administrative Controls","Competent Person Assigned","Toolbox Talks","Administrative Controls","Competent Person Assigned","Toolbox Talks","Administrative Controls","Competent Person Assigned","Toolbox Talks","Administrative Controls","Competent Person Assigned","Toolbox Talks","Administrative Controls","Competent Person Assigned","Toolbox Talks","Administrative Controls","Competent Person Assigned","Toolbox Talks","Administrative Controls","Competent Person Assigned","Toolbox Talks","Administrative Controls","Competent Person Assigned","Toolbox Talks","Administrative Controls","Competent Person Assigned","Toolbox Talks","Administrative Controls","Competent Person Assigned","Toolbox Talks","Administrative Controls","Competent Person Assigned","Toolbox Talks","Administrative Controls","Competent Person Assigned","Toolbox Talks","Administrative Controls","Competent Person Assigned","Toolbox Talks","Administrative Controls","Competent Person Assigned","Toolbox Talks","Administrative Controls","Competent Person Assigned","Toolbox Talks","Administrative Controls","Competent Person Assigned","Toolbox Talks","Administrative Controls","Competent Person Assigned","Toolbox Talks","Administrative Controls","Competent Person Assigned","Toolbox Talks","Administrative Controls","Competent Person Assigned","Toolbox Talks","Administrative Controls","Competent Person Assigned","Toolbox Talks","Administrative Controls","Competent Person Assigned","Toolbox Talks","Administrative Controls","Competent Person Assigned","Toolbox Talks","Administrative Controls","Competent Person Assigned","Toolbox Talks","Administrative Controls","Competent Person Assigned","Toolbox Talks","Administrative Controls","Competent Person Assigned","Toolbox Talks","Administrative Controls","Competent Person Assigned","Toolbox Talks","Administrative Controls","Competent Person Assigned","Toolbox Talks","Administrative Controls","Competent Person Assigned","Toolbox Talks","Administrative Controls","Competent Person Assigned","Toolbox Talks","Administrative Controls","Competent Person Assigned","Toolbox Talks","Administrative Controls","Competent Person Assigned","Toolbox Talks","Administrative Controls","Competent Person Assigned","Toolbox Talks","Administrative Controls","Competent Person Assigned","Toolbox Talks","Administrative Controls","Competent Person Assigned","Toolbox Talks","Administrative Controls","Competent Person Assigned","Toolbox Talks","Administrative Controls","Competent Person Assigned","Toolbox Talks","Administrative Controls","Competent Person Assigned","Toolbox Talks","Administrative Controls","Competent Person Assigned","Toolbox Talks","Administrative Controls","Competent Person Assigned","Toolbox Talks","Administrative Controls","Competent Person Assigned","Toolbox Talks"]
["Defined as … \"Policies, procedures, safety signs, training or supervision, or a combination of these, to control risk.\"",15,"Provide fall protection training.\nUtilize planning process to identify fall hazards and systems.\nInstall signage on hole covers.\nInstall signage in areas that require fall protection.",null,null,"Conduct work area inspections.\nEnsure adequate resources are available to provide housekeeping.\nIdentify designated walkways.",null,null,"Conduct a Stretch & Flex program.\nTrain workers on proper lifting technique.\nStage material to avoid double handling.\nObserve employees' fitness for duty.",null,null,"Refer to the tool manufacturer's user's manual for complete instructions and safety precautions.\nUse a tool inspection schedule, and tag out tools that are not functioning properly.\nProvide hand and power tool training.\nObtain the required Hot Work Permit for spark producing operations. \n",null,null,"Identify pinch points, man / machine interface, overhead work, and traffic control patterns.\nPerform and document daily equipment inspections.\nFollow proper loading and unloading procedure.",null,null,"Equipment and tool inspections\nControlled access zone signage",null,null,"Lift Plan                                   Capacity tags\nLoad charts  \nQualified riggers\nInspections",null,null,"Hearing conservation program           Signage for high noise areas\nJob rotation\nMonitoring\nTraining\n",null,null,"Respiratory protection program\nRespiratory training\nJob rotation",null,null,"Traffic control plans\nInspections\nCurrent driver's license applicable to the vehicle",null,null,"Assured equipment grounding program                         Lockout / Tagout\nNFPA 70E Arc flash protection\nUtility locates, as-builts, BIM models, etc.\nSigns for overhead or below ground electric lines",null,null,"Signage \nPermits\nTraining: entrant, attendant, supervisor, and rescuer\n",null,null,"Certified operator training.\nGround control rescue training\nDaily inspections\nExclusion zones\n",null,null,"Hot work permit\nAir monitoring results\nRespiratory protection program\nFire watch",null,null,"Lead awareness training\nSampling results / Safety data sheets, Identification of lead sources\nLead abatement plan\nMedical monitoring",null,null,"Utility locates and as-builts\nExcavation permit \nTabulated data for engineering controls\nTraining  and inspections\n",null,null,"Daily equipment inspections\nSpill Prevention Control and Countermeasure plan (SPCC)\nSWPPP\nSafety data sheets",null,null,"Light meter\nVisual observations",null,null,"Heat illness training                        Job rotation\nAcclimatization\nHydration \nWork schedules\n",null,null,"Daily inspections\nManufacturers recommendations \nTraining ",null,null,"Environmental site assessment (ESA)                       Representative soil sampling\nMemorandum of understanding (MOU)\nWaste profile / manifests\nHAZWOPER training\n",null,null,"Stamped engineer designs\nTemporary works general awareness training\nTraining for erectors and users\nDaily scaffold / temporary works inspection, Scaffold tags",null,null,"Implementation of Ladders Last program\nInspections\nTraining",null,null,"Daily equipment and rigging inspections\nQualified operator training\nLoad charts & Lift Plans\nExclusion zones\n\n",null,null,"Railway worker safety training such as E-rail safe, Amtrak, and Federal Railway Administration\nFlagger call numbers",null,null,"Designated walkways\n",null,null,"Tags\nTraining\nLockout / Tagout form\nLock removal permit",null,null,"Asbestos awareness training & asbestos abatement training\nBuilding and project surveys\nAir monitoring, medical surveillance program & respiratory protection program\nAbatement plan & waste manifests",null,null,"Hazardous material survey\nWaste manifests\nTraining\nMonitoring & Signage",null,null,"Hazard communication program\nSafety Data Sheets (SDS)\nTraining\nChemical inventory & Labeling\n"]
[null,16]
[null,17]
["Global Controls are provided in the white box.",18]
["Add State & Local Controls in the green box.",19]
[null,20]
["Competent Person",21,"Competent Person","Alternate Competent Person",null,"Competent Person","Alternate Competent Person",null,"Competent Person","Alternate Competent Person",null,"Competent Person","Alternate Competent Person",null,"Competent Person","Alternate Competent Person",null,"Competent Person","Alternate Competent Person",null,"Competent Person","Alternate Competent Person",null,"Competent Person","Alternate Competent Person",null,"Competent Person","Alternate Competent Person",null,"Competent Person","Alternate Competent Person",null,"Competent Person","Alternate Competent Person",null,"Competent Person","Alternate Competent Person",null,"Competent Person","Alternate Competent Person",null,"Competent Person","Alternate Competent Person",null,"Competent Person","Alternate Competent Person",null,"Competent Person","Alternate Competent Person",null,"Competent Person","Alternate Competent Person",null,"Competent Person","Alternate Competent Person",null,"Competent Person","Alternate Competent Person",null,"Competent Person","Alternate Competent Person",null,"Competent Person","Alternate Competent Person",null,"Competent Person","Alternate Competent Person",null,"Competent Person","Alternate Competent Person",null,"Competent Person","Alternate Competent Person",null,"Competent Person","Alternate Competent Person",null,"Competent Person","Alternate Competent Person",null,"Competent Person","Alternate Competent Person",null,"Competent Person","Alternate Competent Person",null,"Competent Person","Alternate Competent Person",null,"Competent Person","Alternate Competent Person",null,"Competent Person","Alternate Competent Person",null,"Competent Person","Alternate Competent Person",null,"Competent Person","Alternate Competent Person",null,"Competent Person","Alternate Competent Person",null,"Competent Person","Alternate Competent Person",null,"Competent Person","Alternate Competent Person",null,"Competent Person","Alternate Competent Person",null,"Competent Person","Alternate Competent Person",null,"Competent Person","Alternate Competent Person",null,"Competent Person","Alternate Competent Person",null,"Competent Person","Alternate Competent Person",null,"Competent Person","Alternate Competent Person",null,"Competent Person","Alternate Competent Person",null,"Competent Person","Alternate Competent Person",null,"Competent Person","Alternate Competent Person",null,"Competent Person","Alternate Competent Person",null,"Competent Person","Alternate Competent Person",null,"Competent Person","Alternate Competent Person",null,"Competent Person","Alternate Competent Person",null,"Competent Person","Alternate Competent Person",null,"Competent Person","Alternate Competent Person",null,"Competent Person","Alternate Competent Person",null,"Competent Person","Alternate Competent Person",null,"Competent Person","Alternate Competent Person",null,"Competent Person","Alternate Competent Person",null,"Competent Person","Alternate Competent Person",null,"Competent Person","Alternate Competent Person",null,"Competent Person","Alternate Competent Person",null,"Competent Person","Alternate Competent Person",null,"Competent Person","Alternate Competent Person",null,"Competent Person","Alternate Competent Person",null,"Competent Person","Alternate Competent Person",null,"Competent Person","Alternate Competent Person",null,"Competent Person","Alternate Competent Person",null,"Competent Person","Alternate Competent Person",null,"Competent Person","Alternate Competent Person",null,"Competent Person","Alternate Competent Person",null,"Competent Person","Alternate Competent Person",null,"Competent Person","Alternate Competent Person",null,"Competent Person","Alternate Competent Person",null,"Competent Person","Alternate Competent Person",null,"Competent Person","Alternate Competent Person",null,"Competent Person","Alternate Competent Person",null,"Competent Person","Alternate Competent Person",null,"Competent Person","Alternate Competent Person",null,"Competent Person","Alternate Competent Person",null,"Competent Person","Alternate Competent Person",null,"Competent Person","Alternate Competent Person",null,"Competent Person","Alternate Competent Person",null,"Competent Person","Alternate Competent Person",null,"Competent Person","Alternate Competent Person",null,"Competent Person","Alternate Competent Person",null,"Competent Person","Alternate Competent Person",null,"Competent Person","Alternate Competent Person",null,"Competent Person","Alternate Competent Person",null,"Competent Person","Alternate Competent Person",null,"Competent Person","Alternate Competent Person",null,"Competent Person","Alternate Competent Person",null,"Competent Person","Alternate Competent Person",null,"Competent Person","Alternate Competent Person",null,"Competent Person","Alternate Competent Person",null,"Competent Person","Alternate Competent Person",null,"Competent Person","Alternate Competent Person",null,"Competent Person","Alternate Competent Person",null,"Competent Person","Alternate Competent Person",null,"Competent Person","Alternate Competent Person",null,"Competent Person","Alternate Competent Person",null,"Competent Person","Alternate Competent Person",null,"Competent Person","Alternate Competent Person",null,"Competent Person","Alternate Competent Person"]
[null,22,{"$f":"VLOOKUP(C1,Competent_Person_Lookup,9,FALSE)","v":0},{"$f":"VLOOKUP(C1,Competent_Person_Lookup,12,FALSE)","v":"None Specified"},null,{"$f":"VLOOKUP(F1,Competent_Person_Lookup,9,FALSE)","v":0},{"$f":"VLOOKUP(F1,Competent_Person_Lookup,12,FALSE)","v":"None Specified"},null,{"$f":"VLOOKUP(I1,Competent_Person_Lookup,9,FALSE)","v":0},{"$f":"VLOOKUP(I1,Competent_Person_Lookup,12,FALSE)","v":"None Specified"},null,{"$f":"VLOOKUP(L1,Competent_Person_Lookup,9,FALSE)","v":0},{"$f":"VLOOKUP(L1,Competent_Person_Lookup,12,FALSE)","v":"None Specified"},null,{"$f":"VLOOKUP(O1,Competent_Person_Lookup,9,FALSE)","v":0},{"$f":"VLOOKUP(O1,Competent_Person_Lookup,12,FALSE)","v":"None Specified"},null,{"$f":"VLOOKUP(R1,Competent_Person_Lookup,9,FALSE)","v":0},{"$f":"VLOOKUP(R1,Competent_Person_Lookup,12,FALSE)","v":"None Specified"},null,{"$f":"VLOOKUP(U1,Competent_Person_Lookup,9,FALSE)","v":0},{"$f":"VLOOKUP(U1,Competent_Person_Lookup,12,FALSE)","v":"None Specified"},null,{"$f":"VLOOKUP(X1,Competent_Person_Lookup,9,FALSE)","v":0},{"$f":"VLOOKUP(X1,Competent_Person_Lookup,12,FALSE)","v":"None Specified"},null,{"$f":"VLOOKUP(AA1,Competent_Person_Lookup,9,FALSE)","v":0},{"$f":"VLOOKUP(AA1,Competent_Person_Lookup,12,FALSE)","v":"None Specified"},null,{"$f":"VLOOKUP(AD1,Competent_Person_Lookup,9,FALSE)","v":0},{"$f":"VLOOKUP(AD1,Competent_Person_Lookup,12,FALSE)","v":"None Specified"},null,{"$f":"VLOOKUP(AG1,Competent_Person_Lookup,9,FALSE)","v":0},{"$f":"VLOOKUP(AG1,Competent_Person_Lookup,12,FALSE)","v":"None Specified"},null,{"$f":"VLOOKUP(AJ1,Competent_Person_Lookup,9,FALSE)","v":0},{"$f":"VLOOKUP(AJ1,Competent_Person_Lookup,12,FALSE)","v":"None Specified"},null,{"$f":"VLOOKUP(AM1,Competent_Person_Lookup,9,FALSE)","v":0},{"$f":"VLOOKUP(AM1,Competent_Person_Lookup,12,FALSE)","v":"None Specified"},null,{"$f":"VLOOKUP(AP1,Competent_Person_Lookup,9,FALSE)","v":0},{"$f":"VLOOKUP(AP1,Competent_Person_Lookup,12,FALSE)","v":"None Specified"},null,{"$f":"VLOOKUP(AS1,Competent_Person_Lookup,9,FALSE)","v":0},{"$f":"VLOOKUP(AS1,Competent_Person_Lookup,12,FALSE)","v":"None Specified"},null,{"$f":"VLOOKUP(AV1,Competent_Person_Lookup,9,FALSE)","v":0},{"$f":"VLOOKUP(AV1,Competent_Person_Lookup,12,FALSE)","v":"None Specified"},null,{"$f":"VLOOKUP(AY1,Competent_Person_Lookup,9,FALSE)","v":0},{"$f":"VLOOKUP(AY1,Competent_Person_Lookup,12,FALSE)","v":"None Specified"},null,{"$f":"VLOOKUP(BB1,Competent_Person_Lookup,9,FALSE)","v":0},{"$f":"VLOOKUP(BB1,Competent_Person_Lookup,12,FALSE)","v":"None Specified"},null,{"$f":"VLOOKUP(BE1,Competent_Person_Lookup,9,FALSE)","v":0},{"$f":"VLOOKUP(BE1,Competent_Person_Lookup,12,FALSE)","v":"None Specified"},null,{"$f":"VLOOKUP(BH1,Competent_Person_Lookup,9,FALSE)","v":0},{"$f":"VLOOKUP(BH1,Competent_Person_Lookup,12,FALSE)","v":"None Specified"},null,{"$f":"VLOOKUP(BK1,Competent_Person_Lookup,9,FALSE)","v":0},{"$f":"VLOOKUP(BK1,Competent_Person_Lookup,12,FALSE)","v":"None Specified"},null,{"$f":"VLOOKUP(BN1,Competent_Person_Lookup,9,FALSE)","v":0},{"$f":"VLOOKUP(BN1,Competent_Person_Lookup,12,FALSE)","v":"None Specified"},null,{"$f":"VLOOKUP(BQ1,Competent_Person_Lookup,9,FALSE)","v":0},{"$f":"VLOOKUP(BQ1,Competent_Person_Lookup,12,FALSE)","v":"None Specified"},null,{"$f":"VLOOKUP(BT1,Competent_Person_Lookup,9,FALSE)","v":0},{"$f":"VLOOKUP(BT1,Competent_Person_Lookup,12,FALSE)","v":"None Specified"},null,{"$f":"VLOOKUP(BW1,Competent_Person_Lookup,9,FALSE)","v":0},{"$f":"VLOOKUP(BW1,Competent_Person_Lookup,12,FALSE)","v":"None Specified"},null,{"$f":"VLOOKUP(BZ1,Competent_Person_Lookup,9,FALSE)","v":0},{"$f":"VLOOKUP(BZ1,Competent_Person_Lookup,12,FALSE)","v":"None Specified"},null,{"$f":"VLOOKUP(CC1,Competent_Person_Lookup,9,FALSE)","v":0},{"$f":"VLOOKUP(CC1,Competent_Person_Lookup,12,FALSE)","v":"None Specified"},null,{"$f":"VLOOKUP(CF1,Competent_Person_Lookup,9,FALSE)","v":0},{"$f":"VLOOKUP(CF1,Competent_Person_Lookup,12,FALSE)","v":"None Specified"},null,{"$f":"VLOOKUP(CI1,Competent_Person_Lookup,9,FALSE)","v":0},{"$f":"VLOOKUP(CI1,Competent_Person_Lookup,12,FALSE)","v":"None Specified"},null,{"$f":"VLOOKUP(CL1,Competent_Person_Lookup,9,FALSE)","v":0},{"$f":"VLOOKUP(CL1,Competent_Person_Lookup,12,FALSE)","v":"None Specified"},null,{"$f":"VLOOKUP(CO1,Competent_Person_Lookup,9,FALSE)","v":0},{"$f":"VLOOKUP(CO1,Competent_Person_Lookup,12,FALSE)","v":"None Specified"},null,{"$f":"VLOOKUP(CR1,Competent_Person_Lookup,9,FALSE)","v":0},{"$f":"VLOOKUP(CR1,Competent_Person_Lookup,12,FALSE)","v":"None Specified"},null,{"$f":"VLOOKUP(CU1,Competent_Person_Lookup,9,FALSE)","v":0},{"$f":"VLOOKUP(CU1,Competent_Person_Lookup,12,FALSE)","v":"None Specified"},null,{"$f":"VLOOKUP(CX1,Competent_Person_Lookup,9,FALSE)","v":0},{"$f":"VLOOKUP(CX1,Competent_Person_Lookup,12,FALSE)","v":"None Specified"},null,{"$f":"VLOOKUP(DA1,Competent_Person_Lookup,9,FALSE)","v":0},{"$f":"VLOOKUP(DA1,Competent_Person_Lookup,12,FALSE)","v":"None Specified"},null,{"$f":"VLOOKUP(DD1,Competent_Person_Lookup,9,FALSE)","v":0},{"$f":"VLOOKUP(DD1,Competent_Person_Lookup,12,FALSE)","v":"None Specified"},null,{"$f":"VLOOKUP(DG1,Competent_Person_Lookup,9,FALSE)","v":0},{"$f":"VLOOKUP(DG1,Competent_Person_Lookup,12,FALSE)","v":"None Specified"},null,{"$f":"VLOOKUP(DJ1,Competent_Person_Lookup,9,FALSE)","v":0},{"$f":"VLOOKUP(DJ1,Competent_Person_Lookup,12,FALSE)","v":"None Specified"},null,{"$f":"VLOOKUP(DM1,Competent_Person_Lookup,9,FALSE)","v":0},{"$f":"VLOOKUP(DM1,Competent_Person_Lookup,12,FALSE)","v":"None Specified"},null,{"$f":"VLOOKUP(DP1,Competent_Person_Lookup,9,FALSE)","v":0},{"$f":"VLOOKUP(DP1,Competent_Person_Lookup,12,FALSE)","v":"None Specified"},null,{"$f":"VLOOKUP(DS1,Competent_Person_Lookup,9,FALSE)","v":0},{"$f":"VLOOKUP(DS1,Competent_Person_Lookup,12,FALSE)","v":"None Specified"},null,{"$f":"VLOOKUP(DV1,Competent_Person_Lookup,9,FALSE)","v":0},{"$f":"VLOOKUP(DV1,Competent_Person_Lookup,12,FALSE)","v":"None Specified"},null,{"$f":"VLOOKUP(DY1,Competent_Person_Lookup,9,FALSE)","v":0},{"$f":"VLOOKUP(DY1,Competent_Person_Lookup,12,FALSE)","v":"None Specified"},null,{"$f":"VLOOKUP(EB1,Competent_Person_Lookup,9,FALSE)","v":0},{"$f":"VLOOKUP(EB1,Competent_Person_Lookup,12,FALSE)","v":"None Specified"},null,{"$f":"VLOOKUP(EE1,Competent_Person_Lookup,9,FALSE)","v":0},{"$f":"VLOOKUP(EE1,Competent_Person_Lookup,12,FALSE)","v":"None Specified"},null,{"$f":"VLOOKUP(EH1,Competent_Person_Lookup,9,FALSE)","v":0},{"$f":"VLOOKUP(EH1,Competent_Person_Lookup,12,FALSE)","v":"None Specified"},null,{"$f":"VLOOKUP(EK1,Competent_Person_Lookup,9,FALSE)","v":0},{"$f":"VLOOKUP(EK1,Competent_Person_Lookup,12,FALSE)","v":"None Specified"},null,{"$f":"VLOOKUP(EN1,Competent_Person_Lookup,9,FALSE)","v":0},{"$f":"VLOOKUP(EN1,Competent_Person_Lookup,12,FALSE)","v":"None Specified"},null,{"$f":"VLOOKUP(EQ1,Competent_Person_Lookup,9,FALSE)","v":0},{"$f":"VLOOKUP(EQ1,Competent_Person_Lookup,12,FALSE)","v":"None Specified"},null,{"$f":"VLOOKUP(ET1,Competent_Person_Lookup,9,FALSE)","v":0},{"$f":"VLOOKUP(ET1,Competent_Person_Lookup,12,FALSE)","v":"None Specified"},null,{"$f":"VLOOKUP(EW1,Competent_Person_Lookup,9,FALSE)","v":0},{"$f":"VLOOKUP(EW1,Competent_Person_Lookup,12,FALSE)","v":"None Specified"},null,{"$f":"VLOOKUP(EZ1,Competent_Person_Lookup,9,FALSE)","v":0},{"$f":"VLOOKUP(EZ1,Competent_Person_Lookup,12,FALSE)","v":"None Specified"},null,{"$f":"VLOOKUP(FC1,Competent_Person_Lookup,9,FALSE)","v":0},{"$f":"VLOOKUP(FC1,Competent_Person_Lookup,12,FALSE)","v":"None Specified"},null,{"$f":"VLOOKUP(FF1,Competent_Person_Lookup,9,FALSE)","v":0},{"$f":"VLOOKUP(FF1,Competent_Person_Lookup,12,FALSE)","v":"None Specified"},null,{"$f":"VLOOKUP(FI1,Competent_Person_Lookup,9,FALSE)","v":0},{"$f":"VLOOKUP(FI1,Competent_Person_Lookup,12,FALSE)","v":"None Specified"},null,{"$f":"VLOOKUP(FL1,Competent_Person_Lookup,9,FALSE)","v":0},{"$f":"VLOOKUP(FL1,Competent_Person_Lookup,12,FALSE)","v":"None Specified"},null,{"$f":"VLOOKUP(FO1,Competent_Person_Lookup,9,FALSE)","v":0},{"$f":"VLOOKUP(FO1,Competent_Person_Lookup,12,FALSE)","v":"None Specified"},null,{"$f":"VLOOKUP(FR1,Competent_Person_Lookup,9,FALSE)","v":0},{"$f":"VLOOKUP(FR1,Competent_Person_Lookup,12,FALSE)","v":"None Specified"},null,{"$f":"VLOOKUP(FU1,Competent_Person_Lookup,9,FALSE)","v":0},{"$f":"VLOOKUP(FU1,Competent_Person_Lookup,12,FALSE)","v":"None Specified"},null,{"$f":"VLOOKUP(FX1,Competent_Person_Lookup,9,FALSE)","v":0},{"$f":"VLOOKUP(FX1,Competent_Person_Lookup,12,FALSE)","v":"None Specified"},null,{"$f":"VLOOKUP(GA1,Competent_Person_Lookup,9,FALSE)","v":0},{"$f":"VLOOKUP(GA1,Competent_Person_Lookup,12,FALSE)","v":"None Specified"},null,{"$f":"VLOOKUP(GD1,Competent_Person_Lookup,9,FALSE)","v":0},{"$f":"VLOOKUP(GD1,Competent_Person_Lookup,12,FALSE)","v":"None Specified"},null,{"$f":"VLOOKUP(GG1,Competent_Person_Lookup,9,FALSE)","v":0},{"$f":"VLOOKUP(GG1,Competent_Person_Lookup,12,FALSE)","v":"None Specified"},null,{"$f":"VLOOKUP(GJ1,Competent_Person_Lookup,9,FALSE)","v":0},{"$f":"VLOOKUP(GJ1,Competent_Person_Lookup,12,FALSE)","v":"None Specified"},null,{"$f":"VLOOKUP(GM1,Competent_Person_Lookup,9,FALSE)","v":0},{"$f":"VLOOKUP(GM1,Competent_Person_Lookup,12,FALSE)","v":"None Specified"},null,{"$f":"VLOOKUP(GP1,Competent_Person_Lookup,9,FALSE)","v":0},{"$f":"VLOOKUP(GP1,Competent_Person_Lookup,12,FALSE)","v":"None Specified"},null,{"$f":"VLOOKUP(GS1,Competent_Person_Lookup,9,FALSE)","v":0},{"$f":"VLOOKUP(GS1,Competent_Person_Lookup,12,FALSE)","v":"None Specified"},null,{"$f":"VLOOKUP(GV1,Competent_Person_Lookup,9,FALSE)","v":0},{"$f":"VLOOKUP(GV1,Competent_Person_Lookup,12,FALSE)","v":"None Specified"},null,{"$f":"VLOOKUP(GY1,Competent_Person_Lookup,9,FALSE)","v":0},{"$f":"VLOOKUP(GY1,Competent_Person_Lookup,12,FALSE)","v":"None Specified"},null,{"$f":"VLOOKUP(HB1,Competent_Person_Lookup,9,FALSE)","v":0},{"$f":"VLOOKUP(HB1,Competent_Person_Lookup,12,FALSE)","v":"None Specified"},null,{"$f":"VLOOKUP(HE1,Competent_Person_Lookup,9,FALSE)","v":0},{"$f":"VLOOKUP(HE1,Competent_Person_Lookup,12,FALSE)","v":"None Specified"},null,{"$f":"VLOOKUP(HH1,Competent_Person_Lookup,9,FALSE)","v":0},{"$f":"VLOOKUP(HH1,Competent_Person_Lookup,12,FALSE)","v":"None Specified"},null,{"$f":"VLOOKUP(HK1,Competent_Person_Lookup,9,FALSE)","v":0},{"$f":"VLOOKUP(HK1,Competent_Person_Lookup,12,FALSE)","v":"None Specified"},null,{"$f":"VLOOKUP(HN1,Competent_Person_Lookup,9,FALSE)","v":0},{"$f":"VLOOKUP(HN1,Competent_Person_Lookup,12,FALSE)","v":"None Specified"},null,{"$f":"VLOOKUP(HQ1,Competent_Person_Lookup,9,FALSE)","v":0},{"$f":"VLOOKUP(HQ1,Competent_Person_Lookup,12,FALSE)","v":"None Specified"},null,{"$f":"VLOOKUP(HT1,Competent_Person_Lookup,9,FALSE)","v":0},{"$f":"VLOOKUP(HT1,Competent_Person_Lookup,12,FALSE)","v":"None Specified"},null,{"$f":"VLOOKUP(HW1,Competent_Person_Lookup,9,FALSE)","v":0},{"$f":"VLOOKUP(HW1,Competent_Person_Lookup,12,FALSE)","v":"None Specified"},null,{"$f":"VLOOKUP(HZ1,Competent_Person_Lookup,9,FALSE)","v":0},{"$f":"VLOOKUP(HZ1,Competent_Person_Lookup,12,FALSE)","v":"None Specified"},null,{"$f":"VLOOKUP(IC1,Competent_Person_Lookup,9,FALSE)","v":0},{"$f":"VLOOKUP(IC1,Competent_Person_Lookup,12,FALSE)","v":"None Specified"},null,{"$f":"VLOOKUP(IF1,Competent_Person_Lookup,9,FALSE)","v":0},{"$f":"VLOOKUP(IF1,Competent_Person_Lookup,12,FALSE)","v":"None Specified"},null,{"$f":"VLOOKUP(II1,Competent_Person_Lookup,9,FALSE)","v":0},{"$f":"VLOOKUP(II1,Competent_Person_Lookup,12,FALSE)","v":"None Specified"},null,{"$f":"VLOOKUP(IL1,Competent_Person_Lookup,9,FALSE)","v":0},{"$f":"VLOOKUP(IL1,Competent_Person_Lookup,12,FALSE)","v":"None Specified"},null,{"$f":"VLOOKUP(IO1,Competent_Person_Lookup,9,FALSE)","v":0},{"$f":"VLOOKUP(IO1,Competent_Person_Lookup,12,FALSE)","v":"None Specified"},null,{"$f":"VLOOKUP(IR1,Competent_Person_Lookup,9,FALSE)","v":0},{"$f":"VLOOKUP(IR1,Competent_Person_Lookup,12,FALSE)","v":"None Specified"},null,{"$f":"VLOOKUP(IU1,Competent_Person_Lookup,9,FALSE)","v":0},{"$f":"VLOOKUP(IU1,Competent_Person_Lookup,12,FALSE)","v":"None Specified"},null,{"$f":"VLOOKUP(IX1,Competent_Person_Lookup,9,FALSE)","v":0},{"$f":"VLOOKUP(IX1,Competent_Person_Lookup,12,FALSE)","v":"None Specified"},null,{"$f":"VLOOKUP(JA1,Competent_Person_Lookup,9,FALSE)","v":0},{"$f":"VLOOKUP(JA1,Competent_Person_Lookup,12,FALSE)","v":"None Specified"},null,{"$f":"VLOOKUP(JD1,Competent_Person_Lookup,9,FALSE)","v":0},{"$f":"VLOOKUP(JD1,Competent_Person_Lookup,12,FALSE)","v":"None Specified"},null,{"$f":"VLOOKUP(JG1,Competent_Person_Lookup,9,FALSE)","v":0},{"$f":"VLOOKUP(JG1,Competent_Person_Lookup,12,FALSE)","v":"None Specified"},null,{"$f":"VLOOKUP(JJ1,Competent_Person_Lookup,9,FALSE)","v":0},{"$f":"VLOOKUP(JJ1,Competent_Person_Lookup,12,FALSE)","v":"None Specified"},null,{"$f":"VLOOKUP(JM1,Competent_Person_Lookup,9,FALSE)","v":0},{"$f":"VLOOKUP(JM1,Competent_Person_Lookup,12,FALSE)","v":"None Specified"},null,{"$f":"VLOOKUP(JP1,Competent_Person_Lookup,9,FALSE)","v":0},{"$f":"VLOOKUP(JP1,Competent_Person_Lookup,12,FALSE)","v":"None Specified"},null,{"$f":"VLOOKUP(JS1,Competent_Person_Lookup,9,FALSE)","v":0},{"$f":"VLOOKUP(JS1,Competent_Person_Lookup,12,FALSE)","v":"None Specified"},null,{"$f":"VLOOKUP(JV1,Competent_Person_Lookup,9,FALSE)","v":0},{"$f":"VLOOKUP(JV1,Competent_Person_Lookup,12,FALSE)","v":"None Specified"},null,{"$f":"VLOOKUP(JY1,Competent_Person_Lookup,9,FALSE)","v":0},{"$f":"VLOOKUP(JY1,Competent_Person_Lookup,12,FALSE)","v":"None Specified"},null,{"$f":"VLOOKUP(KB1,Competent_Person_Lookup,9,FALSE)","v":0},{"$f":"VLOOKUP(KB1,Competent_Person_Lookup,12,FALSE)","v":"None Specified"},null,{"$f":"VLOOKUP(KE1,Competent_Person_Lookup,9,FALSE)","v":0},{"$f":"VLOOKUP(KE1,Competent_Person_Lookup,12,FALSE)","v":"None Specified"},null,{"$f":"VLOOKUP(KH1,Competent_Person_Lookup,9,FALSE)","v":0},{"$f":"VLOOKUP(KH1,Competent_Person_Lookup,12,FALSE)","v":"None Specified"},null,{"$f":"VLOOKUP(KK1,Competent_Person_Lookup,9,FALSE)","v":0},{"$f":"VLOOKUP(KK1,Competent_Person_Lookup,12,FALSE)","v":"None Specified"},null,{"$f":"VLOOKUP(KN1,Competent_Person_Lookup,9,FALSE)","v":0},{"$f":"VLOOKUP(KN1,Competent_Person_Lookup,12,FALSE)","v":"None Specified"}]
["Implementation",23,"Implementation",null,null,"Implementation",null,null,"Implementation",null,null,"Implementation",null,null,"Implementation",null,null,"Implementation",null,null,"Implementation",null,null,"Implementation",null,null,"Implementation",null,null,"Implementation",null,null,"Implementation",null,null,"Implementation",null,null,"Implementation",null,null,"Implementation",null,null,"Implementation",null,null,"Implementation",null,null,"Implementation",null,null,"Implementation",null,null,"Implementation",null,null,"Implementation",null,null,"Implementation",null,null,"Implementation",null,null,"Implementation",null,null,"Implementation",null,null,"Implementation",null,null,"Implementation",null,null,"Implementation",null,null,"Implementation",null,null,"Implementation",null,null,"Implementation",null,null,"Implementation",null,null,"Implementation",null,null,"Implementation",null,null,"Implementation",null,null,"Implementation",null,null,"Implementation",null,null,"Implementation",null,null,"Implementation",null,null,"Implementation",null,null,"Implementation",null,null,"Implementation",null,null,"Implementation",null,null,"Implementation",null,null,"Implementation",null,null,"Implementation",null,null,"Implementation",null,null,"Implementation",null,null,"Implementation",null,null,"Implementation",null,null,"Implementation",null,null,"Implementation",null,null,"Implementation",null,null,"Implementation",null,null,"Implementation",null,null,"Implementation",null,null,"Implementation",null,null,"Implementation",null,null,"Implementation",null,null,"Implementation",null,null,"Implementation",null,null,"Implementation",null,null,"Implementation",null,null,"Implementation",null,null,"Implementation",null,null,"Implementation",null,null,"Implementation",null,null,"Implementation",null,null,"Implementation",null,null,"Implementation",null,null,"Implementation",null,null,"Implementation",null,null,"Implementation",null,null,"Implementation",null,null,"Implementation",null,null,"Implementation",null,null,"Implementation",null,null,"Implementation",null,null,"Implementation",null,null,"Implementation",null,null,"Implementation",null,null,"Implementation",null,null,"Implementation",null,null,"Implementation",null,null,"Implementation",null,null,"Implementation",null,null,"Implementation",null,null,"Implementation",null,null,"Implementation",null,null,"Implementation",null,null,"Implementation",null,null,"Implementation",null,null,"Implementation",null,null,"Implementation",null,null,"Implementation",null,null,"Implementation",null,null,"Implementation",null,null,"Implementation",null,null,"Implementation",null,null,"Implementation",null,null,"Implementation"]
["This section is about how the Competent Person will implement the controls to reduce the hazard and protect the workers. It also contains specific information from OSHA and the Skanska SHEMS on how to handle the hazard.",24,"All guardrails shall have a top rail, mid-rail, and toe-boards.\nAll holes 2 inches or greater shall be securely covered and labeled.\nWhen using a personal fall arrest system, it shall consist of a full body harness and self retracting lanyard(s).\nShock absorbing lanyards are not permitted.\nAdequacy of anchorage points shall be determined by the competent person.\nEach worker is responsible for checking their own harness each time they put it on.\nVerify that workers are wearing the harness properly and are anchored correctly.\nHarnesses should be snug (2 finger tuck) while allowing full movement.\nThe best place for an anchorage point is directly above the work area.\nRestraint systems shall be designed to prevent a fall.\nPositioning device systems shall be used in conjunction with a personal fall arrest system.",null,null,"Housekeeping shall be performed daily as work progresses.\nPerform a 360 degree observation of your surroundings.\nRemove materials from stairs and walkways.\nCover or elevate cords.\nShovel away all snow, ice, mud, etc.\nStore all tools and materials in a designated area.\nRepair uneven, defective flooring or worn stairs.\nKeep ramps slip resistant with special anti-slip paint or other slip resistant material.\nAvoid carrying materials that will block visibility.\nPay attention to these areas:  change in elevation, access around corners, at the base or top of ladders and scaffolds, near equipment or trucks, etc.\nAvoid distractions such as talking, texting, and emailing while walking.\nAvoid walking backwards as much as possible. \nDo not wear dark safety glasses while working indoors.\nRebar mats shall have a designated walk path for safe access across. \nOperations that require wet methods shall contain and clean the slurry, run-off, water, mud, etc.",null,null,"Participate in stretch and flex.\nUse mechanical handling tools (fork lift, pallet truck etc.) \nKnow your capabilities. \nKnow the weight of the load you are lifting.\nMake sure there's a clear walkway with good lighting to the work area.  \nDo not carry a load that obscures your vision.\nStand close to the load, feet hip-width apart, one foot slightly forward pointing in the direction you are going.\nBend your knees and keep your back straight, get a secure grip on the load, and breathe in before lifting to help support your spine.\nKeep your back straight and lift using your legs.\nKeep the load close to your body, and lift slowly and smoothly.\nAvoid jerky movements, and avoid twisting your body when lifting or carrying a load.\nEnsure there is clear communication when there are two or more people handling a load.",null,null,"Select the appropriate tool for the task.\nEnsure that the worker using the tools is properly trained in its safe use.\nEnsure that users of powder actuated tool are certified and have their card on them at all times.\nInspect all tools daily.  \nTag and remove any damaged tools immediately.\nCheck wooden handle tools for splinters or cracks.\nEnsure that all handles supplied by the manufacturer are installed.\nKeep knives and other tools sharp.\nEnsure that tools are free from mushroomed heads.\nFollow the manufacturer's recommendation for lubricating and maintaining tools.  \nControl loose clothing, hair, and jewelry.\nUse task specific gloves while operating tools.\nEnsure that guards are in place before operating a tool.\nMaintain a firm footing and safe body position when operating a tool.\nSecure work with clamps so you can use both hands to operate the tool.\nChaps are required when using a chain saw or demo saw.\nFace shields are required when grinding, cutting, chipping, etc.\n ",null,null,"Inspect the work area for possible struck by / caught between hazards such as high traffic areas, overhead work, etc.\nMaintain and communicate establish controlled access zones.\nEnsure that workers on the ground establish eye contact with operators prior to entering their operation area.\nEnsure that only qualified operators operate machinery.\nIf safety devices such as horns or reverse alarms are not functional, red-tag the machine.\nUse flaggers when traffic plans dictate.\nWhen operators are unable to see clearly while backing, use a spotter. \nDo not stand or walk behind or alongside moving equipment.  \nNever depend upon hearing a horn or other warning signal.\nIdentify overhead hazards and add proper signage.\nAnticipate stored energy while pulling, pushing, loading, unloading, jacking, blocking, etc.\nSecure pneumatic tools with whip checks.\nSecure Chicago fittings with a cotter pin or clip. ",null,null,"Ensure that all guards are in place.\nReview with all employees the type of protection required with a tool and task.\nSet up a designated cutting area before the task begins.  \nPerform a visual 360 look around to ensure that employees are not in the line of fire and debris will not go beyond the prepared work zone.\nEnsure all employees in the work area are protected.\nSecure the materials from moving while cutting them.\nWear goggles to prevent dust and airborne materials from entering the eye.\nMaintain housekeeping at all times.\nUse a vacuum instead of blowers to remove debris.\nEvaluate weather conditions prior to activities.\nWhen using a blower, blow away from other workers.\nDo not use compressed air to blow off clothing.",null,null,"Identify the rigging in the Lift Plan.\nOnly qualified riggers shall rig the load.\nIdentify qualified riggers visually by a means such as unique vests, hard hats, etc.\nInspect all rigging prior to lifting.\nEnsure that rigging is free from nicks, cuts, burns, tears, wear or other damage.\nCheck that safety latches on hooks are in working condition. \nCheck for wear and pin distortion on shackles.\nCheck for frayed or severed strands in wire rope slings.  \nDamaged rigging is to be cut and disposed of immediately.\nUse taglines to control the load at all times.\nUse softeners to protect rigging as needed.\nEnsure that the work area is secure, to prevent people from entering the swing radius or walking under the load.\nReview rated capacities on slings, shackles, etc. and know the weight of the load prior to lifts.\nDo not alter equipment such as tying knots to shorten slings.\nThe rigging crew must communicate \"all clear\" to the signal-person before the lift.\nStore rigging in a manner that avoids damage. ",null,null,"Conduct baseline monitoring of noise creating activities to determine appropriate protective devices.\nEnsure that personal noise dosimetry is conducted by a qualified person to determine exposure.\nEnsure that audiometric (hearing) testing is performed when monitoring indicates that there has been an exposure at or above 80% of the PEL.  \nDelineate areas of high noise with signs and barricades.\nProvide a choice of at least two different hearing protection devices. \nRotate employees out of high noise areas.\nInspect equipment for functioning mufflers.\nProvide sound barriers for adjacent activities and communities. \nBe aware of the effects of noise leaving the project site.",null,null,"Conduct baseline monitoring to determine appropriate respiratory protection. \nAll workers must be clean shaven to properly wear a respirator.\nWorkers must be properly trained to use their respirators.\nWorkers must regularly clean and inspect their respirators.\nProvide a designated storage area for respirators. \nWear washable or disposable work clothes.\nWorkers must wash hands before eating drinking, smoking, etc. \nDo not eat, drink, use tobacco or apply makeup near areas containing silica dust.\nUse wet methods and/or HEPA vacuums to control dust. \nVacuum away cutting slurry.\nUse sweeping compound when sweeping.",null,null,"The following must be checked daily and documented:\n-All lights and signals\n-Windshields, windows, wipers and mirrors\n-Leaks\n-Tires and wheels\n-Housekeeping in cabs and beds\n-Condition of truck beds and flat decks\n\nAll loads placed on any type of vehicle must be stacked, racked, blocked, interlocked, and/or secured to prevent sliding, falling, spilling and/or collapse. \nDo not climb on unstable, slippery or irregular loads.  \nIf the height of a potential fall from a truck is greater than 6 feet, then fall protection is required.\nDo not allow people to stand adjacent to vehicles when dumping a load or when it's in motion.\nWhile driving, adhere to all traffic regulations and observe the site's speed limits.\nDo not use cell phones or radios while your vehicle is in motion.\nCheck overhead clearances, and make personnel in you area aware of your presence.\nThe driver and any passengers must wear buckled seatbelts whenever the vehicle is moving.\n\n\n",null,null,"The Assured Grounding program requires quarterly inspection of all tools, extension cords and GFCIs.  \nDuring inspection, check for continuity, exposed wires, cuts, missing ground plugs, and significant wear.\nCut any extension cords / GFCIs that do not pass the Assured Grounding Testing and discard them immediately.\nRed-tag any tools that do not pass the Assured Grounding Testing and remove them from service.\nCall for utility locates prior to digging.\nIdentify overhead power lines with signs and flagging to ensure a safe working distance.\nEnsure that exposed live parts are protected.\nSecure electrical rooms and post proper signage.\nElectrical tape is not allowed for repairs.\nEnergized electrical work requires an approved Energized Electrical Work Plan.\nEnsure that conductive material is not used to hang cord sets or welding leads.",null,null,"A confined space checklist shall be completed.\nIf the confined space requires a permit, the following applies:\n-     Ensure that the area is properly marked as a confined space.\n-     Ensure that barriers to prevent unauthorized entry are in place.\n-     Ensure that a rescue team is identified and available prior to entry.\nThe designated entry supervisor will make sure the permit is complete.\nThe designated entrants will supervise air testing for oxygen, combustibles and toxic contaminants, identify other possible hazards (e.g. changing atmosphere,) identify the tools / materials needed to complete the task, and understand self rescue procedures.  \nThe designated attendants will watch the area and keep others away, monitor the entrants and communicate with them as they work. \nThe designated attendants shall know the signs of problems and have the authority to order entrants out of the space.  In addition, they will have the means to summon a rescue team, use lockout / tagout procedures, use gas detective devices, and use a recovery system designed to pull out entrants.",null,null,"All aerial work platforms shall be equipped with anti-crush mechanisms. \nDaily inspections shall be completed and documented.\nVerify operators have been trained and are operating the equipment per the manufacturer's instructions.\nOperators shall wear a full body harness and tie off to the manufacturers attachment point with a self retracting lifeline. \nAerial work platforms must be lowered prior to traveling.\nKeep body parts inside the basket when booming, swinging or traveling.\nWhen operating aerial work platforms, stand firmly on the floor of the basket. \nMaintain a minimum clearance of at least 10 feet away from the nearest overhead power lines. See OSHA table K-1 for clearance requirements over 50,000 KV.\nDo not exceed the load limits of the equipment. Allow for the combined weight of the worker, tools, and materials.\n",null,null,"Oxygen and acetylene bottles must be kept in an upright position and secured.\nOxygen and acetylene bottles will be stored 20' or greater apart or be separated by a barrier with at least a 1/2 hour noncombustible burn rating.\nDo not attempt to lift bottles alone by hand.  Roll them or use a cart or dolly.\nBottles can be lifted only in a secured cart or rack with an engineered picking eye.\nBottles must have on protective caps when not being used and while being transported.\nEnsure that valves are closed at the torch before turning on regulator valves.\nAll hoses shall have flash arrestors at the torch end.\nCheck gauges, valves, regulators, torch tips, and hoses for signs of wear or damage.\nListen for leaks.\nInspect welding leads and cords for damage and remove from service if damaged.\nProtect the rods and leads and ensure that they are kept dry.\nInspect the area for flammable / combustible material and remove prior to commencing hot work.\nEnsure work area is well ventilated and wear proper respiratory equipment.\nWelding hoods must be used with a hard hat.  Use appropriate lens for cutting and welding. \nLight the torch away from your body.  \nUse a fire watch with a fire extinguisher for a 1/2 hour after hot work ceases.",null,null,"Spot abatement shall be completed prior to welding or cutting on lead painted areas.\nFor lead lined drywall, follow manufacturer's recommendations. (No abrasive cutting is allowed.)\nLead work areas shall be identified and controlled to only allow authorized personnel.\nDecontamination procedures shall be followed prior to eating, drinking, smoking, or leaving the work site. \nPersonal monitoring shall be performed to identify potential exposure. \nMinimize dust by wet methods, HEPA vacuums, and ventilation.\n\n\n\n",null,null,"Competent person must be on-site at all times and must complete a documented daily excavation checklist. An inspection must also be completed following a change in conditions such as a rain event, seismic activity, etc.\nAn excavation permit shall be issued that identifies the soil classification and the protective system to be used.\nVisible barriers must be placed around the perimeter to prevent unauthorized access\nAll excavations must have safe access regardless of depth such as a ladder or ramp.  \nIn trenches, access to work area must include a travel distance of no greater than 25 feet for access/egress.   \nEquipment, materials, tools and excavated soil must be kept at least 2 feet from the edge of pit, to reduce the risk of their falling into the excavation.\nOpenings such as pipe piles and manholes are to be protected.\nUnderground utilities must be marked. When utilities might be present, hand excavate to expose utilities prior to excavation with equipment.\nFall protection is required when a fall hazard is present.\nUnderground installations shall be protected, supported or removed as necessary. \nExcavations shall be delineated or barricaded to prevent exposure to traffic. ",null,null,"Equipment shall be inspected daily and maintenance schedules shall be followed. \nPerform inspections as required per legal and other requirements.\nInstall barricades around fuel, oil and chemical storage areas.\nEnsure that secondary containment is utilized for static equipment or storage facilities. \nIn the event of a spill / leak, notify the Skanska Superintendent immediately.\nIf the spill / leak is hazardous, follow the emergency action plan.\nProperly clean up and dispose of any spilled substance immediately to protect personnel and the environment from potential fire and health hazards.\nEnsure that no spilled materials are washed into the streets, gutters, storm drains, or creeks.\nIf possible, use dry cleaning methods to clean up spills to minimize the use of water.  \nNever hose down or bury dry material spills. Sweep up the material and dispose of properly.\nClean up chemical materials with absorbents, gels, and foams. Use absorbent materials on small spills rather than hosing down the spill. Remove the adsorbent materials promptly and dispose of it properly.\nThe competent person must inspect the area after cleanup to ensure the area is safe for workers and pedestrians.",null,null,"In work areas where the level of lighting is questionable, measure the illumination. \nRecord the measurements and determine the proper lighting requirements.\nContact responsible party to provide additional lighting.\nBeware of low lighting in the early morning and late afternoon, especially in the winter months.\nClear safety glasses should be used while working indoors or outside at night.\n",null,null,"Employees shall be trained to identify the signs of a heat related illness, which include:\n-     Heat cramps: brief, periodic cramps in the muscles of the arms, legs or abdomen\n-     Heat exhaustion: tiredness, weakness, thirst and dizziness, occasionally with headache, nausea, diarrhea and fainting, skin is moist\n-     Heat stroke: confusion, delirium, dry skin, loss of consciousness, convulsions and coma\n\nPrevent heat stress by:\n-     Hydration should begin prior to getting to work. Drink cool water, fruit juice, or an electrolyte- replacement frequently and moderately, about 8 ounces every 15-30 minutes, even if not thirsty.\n -    Avoid alcohol, coffee and tea consumption, which contribute to dehydration\n-     Rest frequently, eat lightly, and get adequate sleep\n-     Do more strenuous jobs during the cooler morning hours\n-     Use ventilation or fans in enclosed areas\n-    Wear light colored clothing\nIt takes about 1 - 2 weeks for the body to adjust to the heat.\nRemove victims of heat stress from the heat source.  In the event of heat stroke, dial 911 immediately.",null,null,"Follow the manufacturer's recommendations for lubrication and maintenance.  \nKeep air hoses free of grease and oil to reduce deterioration. \nInspect tools, equipment and hoses daily. \nInspect to see if shutoff valves are in proper working order.  \nRemove broken operating mechanisms immediately.\nEnsure guards are in place before operating.   \nUse whip-checks and cotter pins or clips on Chicago fittings.\nMaintain a firm footing when using pneumatic tools.  \nHoses shall be placed to avoid tripping hazards or puncturing while in use.  \nBefore pneumatic tools are disconnected the air must be turned off at the control valve and the pressure bled.\nDo not use compressed air to clean off yourself or for housekeeping. ",null,null,"An exclusion zone shall be established where the contamination is present. \nPost signage to identify hazards and limit access to authorized personnel.\nSoil, air, and personal monitoring shall be performed to determine potential exposure. \nContinuous monitoring shall be performed.\nStockpiled material will be placed on plastic sheeting, not on the ground.\nBased upon monitoring results, the appropriate PPE level shall be established. \nDecontamination procedures for people, tools, and equipment shall be determined.\nContaminated tools and equipment shall be disposed.\nEating, drinking, smoking, and putting on make-up are prohibited in contaminated areas.",null,null,"A readiness review shall be completed prior to installing scaffolds / temporary works systems. \nStructures shall be erected per the manufacturer's specification and/or engineered design. \nThe competent person shall supervise erection, conduct inspections, and approve alterations.\nProvide safe access to all working levels. \nScaffolds / temporary works shall be tagged at all access and egress points.\nScaffolds / temporary works shall be fully planked / decked.\nAny damaged components shall not be used. \nEnsure that all components are compatible.\nGuardrails shall be in place on all open sides. \nMobile scaffolds shall not be moved while occupied.\n\n\n\n \n\n",null,null,"A stairway with 4 or more risers or rising more than 30 inches shall be equipped with at least one handrail and one stair rail along each unprotected side.  Metal stair pans shall be in-filled before being put into service. \nHandrails shall be free of burrs, slivers, splinters, or other defects.\nKeep stairways and ladder access clear of materials, tools, and debris.\nWorking off of ladders should be considered the last option. Alternatives include portable scaffolds, scissor lifts, lift pods, stair towers, etc.\nPodium ladders shall have the top rail at least 30 inches above the platform.  \nLadders shall be inspected before each use, capacity tags must be legible, and monthly inspection tags current.  Damaged ladders must be removed from service and destroyed.\nMetal ladders are not allowed. \nNever use a ladder on top of a scaffold or work platform unless it is designed for such use.\nLadders will be secured at the top to prevent movement, as well as at the bottom where possible.\nDo not lean step ladders against a wall for use. Make sure it's fully open and the spreaders are locked. Do not climb, stand or sit on the top two steps.\nLadders will be erected at a 4:1 vertical height to horizontal distance.\nPass through brackets or corrals should be used at the top of access ladders.\n\n\n\n",null,null,"Equipment and rigging shall be inspected daily. \nDetermine weight of all loads and equipment capacities prior to lifting.\nTravel paths shall be evaluated prior to moving.\nPosition equipment properly and plan where loads are to be landed.\nUse taglines on all loads.\nPlan work according to weather conditions.\nSignal person must be properly trained in the use of hand signals.\nWhen lifting with a forklift or material handler under the forks, an engineered lifting attachment must be used.\nOverhead utilities shall be identified utilizing signage. \nOnly manufacturer's fork extensions shall be used. \n\n\n\n",null,null,"Rail flaggers are required for working on or near live tracks.\nEnsure the track is cleared of personnel and equipment before signaling the work train to move.\nInstall bumper blocks and secure to tracks at the general operating limits along with a red light.\nAll employees working within 25 ft. of the rail are required to attend a daily safety meeting with the rail flaggers and receive the call numbers of the trains for the day. \nOnly orange ANSI class III reflective clothing is allowed when working within 25 ft. of the rail. \nWhen a train is passing the work zone, all employees shall face the train and signal the train engineer by tapping the top of their hard hat. \n\n",null,null,"Impalement hazards include both vertical and horizontal exposures.\nImpalement hazards (rebar, form stakes, conduit, pipe stub-ups, etc.) shall be protected by the use of caps, covers, troughs, bending of material, etc. \nMushroom caps are not an acceptable means of impalement protection. \nNails shall be removed as systems are being stripped. \nWhen working from a ladder or elevated work area, protect from impalement hazards. \nT-post fencing 6 foot in height or less shall be protected. \n",null,null,"Potential stored energy sources shall be identified such as electrical, chemical, mechanical, thermal, steam, hydraulic, pneumatic, and gravity. \nThe LOTO coordinator shall coordinate with a qualified person to shut down the equipment or system.   \nThe potential stored energy source shall be isolated to prevent the release of energy.  \nTurn off the power at the panel box, use manually operated circuit breakers, disconnect switches, line valves and safety blocks, etc.  \nLock out the energy source.  Lockout requires use of a lock or other lockout device to hold the energy.  \nAny lock should have a tag stating name, company and contact number for employee working on system.      \nAttempt to restart the equipment or system to visually verify that the energy source is actually shut down and that the equipment or system will not start or function.   \nEvery employee working on the system will place a lock – do not work off another person’s lock – use a group lock box or hasps for large groups.\nIf an employee leaves without removing their lock, a lock removal permit shall be required for the lock to be removed.\n",null,null,"Identify all materials and locations that contain asbestos including naturally occurring asbestos. \nIf removal is required:\n-     Ensure only certified asbestos abatement workers handle asbestos containing material (ACM).\n-     Conduct air monitoring. \n-     Abatement areas shall be signed and barricaded to prevent unauthorized entry.\nIf removal is not required:\n-     Materials shall be protected from disturbance.\n-     Materials shall be clearly identified.\n-     The emergency action plan shall address the accidental release of ACM. \n \n",null,null,"Identify potential sources of hazardous material such as mercury, PCB's, arsenic, etc. \nDetermine if hazardous materials are to be removed or managed in place.\nOnly qualified individuals shall handle hazardous materials.\nConduct air monitoring to determine potential exposures. \nExclusion zones shall be clearly identified and barricaded. \nDecontamination procedures shall be established. \nStorage areas shall be identified and labeled by waste profile. \nWaste disposal facilities shall be determined by the waste profile. ",null,null,"All projects shall have a chemical inventory.\nChlorinated solvents are not allowed. \nThe task specific SDS shall be attached to the CWP.\nChemicals shall be labeled per the SDS.\nChemicals shall be in an approved container and stored appropriately (storage locker, flammable cabinet, secondary containment, etc.)\nDisposal shall be performed in accordance with legal requirements. \n"]
[null,25]
[null,26]
[null,27]
[null,28]
[null,29]
[null,30]
[null,31]
[null,32]
[null,33]
[null,34]
[null,35]
[null,36]
[null,37]
[null,38]
["Global Controls are provided in the white box.",{"$f":"B39+1","v":39}]
["Add State & Local Controls in the green box.",40]
[null,41]
["Personal Protective Equipment",42,"PPE",null,null,"PPE",null,null,"PPE",null,null,"PPE",null,null,"PPE",null,null,"PPE",null,null,"PPE",null,null,"PPE",null,null,"PPE",null,null,"PPE",null,null,"PPE",null,null,"PPE",null,null,"PPE",null,null,"PPE",null,null,"PPE",null,null,"PPE",null,null,"PPE",null,null,"PPE",null,null,"PPE",null,null,"PPE",null,null,"PPE",null,null,"PPE",null,null,"PPE",null,null,"PPE",null,null,"PPE",null,null,"PPE",null,null,"PPE",null,null,"PPE",null,null,"PPE",null,null,"PPE",null,null,"PPE",null,null,"PPE",null,null,"PPE",null,null,"PPE",null,null,"PPE",null,null,"PPE",null,null,"PPE",null,null,"PPE",null,null,"PPE",null,null,"PPE",null,null,"PPE",null,null,"PPE",null,null,"PPE",null,null,"PPE",null,null,"PPE",null,null,"PPE",null,null,"PPE",null,null,"PPE",null,null,"PPE",null,null,"PPE",null,null,"PPE",null,null,"PPE",null,null,"PPE",null,null,"PPE",null,null,"PPE",null,null,"PPE",null,null,"PPE",null,null,"PPE",null,null,"PPE",null,null,"PPE",null,null,"PPE",null,null,"PPE",null,null,"PPE",null,null,"PPE",null,null,"PPE",null,null,"PPE",null,null,"PPE",null,null,"PPE",null,null,"PPE",null,null,"PPE",null,null,"PPE",null,null,"PPE",null,null,"PPE",null,null,"PPE",null,null,"PPE",null,null,"PPE",null,null,"PPE",null,null,"PPE",null,null,"PPE",null,null,"PPE",null,null,"PPE",null,null,"PPE",null,null,"PPE",null,null,"PPE",null,null,"PPE",null,null,"PPE",null,null,"PPE",null,null,"PPE",null,null,"PPE",null,null,"PPE",null,null,"PPE",null,null,"PPE",null,null,"PPE",null,null,"PPE",null,null,"PPE",null,null,"PPE",null,null,"PPE",null,null,"PPE",null,null,"PPE",null,null,"PPE"]
["Specific for exposure to the hazard.",43,"Safety Harness, Double Retractable Lanyard",null,null,null,null,null,null,null,null,"Face shield, goggles, chaps, hearing protection, forearm protection",null,null,null,null,null,"Face Shield, Goggles",null,null,null,null,null,"Ear Muffs, ear plugs",null,null,"Respirator, P100 Filter",null,null,null,null,null,"Hot gloves, face shield, hot sticks",null,null,"Safety Harness, Tripod",null,null,"Safety harness, self retracting lifeline",null,null,"Burning gloves, burning jacket, cutting goggles, welding shield",null,null,"Respirator, disposable coveralls",null,null,null,null,null,"Use PPE per SDS",null,null,"Clear safety glasses, Halo light",null,null,"Neck shades, cooling devices, full brim hard hats",null,null,"Face shield",null,null,"PPE to be determined based upon the soil sampling results",null,null,null,null,null,null,null,null,null,null,null,"Orange ANSI Class III reflective vests",null,null,null,null,null,null,null,null,null,null,null,null,null,null,"Goggles, face shield, smocks, task appropriate gloves"]
["Add State & Local PPE in the green box.",44]
[null,45]
["Concatenated PPE",46,{"$f":"IF(RIGHT(CONCATENATE(IF(C44=\"\",\"\",CONCATENATE(C44,\", \")),IF(C45=\"\",\"\",CONCATENATE(C45,\", \"))),2)=\", \",LEFT(CONCATENATE(IF(C44=\"\",\"\",CONCATENATE(C44,\", \")),IF(C45=\"\",\"\",CONCATENATE(C45,\", \"))),LEN(CONCATENATE(IF(C44=\"\",\"\",CONCATENATE(C44,\", \")),IF(C45=\"\",\"\",CONCATENATE(C45,\", \"))))-2),CONCATENATE(IF(C44=\"\",\"\",CONCATENATE(C44,\", \")),IF(C45=\"\",\"\",CONCATENATE(C45,\", \"))))","v":"Safety Harness, Double Retractable Lanyard"},null,null,{"$f":"IF(RIGHT(CONCATENATE(IF(F44=\"\",\"\",CONCATENATE(F44,\", \")),IF(F45=\"\",\"\",CONCATENATE(F45,\", \"))),2)=\", \",LEFT(CONCATENATE(IF(F44=\"\",\"\",CONCATENATE(F44,\", \")),IF(F45=\"\",\"\",CONCATENATE(F45,\", \"))),LEN(CONCATENATE(IF(F44=\"\",\"\",CONCATENATE(F44,\", \")),IF(F45=\"\",\"\",CONCATENATE(F45,\", \"))))-2),CONCATENATE(IF(F44=\"\",\"\",CONCATENATE(F44,\", \")),IF(F45=\"\",\"\",CONCATENATE(F45,\", \"))))","v":""},null,null,{"$f":"IF(RIGHT(CONCATENATE(IF(I44=\"\",\"\",CONCATENATE(I44,\", \")),IF(I45=\"\",\"\",CONCATENATE(I45,\", \"))),2)=\", \",LEFT(CONCATENATE(IF(I44=\"\",\"\",CONCATENATE(I44,\", \")),IF(I45=\"\",\"\",CONCATENATE(I45,\", \"))),LEN(CONCATENATE(IF(I44=\"\",\"\",CONCATENATE(I44,\", \")),IF(I45=\"\",\"\",CONCATENATE(I45,\", \"))))-2),CONCATENATE(IF(I44=\"\",\"\",CONCATENATE(I44,\", \")),IF(I45=\"\",\"\",CONCATENATE(I45,\", \"))))","v":""},null,null,{"$f":"IF(RIGHT(CONCATENATE(IF(L44=\"\",\"\",CONCATENATE(L44,\", \")),IF(L45=\"\",\"\",CONCATENATE(L45,\", \"))),2)=\", \",LEFT(CONCATENATE(IF(L44=\"\",\"\",CONCATENATE(L44,\", \")),IF(L45=\"\",\"\",CONCATENATE(L45,\", \"))),LEN(CONCATENATE(IF(L44=\"\",\"\",CONCATENATE(L44,\", \")),IF(L45=\"\",\"\",CONCATENATE(L45,\", \"))))-2),CONCATENATE(IF(L44=\"\",\"\",CONCATENATE(L44,\", \")),IF(L45=\"\",\"\",CONCATENATE(L45,\", \"))))","v":"Face shield, goggles, chaps, hearing protection, forearm protection"},null,null,{"$f":"IF(RIGHT(CONCATENATE(IF(O44=\"\",\"\",CONCATENATE(O44,\", \")),IF(O45=\"\",\"\",CONCATENATE(O45,\", \"))),2)=\", \",LEFT(CONCATENATE(IF(O44=\"\",\"\",CONCATENATE(O44,\", \")),IF(O45=\"\",\"\",CONCATENATE(O45,\", \"))),LEN(CONCATENATE(IF(O44=\"\",\"\",CONCATENATE(O44,\", \")),IF(O45=\"\",\"\",CONCATENATE(O45,\", \"))))-2),CONCATENATE(IF(O44=\"\",\"\",CONCATENATE(O44,\", \")),IF(O45=\"\",\"\",CONCATENATE(O45,\", \"))))","v":""},null,null,{"$f":"IF(RIGHT(CONCATENATE(IF(R44=\"\",\"\",CONCATENATE(R44,\", \")),IF(R45=\"\",\"\",CONCATENATE(R45,\", \"))),2)=\", \",LEFT(CONCATENATE(IF(R44=\"\",\"\",CONCATENATE(R44,\", \")),IF(R45=\"\",\"\",CONCATENATE(R45,\", \"))),LEN(CONCATENATE(IF(R44=\"\",\"\",CONCATENATE(R44,\", \")),IF(R45=\"\",\"\",CONCATENATE(R45,\", \"))))-2),CONCATENATE(IF(R44=\"\",\"\",CONCATENATE(R44,\", \")),IF(R45=\"\",\"\",CONCATENATE(R45,\", \"))))","v":"Face Shield, Goggles"},null,null,{"$f":"IF(RIGHT(CONCATENATE(IF(U44=\"\",\"\",CONCATENATE(U44,\", \")),IF(U45=\"\",\"\",CONCATENATE(U45,\", \"))),2)=\", \",LEFT(CONCATENATE(IF(U44=\"\",\"\",CONCATENATE(U44,\", \")),IF(U45=\"\",\"\",CONCATENATE(U45,\", \"))),LEN(CONCATENATE(IF(U44=\"\",\"\",CONCATENATE(U44,\", \")),IF(U45=\"\",\"\",CONCATENATE(U45,\", \"))))-2),CONCATENATE(IF(U44=\"\",\"\",CONCATENATE(U44,\", \")),IF(U45=\"\",\"\",CONCATENATE(U45,\", \"))))","v":""},null,null,{"$f":"IF(RIGHT(CONCATENATE(IF(X44=\"\",\"\",CONCATENATE(X44,\", \")),IF(X45=\"\",\"\",CONCATENATE(X45,\", \"))),2)=\", \",LEFT(CONCATENATE(IF(X44=\"\",\"\",CONCATENATE(X44,\", \")),IF(X45=\"\",\"\",CONCATENATE(X45,\", \"))),LEN(CONCATENATE(IF(X44=\"\",\"\",CONCATENATE(X44,\", \")),IF(X45=\"\",\"\",CONCATENATE(X45,\", \"))))-2),CONCATENATE(IF(X44=\"\",\"\",CONCATENATE(X44,\", \")),IF(X45=\"\",\"\",CONCATENATE(X45,\", \"))))","v":"Ear Muffs, ear plugs"},null,null,{"$f":"IF(RIGHT(CONCATENATE(IF(AA44=\"\",\"\",CONCATENATE(AA44,\", \")),IF(AA45=\"\",\"\",CONCATENATE(AA45,\", \"))),2)=\", \",LEFT(CONCATENATE(IF(AA44=\"\",\"\",CONCATENATE(AA44,\", \")),IF(AA45=\"\",\"\",CONCATENATE(AA45,\", \"))),LEN(CONCATENATE(IF(AA44=\"\",\"\",CONCATENATE(AA44,\", \")),IF(AA45=\"\",\"\",CONCATENATE(AA45,\", \"))))-2),CONCATENATE(IF(AA44=\"\",\"\",CONCATENATE(AA44,\", \")),IF(AA45=\"\",\"\",CONCATENATE(AA45,\", \"))))","v":"Respirator, P100 Filter"},null,null,{"$f":"IF(RIGHT(CONCATENATE(IF(AD44=\"\",\"\",CONCATENATE(AD44,\", \")),IF(AD45=\"\",\"\",CONCATENATE(AD45,\", \"))),2)=\", \",LEFT(CONCATENATE(IF(AD44=\"\",\"\",CONCATENATE(AD44,\", \")),IF(AD45=\"\",\"\",CONCATENATE(AD45,\", \"))),LEN(CONCATENATE(IF(AD44=\"\",\"\",CONCATENATE(AD44,\", \")),IF(AD45=\"\",\"\",CONCATENATE(AD45,\", \"))))-2),CONCATENATE(IF(AD44=\"\",\"\",CONCATENATE(AD44,\", \")),IF(AD45=\"\",\"\",CONCATENATE(AD45,\", \"))))","v":""},null,null,{"$f":"IF(RIGHT(CONCATENATE(IF(AG44=\"\",\"\",CONCATENATE(AG44,\", \")),IF(AG45=\"\",\"\",CONCATENATE(AG45,\", \"))),2)=\", \",LEFT(CONCATENATE(IF(AG44=\"\",\"\",CONCATENATE(AG44,\", \")),IF(AG45=\"\",\"\",CONCATENATE(AG45,\", \"))),LEN(CONCATENATE(IF(AG44=\"\",\"\",CONCATENATE(AG44,\", \")),IF(AG45=\"\",\"\",CONCATENATE(AG45,\", \"))))-2),CONCATENATE(IF(AG44=\"\",\"\",CONCATENATE(AG44,\", \")),IF(AG45=\"\",\"\",CONCATENATE(AG45,\", \"))))","v":"Hot gloves, face shield, hot sticks"},null,null,{"$f":"IF(RIGHT(CONCATENATE(IF(AJ44=\"\",\"\",CONCATENATE(AJ44,\", \")),IF(AJ45=\"\",\"\",CONCATENATE(AJ45,\", \"))),2)=\", \",LEFT(CONCATENATE(IF(AJ44=\"\",\"\",CONCATENATE(AJ44,\", \")),IF(AJ45=\"\",\"\",CONCATENATE(AJ45,\", \"))),LEN(CONCATENATE(IF(AJ44=\"\",\"\",CONCATENATE(AJ44,\", \")),IF(AJ45=\"\",\"\",CONCATENATE(AJ45,\", \"))))-2),CONCATENATE(IF(AJ44=\"\",\"\",CONCATENATE(AJ44,\", \")),IF(AJ45=\"\",\"\",CONCATENATE(AJ45,\", \"))))","v":"Safety Harness, Tripod"},null,null,{"$f":"IF(RIGHT(CONCATENATE(IF(AM44=\"\",\"\",CONCATENATE(AM44,\", \")),IF(AM45=\"\",\"\",CONCATENATE(AM45,\", \"))),2)=\", \",LEFT(CONCATENATE(IF(AM44=\"\",\"\",CONCATENATE(AM44,\", \")),IF(AM45=\"\",\"\",CONCATENATE(AM45,\", \"))),LEN(CONCATENATE(IF(AM44=\"\",\"\",CONCATENATE(AM44,\", \")),IF(AM45=\"\",\"\",CONCATENATE(AM45,\", \"))))-2),CONCATENATE(IF(AM44=\"\",\"\",CONCATENATE(AM44,\", \")),IF(AM45=\"\",\"\",CONCATENATE(AM45,\", \"))))","v":"Safety harness, self retracting lifeline"},null,null,{"$f":"IF(RIGHT(CONCATENATE(IF(AP44=\"\",\"\",CONCATENATE(AP44,\", \")),IF(AP45=\"\",\"\",CONCATENATE(AP45,\", \"))),2)=\", \",LEFT(CONCATENATE(IF(AP44=\"\",\"\",CONCATENATE(AP44,\", \")),IF(AP45=\"\",\"\",CONCATENATE(AP45,\", \"))),LEN(CONCATENATE(IF(AP44=\"\",\"\",CONCATENATE(AP44,\", \")),IF(AP45=\"\",\"\",CONCATENATE(AP45,\", \"))))-2),CONCATENATE(IF(AP44=\"\",\"\",CONCATENATE(AP44,\", \")),IF(AP45=\"\",\"\",CONCATENATE(AP45,\", \"))))","v":"Burning gloves, burning jacket, cutting goggles, welding shield"},null,null,{"$f":"IF(RIGHT(CONCATENATE(IF(AS44=\"\",\"\",CONCATENATE(AS44,\", \")),IF(AS45=\"\",\"\",CONCATENATE(AS45,\", \"))),2)=\", \",LEFT(CONCATENATE(IF(AS44=\"\",\"\",CONCATENATE(AS44,\", \")),IF(AS45=\"\",\"\",CONCATENATE(AS45,\", \"))),LEN(CONCATENATE(IF(AS44=\"\",\"\",CONCATENATE(AS44,\", \")),IF(AS45=\"\",\"\",CONCATENATE(AS45,\", \"))))-2),CONCATENATE(IF(AS44=\"\",\"\",CONCATENATE(AS44,\", \")),IF(AS45=\"\",\"\",CONCATENATE(AS45,\", \"))))","v":"Respirator, disposable coveralls"},null,null,{"$f":"IF(RIGHT(CONCATENATE(IF(AV44=\"\",\"\",CONCATENATE(AV44,\", \")),IF(AV45=\"\",\"\",CONCATENATE(AV45,\", \"))),2)=\", \",LEFT(CONCATENATE(IF(AV44=\"\",\"\",CONCATENATE(AV44,\", \")),IF(AV45=\"\",\"\",CONCATENATE(AV45,\", \"))),LEN(CONCATENATE(IF(AV44=\"\",\"\",CONCATENATE(AV44,\", \")),IF(AV45=\"\",\"\",CONCATENATE(AV45,\", \"))))-2),CONCATENATE(IF(AV44=\"\",\"\",CONCATENATE(AV44,\", \")),IF(AV45=\"\",\"\",CONCATENATE(AV45,\", \"))))","v":""},null,null,{"$f":"IF(RIGHT(CONCATENATE(IF(AY44=\"\",\"\",CONCATENATE(AY44,\", \")),IF(AY45=\"\",\"\",CONCATENATE(AY45,\", \"))),2)=\", \",LEFT(CONCATENATE(IF(AY44=\"\",\"\",CONCATENATE(AY44,\", \")),IF(AY45=\"\",\"\",CONCATENATE(AY45,\", \"))),LEN(CONCATENATE(IF(AY44=\"\",\"\",CONCATENATE(AY44,\", \")),IF(AY45=\"\",\"\",CONCATENATE(AY45,\", \"))))-2),CONCATENATE(IF(AY44=\"\",\"\",CONCATENATE(AY44,\", \")),IF(AY45=\"\",\"\",CONCATENATE(AY45,\", \"))))","v":"Use PPE per SDS"},null,null,{"$f":"IF(RIGHT(CONCATENATE(IF(BB44=\"\",\"\",CONCATENATE(BB44,\", \")),IF(BB45=\"\",\"\",CONCATENATE(BB45,\", \"))),2)=\", \",LEFT(CONCATENATE(IF(BB44=\"\",\"\",CONCATENATE(BB44,\", \")),IF(BB45=\"\",\"\",CONCATENATE(BB45,\", \"))),LEN(CONCATENATE(IF(BB44=\"\",\"\",CONCATENATE(BB44,\", \")),IF(BB45=\"\",\"\",CONCATENATE(BB45,\", \"))))-2),CONCATENATE(IF(BB44=\"\",\"\",CONCATENATE(BB44,\", \")),IF(BB45=\"\",\"\",CONCATENATE(BB45,\", \"))))","v":"Clear safety glasses, Halo light"},null,null,{"$f":"IF(RIGHT(CONCATENATE(IF(BE44=\"\",\"\",CONCATENATE(BE44,\", \")),IF(BE45=\"\",\"\",CONCATENATE(BE45,\", \"))),2)=\", \",LEFT(CONCATENATE(IF(BE44=\"\",\"\",CONCATENATE(BE44,\", \")),IF(BE45=\"\",\"\",CONCATENATE(BE45,\", \"))),LEN(CONCATENATE(IF(BE44=\"\",\"\",CONCATENATE(BE44,\", \")),IF(BE45=\"\",\"\",CONCATENATE(BE45,\", \"))))-2),CONCATENATE(IF(BE44=\"\",\"\",CONCATENATE(BE44,\", \")),IF(BE45=\"\",\"\",CONCATENATE(BE45,\", \"))))","v":"Neck shades, cooling devices, full brim hard hats"},null,null,{"$f":"IF(RIGHT(CONCATENATE(IF(BH44=\"\",\"\",CONCATENATE(BH44,\", \")),IF(BH45=\"\",\"\",CONCATENATE(BH45,\", \"))),2)=\", \",LEFT(CONCATENATE(IF(BH44=\"\",\"\",CONCATENATE(BH44,\", \")),IF(BH45=\"\",\"\",CONCATENATE(BH45,\", \"))),LEN(CONCATENATE(IF(BH44=\"\",\"\",CONCATENATE(BH44,\", \")),IF(BH45=\"\",\"\",CONCATENATE(BH45,\", \"))))-2),CONCATENATE(IF(BH44=\"\",\"\",CONCATENATE(BH44,\", \")),IF(BH45=\"\",\"\",CONCATENATE(BH45,\", \"))))","v":"Face shield"},null,null,{"$f":"IF(RIGHT(CONCATENATE(IF(BK44=\"\",\"\",CONCATENATE(BK44,\", \")),IF(BK45=\"\",\"\",CONCATENATE(BK45,\", \"))),2)=\", \",LEFT(CONCATENATE(IF(BK44=\"\",\"\",CONCATENATE(BK44,\", \")),IF(BK45=\"\",\"\",CONCATENATE(BK45,\", \"))),LEN(CONCATENATE(IF(BK44=\"\",\"\",CONCATENATE(BK44,\", \")),IF(BK45=\"\",\"\",CONCATENATE(BK45,\", \"))))-2),CONCATENATE(IF(BK44=\"\",\"\",CONCATENATE(BK44,\", \")),IF(BK45=\"\",\"\",CONCATENATE(BK45,\", \"))))","v":"PPE to be determined based upon the soil sampling results"},null,null,{"$f":"IF(RIGHT(CONCATENATE(IF(BN44=\"\",\"\",CONCATENATE(BN44,\", \")),IF(BN45=\"\",\"\",CONCATENATE(BN45,\", \"))),2)=\", \",LEFT(CONCATENATE(IF(BN44=\"\",\"\",CONCATENATE(BN44,\", \")),IF(BN45=\"\",\"\",CONCATENATE(BN45,\", \"))),LEN(CONCATENATE(IF(BN44=\"\",\"\",CONCATENATE(BN44,\", \")),IF(BN45=\"\",\"\",CONCATENATE(BN45,\", \"))))-2),CONCATENATE(IF(BN44=\"\",\"\",CONCATENATE(BN44,\", \")),IF(BN45=\"\",\"\",CONCATENATE(BN45,\", \"))))","v":""},null,null,{"$f":"IF(RIGHT(CONCATENATE(IF(BQ44=\"\",\"\",CONCATENATE(BQ44,\", \")),IF(BQ45=\"\",\"\",CONCATENATE(BQ45,\", \"))),2)=\", \",LEFT(CONCATENATE(IF(BQ44=\"\",\"\",CONCATENATE(BQ44,\", \")),IF(BQ45=\"\",\"\",CONCATENATE(BQ45,\", \"))),LEN(CONCATENATE(IF(BQ44=\"\",\"\",CONCATENATE(BQ44,\", \")),IF(BQ45=\"\",\"\",CONCATENATE(BQ45,\", \"))))-2),CONCATENATE(IF(BQ44=\"\",\"\",CONCATENATE(BQ44,\", \")),IF(BQ45=\"\",\"\",CONCATENATE(BQ45,\", \"))))","v":""},null,null,{"$f":"IF(RIGHT(CONCATENATE(IF(BT44=\"\",\"\",CONCATENATE(BT44,\", \")),IF(BT45=\"\",\"\",CONCATENATE(BT45,\", \"))),2)=\", \",LEFT(CONCATENATE(IF(BT44=\"\",\"\",CONCATENATE(BT44,\", \")),IF(BT45=\"\",\"\",CONCATENATE(BT45,\", \"))),LEN(CONCATENATE(IF(BT44=\"\",\"\",CONCATENATE(BT44,\", \")),IF(BT45=\"\",\"\",CONCATENATE(BT45,\", \"))))-2),CONCATENATE(IF(BT44=\"\",\"\",CONCATENATE(BT44,\", \")),IF(BT45=\"\",\"\",CONCATENATE(BT45,\", \"))))","v":""},null,null,{"$f":"IF(RIGHT(CONCATENATE(IF(BW44=\"\",\"\",CONCATENATE(BW44,\", \")),IF(BW45=\"\",\"\",CONCATENATE(BW45,\", \"))),2)=\", \",LEFT(CONCATENATE(IF(BW44=\"\",\"\",CONCATENATE(BW44,\", \")),IF(BW45=\"\",\"\",CONCATENATE(BW45,\", \"))),LEN(CONCATENATE(IF(BW44=\"\",\"\",CONCATENATE(BW44,\", \")),IF(BW45=\"\",\"\",CONCATENATE(BW45,\", \"))))-2),CONCATENATE(IF(BW44=\"\",\"\",CONCATENATE(BW44,\", \")),IF(BW45=\"\",\"\",CONCATENATE(BW45,\", \"))))","v":"Orange ANSI Class III reflective vests"},null,null,{"$f":"IF(RIGHT(CONCATENATE(IF(BZ44=\"\",\"\",CONCATENATE(BZ44,\", \")),IF(BZ45=\"\",\"\",CONCATENATE(BZ45,\", \"))),2)=\", \",LEFT(CONCATENATE(IF(BZ44=\"\",\"\",CONCATENATE(BZ44,\", \")),IF(BZ45=\"\",\"\",CONCATENATE(BZ45,\", \"))),LEN(CONCATENATE(IF(BZ44=\"\",\"\",CONCATENATE(BZ44,\", \")),IF(BZ45=\"\",\"\",CONCATENATE(BZ45,\", \"))))-2),CONCATENATE(IF(BZ44=\"\",\"\",CONCATENATE(BZ44,\", \")),IF(BZ45=\"\",\"\",CONCATENATE(BZ45,\", \"))))","v":""},null,null,{"$f":"IF(RIGHT(CONCATENATE(IF(CC44=\"\",\"\",CONCATENATE(CC44,\", \")),IF(CC45=\"\",\"\",CONCATENATE(CC45,\", \"))),2)=\", \",LEFT(CONCATENATE(IF(CC44=\"\",\"\",CONCATENATE(CC44,\", \")),IF(CC45=\"\",\"\",CONCATENATE(CC45,\", \"))),LEN(CONCATENATE(IF(CC44=\"\",\"\",CONCATENATE(CC44,\", \")),IF(CC45=\"\",\"\",CONCATENATE(CC45,\", \"))))-2),CONCATENATE(IF(CC44=\"\",\"\",CONCATENATE(CC44,\", \")),IF(CC45=\"\",\"\",CONCATENATE(CC45,\", \"))))","v":""},null,null,{"$f":"IF(RIGHT(CONCATENATE(IF(CF44=\"\",\"\",CONCATENATE(CF44,\", \")),IF(CF45=\"\",\"\",CONCATENATE(CF45,\", \"))),2)=\", \",LEFT(CONCATENATE(IF(CF44=\"\",\"\",CONCATENATE(CF44,\", \")),IF(CF45=\"\",\"\",CONCATENATE(CF45,\", \"))),LEN(CONCATENATE(IF(CF44=\"\",\"\",CONCATENATE(CF44,\", \")),IF(CF45=\"\",\"\",CONCATENATE(CF45,\", \"))))-2),CONCATENATE(IF(CF44=\"\",\"\",CONCATENATE(CF44,\", \")),IF(CF45=\"\",\"\",CONCATENATE(CF45,\", \"))))","v":""},null,null,{"$f":"IF(RIGHT(CONCATENATE(IF(CI44=\"\",\"\",CONCATENATE(CI44,\", \")),IF(CI45=\"\",\"\",CONCATENATE(CI45,\", \"))),2)=\", \",LEFT(CONCATENATE(IF(CI44=\"\",\"\",CONCATENATE(CI44,\", \")),IF(CI45=\"\",\"\",CONCATENATE(CI45,\", \"))),LEN(CONCATENATE(IF(CI44=\"\",\"\",CONCATENATE(CI44,\", \")),IF(CI45=\"\",\"\",CONCATENATE(CI45,\", \"))))-2),CONCATENATE(IF(CI44=\"\",\"\",CONCATENATE(CI44,\", \")),IF(CI45=\"\",\"\",CONCATENATE(CI45,\", \"))))","v":""},null,null,{"$f":"IF(RIGHT(CONCATENATE(IF(CL44=\"\",\"\",CONCATENATE(CL44,\", \")),IF(CL45=\"\",\"\",CONCATENATE(CL45,\", \"))),2)=\", \",LEFT(CONCATENATE(IF(CL44=\"\",\"\",CONCATENATE(CL44,\", \")),IF(CL45=\"\",\"\",CONCATENATE(CL45,\", \"))),LEN(CONCATENATE(IF(CL44=\"\",\"\",CONCATENATE(CL44,\", \")),IF(CL45=\"\",\"\",CONCATENATE(CL45,\", \"))))-2),CONCATENATE(IF(CL44=\"\",\"\",CONCATENATE(CL44,\", \")),IF(CL45=\"\",\"\",CONCATENATE(CL45,\", \"))))","v":"Goggles, face shield, smocks, task appropriate gloves"},null,null,{"$f":"IF(RIGHT(CONCATENATE(IF(CO44=\"\",\"\",CONCATENATE(CO44,\", \")),IF(CO45=\"\",\"\",CONCATENATE(CO45,\", \"))),2)=\", \",LEFT(CONCATENATE(IF(CO44=\"\",\"\",CONCATENATE(CO44,\", \")),IF(CO45=\"\",\"\",CONCATENATE(CO45,\", \"))),LEN(CONCATENATE(IF(CO44=\"\",\"\",CONCATENATE(CO44,\", \")),IF(CO45=\"\",\"\",CONCATENATE(CO45,\", \"))))-2),CONCATENATE(IF(CO44=\"\",\"\",CONCATENATE(CO44,\", \")),IF(CO45=\"\",\"\",CONCATENATE(CO45,\", \"))))","v":""},null,null,{"$f":"IF(RIGHT(CONCATENATE(IF(CR44=\"\",\"\",CONCATENATE(CR44,\", \")),IF(CR45=\"\",\"\",CONCATENATE(CR45,\", \"))),2)=\", \",LEFT(CONCATENATE(IF(CR44=\"\",\"\",CONCATENATE(CR44,\", \")),IF(CR45=\"\",\"\",CONCATENATE(CR45,\", \"))),LEN(CONCATENATE(IF(CR44=\"\",\"\",CONCATENATE(CR44,\", \")),IF(CR45=\"\",\"\",CONCATENATE(CR45,\", \"))))-2),CONCATENATE(IF(CR44=\"\",\"\",CONCATENATE(CR44,\", \")),IF(CR45=\"\",\"\",CONCATENATE(CR45,\", \"))))","v":""},null,null,{"$f":"IF(RIGHT(CONCATENATE(IF(CU44=\"\",\"\",CONCATENATE(CU44,\", \")),IF(CU45=\"\",\"\",CONCATENATE(CU45,\", \"))),2)=\", \",LEFT(CONCATENATE(IF(CU44=\"\",\"\",CONCATENATE(CU44,\", \")),IF(CU45=\"\",\"\",CONCATENATE(CU45,\", \"))),LEN(CONCATENATE(IF(CU44=\"\",\"\",CONCATENATE(CU44,\", \")),IF(CU45=\"\",\"\",CONCATENATE(CU45,\", \"))))-2),CONCATENATE(IF(CU44=\"\",\"\",CONCATENATE(CU44,\", \")),IF(CU45=\"\",\"\",CONCATENATE(CU45,\", \"))))","v":""},null,null,{"$f":"IF(RIGHT(CONCATENATE(IF(CX44=\"\",\"\",CONCATENATE(CX44,\", \")),IF(CX45=\"\",\"\",CONCATENATE(CX45,\", \"))),2)=\", \",LEFT(CONCATENATE(IF(CX44=\"\",\"\",CONCATENATE(CX44,\", \")),IF(CX45=\"\",\"\",CONCATENATE(CX45,\", \"))),LEN(CONCATENATE(IF(CX44=\"\",\"\",CONCATENATE(CX44,\", \")),IF(CX45=\"\",\"\",CONCATENATE(CX45,\", \"))))-2),CONCATENATE(IF(CX44=\"\",\"\",CONCATENATE(CX44,\", \")),IF(CX45=\"\",\"\",CONCATENATE(CX45,\", \"))))","v":""},null,null,{"$f":"IF(RIGHT(CONCATENATE(IF(DA44=\"\",\"\",CONCATENATE(DA44,\", \")),IF(DA45=\"\",\"\",CONCATENATE(DA45,\", \"))),2)=\", \",LEFT(CONCATENATE(IF(DA44=\"\",\"\",CONCATENATE(DA44,\", \")),IF(DA45=\"\",\"\",CONCATENATE(DA45,\", \"))),LEN(CONCATENATE(IF(DA44=\"\",\"\",CONCATENATE(DA44,\", \")),IF(DA45=\"\",\"\",CONCATENATE(DA45,\", \"))))-2),CONCATENATE(IF(DA44=\"\",\"\",CONCATENATE(DA44,\", \")),IF(DA45=\"\",\"\",CONCATENATE(DA45,\", \"))))","v":""},null,null,{"$f":"IF(RIGHT(CONCATENATE(IF(DD44=\"\",\"\",CONCATENATE(DD44,\", \")),IF(DD45=\"\",\"\",CONCATENATE(DD45,\", \"))),2)=\", \",LEFT(CONCATENATE(IF(DD44=\"\",\"\",CONCATENATE(DD44,\", \")),IF(DD45=\"\",\"\",CONCATENATE(DD45,\", \"))),LEN(CONCATENATE(IF(DD44=\"\",\"\",CONCATENATE(DD44,\", \")),IF(DD45=\"\",\"\",CONCATENATE(DD45,\", \"))))-2),CONCATENATE(IF(DD44=\"\",\"\",CONCATENATE(DD44,\", \")),IF(DD45=\"\",\"\",CONCATENATE(DD45,\", \"))))","v":""},null,null,{"$f":"IF(RIGHT(CONCATENATE(IF(DG44=\"\",\"\",CONCATENATE(DG44,\", \")),IF(DG45=\"\",\"\",CONCATENATE(DG45,\", \"))),2)=\", \",LEFT(CONCATENATE(IF(DG44=\"\",\"\",CONCATENATE(DG44,\", \")),IF(DG45=\"\",\"\",CONCATENATE(DG45,\", \"))),LEN(CONCATENATE(IF(DG44=\"\",\"\",CONCATENATE(DG44,\", \")),IF(DG45=\"\",\"\",CONCATENATE(DG45,\", \"))))-2),CONCATENATE(IF(DG44=\"\",\"\",CONCATENATE(DG44,\", \")),IF(DG45=\"\",\"\",CONCATENATE(DG45,\", \"))))","v":""},null,null,{"$f":"IF(RIGHT(CONCATENATE(IF(DJ44=\"\",\"\",CONCATENATE(DJ44,\", \")),IF(DJ45=\"\",\"\",CONCATENATE(DJ45,\", \"))),2)=\", \",LEFT(CONCATENATE(IF(DJ44=\"\",\"\",CONCATENATE(DJ44,\", \")),IF(DJ45=\"\",\"\",CONCATENATE(DJ45,\", \"))),LEN(CONCATENATE(IF(DJ44=\"\",\"\",CONCATENATE(DJ44,\", \")),IF(DJ45=\"\",\"\",CONCATENATE(DJ45,\", \"))))-2),CONCATENATE(IF(DJ44=\"\",\"\",CONCATENATE(DJ44,\", \")),IF(DJ45=\"\",\"\",CONCATENATE(DJ45,\", \"))))","v":""},null,null,{"$f":"IF(RIGHT(CONCATENATE(IF(DM44=\"\",\"\",CONCATENATE(DM44,\", \")),IF(DM45=\"\",\"\",CONCATENATE(DM45,\", \"))),2)=\", \",LEFT(CONCATENATE(IF(DM44=\"\",\"\",CONCATENATE(DM44,\", \")),IF(DM45=\"\",\"\",CONCATENATE(DM45,\", \"))),LEN(CONCATENATE(IF(DM44=\"\",\"\",CONCATENATE(DM44,\", \")),IF(DM45=\"\",\"\",CONCATENATE(DM45,\", \"))))-2),CONCATENATE(IF(DM44=\"\",\"\",CONCATENATE(DM44,\", \")),IF(DM45=\"\",\"\",CONCATENATE(DM45,\", \"))))","v":""},null,null,{"$f":"IF(RIGHT(CONCATENATE(IF(DP44=\"\",\"\",CONCATENATE(DP44,\", \")),IF(DP45=\"\",\"\",CONCATENATE(DP45,\", \"))),2)=\", \",LEFT(CONCATENATE(IF(DP44=\"\",\"\",CONCATENATE(DP44,\", \")),IF(DP45=\"\",\"\",CONCATENATE(DP45,\", \"))),LEN(CONCATENATE(IF(DP44=\"\",\"\",CONCATENATE(DP44,\", \")),IF(DP45=\"\",\"\",CONCATENATE(DP45,\", \"))))-2),CONCATENATE(IF(DP44=\"\",\"\",CONCATENATE(DP44,\", \")),IF(DP45=\"\",\"\",CONCATENATE(DP45,\", \"))))","v":""},null,null,{"$f":"IF(RIGHT(CONCATENATE(IF(DS44=\"\",\"\",CONCATENATE(DS44,\", \")),IF(DS45=\"\",\"\",CONCATENATE(DS45,\", \"))),2)=\", \",LEFT(CONCATENATE(IF(DS44=\"\",\"\",CONCATENATE(DS44,\", \")),IF(DS45=\"\",\"\",CONCATENATE(DS45,\", \"))),LEN(CONCATENATE(IF(DS44=\"\",\"\",CONCATENATE(DS44,\", \")),IF(DS45=\"\",\"\",CONCATENATE(DS45,\", \"))))-2),CONCATENATE(IF(DS44=\"\",\"\",CONCATENATE(DS44,\", \")),IF(DS45=\"\",\"\",CONCATENATE(DS45,\", \"))))","v":""},null,null,{"$f":"IF(RIGHT(CONCATENATE(IF(DV44=\"\",\"\",CONCATENATE(DV44,\", \")),IF(DV45=\"\",\"\",CONCATENATE(DV45,\", \"))),2)=\", \",LEFT(CONCATENATE(IF(DV44=\"\",\"\",CONCATENATE(DV44,\", \")),IF(DV45=\"\",\"\",CONCATENATE(DV45,\", \"))),LEN(CONCATENATE(IF(DV44=\"\",\"\",CONCATENATE(DV44,\", \")),IF(DV45=\"\",\"\",CONCATENATE(DV45,\", \"))))-2),CONCATENATE(IF(DV44=\"\",\"\",CONCATENATE(DV44,\", \")),IF(DV45=\"\",\"\",CONCATENATE(DV45,\", \"))))","v":""},null,null,{"$f":"IF(RIGHT(CONCATENATE(IF(DY44=\"\",\"\",CONCATENATE(DY44,\", \")),IF(DY45=\"\",\"\",CONCATENATE(DY45,\", \"))),2)=\", \",LEFT(CONCATENATE(IF(DY44=\"\",\"\",CONCATENATE(DY44,\", \")),IF(DY45=\"\",\"\",CONCATENATE(DY45,\", \"))),LEN(CONCATENATE(IF(DY44=\"\",\"\",CONCATENATE(DY44,\", \")),IF(DY45=\"\",\"\",CONCATENATE(DY45,\", \"))))-2),CONCATENATE(IF(DY44=\"\",\"\",CONCATENATE(DY44,\", \")),IF(DY45=\"\",\"\",CONCATENATE(DY45,\", \"))))","v":""},null,null,{"$f":"IF(RIGHT(CONCATENATE(IF(EB44=\"\",\"\",CONCATENATE(EB44,\", \")),IF(EB45=\"\",\"\",CONCATENATE(EB45,\", \"))),2)=\", \",LEFT(CONCATENATE(IF(EB44=\"\",\"\",CONCATENATE(EB44,\", \")),IF(EB45=\"\",\"\",CONCATENATE(EB45,\", \"))),LEN(CONCATENATE(IF(EB44=\"\",\"\",CONCATENATE(EB44,\", \")),IF(EB45=\"\",\"\",CONCATENATE(EB45,\", \"))))-2),CONCATENATE(IF(EB44=\"\",\"\",CONCATENATE(EB44,\", \")),IF(EB45=\"\",\"\",CONCATENATE(EB45,\", \"))))","v":""},null,null,{"$f":"IF(RIGHT(CONCATENATE(IF(EE44=\"\",\"\",CONCATENATE(EE44,\", \")),IF(EE45=\"\",\"\",CONCATENATE(EE45,\", \"))),2)=\", \",LEFT(CONCATENATE(IF(EE44=\"\",\"\",CONCATENATE(EE44,\", \")),IF(EE45=\"\",\"\",CONCATENATE(EE45,\", \"))),LEN(CONCATENATE(IF(EE44=\"\",\"\",CONCATENATE(EE44,\", \")),IF(EE45=\"\",\"\",CONCATENATE(EE45,\", \"))))-2),CONCATENATE(IF(EE44=\"\",\"\",CONCATENATE(EE44,\", \")),IF(EE45=\"\",\"\",CONCATENATE(EE45,\", \"))))","v":""},null,null,{"$f":"IF(RIGHT(CONCATENATE(IF(EH44=\"\",\"\",CONCATENATE(EH44,\", \")),IF(EH45=\"\",\"\",CONCATENATE(EH45,\", \"))),2)=\", \",LEFT(CONCATENATE(IF(EH44=\"\",\"\",CONCATENATE(EH44,\", \")),IF(EH45=\"\",\"\",CONCATENATE(EH45,\", \"))),LEN(CONCATENATE(IF(EH44=\"\",\"\",CONCATENATE(EH44,\", \")),IF(EH45=\"\",\"\",CONCATENATE(EH45,\", \"))))-2),CONCATENATE(IF(EH44=\"\",\"\",CONCATENATE(EH44,\", \")),IF(EH45=\"\",\"\",CONCATENATE(EH45,\", \"))))","v":""},null,null,{"$f":"IF(RIGHT(CONCATENATE(IF(EK44=\"\",\"\",CONCATENATE(EK44,\", \")),IF(EK45=\"\",\"\",CONCATENATE(EK45,\", \"))),2)=\", \",LEFT(CONCATENATE(IF(EK44=\"\",\"\",CONCATENATE(EK44,\", \")),IF(EK45=\"\",\"\",CONCATENATE(EK45,\", \"))),LEN(CONCATENATE(IF(EK44=\"\",\"\",CONCATENATE(EK44,\", \")),IF(EK45=\"\",\"\",CONCATENATE(EK45,\", \"))))-2),CONCATENATE(IF(EK44=\"\",\"\",CONCATENATE(EK44,\", \")),IF(EK45=\"\",\"\",CONCATENATE(EK45,\", \"))))","v":""},null,null,{"$f":"IF(RIGHT(CONCATENATE(IF(EN44=\"\",\"\",CONCATENATE(EN44,\", \")),IF(EN45=\"\",\"\",CONCATENATE(EN45,\", \"))),2)=\", \",LEFT(CONCATENATE(IF(EN44=\"\",\"\",CONCATENATE(EN44,\", \")),IF(EN45=\"\",\"\",CONCATENATE(EN45,\", \"))),LEN(CONCATENATE(IF(EN44=\"\",\"\",CONCATENATE(EN44,\", \")),IF(EN45=\"\",\"\",CONCATENATE(EN45,\", \"))))-2),CONCATENATE(IF(EN44=\"\",\"\",CONCATENATE(EN44,\", \")),IF(EN45=\"\",\"\",CONCATENATE(EN45,\", \"))))","v":""},null,null,{"$f":"IF(RIGHT(CONCATENATE(IF(EQ44=\"\",\"\",CONCATENATE(EQ44,\", \")),IF(EQ45=\"\",\"\",CONCATENATE(EQ45,\", \"))),2)=\", \",LEFT(CONCATENATE(IF(EQ44=\"\",\"\",CONCATENATE(EQ44,\", \")),IF(EQ45=\"\",\"\",CONCATENATE(EQ45,\", \"))),LEN(CONCATENATE(IF(EQ44=\"\",\"\",CONCATENATE(EQ44,\", \")),IF(EQ45=\"\",\"\",CONCATENATE(EQ45,\", \"))))-2),CONCATENATE(IF(EQ44=\"\",\"\",CONCATENATE(EQ44,\", \")),IF(EQ45=\"\",\"\",CONCATENATE(EQ45,\", \"))))","v":""},null,null,{"$f":"IF(RIGHT(CONCATENATE(IF(ET44=\"\",\"\",CONCATENATE(ET44,\", \")),IF(ET45=\"\",\"\",CONCATENATE(ET45,\", \"))),2)=\", \",LEFT(CONCATENATE(IF(ET44=\"\",\"\",CONCATENATE(ET44,\", \")),IF(ET45=\"\",\"\",CONCATENATE(ET45,\", \"))),LEN(CONCATENATE(IF(ET44=\"\",\"\",CONCATENATE(ET44,\", \")),IF(ET45=\"\",\"\",CONCATENATE(ET45,\", \"))))-2),CONCATENATE(IF(ET44=\"\",\"\",CONCATENATE(ET44,\", \")),IF(ET45=\"\",\"\",CONCATENATE(ET45,\", \"))))","v":""},null,null,{"$f":"IF(RIGHT(CONCATENATE(IF(EW44=\"\",\"\",CONCATENATE(EW44,\", \")),IF(EW45=\"\",\"\",CONCATENATE(EW45,\", \"))),2)=\", \",LEFT(CONCATENATE(IF(EW44=\"\",\"\",CONCATENATE(EW44,\", \")),IF(EW45=\"\",\"\",CONCATENATE(EW45,\", \"))),LEN(CONCATENATE(IF(EW44=\"\",\"\",CONCATENATE(EW44,\", \")),IF(EW45=\"\",\"\",CONCATENATE(EW45,\", \"))))-2),CONCATENATE(IF(EW44=\"\",\"\",CONCATENATE(EW44,\", \")),IF(EW45=\"\",\"\",CONCATENATE(EW45,\", \"))))","v":""},null,null,{"$f":"IF(RIGHT(CONCATENATE(IF(EZ44=\"\",\"\",CONCATENATE(EZ44,\", \")),IF(EZ45=\"\",\"\",CONCATENATE(EZ45,\", \"))),2)=\", \",LEFT(CONCATENATE(IF(EZ44=\"\",\"\",CONCATENATE(EZ44,\", \")),IF(EZ45=\"\",\"\",CONCATENATE(EZ45,\", \"))),LEN(CONCATENATE(IF(EZ44=\"\",\"\",CONCATENATE(EZ44,\", \")),IF(EZ45=\"\",\"\",CONCATENATE(EZ45,\", \"))))-2),CONCATENATE(IF(EZ44=\"\",\"\",CONCATENATE(EZ44,\", \")),IF(EZ45=\"\",\"\",CONCATENATE(EZ45,\", \"))))","v":""},null,null,{"$f":"IF(RIGHT(CONCATENATE(IF(FC44=\"\",\"\",CONCATENATE(FC44,\", \")),IF(FC45=\"\",\"\",CONCATENATE(FC45,\", \"))),2)=\", \",LEFT(CONCATENATE(IF(FC44=\"\",\"\",CONCATENATE(FC44,\", \")),IF(FC45=\"\",\"\",CONCATENATE(FC45,\", \"))),LEN(CONCATENATE(IF(FC44=\"\",\"\",CONCATENATE(FC44,\", \")),IF(FC45=\"\",\"\",CONCATENATE(FC45,\", \"))))-2),CONCATENATE(IF(FC44=\"\",\"\",CONCATENATE(FC44,\", \")),IF(FC45=\"\",\"\",CONCATENATE(FC45,\", \"))))","v":""},null,null,{"$f":"IF(RIGHT(CONCATENATE(IF(FF44=\"\",\"\",CONCATENATE(FF44,\", \")),IF(FF45=\"\",\"\",CONCATENATE(FF45,\", \"))),2)=\", \",LEFT(CONCATENATE(IF(FF44=\"\",\"\",CONCATENATE(FF44,\", \")),IF(FF45=\"\",\"\",CONCATENATE(FF45,\", \"))),LEN(CONCATENATE(IF(FF44=\"\",\"\",CONCATENATE(FF44,\", \")),IF(FF45=\"\",\"\",CONCATENATE(FF45,\", \"))))-2),CONCATENATE(IF(FF44=\"\",\"\",CONCATENATE(FF44,\", \")),IF(FF45=\"\",\"\",CONCATENATE(FF45,\", \"))))","v":""},null,null,{"$f":"IF(RIGHT(CONCATENATE(IF(FI44=\"\",\"\",CONCATENATE(FI44,\", \")),IF(FI45=\"\",\"\",CONCATENATE(FI45,\", \"))),2)=\", \",LEFT(CONCATENATE(IF(FI44=\"\",\"\",CONCATENATE(FI44,\", \")),IF(FI45=\"\",\"\",CONCATENATE(FI45,\", \"))),LEN(CONCATENATE(IF(FI44=\"\",\"\",CONCATENATE(FI44,\", \")),IF(FI45=\"\",\"\",CONCATENATE(FI45,\", \"))))-2),CONCATENATE(IF(FI44=\"\",\"\",CONCATENATE(FI44,\", \")),IF(FI45=\"\",\"\",CONCATENATE(FI45,\", \"))))","v":""},null,null,{"$f":"IF(RIGHT(CONCATENATE(IF(FL44=\"\",\"\",CONCATENATE(FL44,\", \")),IF(FL45=\"\",\"\",CONCATENATE(FL45,\", \"))),2)=\", \",LEFT(CONCATENATE(IF(FL44=\"\",\"\",CONCATENATE(FL44,\", \")),IF(FL45=\"\",\"\",CONCATENATE(FL45,\", \"))),LEN(CONCATENATE(IF(FL44=\"\",\"\",CONCATENATE(FL44,\", \")),IF(FL45=\"\",\"\",CONCATENATE(FL45,\", \"))))-2),CONCATENATE(IF(FL44=\"\",\"\",CONCATENATE(FL44,\", \")),IF(FL45=\"\",\"\",CONCATENATE(FL45,\", \"))))","v":""},null,null,{"$f":"IF(RIGHT(CONCATENATE(IF(FO44=\"\",\"\",CONCATENATE(FO44,\", \")),IF(FO45=\"\",\"\",CONCATENATE(FO45,\", \"))),2)=\", \",LEFT(CONCATENATE(IF(FO44=\"\",\"\",CONCATENATE(FO44,\", \")),IF(FO45=\"\",\"\",CONCATENATE(FO45,\", \"))),LEN(CONCATENATE(IF(FO44=\"\",\"\",CONCATENATE(FO44,\", \")),IF(FO45=\"\",\"\",CONCATENATE(FO45,\", \"))))-2),CONCATENATE(IF(FO44=\"\",\"\",CONCATENATE(FO44,\", \")),IF(FO45=\"\",\"\",CONCATENATE(FO45,\", \"))))","v":""},null,null,{"$f":"IF(RIGHT(CONCATENATE(IF(FR44=\"\",\"\",CONCATENATE(FR44,\", \")),IF(FR45=\"\",\"\",CONCATENATE(FR45,\", \"))),2)=\", \",LEFT(CONCATENATE(IF(FR44=\"\",\"\",CONCATENATE(FR44,\", \")),IF(FR45=\"\",\"\",CONCATENATE(FR45,\", \"))),LEN(CONCATENATE(IF(FR44=\"\",\"\",CONCATENATE(FR44,\", \")),IF(FR45=\"\",\"\",CONCATENATE(FR45,\", \"))))-2),CONCATENATE(IF(FR44=\"\",\"\",CONCATENATE(FR44,\", \")),IF(FR45=\"\",\"\",CONCATENATE(FR45,\", \"))))","v":""},null,null,{"$f":"IF(RIGHT(CONCATENATE(IF(FU44=\"\",\"\",CONCATENATE(FU44,\", \")),IF(FU45=\"\",\"\",CONCATENATE(FU45,\", \"))),2)=\", \",LEFT(CONCATENATE(IF(FU44=\"\",\"\",CONCATENATE(FU44,\", \")),IF(FU45=\"\",\"\",CONCATENATE(FU45,\", \"))),LEN(CONCATENATE(IF(FU44=\"\",\"\",CONCATENATE(FU44,\", \")),IF(FU45=\"\",\"\",CONCATENATE(FU45,\", \"))))-2),CONCATENATE(IF(FU44=\"\",\"\",CONCATENATE(FU44,\", \")),IF(FU45=\"\",\"\",CONCATENATE(FU45,\", \"))))","v":""},null,null,{"$f":"IF(RIGHT(CONCATENATE(IF(FX44=\"\",\"\",CONCATENATE(FX44,\", \")),IF(FX45=\"\",\"\",CONCATENATE(FX45,\", \"))),2)=\", \",LEFT(CONCATENATE(IF(FX44=\"\",\"\",CONCATENATE(FX44,\", \")),IF(FX45=\"\",\"\",CONCATENATE(FX45,\", \"))),LEN(CONCATENATE(IF(FX44=\"\",\"\",CONCATENATE(FX44,\", \")),IF(FX45=\"\",\"\",CONCATENATE(FX45,\", \"))))-2),CONCATENATE(IF(FX44=\"\",\"\",CONCATENATE(FX44,\", \")),IF(FX45=\"\",\"\",CONCATENATE(FX45,\", \"))))","v":""},null,null,{"$f":"IF(RIGHT(CONCATENATE(IF(GA44=\"\",\"\",CONCATENATE(GA44,\", \")),IF(GA45=\"\",\"\",CONCATENATE(GA45,\", \"))),2)=\", \",LEFT(CONCATENATE(IF(GA44=\"\",\"\",CONCATENATE(GA44,\", \")),IF(GA45=\"\",\"\",CONCATENATE(GA45,\", \"))),LEN(CONCATENATE(IF(GA44=\"\",\"\",CONCATENATE(GA44,\", \")),IF(GA45=\"\",\"\",CONCATENATE(GA45,\", \"))))-2),CONCATENATE(IF(GA44=\"\",\"\",CONCATENATE(GA44,\", \")),IF(GA45=\"\",\"\",CONCATENATE(GA45,\", \"))))","v":""},null,null,{"$f":"IF(RIGHT(CONCATENATE(IF(GD44=\"\",\"\",CONCATENATE(GD44,\", \")),IF(GD45=\"\",\"\",CONCATENATE(GD45,\", \"))),2)=\", \",LEFT(CONCATENATE(IF(GD44=\"\",\"\",CONCATENATE(GD44,\", \")),IF(GD45=\"\",\"\",CONCATENATE(GD45,\", \"))),LEN(CONCATENATE(IF(GD44=\"\",\"\",CONCATENATE(GD44,\", \")),IF(GD45=\"\",\"\",CONCATENATE(GD45,\", \"))))-2),CONCATENATE(IF(GD44=\"\",\"\",CONCATENATE(GD44,\", \")),IF(GD45=\"\",\"\",CONCATENATE(GD45,\", \"))))","v":""},null,null,{"$f":"IF(RIGHT(CONCATENATE(IF(GG44=\"\",\"\",CONCATENATE(GG44,\", \")),IF(GG45=\"\",\"\",CONCATENATE(GG45,\", \"))),2)=\", \",LEFT(CONCATENATE(IF(GG44=\"\",\"\",CONCATENATE(GG44,\", \")),IF(GG45=\"\",\"\",CONCATENATE(GG45,\", \"))),LEN(CONCATENATE(IF(GG44=\"\",\"\",CONCATENATE(GG44,\", \")),IF(GG45=\"\",\"\",CONCATENATE(GG45,\", \"))))-2),CONCATENATE(IF(GG44=\"\",\"\",CONCATENATE(GG44,\", \")),IF(GG45=\"\",\"\",CONCATENATE(GG45,\", \"))))","v":""},null,null,{"$f":"IF(RIGHT(CONCATENATE(IF(GJ44=\"\",\"\",CONCATENATE(GJ44,\", \")),IF(GJ45=\"\",\"\",CONCATENATE(GJ45,\", \"))),2)=\", \",LEFT(CONCATENATE(IF(GJ44=\"\",\"\",CONCATENATE(GJ44,\", \")),IF(GJ45=\"\",\"\",CONCATENATE(GJ45,\", \"))),LEN(CONCATENATE(IF(GJ44=\"\",\"\",CONCATENATE(GJ44,\", \")),IF(GJ45=\"\",\"\",CONCATENATE(GJ45,\", \"))))-2),CONCATENATE(IF(GJ44=\"\",\"\",CONCATENATE(GJ44,\", \")),IF(GJ45=\"\",\"\",CONCATENATE(GJ45,\", \"))))","v":""},null,null,{"$f":"IF(RIGHT(CONCATENATE(IF(GM44=\"\",\"\",CONCATENATE(GM44,\", \")),IF(GM45=\"\",\"\",CONCATENATE(GM45,\", \"))),2)=\", \",LEFT(CONCATENATE(IF(GM44=\"\",\"\",CONCATENATE(GM44,\", \")),IF(GM45=\"\",\"\",CONCATENATE(GM45,\", \"))),LEN(CONCATENATE(IF(GM44=\"\",\"\",CONCATENATE(GM44,\", \")),IF(GM45=\"\",\"\",CONCATENATE(GM45,\", \"))))-2),CONCATENATE(IF(GM44=\"\",\"\",CONCATENATE(GM44,\", \")),IF(GM45=\"\",\"\",CONCATENATE(GM45,\", \"))))","v":""},null,null,{"$f":"IF(RIGHT(CONCATENATE(IF(GP44=\"\",\"\",CONCATENATE(GP44,\", \")),IF(GP45=\"\",\"\",CONCATENATE(GP45,\", \"))),2)=\", \",LEFT(CONCATENATE(IF(GP44=\"\",\"\",CONCATENATE(GP44,\", \")),IF(GP45=\"\",\"\",CONCATENATE(GP45,\", \"))),LEN(CONCATENATE(IF(GP44=\"\",\"\",CONCATENATE(GP44,\", \")),IF(GP45=\"\",\"\",CONCATENATE(GP45,\", \"))))-2),CONCATENATE(IF(GP44=\"\",\"\",CONCATENATE(GP44,\", \")),IF(GP45=\"\",\"\",CONCATENATE(GP45,\", \"))))","v":""},null,null,{"$f":"IF(RIGHT(CONCATENATE(IF(GS44=\"\",\"\",CONCATENATE(GS44,\", \")),IF(GS45=\"\",\"\",CONCATENATE(GS45,\", \"))),2)=\", \",LEFT(CONCATENATE(IF(GS44=\"\",\"\",CONCATENATE(GS44,\", \")),IF(GS45=\"\",\"\",CONCATENATE(GS45,\", \"))),LEN(CONCATENATE(IF(GS44=\"\",\"\",CONCATENATE(GS44,\", \")),IF(GS45=\"\",\"\",CONCATENATE(GS45,\", \"))))-2),CONCATENATE(IF(GS44=\"\",\"\",CONCATENATE(GS44,\", \")),IF(GS45=\"\",\"\",CONCATENATE(GS45,\", \"))))","v":""},null,null,{"$f":"IF(RIGHT(CONCATENATE(IF(GV44=\"\",\"\",CONCATENATE(GV44,\", \")),IF(GV45=\"\",\"\",CONCATENATE(GV45,\", \"))),2)=\", \",LEFT(CONCATENATE(IF(GV44=\"\",\"\",CONCATENATE(GV44,\", \")),IF(GV45=\"\",\"\",CONCATENATE(GV45,\", \"))),LEN(CONCATENATE(IF(GV44=\"\",\"\",CONCATENATE(GV44,\", \")),IF(GV45=\"\",\"\",CONCATENATE(GV45,\", \"))))-2),CONCATENATE(IF(GV44=\"\",\"\",CONCATENATE(GV44,\", \")),IF(GV45=\"\",\"\",CONCATENATE(GV45,\", \"))))","v":""},null,null,{"$f":"IF(RIGHT(CONCATENATE(IF(GY44=\"\",\"\",CONCATENATE(GY44,\", \")),IF(GY45=\"\",\"\",CONCATENATE(GY45,\", \"))),2)=\", \",LEFT(CONCATENATE(IF(GY44=\"\",\"\",CONCATENATE(GY44,\", \")),IF(GY45=\"\",\"\",CONCATENATE(GY45,\", \"))),LEN(CONCATENATE(IF(GY44=\"\",\"\",CONCATENATE(GY44,\", \")),IF(GY45=\"\",\"\",CONCATENATE(GY45,\", \"))))-2),CONCATENATE(IF(GY44=\"\",\"\",CONCATENATE(GY44,\", \")),IF(GY45=\"\",\"\",CONCATENATE(GY45,\", \"))))","v":""},null,null,{"$f":"IF(RIGHT(CONCATENATE(IF(HB44=\"\",\"\",CONCATENATE(HB44,\", \")),IF(HB45=\"\",\"\",CONCATENATE(HB45,\", \"))),2)=\", \",LEFT(CONCATENATE(IF(HB44=\"\",\"\",CONCATENATE(HB44,\", \")),IF(HB45=\"\",\"\",CONCATENATE(HB45,\", \"))),LEN(CONCATENATE(IF(HB44=\"\",\"\",CONCATENATE(HB44,\", \")),IF(HB45=\"\",\"\",CONCATENATE(HB45,\", \"))))-2),CONCATENATE(IF(HB44=\"\",\"\",CONCATENATE(HB44,\", \")),IF(HB45=\"\",\"\",CONCATENATE(HB45,\", \"))))","v":""},null,null,{"$f":"IF(RIGHT(CONCATENATE(IF(HE44=\"\",\"\",CONCATENATE(HE44,\", \")),IF(HE45=\"\",\"\",CONCATENATE(HE45,\", \"))),2)=\", \",LEFT(CONCATENATE(IF(HE44=\"\",\"\",CONCATENATE(HE44,\", \")),IF(HE45=\"\",\"\",CONCATENATE(HE45,\", \"))),LEN(CONCATENATE(IF(HE44=\"\",\"\",CONCATENATE(HE44,\", \")),IF(HE45=\"\",\"\",CONCATENATE(HE45,\", \"))))-2),CONCATENATE(IF(HE44=\"\",\"\",CONCATENATE(HE44,\", \")),IF(HE45=\"\",\"\",CONCATENATE(HE45,\", \"))))","v":""},null,null,{"$f":"IF(RIGHT(CONCATENATE(IF(HH44=\"\",\"\",CONCATENATE(HH44,\", \")),IF(HH45=\"\",\"\",CONCATENATE(HH45,\", \"))),2)=\", \",LEFT(CONCATENATE(IF(HH44=\"\",\"\",CONCATENATE(HH44,\", \")),IF(HH45=\"\",\"\",CONCATENATE(HH45,\", \"))),LEN(CONCATENATE(IF(HH44=\"\",\"\",CONCATENATE(HH44,\", \")),IF(HH45=\"\",\"\",CONCATENATE(HH45,\", \"))))-2),CONCATENATE(IF(HH44=\"\",\"\",CONCATENATE(HH44,\", \")),IF(HH45=\"\",\"\",CONCATENATE(HH45,\", \"))))","v":""},null,null,{"$f":"IF(RIGHT(CONCATENATE(IF(HK44=\"\",\"\",CONCATENATE(HK44,\", \")),IF(HK45=\"\",\"\",CONCATENATE(HK45,\", \"))),2)=\", \",LEFT(CONCATENATE(IF(HK44=\"\",\"\",CONCATENATE(HK44,\", \")),IF(HK45=\"\",\"\",CONCATENATE(HK45,\", \"))),LEN(CONCATENATE(IF(HK44=\"\",\"\",CONCATENATE(HK44,\", \")),IF(HK45=\"\",\"\",CONCATENATE(HK45,\", \"))))-2),CONCATENATE(IF(HK44=\"\",\"\",CONCATENATE(HK44,\", \")),IF(HK45=\"\",\"\",CONCATENATE(HK45,\", \"))))","v":""},null,null,{"$f":"IF(RIGHT(CONCATENATE(IF(HN44=\"\",\"\",CONCATENATE(HN44,\", \")),IF(HN45=\"\",\"\",CONCATENATE(HN45,\", \"))),2)=\", \",LEFT(CONCATENATE(IF(HN44=\"\",\"\",CONCATENATE(HN44,\", \")),IF(HN45=\"\",\"\",CONCATENATE(HN45,\", \"))),LEN(CONCATENATE(IF(HN44=\"\",\"\",CONCATENATE(HN44,\", \")),IF(HN45=\"\",\"\",CONCATENATE(HN45,\", \"))))-2),CONCATENATE(IF(HN44=\"\",\"\",CONCATENATE(HN44,\", \")),IF(HN45=\"\",\"\",CONCATENATE(HN45,\", \"))))","v":""},null,null,{"$f":"IF(RIGHT(CONCATENATE(IF(HQ44=\"\",\"\",CONCATENATE(HQ44,\", \")),IF(HQ45=\"\",\"\",CONCATENATE(HQ45,\", \"))),2)=\", \",LEFT(CONCATENATE(IF(HQ44=\"\",\"\",CONCATENATE(HQ44,\", \")),IF(HQ45=\"\",\"\",CONCATENATE(HQ45,\", \"))),LEN(CONCATENATE(IF(HQ44=\"\",\"\",CONCATENATE(HQ44,\", \")),IF(HQ45=\"\",\"\",CONCATENATE(HQ45,\", \"))))-2),CONCATENATE(IF(HQ44=\"\",\"\",CONCATENATE(HQ44,\", \")),IF(HQ45=\"\",\"\",CONCATENATE(HQ45,\", \"))))","v":""},null,null,{"$f":"IF(RIGHT(CONCATENATE(IF(HT44=\"\",\"\",CONCATENATE(HT44,\", \")),IF(HT45=\"\",\"\",CONCATENATE(HT45,\", \"))),2)=\", \",LEFT(CONCATENATE(IF(HT44=\"\",\"\",CONCATENATE(HT44,\", \")),IF(HT45=\"\",\"\",CONCATENATE(HT45,\", \"))),LEN(CONCATENATE(IF(HT44=\"\",\"\",CONCATENATE(HT44,\", \")),IF(HT45=\"\",\"\",CONCATENATE(HT45,\", \"))))-2),CONCATENATE(IF(HT44=\"\",\"\",CONCATENATE(HT44,\", \")),IF(HT45=\"\",\"\",CONCATENATE(HT45,\", \"))))","v":""},null,null,{"$f":"IF(RIGHT(CONCATENATE(IF(HW44=\"\",\"\",CONCATENATE(HW44,\", \")),IF(HW45=\"\",\"\",CONCATENATE(HW45,\", \"))),2)=\", \",LEFT(CONCATENATE(IF(HW44=\"\",\"\",CONCATENATE(HW44,\", \")),IF(HW45=\"\",\"\",CONCATENATE(HW45,\", \"))),LEN(CONCATENATE(IF(HW44=\"\",\"\",CONCATENATE(HW44,\", \")),IF(HW45=\"\",\"\",CONCATENATE(HW45,\", \"))))-2),CONCATENATE(IF(HW44=\"\",\"\",CONCATENATE(HW44,\", \")),IF(HW45=\"\",\"\",CONCATENATE(HW45,\", \"))))","v":""},null,null,{"$f":"IF(RIGHT(CONCATENATE(IF(HZ44=\"\",\"\",CONCATENATE(HZ44,\", \")),IF(HZ45=\"\",\"\",CONCATENATE(HZ45,\", \"))),2)=\", \",LEFT(CONCATENATE(IF(HZ44=\"\",\"\",CONCATENATE(HZ44,\", \")),IF(HZ45=\"\",\"\",CONCATENATE(HZ45,\", \"))),LEN(CONCATENATE(IF(HZ44=\"\",\"\",CONCATENATE(HZ44,\", \")),IF(HZ45=\"\",\"\",CONCATENATE(HZ45,\", \"))))-2),CONCATENATE(IF(HZ44=\"\",\"\",CONCATENATE(HZ44,\", \")),IF(HZ45=\"\",\"\",CONCATENATE(HZ45,\", \"))))","v":""},null,null,{"$f":"IF(RIGHT(CONCATENATE(IF(IC44=\"\",\"\",CONCATENATE(IC44,\", \")),IF(IC45=\"\",\"\",CONCATENATE(IC45,\", \"))),2)=\", \",LEFT(CONCATENATE(IF(IC44=\"\",\"\",CONCATENATE(IC44,\", \")),IF(IC45=\"\",\"\",CONCATENATE(IC45,\", \"))),LEN(CONCATENATE(IF(IC44=\"\",\"\",CONCATENATE(IC44,\", \")),IF(IC45=\"\",\"\",CONCATENATE(IC45,\", \"))))-2),CONCATENATE(IF(IC44=\"\",\"\",CONCATENATE(IC44,\", \")),IF(IC45=\"\",\"\",CONCATENATE(IC45,\", \"))))","v":""},null,null,{"$f":"IF(RIGHT(CONCATENATE(IF(IF44=\"\",\"\",CONCATENATE(IF44,\", \")),IF(IF45=\"\",\"\",CONCATENATE(IF45,\", \"))),2)=\", \",LEFT(CONCATENATE(IF(IF44=\"\",\"\",CONCATENATE(IF44,\", \")),IF(IF45=\"\",\"\",CONCATENATE(IF45,\", \"))),LEN(CONCATENATE(IF(IF44=\"\",\"\",CONCATENATE(IF44,\", \")),IF(IF45=\"\",\"\",CONCATENATE(IF45,\", \"))))-2),CONCATENATE(IF(IF44=\"\",\"\",CONCATENATE(IF44,\", \")),IF(IF45=\"\",\"\",CONCATENATE(IF45,\", \"))))","v":""},null,null,{"$f":"IF(RIGHT(CONCATENATE(IF(II44=\"\",\"\",CONCATENATE(II44,\", \")),IF(II45=\"\",\"\",CONCATENATE(II45,\", \"))),2)=\", \",LEFT(CONCATENATE(IF(II44=\"\",\"\",CONCATENATE(II44,\", \")),IF(II45=\"\",\"\",CONCATENATE(II45,\", \"))),LEN(CONCATENATE(IF(II44=\"\",\"\",CONCATENATE(II44,\", \")),IF(II45=\"\",\"\",CONCATENATE(II45,\", \"))))-2),CONCATENATE(IF(II44=\"\",\"\",CONCATENATE(II44,\", \")),IF(II45=\"\",\"\",CONCATENATE(II45,\", \"))))","v":""},null,null,{"$f":"IF(RIGHT(CONCATENATE(IF(IL44=\"\",\"\",CONCATENATE(IL44,\", \")),IF(IL45=\"\",\"\",CONCATENATE(IL45,\", \"))),2)=\", \",LEFT(CONCATENATE(IF(IL44=\"\",\"\",CONCATENATE(IL44,\", \")),IF(IL45=\"\",\"\",CONCATENATE(IL45,\", \"))),LEN(CONCATENATE(IF(IL44=\"\",\"\",CONCATENATE(IL44,\", \")),IF(IL45=\"\",\"\",CONCATENATE(IL45,\", \"))))-2),CONCATENATE(IF(IL44=\"\",\"\",CONCATENATE(IL44,\", \")),IF(IL45=\"\",\"\",CONCATENATE(IL45,\", \"))))","v":""},null,null,{"$f":"IF(RIGHT(CONCATENATE(IF(IO44=\"\",\"\",CONCATENATE(IO44,\", \")),IF(IO45=\"\",\"\",CONCATENATE(IO45,\", \"))),2)=\", \",LEFT(CONCATENATE(IF(IO44=\"\",\"\",CONCATENATE(IO44,\", \")),IF(IO45=\"\",\"\",CONCATENATE(IO45,\", \"))),LEN(CONCATENATE(IF(IO44=\"\",\"\",CONCATENATE(IO44,\", \")),IF(IO45=\"\",\"\",CONCATENATE(IO45,\", \"))))-2),CONCATENATE(IF(IO44=\"\",\"\",CONCATENATE(IO44,\", \")),IF(IO45=\"\",\"\",CONCATENATE(IO45,\", \"))))","v":""},null,null,{"$f":"IF(RIGHT(CONCATENATE(IF(IR44=\"\",\"\",CONCATENATE(IR44,\", \")),IF(IR45=\"\",\"\",CONCATENATE(IR45,\", \"))),2)=\", \",LEFT(CONCATENATE(IF(IR44=\"\",\"\",CONCATENATE(IR44,\", \")),IF(IR45=\"\",\"\",CONCATENATE(IR45,\", \"))),LEN(CONCATENATE(IF(IR44=\"\",\"\",CONCATENATE(IR44,\", \")),IF(IR45=\"\",\"\",CONCATENATE(IR45,\", \"))))-2),CONCATENATE(IF(IR44=\"\",\"\",CONCATENATE(IR44,\", \")),IF(IR45=\"\",\"\",CONCATENATE(IR45,\", \"))))","v":""},null,null,{"$f":"IF(RIGHT(CONCATENATE(IF(IU44=\"\",\"\",CONCATENATE(IU44,\", \")),IF(IU45=\"\",\"\",CONCATENATE(IU45,\", \"))),2)=\", \",LEFT(CONCATENATE(IF(IU44=\"\",\"\",CONCATENATE(IU44,\", \")),IF(IU45=\"\",\"\",CONCATENATE(IU45,\", \"))),LEN(CONCATENATE(IF(IU44=\"\",\"\",CONCATENATE(IU44,\", \")),IF(IU45=\"\",\"\",CONCATENATE(IU45,\", \"))))-2),CONCATENATE(IF(IU44=\"\",\"\",CONCATENATE(IU44,\", \")),IF(IU45=\"\",\"\",CONCATENATE(IU45,\", \"))))","v":""},null,null,{"$f":"IF(RIGHT(CONCATENATE(IF(IX44=\"\",\"\",CONCATENATE(IX44,\", \")),IF(IX45=\"\",\"\",CONCATENATE(IX45,\", \"))),2)=\", \",LEFT(CONCATENATE(IF(IX44=\"\",\"\",CONCATENATE(IX44,\", \")),IF(IX45=\"\",\"\",CONCATENATE(IX45,\", \"))),LEN(CONCATENATE(IF(IX44=\"\",\"\",CONCATENATE(IX44,\", \")),IF(IX45=\"\",\"\",CONCATENATE(IX45,\", \"))))-2),CONCATENATE(IF(IX44=\"\",\"\",CONCATENATE(IX44,\", \")),IF(IX45=\"\",\"\",CONCATENATE(IX45,\", \"))))","v":""},null,null,{"$f":"IF(RIGHT(CONCATENATE(IF(JA44=\"\",\"\",CONCATENATE(JA44,\", \")),IF(JA45=\"\",\"\",CONCATENATE(JA45,\", \"))),2)=\", \",LEFT(CONCATENATE(IF(JA44=\"\",\"\",CONCATENATE(JA44,\", \")),IF(JA45=\"\",\"\",CONCATENATE(JA45,\", \"))),LEN(CONCATENATE(IF(JA44=\"\",\"\",CONCATENATE(JA44,\", \")),IF(JA45=\"\",\"\",CONCATENATE(JA45,\", \"))))-2),CONCATENATE(IF(JA44=\"\",\"\",CONCATENATE(JA44,\", \")),IF(JA45=\"\",\"\",CONCATENATE(JA45,\", \"))))","v":""},null,null,{"$f":"IF(RIGHT(CONCATENATE(IF(JD44=\"\",\"\",CONCATENATE(JD44,\", \")),IF(JD45=\"\",\"\",CONCATENATE(JD45,\", \"))),2)=\", \",LEFT(CONCATENATE(IF(JD44=\"\",\"\",CONCATENATE(JD44,\", \")),IF(JD45=\"\",\"\",CONCATENATE(JD45,\", \"))),LEN(CONCATENATE(IF(JD44=\"\",\"\",CONCATENATE(JD44,\", \")),IF(JD45=\"\",\"\",CONCATENATE(JD45,\", \"))))-2),CONCATENATE(IF(JD44=\"\",\"\",CONCATENATE(JD44,\", \")),IF(JD45=\"\",\"\",CONCATENATE(JD45,\", \"))))","v":""},null,null,{"$f":"IF(RIGHT(CONCATENATE(IF(JG44=\"\",\"\",CONCATENATE(JG44,\", \")),IF(JG45=\"\",\"\",CONCATENATE(JG45,\", \"))),2)=\", \",LEFT(CONCATENATE(IF(JG44=\"\",\"\",CONCATENATE(JG44,\", \")),IF(JG45=\"\",\"\",CONCATENATE(JG45,\", \"))),LEN(CONCATENATE(IF(JG44=\"\",\"\",CONCATENATE(JG44,\", \")),IF(JG45=\"\",\"\",CONCATENATE(JG45,\", \"))))-2),CONCATENATE(IF(JG44=\"\",\"\",CONCATENATE(JG44,\", \")),IF(JG45=\"\",\"\",CONCATENATE(JG45,\", \"))))","v":""},null,null,{"$f":"IF(RIGHT(CONCATENATE(IF(JJ44=\"\",\"\",CONCATENATE(JJ44,\", \")),IF(JJ45=\"\",\"\",CONCATENATE(JJ45,\", \"))),2)=\", \",LEFT(CONCATENATE(IF(JJ44=\"\",\"\",CONCATENATE(JJ44,\", \")),IF(JJ45=\"\",\"\",CONCATENATE(JJ45,\", \"))),LEN(CONCATENATE(IF(JJ44=\"\",\"\",CONCATENATE(JJ44,\", \")),IF(JJ45=\"\",\"\",CONCATENATE(JJ45,\", \"))))-2),CONCATENATE(IF(JJ44=\"\",\"\",CONCATENATE(JJ44,\", \")),IF(JJ45=\"\",\"\",CONCATENATE(JJ45,\", \"))))","v":""},null,null,{"$f":"IF(RIGHT(CONCATENATE(IF(JM44=\"\",\"\",CONCATENATE(JM44,\", \")),IF(JM45=\"\",\"\",CONCATENATE(JM45,\", \"))),2)=\", \",LEFT(CONCATENATE(IF(JM44=\"\",\"\",CONCATENATE(JM44,\", \")),IF(JM45=\"\",\"\",CONCATENATE(JM45,\", \"))),LEN(CONCATENATE(IF(JM44=\"\",\"\",CONCATENATE(JM44,\", \")),IF(JM45=\"\",\"\",CONCATENATE(JM45,\", \"))))-2),CONCATENATE(IF(JM44=\"\",\"\",CONCATENATE(JM44,\", \")),IF(JM45=\"\",\"\",CONCATENATE(JM45,\", \"))))","v":""},null,null,{"$f":"IF(RIGHT(CONCATENATE(IF(JP44=\"\",\"\",CONCATENATE(JP44,\", \")),IF(JP45=\"\",\"\",CONCATENATE(JP45,\", \"))),2)=\", \",LEFT(CONCATENATE(IF(JP44=\"\",\"\",CONCATENATE(JP44,\", \")),IF(JP45=\"\",\"\",CONCATENATE(JP45,\", \"))),LEN(CONCATENATE(IF(JP44=\"\",\"\",CONCATENATE(JP44,\", \")),IF(JP45=\"\",\"\",CONCATENATE(JP45,\", \"))))-2),CONCATENATE(IF(JP44=\"\",\"\",CONCATENATE(JP44,\", \")),IF(JP45=\"\",\"\",CONCATENATE(JP45,\", \"))))","v":""},null,null,{"$f":"IF(RIGHT(CONCATENATE(IF(JS44=\"\",\"\",CONCATENATE(JS44,\", \")),IF(JS45=\"\",\"\",CONCATENATE(JS45,\", \"))),2)=\", \",LEFT(CONCATENATE(IF(JS44=\"\",\"\",CONCATENATE(JS44,\", \")),IF(JS45=\"\",\"\",CONCATENATE(JS45,\", \"))),LEN(CONCATENATE(IF(JS44=\"\",\"\",CONCATENATE(JS44,\", \")),IF(JS45=\"\",\"\",CONCATENATE(JS45,\", \"))))-2),CONCATENATE(IF(JS44=\"\",\"\",CONCATENATE(JS44,\", \")),IF(JS45=\"\",\"\",CONCATENATE(JS45,\", \"))))","v":""},null,null,{"$f":"IF(RIGHT(CONCATENATE(IF(JV44=\"\",\"\",CONCATENATE(JV44,\", \")),IF(JV45=\"\",\"\",CONCATENATE(JV45,\", \"))),2)=\", \",LEFT(CONCATENATE(IF(JV44=\"\",\"\",CONCATENATE(JV44,\", \")),IF(JV45=\"\",\"\",CONCATENATE(JV45,\", \"))),LEN(CONCATENATE(IF(JV44=\"\",\"\",CONCATENATE(JV44,\", \")),IF(JV45=\"\",\"\",CONCATENATE(JV45,\", \"))))-2),CONCATENATE(IF(JV44=\"\",\"\",CONCATENATE(JV44,\", \")),IF(JV45=\"\",\"\",CONCATENATE(JV45,\", \"))))","v":""},null,null,{"$f":"IF(RIGHT(CONCATENATE(IF(JY44=\"\",\"\",CONCATENATE(JY44,\", \")),IF(JY45=\"\",\"\",CONCATENATE(JY45,\", \"))),2)=\", \",LEFT(CONCATENATE(IF(JY44=\"\",\"\",CONCATENATE(JY44,\", \")),IF(JY45=\"\",\"\",CONCATENATE(JY45,\", \"))),LEN(CONCATENATE(IF(JY44=\"\",\"\",CONCATENATE(JY44,\", \")),IF(JY45=\"\",\"\",CONCATENATE(JY45,\", \"))))-2),CONCATENATE(IF(JY44=\"\",\"\",CONCATENATE(JY44,\", \")),IF(JY45=\"\",\"\",CONCATENATE(JY45,\", \"))))","v":""},null,null,{"$f":"IF(RIGHT(CONCATENATE(IF(KB44=\"\",\"\",CONCATENATE(KB44,\", \")),IF(KB45=\"\",\"\",CONCATENATE(KB45,\", \"))),2)=\", \",LEFT(CONCATENATE(IF(KB44=\"\",\"\",CONCATENATE(KB44,\", \")),IF(KB45=\"\",\"\",CONCATENATE(KB45,\", \"))),LEN(CONCATENATE(IF(KB44=\"\",\"\",CONCATENATE(KB44,\", \")),IF(KB45=\"\",\"\",CONCATENATE(KB45,\", \"))))-2),CONCATENATE(IF(KB44=\"\",\"\",CONCATENATE(KB44,\", \")),IF(KB45=\"\",\"\",CONCATENATE(KB45,\", \"))))","v":""},null,null,{"$f":"IF(RIGHT(CONCATENATE(IF(KE44=\"\",\"\",CONCATENATE(KE44,\", \")),IF(KE45=\"\",\"\",CONCATENATE(KE45,\", \"))),2)=\", \",LEFT(CONCATENATE(IF(KE44=\"\",\"\",CONCATENATE(KE44,\", \")),IF(KE45=\"\",\"\",CONCATENATE(KE45,\", \"))),LEN(CONCATENATE(IF(KE44=\"\",\"\",CONCATENATE(KE44,\", \")),IF(KE45=\"\",\"\",CONCATENATE(KE45,\", \"))))-2),CONCATENATE(IF(KE44=\"\",\"\",CONCATENATE(KE44,\", \")),IF(KE45=\"\",\"\",CONCATENATE(KE45,\", \"))))","v":""},null,null,{"$f":"IF(RIGHT(CONCATENATE(IF(KH44=\"\",\"\",CONCATENATE(KH44,\", \")),IF(KH45=\"\",\"\",CONCATENATE(KH45,\", \"))),2)=\", \",LEFT(CONCATENATE(IF(KH44=\"\",\"\",CONCATENATE(KH44,\", \")),IF(KH45=\"\",\"\",CONCATENATE(KH45,\", \"))),LEN(CONCATENATE(IF(KH44=\"\",\"\",CONCATENATE(KH44,\", \")),IF(KH45=\"\",\"\",CONCATENATE(KH45,\", \"))))-2),CONCATENATE(IF(KH44=\"\",\"\",CONCATENATE(KH44,\", \")),IF(KH45=\"\",\"\",CONCATENATE(KH45,\", \"))))","v":""},null,null,{"$f":"IF(RIGHT(CONCATENATE(IF(KK44=\"\",\"\",CONCATENATE(KK44,\", \")),IF(KK45=\"\",\"\",CONCATENATE(KK45,\", \"))),2)=\", \",LEFT(CONCATENATE(IF(KK44=\"\",\"\",CONCATENATE(KK44,\", \")),IF(KK45=\"\",\"\",CONCATENATE(KK45,\", \"))),LEN(CONCATENATE(IF(KK44=\"\",\"\",CONCATENATE(KK44,\", \")),IF(KK45=\"\",\"\",CONCATENATE(KK45,\", \"))))-2),CONCATENATE(IF(KK44=\"\",\"\",CONCATENATE(KK44,\", \")),IF(KK45=\"\",\"\",CONCATENATE(KK45,\", \"))))","v":""},null,null,{"$f":"IF(RIGHT(CONCATENATE(IF(KN44=\"\",\"\",CONCATENATE(KN44,\", \")),IF(KN45=\"\",\"\",CONCATENATE(KN45,\", \"))),2)=\", \",LEFT(CONCATENATE(IF(KN44=\"\",\"\",CONCATENATE(KN44,\", \")),IF(KN45=\"\",\"\",CONCATENATE(KN45,\", \"))),LEN(CONCATENATE(IF(KN44=\"\",\"\",CONCATENATE(KN44,\", \")),IF(KN45=\"\",\"\",CONCATENATE(KN45,\", \"))))-2),CONCATENATE(IF(KN44=\"\",\"\",CONCATENATE(KN44,\", \")),IF(KN45=\"\",\"\",CONCATENATE(KN45,\", \"))))","v":""}]
[null,47]
[null,48]
[null,49]
[null,50]
["If green, you may change the Residual Likelihood of the Hazard. The Residual Risk is derived.",51,{"$f":"C6","v":"Severity"},"Residual Likelihood","Residual Risk",{"$f":"F6","v":"Severity"},"Residual Likelihood","Residual Risk",{"$f":"I6","v":"Severity"},"Residual Likelihood","Residual Risk",{"$f":"L6","v":"Severity"},"Residual Likelihood","Residual Risk",{"$f":"O6","v":"Severity"},"Residual Likelihood","Residual Risk",{"$f":"R6","v":"Severity"},"Residual Likelihood","Residual Risk",{"$f":"U6","v":"Severity"},"Residual Likelihood","Residual Risk",{"$f":"X6","v":"Severity"},"Residual Likelihood","Residual Risk",{"$f":"AA6","v":"Severity"},"Residual Likelihood","Residual Risk",{"$f":"AD6","v":"Severity"},"Residual Likelihood","Residual Risk",{"$f":"AG6","v":"Severity"},"Residual Likelihood","Residual Risk",{"$f":"AJ6","v":"Severity"},"Residual Likelihood","Residual Risk",{"$f":"AM6","v":"Severity"},"Residual Likelihood","Residual Risk",{"$f":"AP6","v":"Severity"},"Residual Likelihood","Residual Risk",{"$f":"AS6","v":"Severity"},"Residual Likelihood","Residual Risk",{"$f":"AV6","v":"Severity"},"Residual Likelihood","Residual Risk",{"$f":"AY6","v":"Severity"},"Residual Likelihood","Residual Risk",{"$f":"BB6","v":"Severity"},"Residual Likelihood","Residual Risk",{"$f":"BE6","v":"Severity"},"Residual Likelihood","Residual Risk",{"$f":"BH6","v":"Severity"},"Residual Likelihood","Residual Risk",{"$f":"BK6","v":"Severity"},"Residual Likelihood","Residual Risk",{"$f":"BN6","v":"Severity"},"Residual Likelihood","Residual Risk",{"$f":"BQ6","v":"Severity"},"Residual Likelihood","Residual Risk",{"$f":"BT6","v":"Severity"},"Residual Likelihood","Residual Risk",{"$f":"BW6","v":"Severity"},"Residual Likelihood","Residual Risk",{"$f":"BZ6","v":"Severity"},"Residual Likelihood","Residual Risk",{"$f":"CC6","v":"Severity"},"Residual Likelihood","Residual Risk",{"$f":"CF6","v":"Severity"},"Residual Likelihood","Residual Risk",{"$f":"CI6","v":"Severity"},"Residual Likelihood","Residual Risk",{"$f":"CL6","v":"Severity"},"Residual Likelihood","Residual Risk",{"$f":"CO6","v":"Severity"},"Residual Likelihood","Residual Risk",{"$f":"CR6","v":"Severity"},"Residual Likelihood","Residual Risk",{"$f":"CU6","v":"Severity"},"Residual Likelihood","Residual Risk",{"$f":"CX6","v":"Severity"},"Residual Likelihood","Residual Risk",{"$f":"DA6","v":"Severity"},"Residual Likelihood","Residual Risk",{"$f":"DD6","v":"Severity"},"Residual Likelihood","Residual Risk",{"$f":"DG6","v":"Severity"},"Residual Likelihood","Residual Risk",{"$f":"DJ6","v":"Severity"},"Residual Likelihood","Residual Risk",{"$f":"DM6","v":"Severity"},"Residual Likelihood","Residual Risk",{"$f":"DP6","v":"Severity"},"Residual Likelihood","Residual Risk",{"$f":"DS6","v":"Severity"},"Residual Likelihood","Residual Risk",{"$f":"DV6","v":"Severity"},"Residual Likelihood","Residual Risk",{"$f":"DY6","v":"Severity"},"Residual Likelihood","Residual Risk",{"$f":"EB6","v":"Severity"},"Residual Likelihood","Residual Risk",{"$f":"EE6","v":"Severity"},"Residual Likelihood","Residual Risk",{"$f":"EH6","v":"Severity"},"Residual Likelihood","Residual Risk",{"$f":"EK6","v":"Severity"},"Residual Likelihood","Residual Risk",{"$f":"EN6","v":"Severity"},"Residual Likelihood","Residual Risk",{"$f":"EQ6","v":"Severity"},"Residual Likelihood","Residual Risk",{"$f":"ET6","v":"Severity"},"Residual Likelihood","Residual Risk",{"$f":"EW6","v":"Severity"},"Residual Likelihood","Residual Risk",{"$f":"EZ6","v":"Severity"},"Residual Likelihood","Residual Risk",{"$f":"FC6","v":"Severity"},"Residual Likelihood","Residual Risk",{"$f":"FF6","v":"Severity"},"Residual Likelihood","Residual Risk",{"$f":"FI6","v":"Severity"},"Residual Likelihood","Residual Risk",{"$f":"FL6","v":"Severity"},"Residual Likelihood","Residual Risk",{"$f":"FO6","v":"Severity"},"Residual Likelihood","Residual Risk",{"$f":"FR6","v":"Severity"},"Residual Likelihood","Residual Risk",{"$f":"FU6","v":"Severity"},"Residual Likelihood","Residual Risk",{"$f":"FX6","v":"Severity"},"Residual Likelihood","Residual Risk",{"$f":"GA6","v":"Severity"},"Residual Likelihood","Residual Risk",{"$f":"GD6","v":"Severity"},"Residual Likelihood","Residual Risk",{"$f":"GG6","v":"Severity"},"Residual Likelihood","Residual Risk",{"$f":"GJ6","v":"Severity"},"Residual Likelihood","Residual Risk",{"$f":"GM6","v":"Severity"},"Residual Likelihood","Residual Risk",{"$f":"GP6","v":"Severity"},"Residual Likelihood","Residual Risk",{"$f":"GS6","v":"Severity"},"Residual Likelihood","Residual Risk",{"$f":"GV6","v":"Severity"},"Residual Likelihood","Residual Risk",{"$f":"GY6","v":"Severity"},"Residual Likelihood","Residual Risk",{"$f":"HB6","v":"Severity"},"Residual Likelihood","Residual Risk",{"$f":"HE6","v":"Severity"},"Residual Likelihood","Residual Risk",{"$f":"HH6","v":"Severity"},"Residual Likelihood","Residual Risk",{"$f":"HK6","v":"Severity"},"Residual Likelihood","Residual Risk",{"$f":"HN6","v":"Severity"},"Residual Likelihood","Residual Risk",{"$f":"HQ6","v":"Severity"},"Residual Likelihood","Residual Risk",{"$f":"HT6","v":"Severity"},"Residual Likelihood","Residual Risk",{"$f":"HW6","v":"Severity"},"Residual Likelihood","Residual Risk",{"$f":"HZ6","v":"Severity"},"Residual Likelihood","Residual Risk",{"$f":"IC6","v":"Severity"},"Residual Likelihood","Residual Risk",{"$f":"IF6","v":"Severity"},"Residual Likelihood","Residual Risk",{"$f":"II6","v":"Severity"},"Residual Likelihood","Residual Risk",{"$f":"IL6","v":"Severity"},"Residual Likelihood","Residual Risk",{"$f":"IO6","v":"Severity"},"Residual Likelihood","Residual Risk",{"$f":"IR6","v":"Severity"},"Residual Likelihood","Residual Risk",{"$f":"IU6","v":"Severity"},"Residual Likelihood","Residual Risk",{"$f":"IX6","v":"Severity"},"Residual Likelihood","Residual Risk",{"$f":"JA6","v":"Severity"},"Residual Likelihood","Residual Risk",{"$f":"JD6","v":"Severity"},"Residual Likelihood","Residual Risk",{"$f":"JG6","v":"Severity"},"Residual Likelihood","Residual Risk",{"$f":"JJ6","v":"Severity"},"Residual Likelihood","Residual Risk",{"$f":"JM6","v":"Severity"},"Residual Likelihood","Residual Risk",{"$f":"JP6","v":"Severity"},"Residual Likelihood","Residual Risk",{"$f":"JS6","v":"Severity"},"Residual Likelihood","Residual Risk",{"$f":"JV6","v":"Severity"},"Residual Likelihood","Residual Risk",{"$f":"JY6","v":"Severity"},"Residual Likelihood","Residual Risk",{"$f":"KB6","v":"Severity"},"Residual Likelihood","Residual Risk",{"$f":"KE6","v":"Severity"},"Residual Likelihood","Residual Risk",{"$f":"KH6","v":"Severity"},"Residual Likelihood","Residual Risk",{"$f":"KK6","v":"Severity"},"Residual Likelihood","Residual Risk",{"$f":"KN6","v":"Severity"},"Residual Likelihood","Residual Risk"]
[null,52,{"$f":"C7","v":"Catastrophic"},"Unlikely",{"$f":"INDEX(Sev_Matrix_Values,VLOOKUP(C7,Sev_Matrix_for_VLookup,6),HLOOKUP(D53,Sev_Matrix_for_HLookup,6))","v":"Moderate"},{"$f":"F7","v":"Major"},"Unlikely",{"$f":"INDEX(Sev_Matrix_Values,VLOOKUP(F7,Sev_Matrix_for_VLookup,6),HLOOKUP(G53,Sev_Matrix_for_HLookup,6))","v":"Moderate"},{"$f":"I7","v":"Moderate"},"Unlikely",{"$f":"INDEX(Sev_Matrix_Values,VLOOKUP(I7,Sev_Matrix_for_VLookup,6),HLOOKUP(J53,Sev_Matrix_for_HLookup,6))","v":"Low"},{"$f":"L7","v":"Major"},"Unlikely",{"$f":"INDEX(Sev_Matrix_Values,VLOOKUP(L7,Sev_Matrix_for_VLookup,6),HLOOKUP(M53,Sev_Matrix_for_HLookup,6))","v":"Moderate"},{"$f":"O7","v":"Catastrophic"},"Unlikely",{"$f":"INDEX(Sev_Matrix_Values,VLOOKUP(O7,Sev_Matrix_for_VLookup,6),HLOOKUP(P53,Sev_Matrix_for_HLookup,6))","v":"Moderate"},{"$f":"R7","v":"Major"},"Unlikely",{"$f":"INDEX(Sev_Matrix_Values,VLOOKUP(R7,Sev_Matrix_for_VLookup,6),HLOOKUP(S53,Sev_Matrix_for_HLookup,6))","v":"Moderate"},{"$f":"U7","v":"Catastrophic"},"Unlikely",{"$f":"INDEX(Sev_Matrix_Values,VLOOKUP(U7,Sev_Matrix_for_VLookup,6),HLOOKUP(V53,Sev_Matrix_for_HLookup,6))","v":"Moderate"},{"$f":"X7","v":"Major"},"Unlikely",{"$f":"INDEX(Sev_Matrix_Values,VLOOKUP(X7,Sev_Matrix_for_VLookup,6),HLOOKUP(Y53,Sev_Matrix_for_HLookup,6))","v":"Moderate"},{"$f":"AA7","v":"Major"},"Unlikely",{"$f":"INDEX(Sev_Matrix_Values,VLOOKUP(AA7,Sev_Matrix_for_VLookup,6),HLOOKUP(AB53,Sev_Matrix_for_HLookup,6))","v":"Moderate"},{"$f":"AD7","v":"Catastrophic"},"Unlikely",{"$f":"INDEX(Sev_Matrix_Values,VLOOKUP(AD7,Sev_Matrix_for_VLookup,6),HLOOKUP(AE53,Sev_Matrix_for_HLookup,6))","v":"Moderate"},{"$f":"AG7","v":"Catastrophic"},"Unlikely",{"$f":"INDEX(Sev_Matrix_Values,VLOOKUP(AG7,Sev_Matrix_for_VLookup,6),HLOOKUP(AH53,Sev_Matrix_for_HLookup,6))","v":"Moderate"},{"$f":"AJ7","v":"Catastrophic"},"Unlikely",{"$f":"INDEX(Sev_Matrix_Values,VLOOKUP(AJ7,Sev_Matrix_for_VLookup,6),HLOOKUP(AK53,Sev_Matrix_for_HLookup,6))","v":"Moderate"},{"$f":"AM7","v":"Major"},"Unlikely",{"$f":"INDEX(Sev_Matrix_Values,VLOOKUP(AM7,Sev_Matrix_for_VLookup,6),HLOOKUP(AN53,Sev_Matrix_for_HLookup,6))","v":"Moderate"},{"$f":"AP7","v":"Major"},"Unlikely",{"$f":"INDEX(Sev_Matrix_Values,VLOOKUP(AP7,Sev_Matrix_for_VLookup,6),HLOOKUP(AQ53,Sev_Matrix_for_HLookup,6))","v":"Moderate"},{"$f":"AS7","v":"Major"},"Unlikely",{"$f":"INDEX(Sev_Matrix_Values,VLOOKUP(AS7,Sev_Matrix_for_VLookup,6),HLOOKUP(AT53,Sev_Matrix_for_HLookup,6))","v":"Moderate"},{"$f":"AV7","v":"Catastrophic"},"Unlikely",{"$f":"INDEX(Sev_Matrix_Values,VLOOKUP(AV7,Sev_Matrix_for_VLookup,6),HLOOKUP(AW53,Sev_Matrix_for_HLookup,6))","v":"Moderate"},{"$f":"AY7","v":"Moderate"},"Unlikely",{"$f":"INDEX(Sev_Matrix_Values,VLOOKUP(AY7,Sev_Matrix_for_VLookup,6),HLOOKUP(AZ53,Sev_Matrix_for_HLookup,6))","v":"Low"},{"$f":"BB7","v":"Moderate"},"Unlikely",{"$f":"INDEX(Sev_Matrix_Values,VLOOKUP(BB7,Sev_Matrix_for_VLookup,6),HLOOKUP(BC53,Sev_Matrix_for_HLookup,6))","v":"Low"},{"$f":"BE7","v":"Major"},"Unlikely",{"$f":"INDEX(Sev_Matrix_Values,VLOOKUP(BE7,Sev_Matrix_for_VLookup,6),HLOOKUP(BF53,Sev_Matrix_for_HLookup,6))","v":"Moderate"},{"$f":"BH7","v":"Major"},"Unlikely",{"$f":"INDEX(Sev_Matrix_Values,VLOOKUP(BH7,Sev_Matrix_for_VLookup,6),HLOOKUP(BI53,Sev_Matrix_for_HLookup,6))","v":"Moderate"},{"$f":"BK7","v":"Major"},"Unlikely",{"$f":"INDEX(Sev_Matrix_Values,VLOOKUP(BK7,Sev_Matrix_for_VLookup,6),HLOOKUP(BL53,Sev_Matrix_for_HLookup,6))","v":"Moderate"},{"$f":"BN7","v":"Major"},"Unlikely",{"$f":"INDEX(Sev_Matrix_Values,VLOOKUP(BN7,Sev_Matrix_for_VLookup,6),HLOOKUP(BO53,Sev_Matrix_for_HLookup,6))","v":"Moderate"},{"$f":"BQ7","v":"Major"},"Unlikely",{"$f":"INDEX(Sev_Matrix_Values,VLOOKUP(BQ7,Sev_Matrix_for_VLookup,6),HLOOKUP(BR53,Sev_Matrix_for_HLookup,6))","v":"Moderate"},{"$f":"BT7","v":"Catastrophic"},"Unlikely",{"$f":"INDEX(Sev_Matrix_Values,VLOOKUP(BT7,Sev_Matrix_for_VLookup,6),HLOOKUP(BU53,Sev_Matrix_for_HLookup,6))","v":"Moderate"},{"$f":"BW7","v":"Catastrophic"},"Unlikely",{"$f":"INDEX(Sev_Matrix_Values,VLOOKUP(BW7,Sev_Matrix_for_VLookup,6),HLOOKUP(BX53,Sev_Matrix_for_HLookup,6))","v":"Moderate"},{"$f":"BZ7","v":"Moderate"},"Unlikely",{"$f":"INDEX(Sev_Matrix_Values,VLOOKUP(BZ7,Sev_Matrix_for_VLookup,6),HLOOKUP(CA53,Sev_Matrix_for_HLookup,6))","v":"Low"},{"$f":"CC7","v":"Catastrophic"},"Unlikely",{"$f":"INDEX(Sev_Matrix_Values,VLOOKUP(CC7,Sev_Matrix_for_VLookup,6),HLOOKUP(CD53,Sev_Matrix_for_HLookup,6))","v":"Moderate"},{"$f":"CF7","v":"Major"},"Unlikely",{"$f":"INDEX(Sev_Matrix_Values,VLOOKUP(CF7,Sev_Matrix_for_VLookup,6),HLOOKUP(CG53,Sev_Matrix_for_HLookup,6))","v":"Moderate"},{"$f":"CI7","v":"Major"},"Unlikely",{"$f":"INDEX(Sev_Matrix_Values,VLOOKUP(CI7,Sev_Matrix_for_VLookup,6),HLOOKUP(CJ53,Sev_Matrix_for_HLookup,6))","v":"Moderate"},{"$f":"CL7","v":"Major"},"Unlikely",{"$f":"INDEX(Sev_Matrix_Values,VLOOKUP(CL7,Sev_Matrix_for_VLookup,6),HLOOKUP(CM53,Sev_Matrix_for_HLookup,6))","v":"Moderate"},{"$f":"CO7","v":"Major"},"Unlikely",{"$f":"INDEX(Sev_Matrix_Values,VLOOKUP(CO7,Sev_Matrix_for_VLookup,6),HLOOKUP(CP53,Sev_Matrix_for_HLookup,6))","v":"Moderate"},{"$f":"CR7","v":"Major"},"Unlikely",{"$f":"INDEX(Sev_Matrix_Values,VLOOKUP(CR7,Sev_Matrix_for_VLookup,6),HLOOKUP(CS53,Sev_Matrix_for_HLookup,6))","v":"Moderate"},{"$f":"CU7","v":"Major"},"Unlikely",{"$f":"INDEX(Sev_Matrix_Values,VLOOKUP(CU7,Sev_Matrix_for_VLookup,6),HLOOKUP(CV53,Sev_Matrix_for_HLookup,6))","v":"Moderate"},{"$f":"CX7","v":"Major"},"Unlikely",{"$f":"INDEX(Sev_Matrix_Values,VLOOKUP(CX7,Sev_Matrix_for_VLookup,6),HLOOKUP(CY53,Sev_Matrix_for_HLookup,6))","v":"Moderate"},{"$f":"DA7","v":"Major"},"Unlikely",{"$f":"INDEX(Sev_Matrix_Values,VLOOKUP(DA7,Sev_Matrix_for_VLookup,6),HLOOKUP(DB53,Sev_Matrix_for_HLookup,6))","v":"Moderate"},{"$f":"DD7","v":"Major"},"Unlikely",{"$f":"INDEX(Sev_Matrix_Values,VLOOKUP(DD7,Sev_Matrix_for_VLookup,6),HLOOKUP(DE53,Sev_Matrix_for_HLookup,6))","v":"Moderate"},{"$f":"DG7","v":"Major"},"Unlikely",{"$f":"INDEX(Sev_Matrix_Values,VLOOKUP(DG7,Sev_Matrix_for_VLookup,6),HLOOKUP(DH53,Sev_Matrix_for_HLookup,6))","v":"Moderate"},{"$f":"DJ7","v":"Major"},"Unlikely",{"$f":"INDEX(Sev_Matrix_Values,VLOOKUP(DJ7,Sev_Matrix_for_VLookup,6),HLOOKUP(DK53,Sev_Matrix_for_HLookup,6))","v":"Moderate"},{"$f":"DM7","v":"Major"},"Unlikely",{"$f":"INDEX(Sev_Matrix_Values,VLOOKUP(DM7,Sev_Matrix_for_VLookup,6),HLOOKUP(DN53,Sev_Matrix_for_HLookup,6))","v":"Moderate"},{"$f":"DP7","v":"Major"},"Unlikely",{"$f":"INDEX(Sev_Matrix_Values,VLOOKUP(DP7,Sev_Matrix_for_VLookup,6),HLOOKUP(DQ53,Sev_Matrix_for_HLookup,6))","v":"Moderate"},{"$f":"DS7","v":"Major"},"Unlikely",{"$f":"INDEX(Sev_Matrix_Values,VLOOKUP(DS7,Sev_Matrix_for_VLookup,6),HLOOKUP(DT53,Sev_Matrix_for_HLookup,6))","v":"Moderate"},{"$f":"DV7","v":"Major"},"Unlikely",{"$f":"INDEX(Sev_Matrix_Values,VLOOKUP(DV7,Sev_Matrix_for_VLookup,6),HLOOKUP(DW53,Sev_Matrix_for_HLookup,6))","v":"Moderate"},{"$f":"DY7","v":"Major"},"Unlikely",{"$f":"INDEX(Sev_Matrix_Values,VLOOKUP(DY7,Sev_Matrix_for_VLookup,6),HLOOKUP(DZ53,Sev_Matrix_for_HLookup,6))","v":"Moderate"},{"$f":"EB7","v":"Major"},"Unlikely",{"$f":"INDEX(Sev_Matrix_Values,VLOOKUP(EB7,Sev_Matrix_for_VLookup,6),HLOOKUP(EC53,Sev_Matrix_for_HLookup,6))","v":"Moderate"},{"$f":"EE7","v":"Major"},"Unlikely",{"$f":"INDEX(Sev_Matrix_Values,VLOOKUP(EE7,Sev_Matrix_for_VLookup,6),HLOOKUP(EF53,Sev_Matrix_for_HLookup,6))","v":"Moderate"},{"$f":"EH7","v":"Major"},"Unlikely",{"$f":"INDEX(Sev_Matrix_Values,VLOOKUP(EH7,Sev_Matrix_for_VLookup,6),HLOOKUP(EI53,Sev_Matrix_for_HLookup,6))","v":"Moderate"},{"$f":"EK7","v":"Major"},"Unlikely",{"$f":"INDEX(Sev_Matrix_Values,VLOOKUP(EK7,Sev_Matrix_for_VLookup,6),HLOOKUP(EL53,Sev_Matrix_for_HLookup,6))","v":"Moderate"},{"$f":"EN7","v":"Major"},"Unlikely",{"$f":"INDEX(Sev_Matrix_Values,VLOOKUP(EN7,Sev_Matrix_for_VLookup,6),HLOOKUP(EO53,Sev_Matrix_for_HLookup,6))","v":"Moderate"},{"$f":"EQ7","v":"Major"},"Unlikely",{"$f":"INDEX(Sev_Matrix_Values,VLOOKUP(EQ7,Sev_Matrix_for_VLookup,6),HLOOKUP(ER53,Sev_Matrix_for_HLookup,6))","v":"Moderate"},{"$f":"ET7","v":"Major"},"Unlikely",{"$f":"INDEX(Sev_Matrix_Values,VLOOKUP(ET7,Sev_Matrix_for_VLookup,6),HLOOKUP(EU53,Sev_Matrix_for_HLookup,6))","v":"Moderate"},{"$f":"EW7","v":"Major"},"Unlikely",{"$f":"INDEX(Sev_Matrix_Values,VLOOKUP(EW7,Sev_Matrix_for_VLookup,6),HLOOKUP(EX53,Sev_Matrix_for_HLookup,6))","v":"Moderate"},{"$f":"EZ7","v":"Major"},"Unlikely",{"$f":"INDEX(Sev_Matrix_Values,VLOOKUP(EZ7,Sev_Matrix_for_VLookup,6),HLOOKUP(FA53,Sev_Matrix_for_HLookup,6))","v":"Moderate"},{"$f":"FC7","v":"Major"},"Unlikely",{"$f":"INDEX(Sev_Matrix_Values,VLOOKUP(FC7,Sev_Matrix_for_VLookup,6),HLOOKUP(FD53,Sev_Matrix_for_HLookup,6))","v":"Moderate"},{"$f":"FF7","v":"Major"},"Unlikely",{"$f":"INDEX(Sev_Matrix_Values,VLOOKUP(FF7,Sev_Matrix_for_VLookup,6),HLOOKUP(FG53,Sev_Matrix_for_HLookup,6))","v":"Moderate"},{"$f":"FI7","v":"Major"},"Unlikely",{"$f":"INDEX(Sev_Matrix_Values,VLOOKUP(FI7,Sev_Matrix_for_VLookup,6),HLOOKUP(FJ53,Sev_Matrix_for_HLookup,6))","v":"Moderate"},{"$f":"FL7","v":"Major"},"Unlikely",{"$f":"INDEX(Sev_Matrix_Values,VLOOKUP(FL7,Sev_Matrix_for_VLookup,6),HLOOKUP(FM53,Sev_Matrix_for_HLookup,6))","v":"Moderate"},{"$f":"FO7","v":"Major"},"Unlikely",{"$f":"INDEX(Sev_Matrix_Values,VLOOKUP(FO7,Sev_Matrix_for_VLookup,6),HLOOKUP(FP53,Sev_Matrix_for_HLookup,6))","v":"Moderate"},{"$f":"FR7","v":"Major"},"Unlikely",{"$f":"INDEX(Sev_Matrix_Values,VLOOKUP(FR7,Sev_Matrix_for_VLookup,6),HLOOKUP(FS53,Sev_Matrix_for_HLookup,6))","v":"Moderate"},{"$f":"FU7","v":"Major"},"Unlikely",{"$f":"INDEX(Sev_Matrix_Values,VLOOKUP(FU7,Sev_Matrix_for_VLookup,6),HLOOKUP(FV53,Sev_Matrix_for_HLookup,6))","v":"Moderate"},{"$f":"FX7","v":"Major"},"Unlikely",{"$f":"INDEX(Sev_Matrix_Values,VLOOKUP(FX7,Sev_Matrix_for_VLookup,6),HLOOKUP(FY53,Sev_Matrix_for_HLookup,6))","v":"Moderate"},{"$f":"GA7","v":"Major"},"Unlikely",{"$f":"INDEX(Sev_Matrix_Values,VLOOKUP(GA7,Sev_Matrix_for_VLookup,6),HLOOKUP(GB53,Sev_Matrix_for_HLookup,6))","v":"Moderate"},{"$f":"GD7","v":"Major"},"Unlikely",{"$f":"INDEX(Sev_Matrix_Values,VLOOKUP(GD7,Sev_Matrix_for_VLookup,6),HLOOKUP(GE53,Sev_Matrix_for_HLookup,6))","v":"Moderate"},{"$f":"GG7","v":"Major"},"Unlikely",{"$f":"INDEX(Sev_Matrix_Values,VLOOKUP(GG7,Sev_Matrix_for_VLookup,6),HLOOKUP(GH53,Sev_Matrix_for_HLookup,6))","v":"Moderate"},{"$f":"GJ7","v":"Major"},"Unlikely",{"$f":"INDEX(Sev_Matrix_Values,VLOOKUP(GJ7,Sev_Matrix_for_VLookup,6),HLOOKUP(GK53,Sev_Matrix_for_HLookup,6))","v":"Moderate"},{"$f":"GM7","v":"Major"},"Unlikely",{"$f":"INDEX(Sev_Matrix_Values,VLOOKUP(GM7,Sev_Matrix_for_VLookup,6),HLOOKUP(GN53,Sev_Matrix_for_HLookup,6))","v":"Moderate"},{"$f":"GP7","v":"Major"},"Unlikely",{"$f":"INDEX(Sev_Matrix_Values,VLOOKUP(GP7,Sev_Matrix_for_VLookup,6),HLOOKUP(GQ53,Sev_Matrix_for_HLookup,6))","v":"Moderate"},{"$f":"GS7","v":"Major"},"Unlikely",{"$f":"INDEX(Sev_Matrix_Values,VLOOKUP(GS7,Sev_Matrix_for_VLookup,6),HLOOKUP(GT53,Sev_Matrix_for_HLookup,6))","v":"Moderate"},{"$f":"GV7","v":"Major"},"Unlikely",{"$f":"INDEX(Sev_Matrix_Values,VLOOKUP(GV7,Sev_Matrix_for_VLookup,6),HLOOKUP(GW53,Sev_Matrix_for_HLookup,6))","v":"Moderate"},{"$f":"GY7","v":"Major"},"Unlikely",{"$f":"INDEX(Sev_Matrix_Values,VLOOKUP(GY7,Sev_Matrix_for_VLookup,6),HLOOKUP(GZ53,Sev_Matrix_for_HLookup,6))","v":"Moderate"},{"$f":"HB7","v":"Major"},"Unlikely",{"$f":"INDEX(Sev_Matrix_Values,VLOOKUP(HB7,Sev_Matrix_for_VLookup,6),HLOOKUP(HC53,Sev_Matrix_for_HLookup,6))","v":"Moderate"},{"$f":"HE7","v":"Major"},"Unlikely",{"$f":"INDEX(Sev_Matrix_Values,VLOOKUP(HE7,Sev_Matrix_for_VLookup,6),HLOOKUP(HF53,Sev_Matrix_for_HLookup,6))","v":"Moderate"},{"$f":"HH7","v":"Major"},"Unlikely",{"$f":"INDEX(Sev_Matrix_Values,VLOOKUP(HH7,Sev_Matrix_for_VLookup,6),HLOOKUP(HI53,Sev_Matrix_for_HLookup,6))","v":"Moderate"},{"$f":"HK7","v":"Major"},"Unlikely",{"$f":"INDEX(Sev_Matrix_Values,VLOOKUP(HK7,Sev_Matrix_for_VLookup,6),HLOOKUP(HL53,Sev_Matrix_for_HLookup,6))","v":"Moderate"},{"$f":"HN7","v":"Major"},"Unlikely",{"$f":"INDEX(Sev_Matrix_Values,VLOOKUP(HN7,Sev_Matrix_for_VLookup,6),HLOOKUP(HO53,Sev_Matrix_for_HLookup,6))","v":"Moderate"},{"$f":"HQ7","v":"Major"},"Unlikely",{"$f":"INDEX(Sev_Matrix_Values,VLOOKUP(HQ7,Sev_Matrix_for_VLookup,6),HLOOKUP(HR53,Sev_Matrix_for_HLookup,6))","v":"Moderate"},{"$f":"HT7","v":"Major"},"Unlikely",{"$f":"INDEX(Sev_Matrix_Values,VLOOKUP(HT7,Sev_Matrix_for_VLookup,6),HLOOKUP(HU53,Sev_Matrix_for_HLookup,6))","v":"Moderate"},{"$f":"HW7","v":"Major"},"Unlikely",{"$f":"INDEX(Sev_Matrix_Values,VLOOKUP(HW7,Sev_Matrix_for_VLookup,6),HLOOKUP(HX53,Sev_Matrix_for_HLookup,6))","v":"Moderate"},{"$f":"HZ7","v":"Major"},"Unlikely",{"$f":"INDEX(Sev_Matrix_Values,VLOOKUP(HZ7,Sev_Matrix_for_VLookup,6),HLOOKUP(IA53,Sev_Matrix_for_HLookup,6))","v":"Moderate"},{"$f":"IC7","v":"Major"},"Unlikely",{"$f":"INDEX(Sev_Matrix_Values,VLOOKUP(IC7,Sev_Matrix_for_VLookup,6),HLOOKUP(ID53,Sev_Matrix_for_HLookup,6))","v":"Moderate"},{"$f":"IF7","v":"Major"},"Unlikely",{"$f":"INDEX(Sev_Matrix_Values,VLOOKUP(IF7,Sev_Matrix_for_VLookup,6),HLOOKUP(IG53,Sev_Matrix_for_HLookup,6))","v":"Moderate"},{"$f":"II7","v":"Major"},"Unlikely",{"$f":"INDEX(Sev_Matrix_Values,VLOOKUP(II7,Sev_Matrix_for_VLookup,6),HLOOKUP(IJ53,Sev_Matrix_for_HLookup,6))","v":"Moderate"},{"$f":"IL7","v":"Major"},"Unlikely",{"$f":"INDEX(Sev_Matrix_Values,VLOOKUP(IL7,Sev_Matrix_for_VLookup,6),HLOOKUP(IM53,Sev_Matrix_for_HLookup,6))","v":"Moderate"},{"$f":"IO7","v":"Major"},"Unlikely",{"$f":"INDEX(Sev_Matrix_Values,VLOOKUP(IO7,Sev_Matrix_for_VLookup,6),HLOOKUP(IP53,Sev_Matrix_for_HLookup,6))","v":"Moderate"},{"$f":"IR7","v":"Major"},"Unlikely",{"$f":"INDEX(Sev_Matrix_Values,VLOOKUP(IR7,Sev_Matrix_for_VLookup,6),HLOOKUP(IS53,Sev_Matrix_for_HLookup,6))","v":"Moderate"},{"$f":"IU7","v":"Major"},"Unlikely",{"$f":"INDEX(Sev_Matrix_Values,VLOOKUP(IU7,Sev_Matrix_for_VLookup,6),HLOOKUP(IV53,Sev_Matrix_for_HLookup,6))","v":"Moderate"},{"$f":"IX7","v":"Major"},"Unlikely",{"$f":"INDEX(Sev_Matrix_Values,VLOOKUP(IX7,Sev_Matrix_for_VLookup,6),HLOOKUP(IY53,Sev_Matrix_for_HLookup,6))","v":"Moderate"},{"$f":"JA7","v":"Major"},"Unlikely",{"$f":"INDEX(Sev_Matrix_Values,VLOOKUP(JA7,Sev_Matrix_for_VLookup,6),HLOOKUP(JB53,Sev_Matrix_for_HLookup,6))","v":"Moderate"},{"$f":"JD7","v":"Major"},"Unlikely",{"$f":"INDEX(Sev_Matrix_Values,VLOOKUP(JD7,Sev_Matrix_for_VLookup,6),HLOOKUP(JE53,Sev_Matrix_for_HLookup,6))","v":"Moderate"},{"$f":"JG7","v":"Major"},"Unlikely",{"$f":"INDEX(Sev_Matrix_Values,VLOOKUP(JG7,Sev_Matrix_for_VLookup,6),HLOOKUP(JH53,Sev_Matrix_for_HLookup,6))","v":"Moderate"},{"$f":"JJ7","v":"Major"},"Unlikely",{"$f":"INDEX(Sev_Matrix_Values,VLOOKUP(JJ7,Sev_Matrix_for_VLookup,6),HLOOKUP(JK53,Sev_Matrix_for_HLookup,6))","v":"Moderate"},{"$f":"JM7","v":"Major"},"Unlikely",{"$f":"INDEX(Sev_Matrix_Values,VLOOKUP(JM7,Sev_Matrix_for_VLookup,6),HLOOKUP(JN53,Sev_Matrix_for_HLookup,6))","v":"Moderate"},{"$f":"JP7","v":"Major"},"Unlikely",{"$f":"INDEX(Sev_Matrix_Values,VLOOKUP(JP7,Sev_Matrix_for_VLookup,6),HLOOKUP(JQ53,Sev_Matrix_for_HLookup,6))","v":"Moderate"},{"$f":"JS7","v":"Major"},"Unlikely",{"$f":"INDEX(Sev_Matrix_Values,VLOOKUP(JS7,Sev_Matrix_for_VLookup,6),HLOOKUP(JT53,Sev_Matrix_for_HLookup,6))","v":"Moderate"},{"$f":"JV7","v":"Major"},"Unlikely",{"$f":"INDEX(Sev_Matrix_Values,VLOOKUP(JV7,Sev_Matrix_for_VLookup,6),HLOOKUP(JW53,Sev_Matrix_for_HLookup,6))","v":"Moderate"},{"$f":"JY7","v":"Major"},"Unlikely",{"$f":"INDEX(Sev_Matrix_Values,VLOOKUP(JY7,Sev_Matrix_for_VLookup,6),HLOOKUP(JZ53,Sev_Matrix_for_HLookup,6))","v":"Moderate"},{"$f":"KB7","v":"Major"},"Unlikely",{"$f":"INDEX(Sev_Matrix_Values,VLOOKUP(KB7,Sev_Matrix_for_VLookup,6),HLOOKUP(KC53,Sev_Matrix_for_HLookup,6))","v":"Moderate"},{"$f":"KE7","v":"Major"},"Unlikely",{"$f":"INDEX(Sev_Matrix_Values,VLOOKUP(KE7,Sev_Matrix_for_VLookup,6),HLOOKUP(KF53,Sev_Matrix_for_HLookup,6))","v":"Moderate"},{"$f":"KH7","v":"Major"},"Unlikely",{"$f":"INDEX(Sev_Matrix_Values,VLOOKUP(KH7,Sev_Matrix_for_VLookup,6),HLOOKUP(KI53,Sev_Matrix_for_HLookup,6))","v":"Moderate"},{"$f":"KK7","v":"Major"},"Unlikely",{"$f":"INDEX(Sev_Matrix_Values,VLOOKUP(KK7,Sev_Matrix_for_VLookup,6),HLOOKUP(KL53,Sev_Matrix_for_HLookup,6))","v":"Moderate"},{"$f":"KN7","v":"Major"},"Unlikely",{"$f":"INDEX(Sev_Matrix_Values,VLOOKUP(KN7,Sev_Matrix_for_VLookup,6),HLOOKUP(KO53,Sev_Matrix_for_HLookup,6))","v":"Moderate"}]
[null,53]
[null,54,"Severity Selections","Likelihood Selections","Risk Matrix","Likely","Seldom","Unlikely","Very Likely"]
[null,55,"Minor","Unlikely","Catastrophic","High","High","Moderate","Extreme",1]
[null,56,"Moderate","Seldom","Major","High","Moderate","Moderate","High",2]
[null,57,"Major","Likely","Minor","Moderate","Low","Low","Moderate",3]
[null,58,"Catastrophic","Very Likely","Moderate","Moderate","Moderate","Low","High",4]
[null,59,null,null,null,1,2,3,4]
[null,60]
["Scroll right to find more Hazards.  \"",61,null,"Scroll right to find more Hazards.  \"",null,null,"Scroll right to find more Hazards.  \"",null,null,"Scroll right to find more Hazards.  \"",null,null,"Scroll right to find more Hazards.  \"",null,null,"Scroll right to find more Hazards.  \"",null,null,"Scroll right to find more Hazards.  \"",null,null,"Scroll right to find more Hazards.  \"",null,null,"Scroll right to find more Hazards.  \"",null,null,"Scroll right to find more Hazards.  \"",null,null,"Scroll right to find more Hazards.  \"",null,null,"Scroll right to find more Hazards.  \"",null,null,"Scroll right to find more Hazards.  \"",null,null,"Scroll right to find more Hazards.  \"",null,null,"Scroll right to find more Hazards.  \"",null,null,"Scroll right to find more Hazards.  \"",null,null,"Scroll right to find more Hazards.  \"",null,null,"Scroll right to find more Hazards.  \"",null,null,"Scroll right to find more Hazards.  \"",null,null,"Scroll right to find more Hazards.  \"",null,null,"Scroll right to find more Hazards.  \"",null,null,"Scroll right to find more Hazards.  \"",null,null,"Scroll right to find more Hazards.  \"",null,null,"Scroll right to find more Hazards.  \"",null,null,"Scroll right to find more Hazards.  \"",null,null,"Scroll right to find more Hazards.  \"",null,null,"Scroll right to find more Hazards.  \"",null,null,"Scroll right to find more Hazards.  \"",null,null,"Scroll right to find more Hazards.  \"",null,null,"Scroll right to find more Hazards.  \"",null,null,"Scroll right to add new Hazards.  \"",null,null,"Scroll right to add new Hazards.  \"",null,null,"Scroll right to add new Hazards.  \"",null,null,"Scroll right to add new Hazards.  \"",null,null,"Scroll right to add new Hazards.  \"",null,null,"Scroll right to add new Hazards.  \"",null,null,"Scroll right to add new Hazards.  \"",null,null,"Scroll right to add new Hazards.  \"",null,null,"Scroll right to add new Hazards.  \"",null,null,"Scroll right to add new Hazards.  \"",null,null,"Scroll right to add new Hazards.  \"",null,null,"Scroll right to add new Hazards.  \"",null,null,"Scroll right to add new Hazards.  \"",null,null,"Scroll right to add new Hazards.  \"",null,null,"Scroll right to add new Hazards.  \"",null,null,"Scroll right to add new Hazards.  \"",null,null,"Scroll right to add new Hazards.  \"",null,null,"Scroll right to add new Hazards.  \"",null,null,"Scroll right to add new Hazards.  \"",null,null,"Scroll right to add new Hazards.  \"",null,null,"Scroll right to add new Hazards.  \"",null,null,"Scroll right to add new Hazards.  \"",null,null,"Scroll right to add new Hazards.  \"",null,null,"Scroll right to add new Hazards.  \"",null,null,"Scroll right to add new Hazards.  \"",null,null,"Scroll right to add new Hazards.  \"",null,null,"Scroll right to add new Hazards.  \"",null,null,"Scroll right to add new Hazards.  \"",null,null,"Scroll right to add new Hazards.  \"",null,null,"Scroll right to add new Hazards.  \"",null,null,"Scroll right to add new Hazards.  \"",null,null,"Scroll right to add new Hazards.  \"",null,null,"Scroll right to add new Hazards.  \"",null,null,"Scroll right to add new Hazards.  \"",null,null,"Scroll right to add new Hazards.  \"",null,null,"Scroll right to add new Hazards.  \"",null,null,"Scroll right to add new Hazards.  \"",null,null,"Scroll right to add new Hazards.  \"",null,null,"Scroll right to add new Hazards.  \"",null,null,"Scroll right to add new Hazards.  \"",null,null,"Scroll right to add new Hazards.  \"",null,null,"Scroll right to add new Hazards.  \"",null,null,"Scroll right to add new Hazards.  \"",null,null,"Scroll right to add new Hazards.  \"",null,null,"Scroll right to add new Hazards.  \"",null,null,"Scroll right to add new Hazards.  \"",null,null,"Scroll right to add new Hazards.  \"",null,null,"Scroll right to add new Hazards.  \"",null,null,"Scroll right to add new Hazards.  \"",null,null,"Scroll right to add new Hazards.  \"",null,null,"Scroll right to add new Hazards.  \"",null,null,"Scroll right to add new Hazards.  \"",null,null,"Scroll right to add new Hazards.  \"",null,null,"Scroll right to add new Hazards.  \"",null,null,"Scroll right to add new Hazards.  \"",null,null,"Scroll right to add new Hazards.  \"",null,null,"Scroll right to add new Hazards.  \"",null,null,"Scroll right to add new Hazards.  \"",null,null,"Scroll right to add new Hazards.  \"",null,null,"Scroll right to add new Hazards.  \"",null,null,"Scroll right to add new Hazards.  \"",null,null,"Scroll right to add new Hazards.  \"",null,null,"Scroll right to add new Hazards.  \"",null,null,"Scroll right to add new Hazards.  \"",null,null,"Scroll right to add new Hazards.  \"",null,null,"Scroll right to add new Hazards.  \"",null,null,"Scroll right to add new Hazards.  \"",null,null,"Scroll right to add new Hazards.  \"",null,null,"Scroll right to add new Hazards.  \"",null,null,"Scroll right to add new Hazards.  \""]
["New Hazards may be added starting in column CO.",62,null,null,null,null,null,null,null,null,null,null,null,null,null,null,null,null,null,null,null,null,null,null,null,null,null,null,null,null,null,null,null,null,null,null,null,null,null,null,null,null,null,null,null,null,null,null,null,null,null,null,null,null,null,null,null,null,null,null,null,null,null,null,null,null,null,null,null,null,null,null,null,null,null,null,null,null,null,null,null,null,null,null,null,null,null,null,null,null,null,null,null,null,null,null,null,null,null,null,null,null,null,null,null,null,null,"If you have added more Hazards here than will display on the rows of tab 4 or on the columns of the Links tab, then email your file to the person listed on the Start Here tab.  That person can unhide the number of rows and columns needed on those tabs.  "]
["End of Controls Tab",63,"End of Controls Tab"]
[null,64]

{"sheet":"Plan","index":7,"n_rows":96,"n_cols":360,"rows_kept":96,"cut":false,"hidden":false,"merged":[[2,67,2,70],[50,56,50,65],[50,67,50,70],[50,42,50,50],[50,52,50,55],[50,28,50,36],[50,38,50,41],[2,42,2,50],[2,52,2,55],[2,28,2,36],[2,38,2,41],[5,28,5,41],[7,28,7,41],[9,28,9,41],[0,0,1,4],[6,11,6,12],[18,12,19,15],[18,11,19,11],[21,11,22,11],[21,12,22,12],[24,11,25,11],[24,12,25,12],[27,11,28,11],[27,12,28,12],[12,12,12,14],[14,12,15,14],[13,12,13,14],[36,4,49,4],[29,4,34,4],[19,4,27,4],[7,0,8,4],[2,4,6,4],[2,0,6,2],[36,11,37,12],[36,13,37,15],[38,11,39,12],[38,13,39,15],[40,11,41,12],[40,13,41,15],[42,11,43,12],[42,13,43,15],[44,11,45,12],[44,13,45,15],[46,11,47,12],[0,75,0,78],[0,81,0,84],[0,87,0,90],[9,90,12,92],[9,93,12,95],[4,78,5,80],[4,81,5,83],[4,84,5,86],[4,87,5,89],[4,90,5,92],[4,93,5,95],[4,96,5,98],[24,78,24,80],[24,81,24,83],[24,84,24,86],[24,87,24,89],[24,90,24,92],[24,93,24,95],[24,96,24,98],[9,75,12,77],[9,0,9,1],[20,71,20,73],[35,71,35,73],[3,72,4,73],[36,71,49,73],[21,71,34,73],[6,71,19,73],[5,71,5,73],[34,13,35,15],[17,13,17,14],[44,78,44,80],[44,81,44,83],[46,13,47,15],[48,13,49,15],[20,75,21,77],[3,75,3,77],[13,21,16,21],[13,22,16,23],[17,21,17,23],[18,21,21,21],[18,22,21,23],[22,21,23,21],[22,22,23,23],[24,21,27,21],[44,84,44,86],[44,87,44,89],[0,93,0,96],[25,78,41,80],[25,81,41,83],[13,93,14,95],[9,96,12,98],[0,5,1,6],[13,4,17,4],[40,22,43,23],[44,21,45,21],[44,22,45,23],[46,21,49,21],[46,22,49,23],[13,25,16,25],[13,26,16,27],[17,25,17,27],[18,25,21,25],[18,26,21,27],[13,75,14,77],[68,0,72,2],[60,0,64,2],[48,11,49,12],[43,0,49,2],[14,7,17,10],[19,7,27,10],[29,7,38,10],[40,7,49,10],[50,11,50,13],[2,14,2,15],[4,11,5,15],[14,15,15,15],[30,11,31,12],[32,11,33,12],[30,13,31,15],[32,13,33,15],[34,11,35,12],[4,75,5,77],[2,71,2,72],[50,25,50,26],[35,25,38,25],[35,26,38,27],[24,22,27,23],[28,21,28,23],[29,21,32,21],[29,22,32,23],[33,21,34,21],[33,22,34,23],[39,21,39,23],[40,21,43,21],[42,75,43,77],[44,75,44,77],[45,75,45,77],[46,75,47,77],[25,75,41,77],[16,75,19,77],[50,17,50,18],[50,71,50,72],[8,75,8,77],[24,75,24,77],[35,21,38,21],[35,22,38,23],[51,0,52,4],[51,5,52,6],[30,1,33,2],[34,1,37,2],[38,1,41,2],[50,7,50,9],[10,4,11,4],[22,25,23,25],[22,26,23,27],[24,25,27,25],[15,56,15,70],[25,56,25,70],[3,56,4,60],[5,60,5,70],[26,56,27,70],[3,61,4,70],[3,71,4,71],[3,42,4,45],[3,46,4,55],[3,28,4,31],[3,32,4,41],[2,56,2,65],[3,84,3,86],[3,87,3,89],[3,90,3,92],[3,93,3,95],[3,96,3,98],[3,114,3,116],[3,117,3,119],[3,120,3,122],[3,123,3,125],[3,126,3,128],[3,129,3,131],[3,132,3,134],[3,135,3,137],[25,84,41,86],[25,87,41,89],[25,90,41,92],[13,96,14,98],[24,165,24,167],[8,84,8,86],[9,141,12,143],[9,144,12,146],[9,147,12,149],[9,150,12,152],[9,153,12,155],[9,156,12,158],[9,159,12,161],[16,120,19,122],[16,123,19,125],[16,126,19,128],[16,129,19,131],[16,132,19,134],[16,135,19,137],[16,138,19,140],[3,111,3,113],[0,213,0,216],[0,219,0,222],[0,225,0,228],[0,201,0,204],[0,207,0,210],[0,183,0,186],[0,195,0,198],[0,189,0,192],[0,177,0,180],[25,210,41,212],[25,213,41,215],[25,216,41,218],[2,177,2,178],[2,180,2,181],[2,183,2,184],[2,186,2,187],[2,189,2,190],[0,159,0,162],[0,171,0,174],[0,165,0,168],[0,153,0,156],[0,141,0,144],[0,147,0,150],[0,129,0,132],[0,135,0,138],[0,123,0,126],[0,117,0,120],[0,111,0,114],[0,99,0,102],[0,105,0,108],[4,108,5,110],[4,111,5,113],[4,114,5,116],[4,117,5,119],[4,120,5,122],[4,123,5,125],[4,126,5,128],[4,129,5,131],[4,132,5,134],[4,135,5,137],[4,138,5,140],[9,123,12,125],[9,126,12,128],[9,129,12,131],[9,132,12,134],[16,141,19,143],[16,144,19,146],[16,147,19,149],[9,108,12,110],[9,111,12,113],[9,114,12,116],[9,117,12,119],[9,120,12,122],[25,132,41,134],[25,135,41,137],[13,168,14,170],[8,105,8,107],[8,108,8,110],[8,111,8,113],[8,114,8,116],[8,117,8,119],[8,120,8,122],[8,123,8,125],[8,126,8,128],[0,357,0,359],[0,345,0,348],[0,351,0,354],[0,327,0,330],[0,315,0,318],[0,309,0,312],[0,303,0,306],[0,339,0,342],[0,321,0,324],[0,285,0,288],[0,279,0,282],[0,273,0,276],[0,291,0,294],[0,333,0,336],[0,297,0,300],[0,237,0,240],[0,261,0,264],[0,249,0,252],[0,255,0,258],[0,243,0,246],[0,267,0,270],[0,231,0,234],[25,330,41,332],[25,333,41,335],[25,336,41,338],[25,339,41,341],[25,342,41,344],[25,345,41,347],[25,348,41,350],[25,351,41,353],[16,255,19,257],[16,258,19,260],[16,261,19,263],[16,264,19,266],[16,267,19,269],[16,270,19,272],[16,273,19,275],[3,246,3,248],[25,267,41,269],[25,270,41,272],[25,273,41,275],[25,276,41,278],[2,276,2,277],[3,276,3,278],[20,276,21,278],[4,351,5,353],[4,354,5,356],[4,357,5,359],[8,279,8,281],[8,282,8,284],[8,285,8,287],[8,288,8,290],[8,291,8,293],[8,294,8,296],[8,297,8,299],[8,300,8,302],[8,303,8,305],[8,306,8,308],[8,309,8,311],[8,312,8,314],[8,315,8,317],[8,318,8,320],[8,321,8,323],[8,324,8,326],[45,168,45,170],[45,171,45,173],[45,174,45,176],[45,177,45,179],[45,180,45,182],[46,165,47,167],[46,168,47,170],[46,171,47,173],[46,174,47,176],[46,177,47,179],[46,180,47,182],[46,183,47,185],[25,261,41,263],[25,264,41,266],[45,165,45,167],[9,135,12,137],[9,138,12,140],[25,159,41,161],[25,162,41,164],[20,153,21,155],[20,156,21,158],[20,159,21,161],[20,162,21,164],[20,165,21,167],[8,153,8,155],[8,156,8,158],[8,159,8,161],[8,162,8,164],[8,165,8,167],[13,162,14,164],[13,165,14,167],[13,99,14,101],[13,102,14,104],[13,105,14,107],[25,165,41,167],[25,168,41,170],[25,171,41,173],[25,174,41,176],[24,99,24,101],[24,102,24,104],[24,105,24,107],[24,108,24,110],[24,111,24,113],[24,114,24,116],[24,117,24,119],[24,120,24,122],[24,123,24,125],[24,126,24,128],[24,129,24,131],[24,132,24,134],[24,135,24,137],[24,138,24,140],[25,147,41,149],[25,150,41,152],[25,153,41,155],[25,156,41,158],[45,135,45,137],[45,138,45,140],[45,141,45,143],[45,144,45,146],[45,147,45,149],[45,150,45,152],[45,153,45,155],[45,156,45,158],[45,159,45,161],[45,162,45,164],[24,141,24,143],[24,144,24,146],[24,147,24,149],[24,150,24,152],[24,153,24,155],[24,156,24,158],[24,159,24,161],[24,162,24,164],[25,93,41,95],[25,96,41,98],[46,138,47,140],[46,141,47,143],[46,144,47,146],[46,147,47,149],[46,150,47,152],[46,153,47,155],[46,156,47,158],[46,159,47,161],[46,162,47,164],[44,129,44,131],[44,132,44,134],[44,135,44,137],[44,138,44,140],[44,141,44,143],[44,144,44,146],[44,147,44,149],[44,150,44,152],[44,153,44,155],[44,156,44,158],[44,159,44,161],[44,162,44,164],[25,99,41,101],[25,102,41,104],[25,138,41,140],[25,141,41,143],[25,144,41,146],[45,132,45,134],[44,90,44,92],[44,93,44,95],[44,96,44,98],[44,99,44,101],[44,102,44,104],[44,105,44,107],[44,108,44,110],[44,111,44,113],[44,114,44,116],[44,117,44,119],[44,120,44,122],[44,123,44,125],[25,207,41,209],[42,174,43,176],[42,177,43,179],[42,180,43,182],[42,183,43,185],[42,186,43,188],[42,189,43,191],[42,192,43,194],[42,195,43,197],[42,198,43,200],[42,201,43,203],[42,204,43,206],[42,207,43,209],[42,210,43,212],[42,213,43,215],[42,216,43,218],[42,219,43,221],[42,222,43,224],[44,192,44,194],[44,195,44,197],[44,198,44,200],[25,219,41,221],[25,222,41,224],[42,225,43,227],[42,228,43,230],[42,231,43,233],[25,225,41,227],[25,105,41,107],[25,108,41,110],[25,111,41,113],[25,114,41,116],[25,117,41,119],[25,120,41,122],[25,123,41,125],[25,126,41,128],[25,129,41,131],[25,177,41,179],[25,180,41,182],[44,165,44,167],[44,168,44,170],[44,171,44,173],[44,174,44,176],[44,228,44,230],[44,231,44,233],[25,243,41,245],[25,246,41,248],[25,249,41,251],[25,252,41,254],[25,255,41,257],[25,258,41,260],[25,360,41,362],[25,363,41,365],[25,366,41,368],[25,369,41,371],[25,372,41,374],[25,375,41,377],[42,114,43,116],[42,117,43,119],[42,120,43,122],[42,123,43,125],[42,126,43,128],[42,129,43,131],[42,132,43,134],[42,135,43,137],[42,138,43,140],[42,141,43,143],[42,144,43,146],[42,147,43,149],[42,150,43,152],[42,153,43,155],[42,156,43,158],[42,159,43,161],[42,162,43,164],[42,165,43,167],[42,168,43,170],[42,171,43,173],[44,276,44,278],[44,366,44,368],[44,369,44,371],[44,372,44,374],[44,375,44,377],[44,126,44,128],[44,177,44,179],[44,180,44,182],[44,183,44,185],[44,186,44,188],[44,189,44,191],[25,378,41,380],[25,381,41,383],[25,384,41,386],[25,387,41,389],[25,390,41,392],[25,393,41,395],[25,396,41,398],[25,399,41,401],[25,402,41,404],[42,318,43,320],[42,321,43,323],[42,324,43,326],[42,363,43,365],[42,366,43,368],[42,369,43,371],[42,372,43,374],[42,375,43,377],[42,378,43,380],[42,381,43,383],[42,384,43,386],[42,387,43,389],[42,390,43,392],[42,393,43,395],[42,396,43,398],[42,399,43,401],[42,234,43,236],[42,237,43,239],[42,240,43,242],[42,243,43,245],[42,246,43,248],[42,249,43,251],[42,252,43,254],[42,255,43,257],[42,258,43,260],[42,261,43,263],[42,264,43,266],[42,267,43,269],[42,270,43,272],[42,276,43,278],[42,279,43,281],[42,282,43,284],[42,285,43,287],[42,288,43,290],[42,291,43,293],[42,294,43,296],[42,297,43,299],[42,300,43,302],[42,303,43,305],[42,306,43,308],[42,309,43,311],[42,312,43,314],[42,315,43,317],[42,273,43,275],[42,402,43,404],[25,354,41,356],[25,357,41,359],[25,279,41,281],[25,282,41,284],[25,327,41,329],[25,234,41,236],[25,405,41,407],[25,408,41,410],[25,516,41,518],[25,519,41,521],[25,522,41,524],[25,525,41,527],[25,528,41,530],[25,531,41,533],[25,534,41,536],[25,537,41,539],[25,540,41,542],[25,543,41,545],[25,546,41,548],[25,549,41,551],[42,516,43,518],[42,519,43,521],[42,522,43,524],[42,525,43,527],[42,528,43,530],[42,531,43,533],[42,534,43,536],[42,537,43,539],[42,540,43,542],[42,543,43,545],[42,546,43,548],[42,549,43,551],[25,552,41,554],[25,555,41,557],[25,456,41,458],[25,459,41,461],[25,462,41,464],[25,465,41,467],[25,468,41,470],[25,471,41,473],[25,474,41,476],[25,477,41,479],[25,480,41,482],[25,483,41,485],[25,486,41,488],[25,489,41,491],[25,492,41,494],[25,495,41,497],[25,498,41,500],[25,501,41,503],[25,504,41,506],[25,417,41,419],[25,420,41,422],[25,423,41,425],[25,426,41,428],[25,429,41,431],[25,432,41,434],[25,435,41,437],[25,438,41,440],[25,441,41,443],[25,444,41,446],[25,447,41,449],[25,450,41,452],[25,453,41,455],[42,552,43,554],[42,555,43,557],[25,411,41,413],[25,414,41,416],[42,405,43,407],[42,408,43,410],[25,609,41,611],[25,507,41,509],[25,510,41,512],[25,612,41,614],[25,615,41,617],[25,618,41,620],[25,621,41,623],[25,624,41,626],[25,627,41,629],[25,630,41,632],[25,633,41,635],[25,636,41,638],[25,639,41,641],[25,642,41,644],[25,645,41,647],[25,648,41,650],[25,651,41,653],[25,654,41,656],[25,657,41,659],[25,558,41,560],[25,561,41,563],[25,564,41,566],[25,567,41,569],[25,570,41,572],[25,573,41,575],[25,576,41,578],[25,579,41,581],[25,582,41,584],[25,585,41,587],[25,588,41,590],[25,591,41,593],[25,594,41,596],[25,597,41,599],[25,600,41,602],[25,603,41,605],[25,606,41,608],[25,513,41,515],[25,711,41,713],[25,714,41,716],[25,717,41,719],[25,720,41,722],[25,723,41,725],[25,726,41,728],[25,729,41,731],[25,732,41,734],[25,735,41,737],[25,738,41,740],[25,741,41,743],[25,744,41,746],[25,747,41,749],[25,750,41,752],[25,753,41,755],[25,756,41,758],[25,759,41,761],[25,660,41,662],[25,663,41,665],[25,666,41,668],[25,669,41,671],[25,672,41,674],[25,675,41,677],[25,678,41,680],[25,681,41,683],[25,684,41,686],[25,687,41,689],[25,690,41,692],[25,693,41,695],[25,696,41,698],[25,699,41,701],[25,702,41,704],[25,705,41,707],[25,708,41,710],[25,813,41,815],[25,816,41,818],[25,819,41,821],[25,822,41,824],[25,825,41,827],[25,828,41,830],[25,831,41,833],[25,834,41,836],[25,837,41,839],[25,840,41,842],[25,843,41,845],[25,846,41,848],[25,849,41,851],[25,852,41,854],[25,855,41,857],[25,858,41,860],[25,861,41,863],[25,762,41,764],[25,765,41,767],[25,768,41,770],[25,771,41,773],[25,774,41,776],[25,777,41,779],[25,780,41,782],[25,783,41,785],[25,786,41,788],[25,789,41,791],[25,792,41,794],[25,795,41,797],[25,798,41,800],[25,801,41,803],[25,804,41,806],[25,807,41,809],[25,810,41,812],[25,915,41,917],[25,918,41,920],[25,921,41,923],[25,924,41,926],[25,927,41,929],[25,930,41,932],[25,933,41,935],[25,936,41,938],[25,939,41,941],[25,942,41,944],[25,945,41,947],[25,948,41,950],[25,951,41,953],[25,954,41,956],[25,957,41,959],[25,960,41,962],[25,963,41,965],[25,864,41,866],[25,867,41,869],[25,870,41,872],[25,873,41,875],[25,876,41,878],[25,879,41,881],[25,882,41,884],[25,885,41,887],[25,888,41,890],[25,891,41,893],[25,894,41,896],[25,897,41,899],[25,900,41,902],[25,903,41,905],[25,906,41,908],[25,909,41,911],[25,912,41,914],[25,1017,41,1019],[25,1020,41,1022],[25,1023,41,1025],[25,1026,41,1028],[25,1029,41,1031],[25,1032,41,1034],[25,1035,41,1037],[25,1038,41,1040],[25,1041,41,1043],[25,1044,41,1046],[25,1047,41,1049],[25,1050,41,1052],[25,1053,41,1055],[25,1056,41,1058],[25,1059,41,1061],[25,1062,41,1064],[25,1065,41,1067],[25,966,41,968],[25,969,41,971],[25,972,41,974],[25,975,41,977],[25,978,41,980],[25,981,41,983],[25,984,41,986],[25,987,41,989],[25,990,41,992],[25,993,41,995],[25,996,41,998],[25,999,41,1001],[25,1002,41,1004],[25,1005,41,1007],[25,1008,41,1010],[25,1011,41,1013],[25,1014,41,1016],[25,1119,41,1121],[25,1122,41,1124],[25,1125,41,1127],[25,1128,41,1130],[25,1131,41,1133],[25,1134,41,1136],[25,1137,41,1139],[25,1140,41,1142],[25,1143,41,1145],[25,1146,41,1148],[25,1149,41,1151],[25,1152,41,1154],[25,1155,41,1157],[25,1158,41,1160],[25,1161,41,1163],[25,1164,41,1166],[25,1167,41,1169],[25,1068,41,1070],[25,1071,41,1073],[25,1074,41,1076],[25,1077,41,1079],[25,1080,41,1082],[25,1083,41,1085],[25,1086,41,1088],[25,1089,41,1091],[25,1092,41,1094],[25,1095,41,1097],[25,1098,41,1100],[25,1101,41,1103],[25,1104,41,1106],[25,1107,41,1109],[25,1110,41,1112],[25,1113,41,1115],[25,1116,41,1118],[25,1221,41,1223],[25,1224,41,1226],[25,1227,41,1229],[25,1230,41,1232],[25,1233,41,1235],[25,1236,41,1238],[25,1239,41,1241],[25,1242,41,1244],[25,1245,41,1247],[25,1248,41,1250],[25,1251,41,1253],[25,1254,41,1256],[25,1257,41,1259],[25,1260,41,1262],[25,1263,41,1265],[25,1266,41,1268],[25,1269,41,1271],[25,1170,41,1172],[25,1173,41,1175],[25,1176,41,1178],[25,1179,41,1181],[25,1182,41,1184],[25,1185,41,1187],[25,1188,41,1190],[25,1191,41,1193],[25,1194,41,1196],[25,1197,41,1199],[25,1200,41,1202],[25,1203,41,1205],[25,1206,41,1208],[25,1209,41,1211],[25,1212,41,1214],[25,1215,41,1217],[25,1218,41,1220],[25,1323,41,1325],[25,1326,41,1328],[25,1329,41,1331],[25,1332,41,1334],[25,1335,41,1337],[25,1338,41,1340],[25,1341,41,1343],[25,1344,41,1346],[25,1347,41,1349],[25,1350,41,1352],[25,1353,41,1355],[25,1356,41,1358],[25,1359,41,1361],[25,1362,41,1364],[25,1365,41,1367],[25,1368,41,1370],[25,1371,41,1373],[25,1272,41,1274],[25,1275,41,1277],[25,1278,41,1280],[25,1281,41,1283],[25,1284,41,1286],[25,1287,41,1289],[25,1290,41,1292],[25,1293,41,1295],[25,1296,41,1298],[25,1299,41,1301],[25,1302,41,1304],[25,1305,41,1307],[25,1308,41,1310],[25,1311,41,1313],[25,1314,41,1316],[25,1317,41,1319],[25,1320,41,1322],[25,1425,41,1427],[25,1428,41,1430],[25,1431,41,1433],[25,1434,41,1436],[25,1437,41,1439],[25,1440,41,1442],[25,1443,41,1445],[25,1446,41,1448],[25,1449,41,1451],[25,1452,41,1454],[25,1455,41,1457],[25,1458,41,1460],[25,1461,41,1463],[25,1464,41,1466],[25,1467,41,1469],[25,1470,41,1472],[25,1473,41,1475],[25,1374,41,1376],[25,1377,41,1379],[25,1380,41,1382],[25,1383,41,1385],[25,1386,41,1388],[25,1389,41,1391],[25,1392,41,1394],[25,1395,41,1397],[25,1398,41,1400],[25,1401,41,1403],[25,1404,41,1406],[25,1407,41,1409],[25,1410,41,1412],[25,1413,41,1415],[25,1416,41,1418],[25,1419,41,1421],[25,1422,41,1424],[25,1527,41,1529],[25,1530,41,1532],[25,1533,41,1535],[25,1536,41,1538],[25,1539,41,1541],[25,1542,41,1544],[25,1545,41,1547],[25,1548,41,1550],[25,1551,41,1553],[25,1554,41,1556],[25,1557,41,1559],[25,1560,41,1562],[25,1563,41,1565],[25,1566,41,1568],[25,1569,41,1571],[25,1572,41,1574],[25,1575,41,1577],[25,1476,41,1478],[25,1479,41,1481],[25,1482,41,1484],[25,1485,41,1487],[25,1488,41,1490],[25,1491,41,1493],[25,1494,41,1496],[25,1497,41,1499],[25,1500,41,1502],[25,1503,41,1505],[25,1506,41,1508],[25,1509,41,1511],[25,1512,41,1514],[25,1515,41,1517]],"merged_total":27654,"flags":["merged_cut"]}
["Select Foreman below.  Repeat for each foreman's printed copy.  \nOpt:  On p. 4, select names of Superintendent & EHS Professional who will approve.",null,null,null,null,{"$f":"CONCATENATE(\"Go to 'File' > 'Print'. Set the Pages to print from 1 to \",M89,\".\")","v":"Go to 'File' > 'Print'. Set the Pages to print from 1 to 11."}]
[]
[null,null,null,null,"Construction \nWork Plan",{"$f":"IF(Plan_Name=0,\"\",Plan_Name)","v":""},{"$f":"IF(Sequential_Number=\"\",\"\",Plan_Number)","v":""},{"$f":"IF(Plan_Name=0,\"\",Plan_Name)","v":""},null,null,{"$f":"IF(Sequential_Number=\"\",\"\",Plan_Number)","v":""},{"$f":"IF(Plan_Name=0,\"\",Plan_Name)","v":""},null,null,{"$f":"IF(Sequential_Number=\"\",\"\",Plan_Number)","v":""},null,null,{"$f":"IF(Number_environmental_pages=0,\"MAKE BLANK\",IF(Plan_Name=0,\"\",Plan_Name))","v":"MAKE BLANK"},null,{"$f":"IF(Number_environmental_pages=0,\"MAKE BLANK\",Plan_Number)","v":"MAKE BLANK"},null,{"$f":"IF(Number_environmental_pages<2,\"MAKE BLANK\",IF(Plan_Name=0,\"\",Plan_Name))","v":"MAKE BLANK"},null,{"$f":"IF(Number_environmental_pages<2,\"MAKE BLANK\",Plan_Number)","v":"MAKE BLANK"},null,{"$f":"IF(Number_environmental_pages<3,\"MAKE BLANK\",IF(Plan_Name=0,\"\",Plan_Name))","v":"MAKE BLANK"},null,{"$f":"IF(Number_environmental_pages<3,\"MAKE BLANK\",Plan_Number)","v":"MAKE BLANK"},{"$f":"IF(Plan_Name=0,\"\",Plan_Name)","v":""},null,null,null,null,null,null,null,null,null,{"$f":"IF(Sequential_Number=\"\",\"\",Plan_Number)","v":""},null,null,null,{"$f":"IF(Plan_Name=0,\"\",Plan_Name)","v":""},null,null,null,null,null,null,null,null,null,{"$f":"IF(Sequential_Number=\"\",\"\",Plan_Number)","v":""},null,null,null,{"$f":"IF(Plan_Name=0,\"\",Plan_Name)","v":""},null,null,null,null,null,null,null,null,null,null,{"$f":"IF(Sequential_Number=\"\",\"\",Plan_Number)","v":""},null,null,null,{"$f":"IF(Plan_Name=0,\"\",Plan_Name)","v":""},null,{"$f":"IF(Sequential_Number=\"\",\"\",Plan_Number)","v":""},null,{"$f":"IF(BX78=\"YES\",IF(Plan_Name=0,\"\",Plan_Name),\"MAKE BLANK\")","v":"MAKE BLANK"},null,{"$f":"IF(BX78=\"YES\",IF(Sequential_Number=\"\",\"\",Plan_Number),\"MAKE BLANK\")","v":"MAKE BLANK"},{"$f":"IF(CA78=\"YES\",IF(Plan_Name=0,\"\",Plan_Name),\"MAKE BLANK\")","v":"MAKE BLANK"},null,{"$f":"IF(CA78=\"YES\",IF(Sequential_Number=\"\",\"\",Plan_Number),\"MAKE BLANK\")","v":"MAKE BLANK"},{"$f":"IF(CD78=\"YES\",IF(Plan_Name=0,\"\",Plan_Name),\"MAKE BLANK\")","v":"MAKE BLANK"},null,{"$f":"IF(CD78=\"YES\",IF(Sequential_Number=\"\",\"\",Plan_Number),\"MAKE BLANK\")","v":"MAKE BLANK"},{"$f":"IF(CG78=\"YES\",IF(Plan_Name=0,\"\",Plan_Name),\"MAKE BLANK\")","v":"MAKE BLANK"},null,{"$f":"IF(CG78=\"YES\",IF(Sequential_Number=\"\",\"\",Plan_Number),\"MAKE BLANK\")","v":"MAKE BLANK"},{"$f":"IF(CJ78=\"YES\",IF(Plan_Name=0,\"\",Plan_Name),\"MAKE BLANK\")","v":"MAKE BLANK"},null,{"$f":"IF(CJ78=\"YES\",IF(Sequential_Number=\"\",\"\",Plan_Number),\"MAKE BLANK\")","v":"MAKE BLANK"},{"$f":"IF(CM78=\"YES\",IF(Plan_Name=0,\"\",Plan_Name),\"MAKE BLANK\")","v":"MAKE BLANK"},null,{"$f":"IF(CM78=\"YES\",IF(Sequential_Number=\"\",\"\",Plan_Number),\"MAKE BLANK\")","v":"MAKE BLANK"},{"$f":"IF(CP78=\"YES\",IF(Plan_Name=0,\"\",Plan_Name),\"MAKE BLANK\")","v":"MAKE BLANK"},null,{"$f":"IF(CP78=\"YES\",IF(Sequential_Number=\"\",\"\",Plan_Number),\"MAKE BLANK\")","v":"MAKE BLANK"},{"$f":"IF(CS78=\"YES\",IF(Plan_Name=0,\"\",Plan_Name),\"MAKE BLANK\")","v":"MAKE BLANK"},null,{"$f":"IF(CS78=\"YES\",IF(Sequential_Number=\"\",\"\",Plan_Number),\"MAKE BLANK\")","v":"MAKE BLANK"},{"$f":"IF(CV78=\"YES\",IF(Plan_Name=0,\"\",Plan_Name),\"MAKE BLANK\")","v":"MAKE BLANK"},null,{"$f":"IF(CV78=\"YES\",IF(Sequential_Number=\"\",\"\",Plan_Number),\"MAKE BLANK\")","v":"MAKE BLANK"},{"$f":"IF(CY78=\"YES\",IF(Plan_Name=0,\"\",Plan_Name),\"MAKE BLANK\")","v":"MAKE BLANK"},null,{"$f":"IF(CY78=\"YES\",IF(Sequential_Number=\"\",\"\",Plan_Number),\"MAKE BLANK\")","v":"MAKE BLANK"},{"$f":"IF(DB78=\"YES\",IF(Plan_Name=0,\"\",Plan_Name),\"MAKE BLANK\")","v":"MAKE BLANK"},null,{"$f":"IF(DB78=\"YES\",IF(Sequential_Number=\"\",\"\",Plan_Number),\"MAKE BLANK\")","v":"MAKE BLANK"},{"$f":"IF(DE78=\"YES\",IF(Plan_Name=0,\"\",Plan_Name),\"MAKE BLANK\")","v":"MAKE BLANK"},null,{"$f":"IF(DE78=\"YES\",IF(Sequential_Number=\"\",\"\",Plan_Number),\"MAKE BLANK\")","v":"MAKE BLANK"},{"$f":"IF(DH78=\"YES\",IF(Plan_Name=0,\"\",Plan_Name),\"MAKE BLANK\")","v":"MAKE BLANK"},null,{"$f":"IF(DH78=\"YES\",IF(Sequential_Number=\"\",\"\",Plan_Number),\"MAKE BLANK\")","v":"MAKE BLANK"},{"$f":"IF(DK78=\"YES\",IF(Plan_Name=0,\"\",Plan_Name),\"MAKE BLANK\")","v":"MAKE BLANK"},null,{"$f":"IF(DK78=\"YES\",IF(Sequential_Number=\"\",\"\",Plan_Number),\"MAKE BLANK\")","v":"MAKE BLANK"},{"$f":"IF(DN78=\"YES\",IF(Plan_Name=0,\"\",Plan_Name),\"MAKE BLANK\")","v":"MAKE BLANK"},null,{"$f":"IF(DN78=\"YES\",IF(Sequential_Number=\"\",\"\",Plan_Number),\"MAKE BLANK\")","v":"MAKE BLANK"},{"$f":"IF(DQ78=\"YES\",IF(Plan_Name=0,\"\",Plan_Name),\"MAKE BLANK\")","v":"MAKE BLANK"},null,{"$f":"IF(DQ78=\"YES\",IF(Sequential_Number=\"\",\"\",Plan_Number),\"MAKE BLANK\")","v":"MAKE BLANK"},{"$f":"IF(DT78=\"YES\",IF(Plan_Name=0,\"\",Plan_Name),\"MAKE BLANK\")","v":"MAKE BLANK"},null,{"$f":"IF(DT78=\"YES\",IF(Sequential_Number=\"\",\"\",Plan_Number),\"MAKE BLANK\")","v":"MAKE BLANK"},{"$f":"IF(DW78=\"YES\",IF(Plan_Name=0,\"\",Plan_Name),\"MAKE BLANK\")","v":"MAKE BLANK"},null,{"$f":"IF(DW78=\"YES\",IF(Sequential_Number=\"\",\"\",Plan_Number),\"MAKE BLANK\")","v":"MAKE BLANK"},{"$f":"IF(DZ78=\"YES\",IF(Plan_Name=0,\"\",Plan_Name),\"MAKE BLANK\")","v":"MAKE BLANK"},null,{"$f":"IF(DZ78=\"YES\",IF(Sequential_Number=\"\",\"\",Plan_Number),\"MAKE BLANK\")","v":"MAKE BLANK"},{"$f":"IF(EC78=\"YES\",IF(Plan_Name=0,\"\",Plan_Name),\"MAKE BLANK\")","v":"MAKE BLANK"},null,{"$f":"IF(EC78=\"YES\",IF(Sequential_Number=\"\",\"\",Plan_Number),\"MAKE BLANK\")","v":"MAKE BLANK"},{"$f":"IF(EF78=\"YES\",IF(Plan_Name=0,\"\",Plan_Name),\"MAKE BLANK\")","v":"MAKE BLANK"},null,{"$f":"IF(EF78=\"YES\",IF(Sequential_Number=\"\",\"\",Plan_Number),\"MAKE BLANK\")","v":"MAKE BLANK"},{"$f":"IF(EI78=\"YES\",IF(Plan_Name=0,\"\",Plan_Name),\"MAKE BLANK\")","v":"MAKE BLANK"},null,{"$f":"IF(EI78=\"YES\",IF(Sequential_Number=\"\",\"\",Plan_Number),\"MAKE BLANK\")","v":"MAKE BLANK"},{"$f":"IF(EL78=\"YES\",IF(Plan_Name=0,\"\",Plan_Name),\"MAKE BLANK\")","v":"MAKE BLANK"},null,{"$f":"IF(EL78=\"YES\",IF(Sequential_Number=\"\",\"\",Plan_Number),\"MAKE BLANK\")","v":"MAKE BLANK"},{"$f":"IF(EO78=\"YES\",IF(Plan_Name=0,\"\",Plan_Name),\"MAKE BLANK\")","v":"MAKE BLANK"},null,{"$f":"IF(EO78=\"YES\",IF(Sequential_Number=\"\",\"\",Plan_Number),\"MAKE BLANK\")","v":"MAKE BLANK"},{"$f":"IF(ER78=\"YES\",IF(Plan_Name=0,\"\",Plan_Name),\"MAKE BLANK\")","v":"MAKE BLANK"},null,{"$f":"IF(ER78=\"YES\",IF(Sequential_Number=\"\",\"\",Plan_Number),\"MAKE BLANK\")","v":"MAKE BLANK"},{"$f":"IF(EU78=\"YES\",IF(Plan_Name=0,\"\",Plan_Name),\"MAKE BLANK\")","v":"MAKE BLANK"},null,{"$f":"IF(EU78=\"YES\",IF(Sequential_Number=\"\",\"\",Plan_Number),\"MAKE BLANK\")","v":"MAKE BLANK"},{"$f":"IF(EX78=\"YES\",IF(Plan_Name=0,\"\",Plan_Name),\"MAKE BLANK\")","v":"MAKE BLANK"},null,{"$f":"IF(EX78=\"YES\",IF(Sequential_Number=\"\",\"\",Plan_Number),\"MAKE BLANK\")","v":"MAKE BLANK"},{"$f":"IF(FA78=\"YES\",IF(Plan_Name=0,\"\",Plan_Name),\"MAKE BLANK\")","v":"MAKE BLANK"},null,{"$f":"IF(FA78=\"YES\",IF(Sequential_Number=\"\",\"\",Plan_Number),\"MAKE BLANK\")","v":"MAKE BLANK"},{"$f":"IF(FD78=\"YES\",IF(Plan_Name=0,\"\",Plan_Name),\"MAKE BLANK\")","v":"MAKE BLANK"},null,{"$f":"IF(FD78=\"YES\",IF(Sequential_Number=\"\",\"\",Plan_Number),\"MAKE BLANK\")","v":"MAKE BLANK"},{"$f":"IF(FG78=\"YES\",IF(Plan_Name=0,\"\",Plan_Name),\"MAKE BLANK\")","v":"MAKE BLANK"},null,{"$f":"IF(FG78=\"YES\",IF(Sequential_Number=\"\",\"\",Plan_Number),\"MAKE BLANK\")","v":"MAKE BLANK"},{"$f":"IF(FJ78=\"YES\",IF(Plan_Name=0,\"\",Plan_Name),\"MAKE BLANK\")","v":"MAKE BLANK"},null,{"$f":"IF(FJ78=\"YES\",IF(Sequential_Number=\"\",\"\",Plan_Number),\"MAKE BLANK\")","v":"MAKE BLANK"},{"$f":"IF(FM78=\"YES\",IF(Plan_Name=0,\"\",Plan_Name),\"MAKE BLANK\")","v":"MAKE BLANK"},null,{"$f":"IF(FM78=\"YES\",IF(Sequential_Number=\"\",\"\",Plan_Number),\"MAKE BLANK\")","v":"MAKE BLANK"},{"$f":"IF(FP78=\"YES\",IF(Plan_Name=0,\"\",Plan_Name),\"MAKE BLANK\")","v":"MAKE BLANK"},null,{"$f":"IF(FP78=\"YES\",IF(Sequential_Number=\"\",\"\",Plan_Number),\"MAKE BLANK\")","v":"MAKE BLANK"},{"$f":"IF(FS78=\"YES\",IF(Plan_Name=0,\"\",Plan_Name),\"MAKE BLANK\")","v":"MAKE BLANK"},null,{"$f":"IF(FS78=\"YES\",IF(Sequential_Number=\"\",\"\",Plan_Number),\"MAKE BLANK\")","v":"MAKE BLANK"},{"$f":"IF(FV78=\"YES\",IF(Plan_Name=0,\"\",Plan_Name),\"MAKE BLANK\")","v":"MAKE BLANK"},null,{"$f":"IF(FV78=\"YES\",IF(Sequential_Number=\"\",\"\",Plan_Number),\"MAKE BLANK\")","v":"MAKE BLANK"},{"$f":"IF(FY78=\"YES\",IF(Plan_Name=0,\"\",Plan_Name),\"MAKE BLANK\")","v":"MAKE BLANK"},null,{"$f":"IF(FY78=\"YES\",IF(Sequential_Number=\"\",\"\",Plan_Number),\"MAKE BLANK\")","v":"MAKE BLANK"},{"$f":"IF(GB78=\"YES\",IF(Plan_Name=0,\"\",Plan_Name),\"MAKE BLANK\")","v":"MAKE BLANK"},null,{"$f":"IF(GB78=\"YES\",IF(Sequential_Number=\"\",\"\",Plan_Number),\"MAKE BLANK\")","v":"MAKE BLANK"},{"$f":"IF(GE78=\"YES\",IF(Plan_Name=0,\"\",Plan_Name),\"MAKE BLANK\")","v":"MAKE BLANK"},null,{"$f":"IF(GE78=\"YES\",IF(Sequential_Number=\"\",\"\",Plan_Number),\"MAKE BLANK\")","v":"MAKE BLANK"},{"$f":"IF(GH78=\"YES\",IF(Plan_Name=0,\"\",Plan_Name),\"MAKE BLANK\")","v":"MAKE BLANK"},null,{"$f":"IF(GH78=\"YES\",IF(Sequential_Number=\"\",\"\",Plan_Number),\"MAKE BLANK\")","v":"MAKE BLANK"},{"$f":"IF(GK78=\"YES\",IF(Plan_Name=0,\"\",Plan_Name),\"MAKE BLANK\")","v":"MAKE BLANK"},null,{"$f":"IF(GK78=\"YES\",IF(Sequential_Number=\"\",\"\",Plan_Number),\"MAKE BLANK\")","v":"MAKE BLANK"},{"$f":"IF(GN78=\"YES\",IF(Plan_Name=0,\"\",Plan_Name),\"MAKE BLANK\")","v":"MAKE BLANK"},null,{"$f":"IF(GN78=\"YES\",IF(Sequential_Number=\"\",\"\",Plan_Number),\"MAKE BLANK\")","v":"MAKE BLANK"},{"$f":"IF(GQ78=\"YES\",IF(Plan_Name=0,\"\",Plan_Name),\"MAKE BLANK\")","v":"MAKE BLANK"},null,{"$f":"IF(GQ78=\"YES\",IF(Sequential_Number=\"\",\"\",Plan_Number),\"MAKE BLANK\")","v":"MAKE BLANK"},{"$f":"IF(GT78=\"YES\",IF(Plan_Name=0,\"\",Plan_Name),\"MAKE BLANK\")","v":"MAKE BLANK"},null,{"$f":"IF(GT78=\"YES\",IF(Sequential_Number=\"\",\"\",Plan_Number),\"MAKE BLANK\")","v":"MAKE BLANK"},{"$f":"IF(GW78=\"YES\",IF(Plan_Name=0,\"\",Plan_Name),\"MAKE BLANK\")","v":"MAKE BLANK"},null,{"$f":"IF(GW78=\"YES\",IF(Sequential_Number=\"\",\"\",Plan_Number),\"MAKE BLANK\")","v":"MAKE BLANK"},{"$f":"IF(GZ78=\"YES\",IF(Plan_Name=0,\"\",Plan_Name),\"MAKE BLANK\")","v":"MAKE BLANK"},null,{"$f":"IF(GZ78=\"YES\",IF(Sequential_Number=\"\",\"\",Plan_Number),\"MAKE BLANK\")","v":"MAKE BLANK"},{"$f":"IF(HC78=\"YES\",IF(Plan_Name=0,\"\",Plan_Name),\"MAKE BLANK\")","v":"MAKE BLANK"},null,{"$f":"IF(HC78=\"YES\",IF(Sequential_Number=\"\",\"\",Plan_Number),\"MAKE BLANK\")","v":"MAKE BLANK"},{"$f":"IF(HF78=\"YES\",IF(Plan_Name=0,\"\",Plan_Name),\"MAKE BLANK\")","v":"MAKE BLANK"},null,{"$f":"IF(HF78=\"YES\",IF(Sequential_Number=\"\",\"\",Plan_Number),\"MAKE BLANK\")","v":"MAKE BLANK"},{"$f":"IF(HI78=\"YES\",IF(Plan_Name=0,\"\",Plan_Name),\"MAKE BLANK\")","v":"MAKE BLANK"},null,{"$f":"IF(HI78=\"YES\",IF(Sequential_Number=\"\",\"\",Plan_Number),\"MAKE BLANK\")","v":"MAKE BLANK"},{"$f":"IF(HL78=\"YES\",IF(Plan_Name=0,\"\",Plan_Name),\"MAKE BLANK\")","v":"MAKE BLANK"},null,{"$f":"IF(HL78=\"YES\",IF(Sequential_Number=\"\",\"\",Plan_Number),\"MAKE BLANK\")","v":"MAKE BLANK"},{"$f":"IF(HO78=\"YES\",IF(Plan_Name=0,\"\",Plan_Name),\"MAKE BLANK\")","v":"MAKE BLANK"},null,{"$f":"IF(HO78=\"YES\",IF(Sequential_Number=\"\",\"\",Plan_Number),\"MAKE BLANK\")","v":"MAKE BLANK"},{"$f":"IF(HR78=\"YES\",IF(Plan_Name=0,\"\",Plan_Name),\"MAKE BLANK\")","v":"MAKE BLANK"},null,{"$f":"IF(HR78=\"YES\",IF(Sequential_Number=\"\",\"\",Plan_Number),\"MAKE BLANK\")","v":"MAKE BLANK"},{"$f":"IF(HU78=\"YES\",IF(Plan_Name=0,\"\",Plan_Name),\"MAKE BLANK\")","v":"MAKE BLANK"},null,{"$f":"IF(HU78=\"YES\",IF(Sequential_Number=\"\",\"\",Plan_Number),\"MAKE BLANK\")","v":"MAKE BLANK"},{"$f":"IF(HX78=\"YES\",IF(Plan_Name=0,\"\",Plan_Name),\"MAKE BLANK\")","v":"MAKE BLANK"},null,{"$f":"IF(HX78=\"YES\",IF(Sequential_Number=\"\",\"\",Plan_Number),\"MAKE BLANK\")","v":"MAKE BLANK"},{"$f":"IF(IA78=\"YES\",IF(Plan_Name=0,\"\",Plan_Name),\"MAKE BLANK\")","v":"MAKE BLANK"},null,{"$f":"IF(IA78=\"YES\",IF(Sequential_Number=\"\",\"\",Plan_Number),\"MAKE BLANK\")","v":"MAKE BLANK"},{"$f":"IF(ID78=\"YES\",IF(Plan_Name=0,\"\",Plan_Name),\"MAKE BLANK\")","v":"MAKE BLANK"},null,{"$f":"IF(ID78=\"YES\",IF(Sequential_Number=\"\",\"\",Plan_Number),\"MAKE BLANK\")","v":"MAKE BLANK"},{"$f":"IF(IG78=\"YES\",IF(Plan_Name=0,\"\",Plan_Name),\"MAKE BLANK\")","v":"MAKE BLANK"},null,{"$f":"IF(IG78=\"YES\",IF(Sequential_Number=\"\",\"\",Plan_Number),\"MAKE BLANK\")","v":"MAKE BLANK"},{"$f":"IF(IJ78=\"YES\",IF(Plan_Name=0,\"\",Plan_Name),\"MAKE BLANK\")","v":"MAKE BLANK"},null,{"$f":"IF(IJ78=\"YES\",IF(Sequential_Number=\"\",\"\",Plan_Number),\"MAKE BLANK\")","v":"MAKE BLANK"},{"$f":"IF(IM78=\"YES\",IF(Plan_Name=0,\"\",Plan_Name),\"MAKE BLANK\")","v":"MAKE BLANK"},null,{"$f":"IF(IM78=\"YES\",IF(Sequential_Number=\"\",\"\",Plan_Number),\"MAKE BLANK\")","v":"MAKE BLANK"},{"$f":"IF(IP78=\"YES\",IF(Plan_Name=0,\"\",Plan_Name),\"MAKE BLANK\")","v":"MAKE BLANK"},null,{"$f":"IF(IP78=\"YES\",IF(Sequential_Number=\"\",\"\",Plan_Number),\"MAKE BLANK\")","v":"MAKE BLANK"},{"$f":"IF(IS78=\"YES\",IF(Plan_Name=0,\"\",Plan_Name),\"MAKE BLANK\")","v":"MAKE BLANK"},null,{"$f":"IF(IS78=\"YES\",IF(Sequential_Number=\"\",\"\",Plan_Number),\"MAKE BLANK\")","v":"MAKE BLANK"},{"$f":"IF(IV78=\"YES\",IF(Plan_Name=0,\"\",Plan_Name),\"MAKE BLANK\")","v":"MAKE BLANK"},null,{"$f":"IF(IV78=\"YES\",IF(Sequential_Number=\"\",\"\",Plan_Number),\"MAKE BLANK\")","v":"MAKE BLANK"},{"$f":"IF(IY78=\"YES\",IF(Plan_Name=0,\"\",Plan_Name),\"MAKE BLANK\")","v":"MAKE BLANK"},null,{"$f":"IF(IY78=\"YES\",IF(Sequential_Number=\"\",\"\",Plan_Number),\"MAKE BLANK\")","v":"MAKE BLANK"},{"$f":"IF(JB78=\"YES\",IF(Plan_Name=0,\"\",Plan_Name),\"MAKE BLANK\")","v":"MAKE BLANK"},null,{"$f":"IF(JB78=\"YES\",IF(Sequential_Number=\"\",\"\",Plan_Number),\"MAKE BLANK\")","v":"MAKE BLANK"},{"$f":"IF(JE78=\"YES\",IF(Plan_Name=0,\"\",Plan_Name),\"MAKE BLANK\")","v":"MAKE BLANK"},null,{"$f":"IF(JE78=\"YES\",IF(Sequential_Number=\"\",\"\",Plan_Number),\"MAKE BLANK\")","v":"MAKE BLANK"},{"$f":"IF(JH78=\"YES\",IF(Plan_Name=0,\"\",Plan_Name),\"MAKE BLANK\")","v":"MAKE BLANK"},null,{"$f":"IF(JH78=\"YES\",IF(Sequential_Number=\"\",\"\",Plan_Number),\"MAKE BLANK\")","v":"MAKE BLANK"},{"$f":"IF(JK78=\"YES\",IF(Plan_Name=0,\"\",Plan_Name),\"MAKE BLANK\")","v":"MAKE BLANK"},null,{"$f":"IF(JK78=\"YES\",IF(Sequential_Number=\"\",\"\",Plan_Number),\"MAKE BLANK\")","v":"MAKE BLANK"},{"$f":"IF(JN78=\"YES\",IF(Plan_Name=0,\"\",Plan_Name),\"MAKE BLANK\")","v":"MAKE BLANK"},null,{"$f":"IF(JN78=\"YES\",IF(Sequential_Number=\"\",\"\",Plan_Number),\"MAKE BLANK\")","v":"MAKE BLANK"},{"$f":"IF(JQ78=\"YES\",IF(Plan_Name=0,\"\",Plan_Name),\"MAKE BLANK\")","v":"MAKE BLANK"},null,{"$f":"IF(JQ78=\"YES\",IF(Sequential_Number=\"\",\"\",Plan_Number),\"MAKE BLANK\")","v":"MAKE BLANK"},{"$f":"IF(JT78=\"YES\",IF(Plan_Name=0,\"\",Plan_Name),\"MAKE BLANK\")","v":"MAKE BLANK"},null,{"$f":"IF(JT78=\"YES\",IF(Sequential_Number=\"\",\"\",Plan_Number),\"MAKE BLANK\")","v":"MAKE BLANK"},{"$f":"IF(JW78=\"YES\",IF(Plan_Name=0,\"\",Plan_Name),\"MAKE BLANK\")","v":"MAKE BLANK"},null,{"$f":"IF(JW78=\"YES\",IF(Sequential_Number=\"\",\"\",Plan_Number),\"MAKE BLANK\")","v":"MAKE BLANK"},{"$f":"IF(JZ78=\"YES\",IF(Plan_Name=0,\"\",Plan_Name),\"MAKE BLANK\")","v":"MAKE BLANK"},null,{"$f":"IF(JZ78=\"YES\",IF(Sequential_Number=\"\",\"\",Plan_Number),\"MAKE BLANK\")","v":"MAKE BLANK"},{"$f":"IF(KC78=\"YES\",IF(Plan_Name=0,\"\",Plan_Name),\"MAKE BLANK\")","v":"MAKE BLANK"},null,{"$f":"IF(KC78=\"YES\",IF(Sequential_Number=\"\",\"\",Plan_Number),\"MAKE BLANK\")","v":"MAKE BLANK"},{"$f":"IF(KF78=\"YES\",IF(Plan_Name=0,\"\",Plan_Name),\"MAKE BLANK\")","v":"MAKE BLANK"},null,{"$f":"IF(KF78=\"YES\",IF(Sequential_Number=\"\",\"\",Plan_Number),\"MAKE BLANK\")","v":"MAKE BLANK"},{"$f":"IF(KI78=\"YES\",IF(Plan_Name=0,\"\",Plan_Name),\"MAKE BLANK\")","v":"MAKE BLANK"},null,{"$f":"IF(KI78=\"YES\",IF(Sequential_Number=\"\",\"\",Plan_Number),\"MAKE BLANK\")","v":"MAKE BLANK"},{"$f":"IF(KL78=\"YES\",IF(Plan_Name=0,\"\",Plan_Name),\"MAKE BLANK\")","v":"MAKE BLANK"},null,{"$f":"IF(KL78=\"YES\",IF(Sequential_Number=\"\",\"\",Plan_Number),\"MAKE BLANK\")","v":"MAKE BLANK"},{"$f":"IF(KO78=\"YES\",IF(Plan_Name=0,\"\",Plan_Name),\"MAKE BLANK\")","v":"MAKE BLANK"},null,{"$f":"IF(KO78=\"YES\",IF(Sequential_Number=\"\",\"\",Plan_Number),\"MAKE BLANK\")","v":"MAKE BLANK"},{"$f":"IF(KR78=\"YES\",IF(Plan_Name=0,\"\",Plan_Name),\"MAKE BLANK\")","v":"MAKE BLANK"},null,{"$f":"IF(KR78=\"YES\",IF(Sequential_Number=\"\",\"\",Plan_Number),\"MAKE BLANK\")","v":"MAKE BLANK"},{"$f":"IF(KU78=\"YES\",IF(Plan_Name=0,\"\",Plan_Name),\"MAKE BLANK\")","v":"MAKE BLANK"},null,{"$f":"IF(KU78=\"YES\",IF(Sequential_Number=\"\",\"\",Plan_Number),\"MAKE BLANK\")","v":"MAKE BLANK"},{"$f":"IF(KX78=\"YES\",IF(Plan_Name=0,\"\",Plan_Name),\"MAKE BLANK\")","v":"MAKE BLANK"},null,{"$f":"IF(KX78=\"YES\",IF(Sequential_Number=\"\",\"\",Plan_Number),\"MAKE BLANK\")","v":"MAKE BLANK"},{"$f":"IF(LA78=\"YES\",IF(Plan_Name=0,\"\",Plan_Name),\"MAKE BLANK\")","v":"MAKE BLANK"},null,{"$f":"IF(LA78=\"YES\",IF(Sequential_Number=\"\",\"\",Plan_Number),\"MAKE BLANK\")","v":"MAKE BLANK"},{"$f":"IF(LD78=\"YES\",IF(Plan_Name=0,\"\",Plan_Name),\"MAKE BLANK\")","v":"MAKE BLANK"},null,{"$f":"IF(LD78=\"YES\",IF(Sequential_Number=\"\",\"\",Plan_Number),\"MAKE BLANK\")","v":"MAKE BLANK"},{"$f":"IF(LG78=\"YES\",IF(Plan_Name=0,\"\",Plan_Name),\"MAKE BLANK\")","v":"MAKE BLANK"},null,{"$f":"IF(LG78=\"YES\",IF(Sequential_Number=\"\",\"\",Plan_Number),\"MAKE BLANK\")","v":"MAKE BLANK"},{"$f":"IF(LJ78=\"YES\",IF(Plan_Name=0,\"\",Plan_Name),\"MAKE BLANK\")","v":"MAKE BLANK"},null,{"$f":"IF(LJ78=\"YES\",IF(Sequential_Number=\"\",\"\",Plan_Number),\"MAKE BLANK\")","v":"MAKE BLANK"},{"$f":"IF(LM78=\"YES\",IF(Plan_Name=0,\"\",Plan_Name),\"MAKE BLANK\")","v":"MAKE BLANK"},null,{"$f":"IF(LM78=\"YES\",IF(Sequential_Number=\"\",\"\",Plan_Number),\"MAKE BLANK\")","v":"MAKE BLANK"},{"$f":"IF(LP78=\"YES\",IF(Plan_Name=0,\"\",Plan_Name),\"MAKE BLANK\")","v":"MAKE BLANK"},null,{"$f":"IF(LP78=\"YES\",IF(Sequential_Number=\"\",\"\",Plan_Number),\"MAKE BLANK\")","v":"MAKE BLANK"},{"$f":"IF(LS78=\"YES\",IF(Plan_Name=0,\"\",Plan_Name),\"MAKE BLANK\")","v":"MAKE BLANK"},null,{"$f":"IF(LS78=\"YES\",IF(Sequential_Number=\"\",\"\",Plan_Number),\"MAKE BLANK\")","v":"MAKE BLANK"},{"$f":"IF(LV78=\"YES\",IF(Plan_Name=0,\"\",Plan_Name),\"MAKE BLANK\")","v":"MAKE BLANK"},null,{"$f":"IF(LV78=\"YES\",IF(Sequential_Number=\"\",\"\",Plan_Number),\"MAKE BLANK\")","v":"MAKE BLANK"},{"$f":"IF(LY78=\"YES\",IF(Plan_Name=0,\"\",Plan_Name),\"MAKE BLANK\")","v":"MAKE BLANK"},null,{"$f":"IF(LY78=\"YES\",IF(Sequential_Number=\"\",\"\",Plan_Number),\"MAKE BLANK\")","v":"MAKE BLANK"},{"$f":"IF(MB78=\"YES\",IF(Plan_Name=0,\"\",Plan_Name),\"MAKE BLANK\")","v":"MAKE BLANK"},null,{"$f":"IF(MB78=\"YES\",IF(Sequential_Number=\"\",\"\",Plan_Number),\"MAKE BLANK\")","v":"MAKE BLANK"},{"$f":"IF(ME78=\"YES\",IF(Plan_Name=0,\"\",Plan_Name),\"MAKE BLANK\")","v":"MAKE BLANK"},null,{"$f":"IF(ME78=\"YES\",IF(Sequential_Number=\"\",\"\",Plan_Number),\"MAKE BLANK\")","v":"MAKE BLANK"},{"$f":"IF(MH78=\"YES\",IF(Plan_Name=0,\"\",Plan_Name),\"MAKE BLANK\")","v":"MAKE BLANK"},null,{"$f":"IF(MH78=\"YES\",IF(Sequential_Number=\"\",\"\",Plan_Number),\"MAKE BLANK\")","v":"MAKE BLANK"},{"$f":"IF(MK78=\"YES\",IF(Plan_Name=0,\"\",Plan_Name),\"MAKE BLANK\")","v":"MAKE BLANK"},null,{"$f":"IF(MK78=\"YES\",IF(Sequential_Number=\"\",\"\",Plan_Number),\"MAKE BLANK\")","v":"MAKE BLANK"},{"$f":"IF(MN78=\"YES\",IF(Plan_Name=0,\"\",Plan_Name),\"MAKE BLANK\")","v":"MAKE BLANK"},null,{"$f":"IF(MN78=\"YES\",IF(Sequential_Number=\"\",\"\",Plan_Number),\"MAKE BLANK\")","v":"MAKE BLANK"},{"$f":"IF(MQ78=\"YES\",IF(Plan_Name=0,\"\",Plan_Name),\"MAKE BLANK\")","v":"MAKE BLANK"},null,{"$f":"IF(MQ78=\"YES\",IF(Sequential_Number=\"\",\"\",Plan_Number),\"MAKE BLANK\")","v":"MAKE BLANK"},{"$f":"IF(MT78=\"YES\",IF(Plan_Name=0,\"\",Plan_Name),\"MAKE BLANK\")","v":"MAKE BLANK"},null,{"$f":"IF(MT78=\"YES\",IF(Sequential_Number=\"\",\"\",Plan_Number),\"MAKE BLANK\")","v":"MAKE BLANK"}]
[null,null,null,null,null,null,null,null,null,null,null,null,null,null,null,null,null,null,null,null,null,null,null,null,null,null,null,null,"Unforeseen Conditions",null,null,null,"If the actual work will differ from the printed\nplan, write changes on this 3-page analysis.",null,null,null,null,null,null,null,null,null,"Unforeseen Conditions",null,null,null,"continued",null,null,null,null,null,null,null,null,null,"Unforeseen Conditions",null,null,null,null,"continued",null,null,null,null,null,null,null,null,null,"Lessons Learned",{"$f":"IF(LL_Continue=0,\"Make notes during the work effort, then\nupdate the Lessons Learned section on tab 2.\",\"\")","v":"Make notes during the work effort, then\nupdate the Lessons Learned section on tab 2."},null,1,{"$f":"IF(BX$78=\"NO\",\"MAKE BLANK\",IF(INDEX(All_Hazards_and_Controls,$BW4,BX$79)=0,\"\",INDEX(All_Hazards_and_Controls,$BW4,BX$79)))","v":"MAKE BLANK"},null,null,{"$f":"IF(CA$78=\"NO\",\"MAKE BLANK\",IF(INDEX(All_Hazards_and_Controls,$BW4,CA$79)=0,\"\",INDEX(All_Hazards_and_Controls,$BW4,CA$79)))","v":"MAKE BLANK"},null,null,{"$f":"IF(CD$78=\"NO\",\"MAKE BLANK\",IF(INDEX(All_Hazards_and_Controls,$BW4,CD$79)=0,\"\",INDEX(All_Hazards_and_Controls,$BW4,CD$79)))","v":"MAKE BLANK"},null,null,{"$f":"IF(CG$78=\"NO\",\"MAKE BLANK\",IF(INDEX(All_Hazards_and_Controls,$BW4,CG$79)=0,\"\",INDEX(All_Hazards_and_Controls,$BW4,CG$79)))","v":"MAKE BLANK"},null,null,{"$f":"IF(CJ$78=\"NO\",\"MAKE BLANK\",IF(INDEX(All_Hazards_and_Controls,$BW4,CJ$79)=0,\"\",INDEX(All_Hazards_and_Controls,$BW4,CJ$79)))","v":"MAKE BLANK"},null,null,{"$f":"IF(CM$78=\"NO\",\"MAKE BLANK\",IF(INDEX(All_Hazards_and_Controls,$BW4,CM$79)=0,\"\",INDEX(All_Hazards_and_Controls,$BW4,CM$79)))","v":"MAKE BLANK"},null,null,{"$f":"IF(CP$78=\"NO\",\"MAKE BLANK\",IF(INDEX(All_Hazards_and_Controls,$BW4,CP$79)=0,\"\",INDEX(All_Hazards_and_Controls,$BW4,CP$79)))","v":"MAKE BLANK"},null,null,{"$f":"IF(CS$78=\"NO\",\"MAKE BLANK\",IF(INDEX(All_Hazards_and_Controls,$BW4,CS$79)=0,\"\",INDEX(All_Hazards_and_Controls,$BW4,CS$79)))","v":"MAKE BLANK"},null,null,{"$f":"IF(CV$78=\"NO\",\"MAKE BLANK\",IF(INDEX(All_Hazards_and_Controls,$BW4,CV$79)=0,\"\",INDEX(All_Hazards_and_Controls,$BW4,CV$79)))","v":"MAKE BLANK"},null,null,{"$f":"IF(CY$78=\"NO\",\"MAKE BLANK\",IF(INDEX(All_Hazards_and_Controls,$BW4,CY$79)=0,\"\",INDEX(All_Hazards_and_Controls,$BW4,CY$79)))","v":"MAKE BLANK"},null,null,{"$f":"IF(DB$78=\"NO\",\"MAKE BLANK\",IF(INDEX(All_Hazards_and_Controls,$BW4,DB$79)=0,\"\",INDEX(All_Hazards_and_Controls,$BW4,DB$79)))","v":"MAKE BLANK"},null,null,{"$f":"IF(DE$78=\"NO\",\"MAKE BLANK\",IF(INDEX(All_Hazards_and_Controls,$BW4,DE$79)=0,\"\",INDEX(All_Hazards_and_Controls,$BW4,DE$79)))","v":"MAKE BLANK"},null,null,{"$f":"IF(DH$78=\"NO\",\"MAKE BLANK\",IF(INDEX(All_Hazards_and_Controls,$BW4,DH$79)=0,\"\",INDEX(All_Hazards_and_Controls,$BW4,DH$79)))","v":"MAKE BLANK"},null,null,{"$f":"IF(DK$78=\"NO\",\"MAKE BLANK\",IF(INDEX(All_Hazards_and_Controls,$BW4,DK$79)=0,\"\",INDEX(All_Hazards_and_Controls,$BW4,DK$79)))","v":"MAKE BLANK"},null,null,{"$f":"IF(DN$78=\"NO\",\"MAKE BLANK\",IF(INDEX(All_Hazards_and_Controls,$BW4,DN$79)=0,\"\",INDEX(All_Hazards_and_Controls,$BW4,DN$79)))","v":"MAKE BLANK"},null,null,{"$f":"IF(DQ$78=\"NO\",\"MAKE BLANK\",IF(INDEX(All_Hazards_and_Controls,$BW4,DQ$79)=0,\"\",INDEX(All_Hazards_and_Controls,$BW4,DQ$79)))","v":"MAKE BLANK"},null,null,{"$f":"IF(DT$78=\"NO\",\"MAKE BLANK\",IF(INDEX(All_Hazards_and_Controls,$BW4,DT$79)=0,\"\",INDEX(All_Hazards_and_Controls,$BW4,DT$79)))","v":"MAKE BLANK"},null,null,{"$f":"IF(DW$78=\"NO\",\"MAKE BLANK\",IF(INDEX(All_Hazards_and_Controls,$BW4,DW$79)=0,\"\",INDEX(All_Hazards_and_Controls,$BW4,DW$79)))","v":"MAKE BLANK"},null,null,{"$f":"IF(DZ$78=\"NO\",\"MAKE BLANK\",IF(INDEX(All_Hazards_and_Controls,$BW4,DZ$79)=0,\"\",INDEX(All_Hazards_and_Controls,$BW4,DZ$79)))","v":"MAKE BLANK"},null,null,{"$f":"IF(EC$78=\"NO\",\"MAKE BLANK\",IF(INDEX(All_Hazards_and_Controls,$BW4,EC$79)=0,\"\",INDEX(All_Hazards_and_Controls,$BW4,EC$79)))","v":"MAKE BLANK"},null,null,{"$f":"IF(EF$78=\"NO\",\"MAKE BLANK\",IF(INDEX(All_Hazards_and_Controls,$BW4,EF$79)=0,\"\",INDEX(All_Hazards_and_Controls,$BW4,EF$79)))","v":"MAKE BLANK"},null,null,{"$f":"IF(EI$78=\"NO\",\"MAKE BLANK\",IF(INDEX(All_Hazards_and_Controls,$BW4,EI$79)=0,\"\",INDEX(All_Hazards_and_Controls,$BW4,EI$79)))","v":"MAKE BLANK"},null,null,{"$f":"IF(EL$78=\"NO\",\"MAKE BLANK\",IF(INDEX(All_Hazards_and_Controls,$BW4,EL$79)=0,\"\",INDEX(All_Hazards_and_Controls,$BW4,EL$79)))","v":"MAKE BLANK"},null,null,{"$f":"IF(EO$78=\"NO\",\"MAKE BLANK\",IF(INDEX(All_Hazards_and_Controls,$BW4,EO$79)=0,\"\",INDEX(All_Hazards_and_Controls,$BW4,EO$79)))","v":"MAKE BLANK"},null,null,{"$f":"IF(ER$78=\"NO\",\"MAKE BLANK\",IF(INDEX(All_Hazards_and_Controls,$BW4,ER$79)=0,\"\",INDEX(All_Hazards_and_Controls,$BW4,ER$79)))","v":"MAKE BLANK"},null,null,{"$f":"IF(EU$78=\"NO\",\"MAKE BLANK\",IF(INDEX(All_Hazards_and_Controls,$BW4,EU$79)=0,\"\",INDEX(All_Hazards_and_Controls,$BW4,EU$79)))","v":"MAKE BLANK"},null,null,{"$f":"IF(EX$78=\"NO\",\"MAKE BLANK\",IF(INDEX(All_Hazards_and_Controls,$BW4,EX$79)=0,\"\",INDEX(All_Hazards_and_Controls,$BW4,EX$79)))","v":"MAKE BLANK"},null,null,{"$f":"IF(FA$78=\"NO\",\"MAKE BLANK\",IF(INDEX(All_Hazards_and_Controls,$BW4,FA$79)=0,\"\",INDEX(All_Hazards_and_Controls,$BW4,FA$79)))","v":"MAKE BLANK"},null,null,{"$f":"IF(FD$78=\"NO\",\"MAKE BLANK\",IF(INDEX(All_Hazards_and_Controls,$BW4,FD$79)=0,\"\",INDEX(All_Hazards_and_Controls,$BW4,FD$79)))","v":"MAKE BLANK"},null,null,{"$f":"IF(FG$78=\"NO\",\"MAKE BLANK\",IF(INDEX(All_Hazards_and_Controls,$BW4,FG$79)=0,\"\",INDEX(All_Hazards_and_Controls,$BW4,FG$79)))","v":"MAKE BLANK"},null,null,{"$f":"IF(FJ$78=\"NO\",\"MAKE BLANK\",IF(INDEX(All_Hazards_and_Controls,$BW4,FJ$79)=0,\"\",INDEX(All_Hazards_and_Controls,$BW4,FJ$79)))","v":"MAKE BLANK"},null,null,{"$f":"IF(FM$78=\"NO\",\"MAKE BLANK\",IF(INDEX(All_Hazards_and_Controls,$BW4,FM$79)=0,\"\",INDEX(All_Hazards_and_Controls,$BW4,FM$79)))","v":"MAKE BLANK"},null,null,{"$f":"IF(FP$78=\"NO\",\"MAKE BLANK\",IF(INDEX(All_Hazards_and_Controls,$BW4,FP$79)=0,\"\",INDEX(All_Hazards_and_Controls,$BW4,FP$79)))","v":"MAKE BLANK"},null,null,{"$f":"IF(FS$78=\"NO\",\"MAKE BLANK\",IF(INDEX(All_Hazards_and_Controls,$BW4,FS$79)=0,\"\",INDEX(All_Hazards_and_Controls,$BW4,FS$79)))","v":"MAKE BLANK"},null,null,{"$f":"IF(FV$78=\"NO\",\"MAKE BLANK\",IF(INDEX(All_Hazards_and_Controls,$BW4,FV$79)=0,\"\",INDEX(All_Hazards_and_Controls,$BW4,FV$79)))","v":"MAKE BLANK"},null,null,{"$f":"IF(FY$78=\"NO\",\"MAKE BLANK\",IF(INDEX(All_Hazards_and_Controls,$BW4,FY$79)=0,\"\",INDEX(All_Hazards_and_Controls,$BW4,FY$79)))","v":"MAKE BLANK"},null,null,{"$f":"IF(GB$78=\"NO\",\"MAKE BLANK\",IF(INDEX(All_Hazards_and_Controls,$BW4,GB$79)=0,\"\",INDEX(All_Hazards_and_Controls,$BW4,GB$79)))","v":"MAKE BLANK"},null,null,{"$f":"IF(GE$78=\"NO\",\"MAKE BLANK\",IF(INDEX(All_Hazards_and_Controls,$BW4,GE$79)=0,\"\",INDEX(All_Hazards_and_Controls,$BW4,GE$79)))","v":"MAKE BLANK"},null,null,{"$f":"IF(GH$78=\"NO\",\"MAKE BLANK\",IF(INDEX(All_Hazards_and_Controls,$BW4,GH$79)=0,\"\",INDEX(All_Hazards_and_Controls,$BW4,GH$79)))","v":"MAKE BLANK"},null,null,{"$f":"IF(GK$78=\"NO\",\"MAKE BLANK\",IF(INDEX(All_Hazards_and_Controls,$BW4,GK$79)=0,\"\",INDEX(All_Hazards_and_Controls,$BW4,GK$79)))","v":"MAKE BLANK"},null,null,{"$f":"IF(GN$78=\"NO\",\"MAKE BLANK\",IF(INDEX(All_Hazards_and_Controls,$BW4,GN$79)=0,\"\",INDEX(All_Hazards_and_Controls,$BW4,GN$79)))","v":"MAKE BLANK"},null,null,{"$f":"IF(GQ$78=\"NO\",\"MAKE BLANK\",IF(INDEX(All_Hazards_and_Controls,$BW4,GQ$79)=0,\"\",INDEX(All_Hazards_and_Controls,$BW4,GQ$79)))","v":"MAKE BLANK"},null,null,{"$f":"IF(GT$78=\"NO\",\"MAKE BLANK\",IF(INDEX(All_Hazards_and_Controls,$BW4,GT$79)=0,\"\",INDEX(All_Hazards_and_Controls,$BW4,GT$79)))","v":"MAKE BLANK"},null,null,{"$f":"IF(GW$78=\"NO\",\"MAKE BLANK\",IF(INDEX(All_Hazards_and_Controls,$BW4,GW$79)=0,\"\",INDEX(All_Hazards_and_Controls,$BW4,GW$79)))","v":"MAKE BLANK"},null,null,{"$f":"IF(GZ$78=\"NO\",\"MAKE BLANK\",IF(INDEX(All_Hazards_and_Controls,$BW4,GZ$79)=0,\"\",INDEX(All_Hazards_and_Controls,$BW4,GZ$79)))","v":"MAKE BLANK"},null,null,{"$f":"IF(HC$78=\"NO\",\"MAKE BLANK\",IF(INDEX(All_Hazards_and_Controls,$BW4,HC$79)=0,\"\",INDEX(All_Hazards_and_Controls,$BW4,HC$79)))","v":"MAKE BLANK"},null,null,{"$f":"IF(HF$78=\"NO\",\"MAKE BLANK\",IF(INDEX(All_Hazards_and_Controls,$BW4,HF$79)=0,\"\",INDEX(All_Hazards_and_Controls,$BW4,HF$79)))","v":"MAKE BLANK"},null,null,{"$f":"IF(HI$78=\"NO\",\"MAKE BLANK\",IF(INDEX(All_Hazards_and_Controls,$BW4,HI$79)=0,\"\",INDEX(All_Hazards_and_Controls,$BW4,HI$79)))","v":"MAKE BLANK"},null,null,{"$f":"IF(HL$78=\"NO\",\"MAKE BLANK\",IF(INDEX(All_Hazards_and_Controls,$BW4,HL$79)=0,\"\",INDEX(All_Hazards_and_Controls,$BW4,HL$79)))","v":"MAKE BLANK"},null,null,{"$f":"IF(HO$78=\"NO\",\"MAKE BLANK\",IF(INDEX(All_Hazards_and_Controls,$BW4,HO$79)=0,\"\",INDEX(All_Hazards_and_Controls,$BW4,HO$79)))","v":"MAKE BLANK"},null,null,{"$f":"IF(HR$78=\"NO\",\"MAKE BLANK\",IF(INDEX(All_Hazards_and_Controls,$BW4,HR$79)=0,\"\",INDEX(All_Hazards_and_Controls,$BW4,HR$79)))","v":"MAKE BLANK"},null,null,{"$f":"IF(HU$78=\"NO\",\"MAKE BLANK\",IF(INDEX(All_Hazards_and_Controls,$BW4,HU$79)=0,\"\",INDEX(All_Hazards_and_Controls,$BW4,HU$79)))","v":"MAKE BLANK"},null,null,{"$f":"IF(HX$78=\"NO\",\"MAKE BLANK\",IF(INDEX(All_Hazards_and_Controls,$BW4,HX$79)=0,\"\",INDEX(All_Hazards_and_Controls,$BW4,HX$79)))","v":"MAKE BLANK"},null,null,{"$f":"IF(IA$78=\"NO\",\"MAKE BLANK\",IF(INDEX(All_Hazards_and_Controls,$BW4,IA$79)=0,\"\",INDEX(All_Hazards_and_Controls,$BW4,IA$79)))","v":"MAKE BLANK"},null,null,{"$f":"IF(ID$78=\"NO\",\"MAKE BLANK\",IF(INDEX(All_Hazards_and_Controls,$BW4,ID$79)=0,\"\",INDEX(All_Hazards_and_Controls,$BW4,ID$79)))","v":"MAKE BLANK"},null,null,{"$f":"IF(IG$78=\"NO\",\"MAKE BLANK\",IF(INDEX(All_Hazards_and_Controls,$BW4,IG$79)=0,\"\",INDEX(All_Hazards_and_Controls,$BW4,IG$79)))","v":"MAKE BLANK"},null,null,{"$f":"IF(IJ$78=\"NO\",\"MAKE BLANK\",IF(INDEX(All_Hazards_and_Controls,$BW4,IJ$79)=0,\"\",INDEX(All_Hazards_and_Controls,$BW4,IJ$79)))","v":"MAKE BLANK"},null,null,{"$f":"IF(IM$78=\"NO\",\"MAKE BLANK\",IF(INDEX(All_Hazards_and_Controls,$BW4,IM$79)=0,\"\",INDEX(All_Hazards_and_Controls,$BW4,IM$79)))","v":"MAKE BLANK"},null,null,{"$f":"IF(IP$78=\"NO\",\"MAKE BLANK\",IF(INDEX(All_Hazards_and_Controls,$BW4,IP$79)=0,\"\",INDEX(All_Hazards_and_Controls,$BW4,IP$79)))","v":"MAKE BLANK"},null,null,{"$f":"IF(IS$78=\"NO\",\"MAKE BLANK\",IF(INDEX(All_Hazards_and_Controls,$BW4,IS$79)=0,\"\",INDEX(All_Hazards_and_Controls,$BW4,IS$79)))","v":"MAKE BLANK"},null,null,{"$f":"IF(IV$78=\"NO\",\"MAKE BLANK\",IF(INDEX(All_Hazards_and_Controls,$BW4,IV$79)=0,\"\",INDEX(All_Hazards_and_Controls,$BW4,IV$79)))","v":"MAKE BLANK"},null,null,{"$f":"IF(IY$78=\"NO\",\"MAKE BLANK\",IF(INDEX(All_Hazards_and_Controls,$BW4,IY$79)=0,\"\",INDEX(All_Hazards_and_Controls,$BW4,IY$79)))","v":"MAKE BLANK"},null,null,{"$f":"IF(JB$78=\"NO\",\"MAKE BLANK\",IF(INDEX(All_Hazards_and_Controls,$BW4,JB$79)=0,\"\",INDEX(All_Hazards_and_Controls,$BW4,JB$79)))","v":"MAKE BLANK"},null,null,{"$f":"IF(JE$78=\"NO\",\"MAKE BLANK\",IF(INDEX(All_Hazards_and_Controls,$BW4,JE$79)=0,\"\",INDEX(All_Hazards_and_Controls,$BW4,JE$79)))","v":"MAKE BLANK"},null,null,{"$f":"IF(JH$78=\"NO\",\"MAKE BLANK\",IF(INDEX(All_Hazards_and_Controls,$BW4,JH$79)=0,\"\",INDEX(All_Hazards_and_Controls,$BW4,JH$79)))","v":"MAKE BLANK"},null,null,{"$f":"IF(JK$78=\"NO\",\"MAKE BLANK\",IF(INDEX(All_Hazards_and_Controls,$BW4,JK$79)=0,\"\",INDEX(All_Hazards_and_Controls,$BW4,JK$79)))","v":"MAKE BLANK"},null,null,{"$f":"IF(JN$78=\"NO\",\"MAKE BLANK\",IF(INDEX(All_Hazards_and_Controls,$BW4,JN$79)=0,\"\",INDEX(All_Hazards_and_Controls,$BW4,JN$79)))","v":"MAKE BLANK"},null,null,{"$f":"IF(JQ$78=\"NO\",\"MAKE BLANK\",IF(INDEX(All_Hazards_and_Controls,$BW4,JQ$79)=0,\"\",INDEX(All_Hazards_and_Controls,$BW4,JQ$79)))","v":"MAKE BLANK"},null,null,{"$f":"IF(JT$78=\"NO\",\"MAKE BLANK\",IF(INDEX(All_Hazards_and_Controls,$BW4,JT$79)=0,\"\",INDEX(All_Hazards_and_Controls,$BW4,JT$79)))","v":"MAKE BLANK"},null,null,{"$f":"IF(JW$78=\"NO\",\"MAKE BLANK\",IF(INDEX(All_Hazards_and_Controls,$BW4,JW$79)=0,\"\",INDEX(All_Hazards_and_Controls,$BW4,JW$79)))","v":"MAKE BLANK"},null,null,{"$f":"IF(JZ$78=\"NO\",\"MAKE BLANK\",IF(INDEX(All_Hazards_and_Controls,$BW4,JZ$79)=0,\"\",INDEX(All_Hazards_and_Controls,$BW4,JZ$79)))","v":"MAKE BLANK"},null,null,{"$f":"IF(KC$78=\"NO\",\"MAKE BLANK\",IF(INDEX(All_Hazards_and_Controls,$BW4,KC$79)=0,\"\",INDEX(All_Hazards_and_Controls,$BW4,KC$79)))","v":"MAKE BLANK"},null,null,{"$f":"IF(KF$78=\"NO\",\"MAKE BLANK\",IF(INDEX(All_Hazards_and_Controls,$BW4,KF$79)=0,\"\",INDEX(All_Hazards_and_Controls,$BW4,KF$79)))","v":"MAKE BLANK"},null,null,{"$f":"IF(KI$78=\"NO\",\"MAKE BLANK\",IF(INDEX(All_Hazards_and_Controls,$BW4,KI$79)=0,\"\",INDEX(All_Hazards_and_Controls,$BW4,KI$79)))","v":"MAKE BLANK"},null,null,{"$f":"IF(KL$78=\"NO\",\"MAKE BLANK\",IF(INDEX(All_Hazards_and_Controls,$BW4,KL$79)=0,\"\",INDEX(All_Hazards_and_Controls,$BW4,KL$79)))","v":"MAKE BLANK"},null,null,{"$f":"IF(KO$78=\"NO\",\"MAKE BLANK\",IF(INDEX(All_Hazards_and_Controls,$BW4,KO$79)=0,\"\",INDEX(All_Hazards_and_Controls,$BW4,KO$79)))","v":"MAKE BLANK"},null,null,{"$f":"IF(KR$78=\"NO\",\"MAKE BLANK\",IF(INDEX(All_Hazards_and_Controls,$BW4,KR$79)=0,\"\",INDEX(All_Hazards_and_Controls,$BW4,KR$79)))","v":"MAKE BLANK"},null,null,{"$f":"IF(KU$78=\"NO\",\"MAKE BLANK\",IF(INDEX(All_Hazards_and_Controls,$BW4,KU$79)=0,\"\",INDEX(All_Hazards_and_Controls,$BW4,KU$79)))","v":"MAKE BLANK"},null,null,{"$f":"IF(KX$78=\"NO\",\"MAKE BLANK\",IF(INDEX(All_Hazards_and_Controls,$BW4,KX$79)=0,\"\",INDEX(All_Hazards_and_Controls,$BW4,KX$79)))","v":"MAKE BLANK"},null,null,{"$f":"IF(LA$78=\"NO\",\"MAKE BLANK\",IF(INDEX(All_Hazards_and_Controls,$BW4,LA$79)=0,\"\",INDEX(All_Hazards_and_Controls,$BW4,LA$79)))","v":"MAKE BLANK"},null,null,{"$f":"IF(LD$78=\"NO\",\"MAKE BLANK\",IF(INDEX(All_Hazards_and_Controls,$BW4,LD$79)=0,\"\",INDEX(All_Hazards_and_Controls,$BW4,LD$79)))","v":"MAKE BLANK"},null,null,{"$f":"IF(LG$78=\"NO\",\"MAKE BLANK\",IF(INDEX(All_Hazards_and_Controls,$BW4,LG$79)=0,\"\",INDEX(All_Hazards_and_Controls,$BW4,LG$79)))","v":"MAKE BLANK"},null,null,{"$f":"IF(LJ$78=\"NO\",\"MAKE BLANK\",IF(INDEX(All_Hazards_and_Controls,$BW4,LJ$79)=0,\"\",INDEX(All_Hazards_and_Controls,$BW4,LJ$79)))","v":"MAKE BLANK"},null,null,{"$f":"IF(LM$78=\"NO\",\"MAKE BLANK\",IF(INDEX(All_Hazards_and_Controls,$BW4,LM$79)=0,\"\",INDEX(All_Hazards_and_Controls,$BW4,LM$79)))","v":"MAKE BLANK"},null,null,{"$f":"IF(LP$78=\"NO\",\"MAKE BLANK\",IF(INDEX(All_Hazards_and_Controls,$BW4,LP$79)=0,\"\",INDEX(All_Hazards_and_Controls,$BW4,LP$79)))","v":"MAKE BLANK"},null,null,{"$f":"IF(LS$78=\"NO\",\"MAKE BLANK\",IF(INDEX(All_Hazards_and_Controls,$BW4,LS$79)=0,\"\",INDEX(All_Hazards_and_Controls,$BW4,LS$79)))","v":"MAKE BLANK"},null,null,{"$f":"IF(LV$78=\"NO\",\"MAKE BLANK\",IF(INDEX(All_Hazards_and_Controls,$BW4,LV$79)=0,\"\",INDEX(All_Hazards_and_Controls,$BW4,LV$79)))","v":"MAKE BLANK"},null,null,{"$f":"IF(LY$78=\"NO\",\"MAKE BLANK\",IF(INDEX(All_Hazards_and_Controls,$BW4,LY$79)=0,\"\",INDEX(All_Hazards_and_Controls,$BW4,LY$79)))","v":"MAKE BLANK"},null,null,{"$f":"IF(MB$78=\"NO\",\"MAKE BLANK\",IF(INDEX(All_Hazards_and_Controls,$BW4,MB$79)=0,\"\",INDEX(All_Hazards_and_Controls,$BW4,MB$79)))","v":"MAKE BLANK"},null,null,{"$f":"IF(ME$78=\"NO\",\"MAKE BLANK\",IF(INDEX(All_Hazards_and_Controls,$BW4,ME$79)=0,\"\",INDEX(All_Hazards_and_Controls,$BW4,ME$79)))","v":"MAKE BLANK"},null,null,{"$f":"IF(MH$78=\"NO\",\"MAKE BLANK\",IF(INDEX(All_Hazards_and_Controls,$BW4,MH$79)=0,\"\",INDEX(All_Hazards_and_Controls,$BW4,MH$79)))","v":"MAKE BLANK"},null,null,{"$f":"IF(MK$78=\"NO\",\"MAKE BLANK\",IF(INDEX(All_Hazards_and_Controls,$BW4,MK$79)=0,\"\",INDEX(All_Hazards_and_Controls,$BW4,MK$79)))","v":"MAKE BLANK"},null,null,{"$f":"IF(MN$78=\"NO\",\"MAKE BLANK\",IF(INDEX(All_Hazards_and_Controls,$BW4,MN$79)=0,\"\",INDEX(All_Hazards_and_Controls,$BW4,MN$79)))","v":"MAKE BLANK"},null,null,{"$f":"IF(MQ$78=\"NO\",\"MAKE BLANK\",IF(INDEX(All_Hazards_and_Controls,$BW4,MQ$79)=0,\"\",INDEX(All_Hazards_and_Controls,$BW4,MQ$79)))","v":"MAKE BLANK"},null,null,{"$f":"IF(MT$78=\"NO\",\"MAKE BLANK\",IF(INDEX(All_Hazards_and_Controls,$BW4,MT$79)=0,\"\",INDEX(All_Hazards_and_Controls,$BW4,MT$79)))","v":"MAKE BLANK"}]
[null,null,null,null,null,"Scope Of Work",null,"Scope of Work Categories",null,null,null,"HAZARD AWARENESS ACKNOWLEDGEMENT",null,null,null,null,null,{"$f":"IF(Number_environmental_pages=0,\"Skip Page\",\"Environmental Aspects\")","v":"Skip Page"},null,null,null,{"$f":"IF(Number_environmental_pages<2,\"Skip Page\",\"Environmental Aspects\")","v":"Skip Page"},null,null,null,{"$f":"IF(Number_environmental_pages<3,\"Skip Page\",\"Environmental Aspects\")","v":"Skip Page"},null,null,null,null,null,null,null,null,null,null,null,null,null,null,null,null,null,null,null,null,null,null,null,null,null,null,null,null,null,null,null,null,null,null,null,null,null,null,null,null,null,null,null,null,null,null,null,null,2,{"$f":"IF(BX$78=\"NO\",\"MAKE BLANK\",IF(INDEX(All_Hazards_and_Controls,$BW5,BX$79)=0,\"\",INDEX(All_Hazards_and_Controls,$BW5,BX$79)))","v":"MAKE BLANK"},null,null,{"$f":"IF(CA$78=\"NO\",\"MAKE BLANK\",IF(INDEX(All_Hazards_and_Controls,$BW5,CA$79)=0,\"\",INDEX(All_Hazards_and_Controls,$BW5,CA$79)))","v":"MAKE BLANK"},null,null,{"$f":"IF(CD$78=\"NO\",\"MAKE BLANK\",IF(INDEX(All_Hazards_and_Controls,$BW5,CD$79)=0,\"\",INDEX(All_Hazards_and_Controls,$BW5,CD$79)))","v":"MAKE BLANK"},null,null,{"$f":"IF(CG$78=\"NO\",\"MAKE BLANK\",IF(INDEX(All_Hazards_and_Controls,$BW5,CG$79)=0,\"\",INDEX(All_Hazards_and_Controls,$BW5,CG$79)))","v":"MAKE BLANK"},null,null,{"$f":"IF(CJ$78=\"NO\",\"MAKE BLANK\",IF(INDEX(All_Hazards_and_Controls,$BW5,CJ$79)=0,\"\",INDEX(All_Hazards_and_Controls,$BW5,CJ$79)))","v":"MAKE BLANK"},null,null,{"$f":"IF(CM$78=\"NO\",\"MAKE BLANK\",IF(INDEX(All_Hazards_and_Controls,$BW5,CM$79)=0,\"\",INDEX(All_Hazards_and_Controls,$BW5,CM$79)))","v":"MAKE BLANK"},null,null,{"$f":"IF(CP$78=\"NO\",\"MAKE BLANK\",IF(INDEX(All_Hazards_and_Controls,$BW5,CP$79)=0,\"\",INDEX(All_Hazards_and_Controls,$BW5,CP$79)))","v":"MAKE BLANK"},null,null,{"$f":"IF(CS$78=\"NO\",\"MAKE BLANK\",IF(INDEX(All_Hazards_and_Controls,$BW5,CS$79)=0,\"\",INDEX(All_Hazards_and_Controls,$BW5,CS$79)))","v":"MAKE BLANK"},null,null,{"$f":"IF(CV$78=\"NO\",\"MAKE BLANK\",IF(INDEX(All_Hazards_and_Controls,$BW5,CV$79)=0,\"\",INDEX(All_Hazards_and_Controls,$BW5,CV$79)))","v":"MAKE BLANK"},null,null,{"$f":"IF(CY$78=\"NO\",\"MAKE BLANK\",IF(INDEX(All_Hazards_and_Controls,$BW5,CY$79)=0,\"\",INDEX(All_Hazards_and_Controls,$BW5,CY$79)))","v":"MAKE BLANK"},null,null,{"$f":"IF(DB$78=\"NO\",\"MAKE BLANK\",IF(INDEX(All_Hazards_and_Controls,$BW5,DB$79)=0,\"\",INDEX(All_Hazards_and_Controls,$BW5,DB$79)))","v":"MAKE BLANK"},null,null,{"$f":"IF(DE$78=\"NO\",\"MAKE BLANK\",IF(INDEX(All_Hazards_and_Controls,$BW5,DE$79)=0,\"\",INDEX(All_Hazards_and_Controls,$BW5,DE$79)))","v":"MAKE BLANK"},null,null,{"$f":"IF(DH$78=\"NO\",\"MAKE BLANK\",IF(INDEX(All_Hazards_and_Controls,$BW5,DH$79)=0,\"\",INDEX(All_Hazards_and_Controls,$BW5,DH$79)))","v":"MAKE BLANK"},null,null,{"$f":"IF(DK$78=\"NO\",\"MAKE BLANK\",IF(INDEX(All_Hazards_and_Controls,$BW5,DK$79)=0,\"\",INDEX(All_Hazards_and_Controls,$BW5,DK$79)))","v":"MAKE BLANK"},null,null,{"$f":"IF(DN$78=\"NO\",\"MAKE BLANK\",IF(INDEX(All_Hazards_and_Controls,$BW5,DN$79)=0,\"\",INDEX(All_Hazards_and_Controls,$BW5,DN$79)))","v":"MAKE BLANK"},null,null,{"$f":"IF(DQ$78=\"NO\",\"MAKE BLANK\",IF(INDEX(All_Hazards_and_Controls,$BW5,DQ$79)=0,\"\",INDEX(All_Hazards_and_Controls,$BW5,DQ$79)))","v":"MAKE BLANK"},null,null,{"$f":"IF(DT$78=\"NO\",\"MAKE BLANK\",IF(INDEX(All_Hazards_and_Controls,$BW5,DT$79)=0,\"\",INDEX(All_Hazards_and_Controls,$BW5,DT$79)))","v":"MAKE BLANK"},null,null,{"$f":"IF(DW$78=\"NO\",\"MAKE BLANK\",IF(INDEX(All_Hazards_and_Controls,$BW5,DW$79)=0,\"\",INDEX(All_Hazards_and_Controls,$BW5,DW$79)))","v":"MAKE BLANK"},null,null,{"$f":"IF(DZ$78=\"NO\",\"MAKE BLANK\",IF(INDEX(All_Hazards_and_Controls,$BW5,DZ$79)=0,\"\",INDEX(All_Hazards_and_Controls,$BW5,DZ$79)))","v":"MAKE BLANK"},null,null,{"$f":"IF(EC$78=\"NO\",\"MAKE BLANK\",IF(INDEX(All_Hazards_and_Controls,$BW5,EC$79)=0,\"\",INDEX(All_Hazards_and_Controls,$BW5,EC$79)))","v":"MAKE BLANK"},null,null,{"$f":"IF(EF$78=\"NO\",\"MAKE BLANK\",IF(INDEX(All_Hazards_and_Controls,$BW5,EF$79)=0,\"\",INDEX(All_Hazards_and_Controls,$BW5,EF$79)))","v":"MAKE BLANK"},null,null,{"$f":"IF(EI$78=\"NO\",\"MAKE BLANK\",IF(INDEX(All_Hazards_and_Controls,$BW5,EI$79)=0,\"\",INDEX(All_Hazards_and_Controls,$BW5,EI$79)))","v":"MAKE BLANK"},null,null,{"$f":"IF(EL$78=\"NO\",\"MAKE BLANK\",IF(INDEX(All_Hazards_and_Controls,$BW5,EL$79)=0,\"\",INDEX(All_Hazards_and_Controls,$BW5,EL$79)))","v":"MAKE BLANK"},null,null,{"$f":"IF(EO$78=\"NO\",\"MAKE BLANK\",IF(INDEX(All_Hazards_and_Controls,$BW5,EO$79)=0,\"\",INDEX(All_Hazards_and_Controls,$BW5,EO$79)))","v":"MAKE BLANK"},null,null,{"$f":"IF(ER$78=\"NO\",\"MAKE BLANK\",IF(INDEX(All_Hazards_and_Controls,$BW5,ER$79)=0,\"\",INDEX(All_Hazards_and_Controls,$BW5,ER$79)))","v":"MAKE BLANK"},null,null,{"$f":"IF(EU$78=\"NO\",\"MAKE BLANK\",IF(INDEX(All_Hazards_and_Controls,$BW5,EU$79)=0,\"\",INDEX(All_Hazards_and_Controls,$BW5,EU$79)))","v":"MAKE BLANK"},null,null,{"$f":"IF(EX$78=\"NO\",\"MAKE BLANK\",IF(INDEX(All_Hazards_and_Controls,$BW5,EX$79)=0,\"\",INDEX(All_Hazards_and_Controls,$BW5,EX$79)))","v":"MAKE BLANK"},null,null,{"$f":"IF(FA$78=\"NO\",\"MAKE BLANK\",IF(INDEX(All_Hazards_and_Controls,$BW5,FA$79)=0,\"\",INDEX(All_Hazards_and_Controls,$BW5,FA$79)))","v":"MAKE BLANK"},null,null,{"$f":"IF(FD$78=\"NO\",\"MAKE BLANK\",IF(INDEX(All_Hazards_and_Controls,$BW5,FD$79)=0,\"\",INDEX(All_Hazards_and_Controls,$BW5,FD$79)))","v":"MAKE BLANK"},null,null,{"$f":"IF(FG$78=\"NO\",\"MAKE BLANK\",IF(INDEX(All_Hazards_and_Controls,$BW5,FG$79)=0,\"\",INDEX(All_Hazards_and_Controls,$BW5,FG$79)))","v":"MAKE BLANK"},null,null,{"$f":"IF(FJ$78=\"NO\",\"MAKE BLANK\",IF(INDEX(All_Hazards_and_Controls,$BW5,FJ$79)=0,\"\",INDEX(All_Hazards_and_Controls,$BW5,FJ$79)))","v":"MAKE BLANK"},null,null,{"$f":"IF(FM$78=\"NO\",\"MAKE BLANK\",IF(INDEX(All_Hazards_and_Controls,$BW5,FM$79)=0,\"\",INDEX(All_Hazards_and_Controls,$BW5,FM$79)))","v":"MAKE BLANK"},null,null,{"$f":"IF(FP$78=\"NO\",\"MAKE BLANK\",IF(INDEX(All_Hazards_and_Controls,$BW5,FP$79)=0,\"\",INDEX(All_Hazards_and_Controls,$BW5,FP$79)))","v":"MAKE BLANK"},null,null,{"$f":"IF(FS$78=\"NO\",\"MAKE BLANK\",IF(INDEX(All_Hazards_and_Controls,$BW5,FS$79)=0,\"\",INDEX(All_Hazards_and_Controls,$BW5,FS$79)))","v":"MAKE BLANK"},null,null,{"$f":"IF(FV$78=\"NO\",\"MAKE BLANK\",IF(INDEX(All_Hazards_and_Controls,$BW5,FV$79)=0,\"\",INDEX(All_Hazards_and_Controls,$BW5,FV$79)))","v":"MAKE BLANK"},null,null,{"$f":"IF(FY$78=\"NO\",\"MAKE BLANK\",IF(INDEX(All_Hazards_and_Controls,$BW5,FY$79)=0,\"\",INDEX(All_Hazards_and_Controls,$BW5,FY$79)))","v":"MAKE BLANK"},null,null,{"$f":"IF(GB$78=\"NO\",\"MAKE BLANK\",IF(INDEX(All_Hazards_and_Controls,$BW5,GB$79)=0,\"\",INDEX(All_Hazards_and_Controls,$BW5,GB$79)))","v":"MAKE BLANK"},null,null,{"$f":"IF(GE$78=\"NO\",\"MAKE BLANK\",IF(INDEX(All_Hazards_and_Controls,$BW5,GE$79)=0,\"\",INDEX(All_Hazards_and_Controls,$BW5,GE$79)))","v":"MAKE BLANK"},null,null,{"$f":"IF(GH$78=\"NO\",\"MAKE BLANK\",IF(INDEX(All_Hazards_and_Controls,$BW5,GH$79)=0,\"\",INDEX(All_Hazards_and_Controls,$BW5,GH$79)))","v":"MAKE BLANK"},null,null,{"$f":"IF(GK$78=\"NO\",\"MAKE BLANK\",IF(INDEX(All_Hazards_and_Controls,$BW5,GK$79)=0,\"\",INDEX(All_Hazards_and_Controls,$BW5,GK$79)))","v":"MAKE BLANK"},null,null,{"$f":"IF(GN$78=\"NO\",\"MAKE BLANK\",IF(INDEX(All_Hazards_and_Controls,$BW5,GN$79)=0,\"\",INDEX(All_Hazards_and_Controls,$BW5,GN$79)))","v":"MAKE BLANK"},null,null,{"$f":"IF(GQ$78=\"NO\",\"MAKE BLANK\",IF(INDEX(All_Hazards_and_Controls,$BW5,GQ$79)=0,\"\",INDEX(All_Hazards_and_Controls,$BW5,GQ$79)))","v":"MAKE BLANK"},null,null,{"$f":"IF(GT$78=\"NO\",\"MAKE BLANK\",IF(INDEX(All_Hazards_and_Controls,$BW5,GT$79)=0,\"\",INDEX(All_Hazards_and_Controls,$BW5,GT$79)))","v":"MAKE BLANK"},null,null,{"$f":"IF(GW$78=\"NO\",\"MAKE BLANK\",IF(INDEX(All_Hazards_and_Controls,$BW5,GW$79)=0,\"\",INDEX(All_Hazards_and_Controls,$BW5,GW$79)))","v":"MAKE BLANK"},null,null,{"$f":"IF(GZ$78=\"NO\",\"MAKE BLANK\",IF(INDEX(All_Hazards_and_Controls,$BW5,GZ$79)=0,\"\",INDEX(All_Hazards_and_Controls,$BW5,GZ$79)))","v":"MAKE BLANK"},null,null,{"$f":"IF(HC$78=\"NO\",\"MAKE BLANK\",IF(INDEX(All_Hazards_and_Controls,$BW5,HC$79)=0,\"\",INDEX(All_Hazards_and_Controls,$BW5,HC$79)))","v":"MAKE BLANK"},null,null,{"$f":"IF(HF$78=\"NO\",\"MAKE BLANK\",IF(INDEX(All_Hazards_and_Controls,$BW5,HF$79)=0,\"\",INDEX(All_Hazards_and_Controls,$BW5,HF$79)))","v":"MAKE BLANK"},null,null,{"$f":"IF(HI$78=\"NO\",\"MAKE BLANK\",IF(INDEX(All_Hazards_and_Controls,$BW5,HI$79)=0,\"\",INDEX(All_Hazards_and_Controls,$BW5,HI$79)))","v":"MAKE BLANK"},null,null,{"$f":"IF(HL$78=\"NO\",\"MAKE BLANK\",IF(INDEX(All_Hazards_and_Controls,$BW5,HL$79)=0,\"\",INDEX(All_Hazards_and_Controls,$BW5,HL$79)))","v":"MAKE BLANK"},null,null,{"$f":"IF(HO$78=\"NO\",\"MAKE BLANK\",IF(INDEX(All_Hazards_and_Controls,$BW5,HO$79)=0,\"\",INDEX(All_Hazards_and_Controls,$BW5,HO$79)))","v":"MAKE BLANK"},null,null,{"$f":"IF(HR$78=\"NO\",\"MAKE BLANK\",IF(INDEX(All_Hazards_and_Controls,$BW5,HR$79)=0,\"\",INDEX(All_Hazards_and_Controls,$BW5,HR$79)))","v":"MAKE BLANK"},null,null,{"$f":"IF(HU$78=\"NO\",\"MAKE BLANK\",IF(INDEX(All_Hazards_and_Controls,$BW5,HU$79)=0,\"\",INDEX(All_Hazards_and_Controls,$BW5,HU$79)))","v":"MAKE BLANK"},null,null,{"$f":"IF(HX$78=\"NO\",\"MAKE BLANK\",IF(INDEX(All_Hazards_and_Controls,$BW5,HX$79)=0,\"\",INDEX(All_Hazards_and_Controls,$BW5,HX$79)))","v":"MAKE BLANK"},null,null,{"$f":"IF(IA$78=\"NO\",\"MAKE BLANK\",IF(INDEX(All_Hazards_and_Controls,$BW5,IA$79)=0,\"\",INDEX(All_Hazards_and_Controls,$BW5,IA$79)))","v":"MAKE BLANK"},null,null,{"$f":"IF(ID$78=\"NO\",\"MAKE BLANK\",IF(INDEX(All_Hazards_and_Controls,$BW5,ID$79)=0,\"\",INDEX(All_Hazards_and_Controls,$BW5,ID$79)))","v":"MAKE BLANK"},null,null,{"$f":"IF(IG$78=\"NO\",\"MAKE BLANK\",IF(INDEX(All_Hazards_and_Controls,$BW5,IG$79)=0,\"\",INDEX(All_Hazards_and_Controls,$BW5,IG$79)))","v":"MAKE BLANK"},null,null,{"$f":"IF(IJ$78=\"NO\",\"MAKE BLANK\",IF(INDEX(All_Hazards_and_Controls,$BW5,IJ$79)=0,\"\",INDEX(All_Hazards_and_Controls,$BW5,IJ$79)))","v":"MAKE BLANK"},null,null,{"$f":"IF(IM$78=\"NO\",\"MAKE BLANK\",IF(INDEX(All_Hazards_and_Controls,$BW5,IM$79)=0,\"\",INDEX(All_Hazards_and_Controls,$BW5,IM$79)))","v":"MAKE BLANK"},null,null,{"$f":"IF(IP$78=\"NO\",\"MAKE BLANK\",IF(INDEX(All_Hazards_and_Controls,$BW5,IP$79)=0,\"\",INDEX(All_Hazards_and_Controls,$BW5,IP$79)))","v":"MAKE BLANK"},null,null,{"$f":"IF(IS$78=\"NO\",\"MAKE BLANK\",IF(INDEX(All_Hazards_and_Controls,$BW5,IS$79)=0,\"\",INDEX(All_Hazards_and_Controls,$BW5,IS$79)))","v":"MAKE BLANK"},null,null,{"$f":"IF(IV$78=\"NO\",\"MAKE BLANK\",IF(INDEX(All_Hazards_and_Controls,$BW5,IV$79)=0,\"\",INDEX(All_Hazards_and_Controls,$BW5,IV$79)))","v":"MAKE BLANK"},null,null,{"$f":"IF(IY$78=\"NO\",\"MAKE BLANK\",IF(INDEX(All_Hazards_and_Controls,$BW5,IY$79)=0,\"\",INDEX(All_Hazards_and_Controls,$BW5,IY$79)))","v":"MAKE BLANK"},null,null,{"$f":"IF(JB$78=\"NO\",\"MAKE BLANK\",IF(INDEX(All_Hazards_and_Controls,$BW5,JB$79)=0,\"\",INDEX(All_Hazards_and_Controls,$BW5,JB$79)))","v":"MAKE BLANK"},null,null,{"$f":"IF(JE$78=\"NO\",\"MAKE BLANK\",IF(INDEX(All_Hazards_and_Controls,$BW5,JE$79)=0,\"\",INDEX(All_Hazards_and_Controls,$BW5,JE$79)))","v":"MAKE BLANK"},null,null,{"$f":"IF(JH$78=\"NO\",\"MAKE BLANK\",IF(INDEX(All_Hazards_and_Controls,$BW5,JH$79)=0,\"\",INDEX(All_Hazards_and_Controls,$BW5,JH$79)))","v":"MAKE BLANK"},null,null,{"$f":"IF(JK$78=\"NO\",\"MAKE BLANK\",IF(INDEX(All_Hazards_and_Controls,$BW5,JK$79)=0,\"\",INDEX(All_Hazards_and_Controls,$BW5,JK$79)))","v":"MAKE BLANK"},null,null,{"$f":"IF(JN$78=\"NO\",\"MAKE BLANK\",IF(INDEX(All_Hazards_and_Controls,$BW5,JN$79)=0,\"\",INDEX(All_Hazards_and_Controls,$BW5,JN$79)))","v":"MAKE BLANK"},null,null,{"$f":"IF(JQ$78=\"NO\",\"MAKE BLANK\",IF(INDEX(All_Hazards_and_Controls,$BW5,JQ$79)=0,\"\",INDEX(All_Hazards_and_Controls,$BW5,JQ$79)))","v":"MAKE BLANK"},null,null,{"$f":"IF(JT$78=\"NO\",\"MAKE BLANK\",IF(INDEX(All_Hazards_and_Controls,$BW5,JT$79)=0,\"\",INDEX(All_Hazards_and_Controls,$BW5,JT$79)))","v":"MAKE BLANK"},null,null,{"$f":"IF(JW$78=\"NO\",\"MAKE BLANK\",IF(INDEX(All_Hazards_and_Controls,$BW5,JW$79)=0,\"\",INDEX(All_Hazards_and_Controls,$BW5,JW$79)))","v":"MAKE BLANK"},null,null,{"$f":"IF(JZ$78=\"NO\",\"MAKE BLANK\",IF(INDEX(All_Hazards_and_Controls,$BW5,JZ$79)=0,\"\",INDEX(All_Hazards_and_Controls,$BW5,JZ$79)))","v":"MAKE BLANK"},null,null,{"$f":"IF(KC$78=\"NO\",\"MAKE BLANK\",IF(INDEX(All_Hazards_and_Controls,$BW5,KC$79)=0,\"\",INDEX(All_Hazards_and_Controls,$BW5,KC$79)))","v":"MAKE BLANK"},null,null,{"$f":"IF(KF$78=\"NO\",\"MAKE BLANK\",IF(INDEX(All_Hazards_and_Controls,$BW5,KF$79)=0,\"\",INDEX(All_Hazards_and_Controls,$BW5,KF$79)))","v":"MAKE BLANK"},null,null,{"$f":"IF(KI$78=\"NO\",\"MAKE BLANK\",IF(INDEX(All_Hazards_and_Controls,$BW5,KI$79)=0,\"\",INDEX(All_Hazards_and_Controls,$BW5,KI$79)))","v":"MAKE BLANK"},null,null,{"$f":"IF(KL$78=\"NO\",\"MAKE BLANK\",IF(INDEX(All_Hazards_and_Controls,$BW5,KL$79)=0,\"\",INDEX(All_Hazards_and_Controls,$BW5,KL$79)))","v":"MAKE BLANK"},null,null,{"$f":"IF(KO$78=\"NO\",\"MAKE BLANK\",IF(INDEX(All_Hazards_and_Controls,$BW5,KO$79)=0,\"\",INDEX(All_Hazards_and_Controls,$BW5,KO$79)))","v":"MAKE BLANK"},null,null,{"$f":"IF(KR$78=\"NO\",\"MAKE BLANK\",IF(INDEX(All_Hazards_and_Controls,$BW5,KR$79)=0,\"\",INDEX(All_Hazards_and_Controls,$BW5,KR$79)))","v":"MAKE BLANK"},null,null,{"$f":"IF(KU$78=\"NO\",\"MAKE BLANK\",IF(INDEX(All_Hazards_and_Controls,$BW5,KU$79)=0,\"\",INDEX(All_Hazards_and_Controls,$BW5,KU$79)))","v":"MAKE BLANK"},null,null,{"$f":"IF(KX$78=\"NO\",\"MAKE BLANK\",IF(INDEX(All_Hazards_and_Controls,$BW5,KX$79)=0,\"\",INDEX(All_Hazards_and_Controls,$BW5,KX$79)))","v":"MAKE BLANK"},null,null,{"$f":"IF(LA$78=\"NO\",\"MAKE BLANK\",IF(INDEX(All_Hazards_and_Controls,$BW5,LA$79)=0,\"\",INDEX(All_Hazards_and_Controls,$BW5,LA$79)))","v":"MAKE BLANK"},null,null,{"$f":"IF(LD$78=\"NO\",\"MAKE BLANK\",IF(INDEX(All_Hazards_and_Controls,$BW5,LD$79)=0,\"\",INDEX(All_Hazards_and_Controls,$BW5,LD$79)))","v":"MAKE BLANK"},null,null,{"$f":"IF(LG$78=\"NO\",\"MAKE BLANK\",IF(INDEX(All_Hazards_and_Controls,$BW5,LG$79)=0,\"\",INDEX(All_Hazards_and_Controls,$BW5,LG$79)))","v":"MAKE BLANK"},null,null,{"$f":"IF(LJ$78=\"NO\",\"MAKE BLANK\",IF(INDEX(All_Hazards_and_Controls,$BW5,LJ$79)=0,\"\",INDEX(All_Hazards_and_Controls,$BW5,LJ$79)))","v":"MAKE BLANK"},null,null,{"$f":"IF(LM$78=\"NO\",\"MAKE BLANK\",IF(INDEX(All_Hazards_and_Controls,$BW5,LM$79)=0,\"\",INDEX(All_Hazards_and_Controls,$BW5,LM$79)))","v":"MAKE BLANK"},null,null,{"$f":"IF(LP$78=\"NO\",\"MAKE BLANK\",IF(INDEX(All_Hazards_and_Controls,$BW5,LP$79)=0,\"\",INDEX(All_Hazards_and_Controls,$BW5,LP$79)))","v":"MAKE BLANK"},null,null,{"$f":"IF(LS$78=\"NO\",\"MAKE BLANK\",IF(INDEX(All_Hazards_and_Controls,$BW5,LS$79)=0,\"\",INDEX(All_Hazards_and_Controls,$BW5,LS$79)))","v":"MAKE BLANK"},null,null,{"$f":"IF(LV$78=\"NO\",\"MAKE BLANK\",IF(INDEX(All_Hazards_and_Controls,$BW5,LV$79)=0,\"\",INDEX(All_Hazards_and_Controls,$BW5,LV$79)))","v":"MAKE BLANK"},null,null,{"$f":"IF(LY$78=\"NO\",\"MAKE BLANK\",IF(INDEX(All_Hazards_and_Controls,$BW5,LY$79)=0,\"\",INDEX(All_Hazards_and_Controls,$BW5,LY$79)))","v":"MAKE BLANK"},null,null,{"$f":"IF(MB$78=\"NO\",\"MAKE BLANK\",IF(INDEX(All_Hazards_and_Controls,$BW5,MB$79)=0,\"\",INDEX(All_Hazards_and_Controls,$BW5,MB$79)))","v":"MAKE BLANK"},null,null,{"$f":"IF(ME$78=\"NO\",\"MAKE BLANK\",IF(INDEX(All_Hazards_and_Controls,$BW5,ME$79)=0,\"\",INDEX(All_Hazards_and_Controls,$BW5,ME$79)))","v":"MAKE BLANK"},null,null,{"$f":"IF(MH$78=\"NO\",\"MAKE BLANK\",IF(INDEX(All_Hazards_and_Controls,$BW5,MH$79)=0,\"\",INDEX(All_Hazards_and_Controls,$BW5,MH$79)))","v":"MAKE BLANK"},null,null,{"$f":"IF(MK$78=\"NO\",\"MAKE BLANK\",IF(INDEX(All_Hazards_and_Controls,$BW5,MK$79)=0,\"\",INDEX(All_Hazards_and_Controls,$BW5,MK$79)))","v":"MAKE BLANK"},null,null,{"$f":"IF(MN$78=\"NO\",\"MAKE BLANK\",IF(INDEX(All_Hazards_and_Controls,$BW5,MN$79)=0,\"\",INDEX(All_Hazards_and_Controls,$BW5,MN$79)))","v":"MAKE BLANK"},null,null,{"$f":"IF(MQ$78=\"NO\",\"MAKE BLANK\",IF(INDEX(All_Hazards_and_Controls,$BW5,MQ$79)=0,\"\",INDEX(All_Hazards_and_Controls,$BW5,MQ$79)))","v":"MAKE BLANK"},null,null,{"$f":"IF(MT$78=\"NO\",\"MAKE BLANK\",IF(INDEX(All_Hazards_and_Controls,$BW5,MT$79)=0,\"\",INDEX(All_Hazards_and_Controls,$BW5,MT$79)))","v":"MAKE BLANK"}]
[null,null,null,null,null,{"$f":"IF(Scope_of_Work=0,\"\",Scope_of_Work)","v":"Step 1:\n\nStep 2:\n\nStep 3:\n\nStep 4:\n\nStep 5:"},null,{"$f":"IF(Scope_Cat_1=0,\"\",Scope_Cat_1)","v":""},null,{"$f":"IF(Scope_Cat_7=0,\"\",Scope_Cat_7)","v":""},null,null,null,null,null,null,null,null,null,null,null,null,null,null,null,null,null,null,"Additional Jobs / Activities Required",null,null,null,null,null,null,null,null,null,null,null,null,null,"Additional Hazards Identified",null,null,null,null,null,"Additional Hazards Identified",null,null,null,null,null,null,null,"Additional Controls Checklist",null,null,null,"continued",null,null,null,null,null,null,null,null,null,null,"Things Done Well - - Keep Doing"]
[null,null,null,null,null,null,null,{"$f":"IF(Scope_Cat_2=0,\"\",Scope_Cat_2)","v":""},null,{"$f":"IF(Scope_Cat_8=0,\"\",Scope_Cat_8)","v":""},null,"OVERALL RISK LEVEL FOR ACTIVITY",null,{"$f":"IF(Max_Residual_Risk=3,\"HIGH\",IF(Max_Residual_Risk=2,\"MODERATE\",IF(Max_Residual_Risk=1,\"LOW\",IF(Max_Residual_Risk=0,\"NO RISK\",\"ERROR\"))))","v":"NO RISK"},null,null,1,{"$f":"IF(Number_environmental_pages=0,\"MAKE BLANK\",IF(Q7>Total_plan_no_of_Envir_Aspects,\"MAKE BLANK\",VLOOKUP(Q7,'4'!$B$116:$Y$136,3,FALSE)))","v":"MAKE BLANK"},null,null,5,{"$f":"IF(Number_environmental_pages<2,\"MAKE BLANK\",IF(U7>Total_plan_no_of_Envir_Aspects,\"MAKE BLANK\",VLOOKUP(U7,'4'!$B$116:$Y$136,3,FALSE)))","v":"MAKE BLANK"},null,null,9,{"$f":"IF(Number_environmental_pages<3,\"MAKE BLANK\",IF(Y7>Total_plan_no_of_Envir_Aspects,\"MAKE BLANK\",VLOOKUP(Y7,'4'!$B$116:$Y$136,3,FALSE)))","v":"MAKE BLANK"},null,null,null,null,null,null,null,null,null,null,null,null,null,null,null,null,null,"Fall From Height",null,null,null,null,null,"Lifting equipment other than cranes",null,null,null,null,null,null,null,"Excavation",null,null,null,null,"Steel Erection / Material Hoisting",null,null,null,null,"Welding Burning",null,null,null,{"$f":"IF(LL_Continue=0,CONCATENATE(\" \n_______________________________________________________________________________________________\n\n_______________________________________________________________________________________________\n\",\" \n_______________________________________________________________________________________________\n\n_______________________________________________________________________________________________\n\",\" \n_______________________________________________________________________________________________\n\n_______________________________________________________________________________________________\n\n\"),LL_Continue)","v":" \n_______________________________________________________________________________________________\n\n_______________________________________________________________________________________________\n \n_______________________________________________________________________________________________\n\n_______________________________________________________________________________________________\n \n_______________________________________________________________________________________________\n\n_______________________________________________________________________________________________\n\n"},null,null,5,{"$f":"IF(BX$78=\"NO\",\"MAKE BLANK\",IF(INDEX(All_Hazards_and_Controls,$BW7,BX$79)=0,\"\",INDEX(All_Hazards_and_Controls,$BW7,BX$79)))","v":"MAKE BLANK"},"MAKE BLANK","MAKE BLANK","MAKE BLANK","MAKE BLANK","MAKE BLANK","MAKE BLANK","MAKE BLANK","MAKE BLANK","MAKE BLANK","MAKE BLANK","MAKE BLANK","MAKE BLANK","MAKE BLANK","MAKE BLANK","MAKE BLANK",{"$f":"IF(CN$78=\"NO\",\"MAKE BLANK\",IF(INDEX(All_Hazards_and_Controls,$BW7,CN$79)=0,\"\",INDEX(All_Hazards_and_Controls,$BW7,CN$79)))","v":"MAKE BLANK"},"MAKE BLANK","MAKE BLANK","MAKE BLANK","MAKE BLANK","MAKE BLANK","MAKE BLANK","MAKE BLANK","MAKE BLANK","MAKE BLANK","MAKE BLANK","MAKE BLANK","MAKE BLANK","MAKE BLANK","MAKE BLANK","MAKE BLANK","MAKE BLANK","MAKE BLANK","MAKE BLANK","MAKE BLANK","MAKE BLANK","MAKE BLANK","MAKE BLANK","MAKE BLANK","MAKE BLANK","MAKE BLANK","MAKE BLANK","MAKE BLANK","MAKE BLANK","MAKE BLANK","MAKE BLANK","MAKE BLANK","MAKE BLANK","MAKE BLANK","MAKE BLANK","MAKE BLANK","MAKE BLANK","MAKE BLANK","MAKE BLANK","MAKE BLANK","MAKE BLANK","MAKE BLANK","MAKE BLANK","MAKE BLANK","MAKE BLANK","MAKE BLANK","MAKE BLANK","MAKE BLANK","MAKE BLANK","MAKE BLANK","MAKE BLANK","MAKE BLANK","MAKE BLANK","MAKE BLANK","MAKE BLANK","MAKE BLANK","MAKE BLANK","MAKE BLANK","MAKE BLANK","MAKE BLANK","MAKE BLANK","MAKE BLANK","MAKE BLANK","MAKE BLANK",{"$f":"IF(EZ$78=\"NO\",\"MAKE BLANK\",IF(INDEX(All_Hazards_and_Controls,$BW7,EZ$79)=0,\"\",INDEX(All_Hazards_and_Controls,$BW7,EZ$79)))","v":"MAKE BLANK"},"MAKE BLANK","MAKE BLANK","MAKE BLANK","MAKE BLANK","MAKE BLANK","MAKE BLANK","MAKE BLANK","MAKE BLANK","MAKE BLANK","MAKE BLANK","MAKE BLANK","MAKE BLANK","MAKE BLANK","MAKE BLANK","MAKE BLANK",{"$f":"IF(FP$78=\"NO\",\"MAKE BLANK\",IF(INDEX(All_Hazards_and_Controls,$BW7,FP$79)=0,\"\",INDEX(All_Hazards_and_Controls,$BW7,FP$79)))","v":"MAKE BLANK"},"MAKE BLANK","MAKE BLANK","MAKE BLANK","MAKE BLANK","MAKE BLANK","MAKE BLANK","MAKE BLANK","MAKE BLANK","MAKE BLANK","MAKE BLANK","MAKE BLANK","MAKE BLANK","MAKE BLANK","MAKE BLANK","MAKE BLANK","MAKE BLANK","MAKE BLANK","MAKE BLANK","MAKE BLANK","MAKE BLANK","MAKE BLANK","MAKE BLANK","MAKE BLANK","MAKE BLANK","MAKE BLANK","MAKE BLANK","MAKE BLANK","MAKE BLANK","MAKE BLANK","MAKE BLANK","MAKE BLANK","MAKE BLANK","MAKE BLANK","MAKE BLANK","MAKE BLANK","MAKE BLANK","MAKE BLANK","MAKE BLANK","MAKE BLANK","MAKE BLANK","MAKE BLANK","MAKE BLANK","MAKE BLANK","MAKE BLANK","MAKE BLANK","MAKE BLANK","MAKE BLANK","MAKE BLANK","MAKE BLANK","MAKE BLANK","MAKE BLANK","MAKE BLANK","MAKE BLANK","MAKE BLANK","MAKE BLANK","MAKE BLANK","MAKE BLANK","MAKE BLANK","MAKE BLANK","MAKE BLANK","MAKE BLANK","MAKE BLANK","MAKE BLANK",{"$f":"IF(IB$78=\"NO\",\"MAKE BLANK\",IF(INDEX(All_Hazards_and_Controls,$BW7,IB$79)=0,\"\",INDEX(All_Hazards_and_Controls,$BW7,IB$79)))","v":"MAKE BLANK"},"MAKE BLANK","MAKE BLANK","MAKE BLANK","MAKE BLANK","MAKE BLANK","MAKE BLANK","MAKE BLANK","MAKE BLANK","MAKE BLANK","MAKE BLANK","MAKE BLANK","MAKE BLANK","MAKE BLANK","MAKE BLANK","MAKE BLANK","MAKE BLANK","MAKE BLANK","MAKE BLANK","MAKE BLANK","MAKE BLANK","MAKE BLANK","MAKE BLANK","MAKE BLANK","MAKE BLANK","MAKE BLANK","MAKE BLANK","MAKE BLANK","MAKE BLANK","MAKE BLANK","MAKE BLANK","MAKE BLANK","MAKE BLANK","MAKE BLANK","MAKE BLANK","MAKE BLANK","MAKE BLANK","MAKE BLANK","MAKE BLANK","MAKE BLANK","MAKE BLANK","MAKE BLANK","MAKE BLANK","MAKE BLANK",{"$f":"IF(JT$78=\"NO\",\"MAKE BLANK\",IF(INDEX(All_Hazards_and_Controls,$BW7,JT$79)=0,\"\",INDEX(All_Hazards_and_Controls,$BW7,JT$79)))","v":"MAKE BLANK"},"MAKE BLANK","MAKE BLANK","MAKE BLANK","MAKE BLANK","MAKE BLANK","MAKE BLANK","MAKE BLANK","MAKE BLANK","MAKE BLANK","MAKE BLANK","MAKE BLANK","MAKE BLANK","MAKE BLANK","MAKE BLANK","MAKE BLANK","MAKE BLANK","MAKE BLANK","MAKE BLANK","MAKE BLANK","MAKE BLANK","MAKE BLANK","MAKE BLANK","MAKE BLANK","MAKE BLANK","MAKE BLANK","MAKE BLANK","MAKE BLANK","MAKE BLANK","MAKE BLANK","MAKE BLANK","MAKE BLANK","MAKE BLANK","MAKE BLANK","MAKE BLANK","MAKE BLANK","MAKE BLANK","MAKE BLANK","MAKE BLANK","MAKE BLANK","MAKE BLANK","MAKE BLANK","MAKE BLANK","MAKE BLANK","MAKE BLANK","MAKE BLANK","MAKE BLANK","MAKE BLANK","MAKE BLANK","MAKE BLANK","MAKE BLANK","MAKE BLANK","MAKE BLANK","MAKE BLANK","MAKE BLANK","MAKE BLANK","MAKE BLANK","MAKE BLANK","MAKE BLANK","MAKE BLANK","MAKE BLANK","MAKE BLANK","MAKE BLANK","MAKE BLANK",{"$f":"IF(MF$78=\"NO\",\"MAKE BLANK\",IF(INDEX(All_Hazards_and_Controls,$BW7,MF$79)=0,\"\",INDEX(All_Hazards_and_Controls,$BW7,MF$79)))","v":"MAKE BLANK"},"MAKE BLANK","MAKE BLANK","MAKE BLANK","MAKE BLANK","MAKE BLANK","MAKE BLANK","MAKE BLANK","MAKE BLANK","MAKE BLANK",{"$f":"IF(MP$78=\"NO\",\"MAKE BLANK\",IF(INDEX(All_Hazards_and_Controls,$BW7,MP$79)=0,\"\",INDEX(All_Hazards_and_Controls,$BW7,MP$79)))","v":"MAKE BLANK"},"MAKE BLANK","MAKE BLANK","MAKE BLANK","MAKE BLANK","MAKE BLANK","MAKE BLANK"]
[{"$f":"IF(Plan_Name=0,\"\",Plan_Name)","v":""},null,null,null,null,null,null,{"$f":"IF(Scope_Cat_3=0,\"\",Scope_Cat_3)","v":""},null,{"$f":"IF(Scope_Cat_9=0,\"\",Scope_Cat_9)","v":""},null,"Risk Control Adequacy Statement",null,null,null,null,null,{"$f":"IF(Number_environmental_pages=0,\"MAKE BLANK\",IF(Q7>Total_plan_no_of_Envir_Aspects,\"MAKE BLANK\",\"Objective\"))","v":"MAKE BLANK"},{"$f":"IF(Number_environmental_pages=0,\"MAKE BLANK\",IF(Q7>Total_plan_no_of_Envir_Aspects,\"MAKE BLANK\",VLOOKUP(Q7,'4'!$B$116:$Z$136,23,FALSE)))","v":"MAKE BLANK"},null,null,{"$f":"IF(Number_environmental_pages<2,\"MAKE BLANK\",IF(U7>Total_plan_no_of_Envir_Aspects,\"MAKE BLANK\",\"Objective\"))","v":"MAKE BLANK"},{"$f":"IF(Number_environmental_pages<2,\"MAKE BLANK\",IF(U7>Total_plan_no_of_Envir_Aspects,\"MAKE BLANK\",VLOOKUP(U7,'4'!$B$116:$Z$136,23,FALSE)))","v":"MAKE BLANK"},null,null,{"$f":"IF(Number_environmental_pages<3,\"MAKE BLANK\",IF(Y7>Total_plan_no_of_Envir_Aspects,\"MAKE BLANK\",\"Objective\"))","v":"MAKE BLANK"},{"$f":"IF(Number_environmental_pages<3,\"MAKE BLANK\",IF(Y7>Total_plan_no_of_Envir_Aspects,\"MAKE BLANK\",VLOOKUP(Y7,'4'!$B$116:$Z$136,23,FALSE)))","v":"MAKE BLANK"},null,null,null,null,null,null,null,null,null,null,null,null,null,null,null,null,"Slips, Trips & Falls",null,null,null,null,null,"Train / Train Tracks",null,null,null,null,null,null,null,"Competent person onsite",null,null,null,null,"Rigging",null,null,null,null,"Hot Work Permit",null,null,null,null,null,null,6,"MAKE BLANK","MAKE BLANK","MAKE BLANK",{"$f":"IF(CA$78=\"NO\",\"MAKE BLANK\",IF(INDEX(All_Hazards_and_Controls,$BW8,CA$79)=0,\"\",INDEX(All_Hazards_and_Controls,$BW8,CA$79)))","v":"MAKE BLANK"},"MAKE BLANK","MAKE BLANK","MAKE BLANK","MAKE BLANK","MAKE BLANK","MAKE BLANK","MAKE BLANK","MAKE BLANK","MAKE BLANK","MAKE BLANK","MAKE BLANK","MAKE BLANK","MAKE BLANK","MAKE BLANK","MAKE BLANK","MAKE BLANK","MAKE BLANK","MAKE BLANK","MAKE BLANK","MAKE BLANK","MAKE BLANK","MAKE BLANK","MAKE BLANK","MAKE BLANK","MAKE BLANK","MAKE BLANK","MAKE BLANK","MAKE BLANK","MAKE BLANK","MAKE BLANK","MAKE BLANK","MAKE BLANK","MAKE BLANK","MAKE BLANK","MAKE BLANK","MAKE BLANK","MAKE BLANK","MAKE BLANK","MAKE BLANK","MAKE BLANK","MAKE BLANK","MAKE BLANK","MAKE BLANK","MAKE BLANK","MAKE BLANK","MAKE BLANK","MAKE BLANK","MAKE BLANK","MAKE BLANK","MAKE BLANK","MAKE BLANK","MAKE BLANK","MAKE BLANK","MAKE BLANK","MAKE BLANK","MAKE BLANK","MAKE BLANK","MAKE BLANK","MAKE BLANK","MAKE BLANK","MAKE BLANK","MAKE BLANK","MAKE BLANK","MAKE BLANK","MAKE BLANK","MAKE BLANK","MAKE BLANK","MAKE BLANK","MAKE BLANK","MAKE BLANK","MAKE BLANK","MAKE BLANK","MAKE BLANK","MAKE BLANK","MAKE BLANK","MAKE BLANK","MAKE BLANK","MAKE BLANK","MAKE BLANK","MAKE BLANK","MAKE BLANK","MAKE BLANK","MAKE BLANK","MAKE BLANK","MAKE BLANK","MAKE BLANK","MAKE BLANK","MAKE BLANK","MAKE BLANK","MAKE BLANK","MAKE BLANK","MAKE BLANK","MAKE BLANK","MAKE BLANK","MAKE BLANK","MAKE BLANK","MAKE BLANK","MAKE BLANK","MAKE BLANK","MAKE BLANK","MAKE BLANK","MAKE BLANK","MAKE BLANK","MAKE BLANK","MAKE BLANK","MAKE BLANK","MAKE BLANK","MAKE BLANK","MAKE BLANK","MAKE BLANK","MAKE BLANK","MAKE BLANK","MAKE BLANK","MAKE BLANK","MAKE BLANK","MAKE BLANK","MAKE BLANK","MAKE BLANK","MAKE BLANK","MAKE BLANK","MAKE BLANK","MAKE BLANK","MAKE BLANK","MAKE BLANK","MAKE BLANK","MAKE BLANK","MAKE BLANK","MAKE BLANK","MAKE BLANK","MAKE BLANK","MAKE BLANK","MAKE BLANK","MAKE BLANK","MAKE BLANK","MAKE BLANK","MAKE BLANK","MAKE BLANK","MAKE BLANK","MAKE BLANK","MAKE BLANK","MAKE BLANK","MAKE BLANK","MAKE BLANK","MAKE BLANK","MAKE BLANK","MAKE BLANK","MAKE BLANK","MAKE BLANK","MAKE BLANK","MAKE BLANK","MAKE BLANK","MAKE BLANK","MAKE BLANK","MAKE BLANK","MAKE BLANK","MAKE BLANK","MAKE BLANK","MAKE BLANK","MAKE BLANK","MAKE BLANK","MAKE BLANK","MAKE BLANK","MAKE BLANK","MAKE BLANK","MAKE BLANK","MAKE BLANK","MAKE BLANK","MAKE BLANK","MAKE BLANK","MAKE BLANK","MAKE BLANK","MAKE BLANK","MAKE BLANK","MAKE BLANK","MAKE BLANK","MAKE BLANK","MAKE BLANK","MAKE BLANK","MAKE BLANK","MAKE BLANK","MAKE BLANK","MAKE BLANK","MAKE BLANK","MAKE BLANK","MAKE BLANK","MAKE BLANK","MAKE BLANK","MAKE BLANK","MAKE BLANK","MAKE BLANK","MAKE BLANK","MAKE BLANK","MAKE BLANK","MAKE BLANK","MAKE BLANK","MAKE BLANK","MAKE BLANK","MAKE BLANK","MAKE BLANK","MAKE BLANK","MAKE BLANK","MAKE BLANK","MAKE BLANK","MAKE BLANK","MAKE BLANK","MAKE BLANK","MAKE BLANK","MAKE BLANK","MAKE BLANK","MAKE BLANK","MAKE BLANK","MAKE BLANK","MAKE BLANK","MAKE BLANK","MAKE BLANK","MAKE BLANK","MAKE BLANK","MAKE BLANK","MAKE BLANK","MAKE BLANK","MAKE BLANK","MAKE BLANK","MAKE BLANK","MAKE BLANK","MAKE BLANK","MAKE BLANK","MAKE BLANK","MAKE BLANK","MAKE BLANK","MAKE BLANK","MAKE BLANK","MAKE BLANK","MAKE BLANK","MAKE BLANK","MAKE BLANK","MAKE BLANK","MAKE BLANK","MAKE BLANK","MAKE BLANK","MAKE BLANK","MAKE BLANK","MAKE BLANK","MAKE BLANK","MAKE BLANK","MAKE BLANK","MAKE BLANK","MAKE BLANK","MAKE BLANK","MAKE BLANK","MAKE BLANK","MAKE BLANK","MAKE BLANK","MAKE BLANK","MAKE BLANK","MAKE BLANK","MAKE BLANK","MAKE BLANK","MAKE BLANK","MAKE BLANK","MAKE BLANK","MAKE BLANK","MAKE BLANK","MAKE BLANK","MAKE BLANK","MAKE BLANK","MAKE BLANK","MAKE BLANK","MAKE BLANK","MAKE BLANK","MAKE BLANK","MAKE BLANK","MAKE BLANK","MAKE BLANK","MAKE BLANK","MAKE BLANK","MAKE BLANK","MAKE BLANK","MAKE BLANK","MAKE BLANK","MAKE BLANK","MAKE BLANK"]
[null,null,null,null,null,null,null,{"$f":"IF(Scope_Cat_4=0,\"\",Scope_Cat_4)","v":""},null,{"$f":"IF(Scope_Cat_10=0,\"\",Scope_Cat_10)","v":""},null,"Support - ","Is the type/ amount / capability / condition of support adequate to carry out the activity?",null,null,null,null,null,null,null,null,null,null,null,null,null,null,null,null,null,null,null,null,null,null,null,null,null,null,null,null,null,null,"Strains & Pulled Muscles",null,null,null,null,null,"Impalement hazards",null,null,null,null,null,null,null,"Daily inspection documented",null,null,null,null,"Taglines",null,null,null,null,"Systems drained",null,null,null,null,null,null,null,{"$f":"IF(BX78=\"YES\",\"Engineering Controls\",\"MAKE BLANK\")","v":"MAKE BLANK"},null,null,{"$f":"IF(CA78=\"YES\",\"Engineering Controls\",\"MAKE BLANK\")","v":"MAKE BLANK"},null,null,{"$f":"IF(CD78=\"YES\",\"Engineering Controls\",\"MAKE BLANK\")","v":"MAKE BLANK"},null,null,{"$f":"IF(CG78=\"YES\",\"Engineering Controls\",\"MAKE BLANK\")","v":"MAKE BLANK"},null,null,{"$f":"IF(CJ78=\"YES\",\"Engineering Controls\",\"MAKE BLANK\")","v":"MAKE BLANK"},null,null,{"$f":"IF(CM78=\"YES\",\"Engineering Controls\",\"MAKE BLANK\")","v":"MAKE BLANK"},null,null,{"$f":"IF(CP78=\"YES\",\"Engineering Controls\",\"MAKE BLANK\")","v":"MAKE BLANK"},null,null,{"$f":"IF(CS78=\"YES\",\"Engineering Controls\",\"MAKE BLANK\")","v":"MAKE BLANK"},null,null,{"$f":"IF(CV78=\"YES\",\"Engineering Controls\",\"MAKE BLANK\")","v":"MAKE BLANK"},null,null,{"$f":"IF(CY78=\"YES\",\"Engineering Controls\",\"MAKE BLANK\")","v":"MAKE BLANK"},null,null,{"$f":"IF(DB78=\"YES\",\"Engineering Controls\",\"MAKE BLANK\")","v":"MAKE BLANK"},null,null,{"$f":"IF(DE78=\"YES\",\"Engineering Controls\",\"MAKE BLANK\")","v":"MAKE BLANK"},null,null,{"$f":"IF(DH78=\"YES\",\"Engineering Controls\",\"MAKE BLANK\")","v":"MAKE BLANK"},null,null,{"$f":"IF(DK78=\"YES\",\"Engineering Controls\",\"MAKE BLANK\")","v":"MAKE BLANK"},null,null,{"$f":"IF(DN78=\"YES\",\"Engineering Controls\",\"MAKE BLANK\")","v":"MAKE BLANK"},null,null,{"$f":"IF(DQ78=\"YES\",\"Engineering Controls\",\"MAKE BLANK\")","v":"MAKE BLANK"},null,null,{"$f":"IF(DT78=\"YES\",\"Engineering Controls\",\"MAKE BLANK\")","v":"MAKE BLANK"},null,null,{"$f":"IF(DW78=\"YES\",\"Engineering Controls\",\"MAKE BLANK\")","v":"MAKE BLANK"},null,null,{"$f":"IF(DZ78=\"YES\",\"Engineering Controls\",\"MAKE BLANK\")","v":"MAKE BLANK"},null,null,{"$f":"IF(EC78=\"YES\",\"Engineering Controls\",\"MAKE BLANK\")","v":"MAKE BLANK"},null,null,{"$f":"IF(EF78=\"YES\",\"Engineering Controls\",\"MAKE BLANK\")","v":"MAKE BLANK"},null,null,{"$f":"IF(EI78=\"YES\",\"Engineering Controls\",\"MAKE BLANK\")","v":"MAKE BLANK"},null,null,{"$f":"IF(EL78=\"YES\",\"Engineering Controls\",\"MAKE BLANK\")","v":"MAKE BLANK"},null,null,{"$f":"IF(EO78=\"YES\",\"Engineering Controls\",\"MAKE BLANK\")","v":"MAKE BLANK"},null,null,{"$f":"IF(ER78=\"YES\",\"Engineering Controls\",\"MAKE BLANK\")","v":"MAKE BLANK"},null,null,{"$f":"IF(EU78=\"YES\",\"Engineering Controls\",\"MAKE BLANK\")","v":"MAKE BLANK"},null,null,{"$f":"IF(EX78=\"YES\",\"Engineering Controls\",\"MAKE BLANK\")","v":"MAKE BLANK"},null,null,{"$f":"IF(FA78=\"YES\",\"Engineering Controls\",\"MAKE BLANK\")","v":"MAKE BLANK"},null,null,{"$f":"IF(FD78=\"YES\",\"Engineering Controls\",\"MAKE BLANK\")","v":"MAKE BLANK"},null,null,{"$f":"IF(FG78=\"YES\",\"Engineering Controls\",\"MAKE BLANK\")","v":"MAKE BLANK"},null,null,{"$f":"IF(FJ78=\"YES\",\"Engineering Controls\",\"MAKE BLANK\")","v":"MAKE BLANK"},null,null,{"$f":"IF(FM78=\"YES\",\"Engineering Controls\",\"MAKE BLANK\")","v":"MAKE BLANK"},null,null,{"$f":"IF(FP78=\"YES\",\"Engineering Controls\",\"MAKE BLANK\")","v":"MAKE BLANK"},null,null,{"$f":"IF(FS78=\"YES\",\"Engineering Controls\",\"MAKE BLANK\")","v":"MAKE BLANK"},null,null,{"$f":"IF(FV78=\"YES\",\"Engineering Controls\",\"MAKE BLANK\")","v":"MAKE BLANK"},null,null,{"$f":"IF(FY78=\"YES\",\"Engineering Controls\",\"MAKE BLANK\")","v":"MAKE BLANK"},null,null,{"$f":"IF(GB78=\"YES\",\"Engineering Controls\",\"MAKE BLANK\")","v":"MAKE BLANK"},null,null,{"$f":"IF(GE78=\"YES\",\"Engineering Controls\",\"MAKE BLANK\")","v":"MAKE BLANK"},null,null,{"$f":"IF(GH78=\"YES\",\"Engineering Controls\",\"MAKE BLANK\")","v":"MAKE BLANK"},null,null,{"$f":"IF(GK78=\"YES\",\"Engineering Controls\",\"MAKE BLANK\")","v":"MAKE BLANK"},null,null,{"$f":"IF(GN78=\"YES\",\"Engineering Controls\",\"MAKE BLANK\")","v":"MAKE BLANK"},null,null,{"$f":"IF(GQ78=\"YES\",\"Engineering Controls\",\"MAKE BLANK\")","v":"MAKE BLANK"},null,null,{"$f":"IF(GT78=\"YES\",\"Engineering Controls\",\"MAKE BLANK\")","v":"MAKE BLANK"},null,null,{"$f":"IF(GW78=\"YES\",\"Engineering Controls\",\"MAKE BLANK\")","v":"MAKE BLANK"},null,null,{"$f":"IF(GZ78=\"YES\",\"Engineering Controls\",\"MAKE BLANK\")","v":"MAKE BLANK"},null,null,{"$f":"IF(HC78=\"YES\",\"Engineering Controls\",\"MAKE BLANK\")","v":"MAKE BLANK"},null,null,{"$f":"IF(HF78=\"YES\",\"Engineering Controls\",\"MAKE BLANK\")","v":"MAKE BLANK"},null,null,{"$f":"IF(HI78=\"YES\",\"Engineering Controls\",\"MAKE BLANK\")","v":"MAKE BLANK"},null,null,{"$f":"IF(HL78=\"YES\",\"Engineering Controls\",\"MAKE BLANK\")","v":"MAKE BLANK"},null,null,{"$f":"IF(HO78=\"YES\",\"Engineering Controls\",\"MAKE BLANK\")","v":"MAKE BLANK"},null,null,{"$f":"IF(HR78=\"YES\",\"Engineering Controls\",\"MAKE BLANK\")","v":"MAKE BLANK"},null,null,{"$f":"IF(HU78=\"YES\",\"Engineering Controls\",\"MAKE BLANK\")","v":"MAKE BLANK"},null,null,{"$f":"IF(HX78=\"YES\",\"Engineering Controls\",\"MAKE BLANK\")","v":"MAKE BLANK"},null,null,{"$f":"IF(IA78=\"YES\",\"Engineering Controls\",\"MAKE BLANK\")","v":"MAKE BLANK"},null,null,{"$f":"IF(ID78=\"YES\",\"Engineering Controls\",\"MAKE BLANK\")","v":"MAKE BLANK"},null,null,{"$f":"IF(IG78=\"YES\",\"Engineering Controls\",\"MAKE BLANK\")","v":"MAKE BLANK"},null,null,{"$f":"IF(IJ78=\"YES\",\"Engineering Controls\",\"MAKE BLANK\")","v":"MAKE BLANK"},null,null,{"$f":"IF(IM78=\"YES\",\"Engineering Controls\",\"MAKE BLANK\")","v":"MAKE BLANK"},null,null,{"$f":"IF(IP78=\"YES\",\"Engineering Controls\",\"MAKE BLANK\")","v":"MAKE BLANK"},null,null,{"$f":"IF(IS78=\"YES\",\"Engineering Controls\",\"MAKE BLANK\")","v":"MAKE BLANK"},null,null,{"$f":"IF(IV78=\"YES\",\"Engineering Controls\",\"MAKE BLANK\")","v":"MAKE BLANK"},null,null,{"$f":"IF(IY78=\"YES\",\"Engineering Controls\",\"MAKE BLANK\")","v":"MAKE BLANK"},null,null,{"$f":"IF(JB78=\"YES\",\"Engineering Controls\",\"MAKE BLANK\")","v":"MAKE BLANK"},null,null,{"$f":"IF(JE78=\"YES\",\"Engineering Controls\",\"MAKE BLANK\")","v":"MAKE BLANK"},null,null,{"$f":"IF(JH78=\"YES\",\"Engineering Controls\",\"MAKE BLANK\")","v":"MAKE BLANK"},null,null,{"$f":"IF(JK78=\"YES\",\"Engineering Controls\",\"MAKE BLANK\")","v":"MAKE BLANK"},null,null,{"$f":"IF(JN78=\"YES\",\"Engineering Controls\",\"MAKE BLANK\")","v":"MAKE BLANK"},null,null,{"$f":"IF(JQ78=\"YES\",\"Engineering Controls\",\"MAKE BLANK\")","v":"MAKE BLANK"},null,null,{"$f":"IF(JT78=\"YES\",\"Engineering Controls\",\"MAKE BLANK\")","v":"MAKE BLANK"},null,null,{"$f":"IF(JW78=\"YES\",\"Engineering Controls\",\"MAKE BLANK\")","v":"MAKE BLANK"},null,null,{"$f":"IF(JZ78=\"YES\",\"Engineering Controls\",\"MAKE BLANK\")","v":"MAKE BLANK"},null,null,{"$f":"IF(KC78=\"YES\",\"Engineering Controls\",\"MAKE BLANK\")","v":"MAKE BLANK"},null,null,{"$f":"IF(KF78=\"YES\",\"Engineering Controls\",\"MAKE BLANK\")","v":"MAKE BLANK"},null,null,{"$f":"IF(KI78=\"YES\",\"Engineering Controls\",\"MAKE BLANK\")","v":"MAKE BLANK"},null,null,{"$f":"IF(KL78=\"YES\",\"Engineering Controls\",\"MAKE BLANK\")","v":"MAKE BLANK"},null,null,{"$f":"IF(KO78=\"YES\",\"Engineering Controls\",\"MAKE BLANK\")","v":"MAKE BLANK"},null,null,{"$f":"IF(KR78=\"YES\",\"Engineering Controls\",\"MAKE BLANK\")","v":"MAKE BLANK"},null,null,{"$f":"IF(KU78=\"YES\",\"Engineering Controls\",\"MAKE BLANK\")","v":"MAKE BLANK"},null,null,{"$f":"IF(KX78=\"YES\",\"Engineering Controls\",\"MAKE BLANK\")","v":"MAKE BLANK"},null,null,{"$f":"IF(LA78=\"YES\",\"Engineering Controls\",\"MAKE BLANK\")","v":"MAKE BLANK"},null,null,{"$f":"IF(LD78=\"YES\",\"Engineering Controls\",\"MAKE BLANK\")","v":"MAKE BLANK"},null,null,{"$f":"IF(LG78=\"YES\",\"Engineering Controls\",\"MAKE BLANK\")","v":"MAKE BLANK"},null,null,{"$f":"IF(LJ78=\"YES\",\"Engineering Controls\",\"MAKE BLANK\")","v":"MAKE BLANK"},null,null,{"$f":"IF(LM78=\"YES\",\"Engineering Controls\",\"MAKE BLANK\")","v":"MAKE BLANK"},null,null,{"$f":"IF(LP78=\"YES\",\"Engineering Controls\",\"MAKE BLANK\")","v":"MAKE BLANK"},null,null,{"$f":"IF(LS78=\"YES\",\"Engineering Controls\",\"MAKE BLANK\")","v":"MAKE BLANK"},null,null,{"$f":"IF(LV78=\"YES\",\"Engineering Controls\",\"MAKE BLANK\")","v":"MAKE BLANK"},null,null,{"$f":"IF(LY78=\"YES\",\"Engineering Controls\",\"MAKE BLANK\")","v":"MAKE BLANK"},null,null,{"$f":"IF(MB78=\"YES\",\"Engineering Controls\",\"MAKE BLANK\")","v":"MAKE BLANK"},null,null,{"$f":"IF(ME78=\"YES\",\"Engineering Controls\",\"MAKE BLANK\")","v":"MAKE BLANK"},null,null,{"$f":"IF(MH78=\"YES\",\"Engineering Controls\",\"MAKE BLANK\")","v":"MAKE BLANK"},null,null,{"$f":"IF(MK78=\"YES\",\"Engineering Controls\",\"MAKE BLANK\")","v":"MAKE BLANK"},null,null,{"$f":"IF(MN78=\"YES\",\"Engineering Controls\",\"MAKE BLANK\")","v":"MAKE BLANK"},null,null,{"$f":"IF(MQ78=\"YES\",\"Engineering Controls\",\"MAKE BLANK\")","v":"MAKE BLANK"},null,null,{"$f":"IF(MT78=\"YES\",\"Engineering Controls\",\"MAKE BLANK\")","v":"MAKE BLANK"}]
["Business Unit",null,{"$f":"IF(Business_Unit_Name=0,\"\",Business_Unit_Name)","v":"Civil"}," ","Work Area",null,null,{"$f":"IF(Scope_Cat_5=0,\"\",Scope_Cat_5)","v":""},null,{"$f":"IF(Scope_Cat_11=0,\"\",Scope_Cat_11)","v":""},null,null,"Personnel","Yes",null,"Yes",null,null,null,null,null,null,null,null,null,null,null,null,null,null,null,null,null,null,null,null,null,null,null,null,null,null,null,"Power / Hand Tool Injuries",null,null,null,null,null,"Lockout / Tagout",null,null,null,null,null,null,null,"Soil class documented",null,null,null,null,"Floor requirements",null,null,null,null,"Water hose",null,null,null,null,null,null,8,{"$f":"IF(BX$78=\"NO\",\"MAKE BLANK\",IF(INDEX(All_Hazards_and_Controls,$BW10,BX$79)=0,\"\",INDEX(All_Hazards_and_Controls,$BW10,BX$79)))","v":"MAKE BLANK"},null,null,{"$f":"IF(CA$78=\"NO\",\"MAKE BLANK\",IF(INDEX(All_Hazards_and_Controls,$BW10,CA$79)=0,\"\",INDEX(All_Hazards_and_Controls,$BW10,CA$79)))","v":"MAKE BLANK"},null,null,{"$f":"IF(CD$78=\"NO\",\"MAKE BLANK\",IF(INDEX(All_Hazards_and_Controls,$BW10,CD$79)=0,\"\",INDEX(All_Hazards_and_Controls,$BW10,CD$79)))","v":"MAKE BLANK"},null,null,{"$f":"IF(CG$78=\"NO\",\"MAKE BLANK\",IF(INDEX(All_Hazards_and_Controls,$BW10,CG$79)=0,\"\",INDEX(All_Hazards_and_Controls,$BW10,CG$79)))","v":"MAKE BLANK"},null,null,{"$f":"IF(CJ$78=\"NO\",\"MAKE BLANK\",IF(INDEX(All_Hazards_and_Controls,$BW10,CJ$79)=0,\"\",INDEX(All_Hazards_and_Controls,$BW10,CJ$79)))","v":"MAKE BLANK"},null,null,{"$f":"IF(CM$78=\"NO\",\"MAKE BLANK\",IF(INDEX(All_Hazards_and_Controls,$BW10,CM$79)=0,\"\",INDEX(All_Hazards_and_Controls,$BW10,CM$79)))","v":"MAKE BLANK"},null,null,{"$f":"IF(CP$78=\"NO\",\"MAKE BLANK\",IF(INDEX(All_Hazards_and_Controls,$BW10,CP$79)=0,\"\",INDEX(All_Hazards_and_Controls,$BW10,CP$79)))","v":"MAKE BLANK"},null,null,{"$f":"IF(CS$78=\"NO\",\"MAKE BLANK\",IF(INDEX(All_Hazards_and_Controls,$BW10,CS$79)=0,\"\",INDEX(All_Hazards_and_Controls,$BW10,CS$79)))","v":"MAKE BLANK"},null,null,{"$f":"IF(CV$78=\"NO\",\"MAKE BLANK\",IF(INDEX(All_Hazards_and_Controls,$BW10,CV$79)=0,\"\",INDEX(All_Hazards_and_Controls,$BW10,CV$79)))","v":"MAKE BLANK"},null,null,{"$f":"IF(CY$78=\"NO\",\"MAKE BLANK\",IF(INDEX(All_Hazards_and_Controls,$BW10,CY$79)=0,\"\",INDEX(All_Hazards_and_Controls,$BW10,CY$79)))","v":"MAKE BLANK"},null,null,{"$f":"IF(DB$78=\"NO\",\"MAKE BLANK\",IF(INDEX(All_Hazards_and_Controls,$BW10,DB$79)=0,\"\",INDEX(All_Hazards_and_Controls,$BW10,DB$79)))","v":"MAKE BLANK"},null,null,{"$f":"IF(DE$78=\"NO\",\"MAKE BLANK\",IF(INDEX(All_Hazards_and_Controls,$BW10,DE$79)=0,\"\",INDEX(All_Hazards_and_Controls,$BW10,DE$79)))","v":"MAKE BLANK"},null,null,{"$f":"IF(DH$78=\"NO\",\"MAKE BLANK\",IF(INDEX(All_Hazards_and_Controls,$BW10,DH$79)=0,\"\",INDEX(All_Hazards_and_Controls,$BW10,DH$79)))","v":"MAKE BLANK"},null,null,{"$f":"IF(DK$78=\"NO\",\"MAKE BLANK\",IF(INDEX(All_Hazards_and_Controls,$BW10,DK$79)=0,\"\",INDEX(All_Hazards_and_Controls,$BW10,DK$79)))","v":"MAKE BLANK"},null,null,{"$f":"IF(DN$78=\"NO\",\"MAKE BLANK\",IF(INDEX(All_Hazards_and_Controls,$BW10,DN$79)=0,\"\",INDEX(All_Hazards_and_Controls,$BW10,DN$79)))","v":"MAKE BLANK"},null,null,{"$f":"IF(DQ$78=\"NO\",\"MAKE BLANK\",IF(INDEX(All_Hazards_and_Controls,$BW10,DQ$79)=0,\"\",INDEX(All_Hazards_and_Controls,$BW10,DQ$79)))","v":"MAKE BLANK"},null,null,{"$f":"IF(DT$78=\"NO\",\"MAKE BLANK\",IF(INDEX(All_Hazards_and_Controls,$BW10,DT$79)=0,\"\",INDEX(All_Hazards_and_Controls,$BW10,DT$79)))","v":"MAKE BLANK"},null,null,{"$f":"IF(DW$78=\"NO\",\"MAKE BLANK\",IF(INDEX(All_Hazards_and_Controls,$BW10,DW$79)=0,\"\",INDEX(All_Hazards_and_Controls,$BW10,DW$79)))","v":"MAKE BLANK"},null,null,{"$f":"IF(DZ$78=\"NO\",\"MAKE BLANK\",IF(INDEX(All_Hazards_and_Controls,$BW10,DZ$79)=0,\"\",INDEX(All_Hazards_and_Controls,$BW10,DZ$79)))","v":"MAKE BLANK"},null,null,{"$f":"IF(EC$78=\"NO\",\"MAKE BLANK\",IF(INDEX(All_Hazards_and_Controls,$BW10,EC$79)=0,\"\",INDEX(All_Hazards_and_Controls,$BW10,EC$79)))","v":"MAKE BLANK"},null,null,{"$f":"IF(EF$78=\"NO\",\"MAKE BLANK\",IF(INDEX(All_Hazards_and_Controls,$BW10,EF$79)=0,\"\",INDEX(All_Hazards_and_Controls,$BW10,EF$79)))","v":"MAKE BLANK"},null,null,{"$f":"IF(EI$78=\"NO\",\"MAKE BLANK\",IF(INDEX(All_Hazards_and_Controls,$BW10,EI$79)=0,\"\",INDEX(All_Hazards_and_Controls,$BW10,EI$79)))","v":"MAKE BLANK"},null,null,{"$f":"IF(EL$78=\"NO\",\"MAKE BLANK\",IF(INDEX(All_Hazards_and_Controls,$BW10,EL$79)=0,\"\",INDEX(All_Hazards_and_Controls,$BW10,EL$79)))","v":"MAKE BLANK"},null,null,{"$f":"IF(EO$78=\"NO\",\"MAKE BLANK\",IF(INDEX(All_Hazards_and_Controls,$BW10,EO$79)=0,\"\",INDEX(All_Hazards_and_Controls,$BW10,EO$79)))","v":"MAKE BLANK"},null,null,{"$f":"IF(ER$78=\"NO\",\"MAKE BLANK\",IF(INDEX(All_Hazards_and_Controls,$BW10,ER$79)=0,\"\",INDEX(All_Hazards_and_Controls,$BW10,ER$79)))","v":"MAKE BLANK"},null,null,{"$f":"IF(EU$78=\"NO\",\"MAKE BLANK\",IF(INDEX(All_Hazards_and_Controls,$BW10,EU$79)=0,\"\",INDEX(All_Hazards_and_Controls,$BW10,EU$79)))","v":"MAKE BLANK"},null,null,{"$f":"IF(EX$78=\"NO\",\"MAKE BLANK\",IF(INDEX(All_Hazards_and_Controls,$BW10,EX$79)=0,\"\",INDEX(All_Hazards_and_Controls,$BW10,EX$79)))","v":"MAKE BLANK"},null,null,{"$f":"IF(FA$78=\"NO\",\"MAKE BLANK\",IF(INDEX(All_Hazards_and_Controls,$BW10,FA$79)=0,\"\",INDEX(All_Hazards_and_Controls,$BW10,FA$79)))","v":"MAKE BLANK"},null,null,{"$f":"IF(FD$78=\"NO\",\"MAKE BLANK\",IF(INDEX(All_Hazards_and_Controls,$BW10,FD$79)=0,\"\",INDEX(All_Hazards_and_Controls,$BW10,FD$79)))","v":"MAKE BLANK"},null,null,{"$f":"IF(FG$78=\"NO\",\"MAKE BLANK\",IF(INDEX(All_Hazards_and_Controls,$BW10,FG$79)=0,\"\",INDEX(All_Hazards_and_Controls,$BW10,FG$79)))","v":"MAKE BLANK"},null,null,{"$f":"IF(FJ$78=\"NO\",\"MAKE BLANK\",IF(INDEX(All_Hazards_and_Controls,$BW10,FJ$79)=0,\"\",INDEX(All_Hazards_and_Controls,$BW10,FJ$79)))","v":"MAKE BLANK"},null,null,{"$f":"IF(FM$78=\"NO\",\"MAKE BLANK\",IF(INDEX(All_Hazards_and_Controls,$BW10,FM$79)=0,\"\",INDEX(All_Hazards_and_Controls,$BW10,FM$79)))","v":"MAKE BLANK"},null,null,{"$f":"IF(FP$78=\"NO\",\"MAKE BLANK\",IF(INDEX(All_Hazards_and_Controls,$BW10,FP$79)=0,\"\",INDEX(All_Hazards_and_Controls,$BW10,FP$79)))","v":"MAKE BLANK"},null,null,{"$f":"IF(FS$78=\"NO\",\"MAKE BLANK\",IF(INDEX(All_Hazards_and_Controls,$BW10,FS$79)=0,\"\",INDEX(All_Hazards_and_Controls,$BW10,FS$79)))","v":"MAKE BLANK"},null,null,{"$f":"IF(FV$78=\"NO\",\"MAKE BLANK\",IF(INDEX(All_Hazards_and_Controls,$BW10,FV$79)=0,\"\",INDEX(All_Hazards_and_Controls,$BW10,FV$79)))","v":"MAKE BLANK"},null,null,{"$f":"IF(FY$78=\"NO\",\"MAKE BLANK\",IF(INDEX(All_Hazards_and_Controls,$BW10,FY$79)=0,\"\",INDEX(All_Hazards_and_Controls,$BW10,FY$79)))","v":"MAKE BLANK"},null,null,{"$f":"IF(GB$78=\"NO\",\"MAKE BLANK\",IF(INDEX(All_Hazards_and_Controls,$BW10,GB$79)=0,\"\",INDEX(All_Hazards_and_Controls,$BW10,GB$79)))","v":"MAKE BLANK"},null,null,{"$f":"IF(GE$78=\"NO\",\"MAKE BLANK\",IF(INDEX(All_Hazards_and_Controls,$BW10,GE$79)=0,\"\",INDEX(All_Hazards_and_Controls,$BW10,GE$79)))","v":"MAKE BLANK"},null,null,{"$f":"IF(GH$78=\"NO\",\"MAKE BLANK\",IF(INDEX(All_Hazards_and_Controls,$BW10,GH$79)=0,\"\",INDEX(All_Hazards_and_Controls,$BW10,GH$79)))","v":"MAKE BLANK"},null,null,{"$f":"IF(GK$78=\"NO\",\"MAKE BLANK\",IF(INDEX(All_Hazards_and_Controls,$BW10,GK$79)=0,\"\",INDEX(All_Hazards_and_Controls,$BW10,GK$79)))","v":"MAKE BLANK"},null,null,{"$f":"IF(GN$78=\"NO\",\"MAKE BLANK\",IF(INDEX(All_Hazards_and_Controls,$BW10,GN$79)=0,\"\",INDEX(All_Hazards_and_Controls,$BW10,GN$79)))","v":"MAKE BLANK"},null,null,{"$f":"IF(GQ$78=\"NO\",\"MAKE BLANK\",IF(INDEX(All_Hazards_and_Controls,$BW10,GQ$79)=0,\"\",INDEX(All_Hazards_and_Controls,$BW10,GQ$79)))","v":"MAKE BLANK"},null,null,{"$f":"IF(GT$78=\"NO\",\"MAKE BLANK\",IF(INDEX(All_Hazards_and_Controls,$BW10,GT$79)=0,\"\",INDEX(All_Hazards_and_Controls,$BW10,GT$79)))","v":"MAKE BLANK"},null,null,{"$f":"IF(GW$78=\"NO\",\"MAKE BLANK\",IF(INDEX(All_Hazards_and_Controls,$BW10,GW$79)=0,\"\",INDEX(All_Hazards_and_Controls,$BW10,GW$79)))","v":"MAKE BLANK"},null,null,{"$f":"IF(GZ$78=\"NO\",\"MAKE BLANK\",IF(INDEX(All_Hazards_and_Controls,$BW10,GZ$79)=0,\"\",INDEX(All_Hazards_and_Controls,$BW10,GZ$79)))","v":"MAKE BLANK"},null,null,{"$f":"IF(HC$78=\"NO\",\"MAKE BLANK\",IF(INDEX(All_Hazards_and_Controls,$BW10,HC$79)=0,\"\",INDEX(All_Hazards_and_Controls,$BW10,HC$79)))","v":"MAKE BLANK"},null,null,{"$f":"IF(HF$78=\"NO\",\"MAKE BLANK\",IF(INDEX(All_Hazards_and_Controls,$BW10,HF$79)=0,\"\",INDEX(All_Hazards_and_Controls,$BW10,HF$79)))","v":"MAKE BLANK"},null,null,{"$f":"IF(HI$78=\"NO\",\"MAKE BLANK\",IF(INDEX(All_Hazards_and_Controls,$BW10,HI$79)=0,\"\",INDEX(All_Hazards_and_Controls,$BW10,HI$79)))","v":"MAKE BLANK"},null,null,{"$f":"IF(HL$78=\"NO\",\"MAKE BLANK\",IF(INDEX(All_Hazards_and_Controls,$BW10,HL$79)=0,\"\",INDEX(All_Hazards_and_Controls,$BW10,HL$79)))","v":"MAKE BLANK"},null,null,{"$f":"IF(HO$78=\"NO\",\"MAKE BLANK\",IF(INDEX(All_Hazards_and_Controls,$BW10,HO$79)=0,\"\",INDEX(All_Hazards_and_Controls,$BW10,HO$79)))","v":"MAKE BLANK"},null,null,{"$f":"IF(HR$78=\"NO\",\"MAKE BLANK\",IF(INDEX(All_Hazards_and_Controls,$BW10,HR$79)=0,\"\",INDEX(All_Hazards_and_Controls,$BW10,HR$79)))","v":"MAKE BLANK"},null,null,{"$f":"IF(HU$78=\"NO\",\"MAKE BLANK\",IF(INDEX(All_Hazards_and_Controls,$BW10,HU$79)=0,\"\",INDEX(All_Hazards_and_Controls,$BW10,HU$79)))","v":"MAKE BLANK"},null,null,{"$f":"IF(HX$78=\"NO\",\"MAKE BLANK\",IF(INDEX(All_Hazards_and_Controls,$BW10,HX$79)=0,\"\",INDEX(All_Hazards_and_Controls,$BW10,HX$79)))","v":"MAKE BLANK"},null,null,{"$f":"IF(IA$78=\"NO\",\"MAKE BLANK\",IF(INDEX(All_Hazards_and_Controls,$BW10,IA$79)=0,\"\",INDEX(All_Hazards_and_Controls,$BW10,IA$79)))","v":"MAKE BLANK"},null,null,{"$f":"IF(ID$78=\"NO\",\"MAKE BLANK\",IF(INDEX(All_Hazards_and_Controls,$BW10,ID$79)=0,\"\",INDEX(All_Hazards_and_Controls,$BW10,ID$79)))","v":"MAKE BLANK"},null,null,{"$f":"IF(IG$78=\"NO\",\"MAKE BLANK\",IF(INDEX(All_Hazards_and_Controls,$BW10,IG$79)=0,\"\",INDEX(All_Hazards_and_Controls,$BW10,IG$79)))","v":"MAKE BLANK"},null,null,{"$f":"IF(IJ$78=\"NO\",\"MAKE BLANK\",IF(INDEX(All_Hazards_and_Controls,$BW10,IJ$79)=0,\"\",INDEX(All_Hazards_and_Controls,$BW10,IJ$79)))","v":"MAKE BLANK"},null,null,{"$f":"IF(IM$78=\"NO\",\"MAKE BLANK\",IF(INDEX(All_Hazards_and_Controls,$BW10,IM$79)=0,\"\",INDEX(All_Hazards_and_Controls,$BW10,IM$79)))","v":"MAKE BLANK"},null,null,{"$f":"IF(IP$78=\"NO\",\"MAKE BLANK\",IF(INDEX(All_Hazards_and_Controls,$BW10,IP$79)=0,\"\",INDEX(All_Hazards_and_Controls,$BW10,IP$79)))","v":"MAKE BLANK"},null,null,{"$f":"IF(IS$78=\"NO\",\"MAKE BLANK\",IF(INDEX(All_Hazards_and_Controls,$BW10,IS$79)=0,\"\",INDEX(All_Hazards_and_Controls,$BW10,IS$79)))","v":"MAKE BLANK"},null,null,{"$f":"IF(IV$78=\"NO\",\"MAKE BLANK\",IF(INDEX(All_Hazards_and_Controls,$BW10,IV$79)=0,\"\",INDEX(All_Hazards_and_Controls,$BW10,IV$79)))","v":"MAKE BLANK"},null,null,{"$f":"IF(IY$78=\"NO\",\"MAKE BLANK\",IF(INDEX(All_Hazards_and_Controls,$BW10,IY$79)=0,\"\",INDEX(All_Hazards_and_Controls,$BW10,IY$79)))","v":"MAKE BLANK"},null,null,{"$f":"IF(JB$78=\"NO\",\"MAKE BLANK\",IF(INDEX(All_Hazards_and_Controls,$BW10,JB$79)=0,\"\",INDEX(All_Hazards_and_Controls,$BW10,JB$79)))","v":"MAKE BLANK"},null,null,{"$f":"IF(JE$78=\"NO\",\"MAKE BLANK\",IF(INDEX(All_Hazards_and_Controls,$BW10,JE$79)=0,\"\",INDEX(All_Hazards_and_Controls,$BW10,JE$79)))","v":"MAKE BLANK"},null,null,{"$f":"IF(JH$78=\"NO\",\"MAKE BLANK\",IF(INDEX(All_Hazards_and_Controls,$BW10,JH$79)=0,\"\",INDEX(All_Hazards_and_Controls,$BW10,JH$79)))","v":"MAKE BLANK"},null,null,{"$f":"IF(JK$78=\"NO\",\"MAKE BLANK\",IF(INDEX(All_Hazards_and_Controls,$BW10,JK$79)=0,\"\",INDEX(All_Hazards_and_Controls,$BW10,JK$79)))","v":"MAKE BLANK"},null,null,{"$f":"IF(JN$78=\"NO\",\"MAKE BLANK\",IF(INDEX(All_Hazards_and_Controls,$BW10,JN$79)=0,\"\",INDEX(All_Hazards_and_Controls,$BW10,JN$79)))","v":"MAKE BLANK"},null,null,{"$f":"IF(JQ$78=\"NO\",\"MAKE BLANK\",IF(INDEX(All_Hazards_and_Controls,$BW10,JQ$79)=0,\"\",INDEX(All_Hazards_and_Controls,$BW10,JQ$79)))","v":"MAKE BLANK"},null,null,{"$f":"IF(JT$78=\"NO\",\"MAKE BLANK\",IF(INDEX(All_Hazards_and_Controls,$BW10,JT$79)=0,\"\",INDEX(All_Hazards_and_Controls,$BW10,JT$79)))","v":"MAKE BLANK"},null,null,{"$f":"IF(JW$78=\"NO\",\"MAKE BLANK\",IF(INDEX(All_Hazards_and_Controls,$BW10,JW$79)=0,\"\",INDEX(All_Hazards_and_Controls,$BW10,JW$79)))","v":"MAKE BLANK"},null,null,{"$f":"IF(JZ$78=\"NO\",\"MAKE BLANK\",IF(INDEX(All_Hazards_and_Controls,$BW10,JZ$79)=0,\"\",INDEX(All_Hazards_and_Controls,$BW10,JZ$79)))","v":"MAKE BLANK"},null,null,{"$f":"IF(KC$78=\"NO\",\"MAKE BLANK\",IF(INDEX(All_Hazards_and_Controls,$BW10,KC$79)=0,\"\",INDEX(All_Hazards_and_Controls,$BW10,KC$79)))","v":"MAKE BLANK"},null,null,{"$f":"IF(KF$78=\"NO\",\"MAKE BLANK\",IF(INDEX(All_Hazards_and_Controls,$BW10,KF$79)=0,\"\",INDEX(All_Hazards_and_Controls,$BW10,KF$79)))","v":"MAKE BLANK"},null,null,{"$f":"IF(KI$78=\"NO\",\"MAKE BLANK\",IF(INDEX(All_Hazards_and_Controls,$BW10,KI$79)=0,\"\",INDEX(All_Hazards_and_Controls,$BW10,KI$79)))","v":"MAKE BLANK"},null,null,{"$f":"IF(KL$78=\"NO\",\"MAKE BLANK\",IF(INDEX(All_Hazards_and_Controls,$BW10,KL$79)=0,\"\",INDEX(All_Hazards_and_Controls,$BW10,KL$79)))","v":"MAKE BLANK"},null,null,{"$f":"IF(KO$78=\"NO\",\"MAKE BLANK\",IF(INDEX(All_Hazards_and_Controls,$BW10,KO$79)=0,\"\",INDEX(All_Hazards_and_Controls,$BW10,KO$79)))","v":"MAKE BLANK"},null,null,{"$f":"IF(KR$78=\"NO\",\"MAKE BLANK\",IF(INDEX(All_Hazards_and_Controls,$BW10,KR$79)=0,\"\",INDEX(All_Hazards_and_Controls,$BW10,KR$79)))","v":"MAKE BLANK"},null,null,{"$f":"IF(KU$78=\"NO\",\"MAKE BLANK\",IF(INDEX(All_Hazards_and_Controls,$BW10,KU$79)=0,\"\",INDEX(All_Hazards_and_Controls,$BW10,KU$79)))","v":"MAKE BLANK"},null,null,{"$f":"IF(KX$78=\"NO\",\"MAKE BLANK\",IF(INDEX(All_Hazards_and_Controls,$BW10,KX$79)=0,\"\",INDEX(All_Hazards_and_Controls,$BW10,KX$79)))","v":"MAKE BLANK"},null,null,{"$f":"IF(LA$78=\"NO\",\"MAKE BLANK\",IF(INDEX(All_Hazards_and_Controls,$BW10,LA$79)=0,\"\",INDEX(All_Hazards_and_Controls,$BW10,LA$79)))","v":"MAKE BLANK"},null,null,{"$f":"IF(LD$78=\"NO\",\"MAKE BLANK\",IF(INDEX(All_Hazards_and_Controls,$BW10,LD$79)=0,\"\",INDEX(All_Hazards_and_Controls,$BW10,LD$79)))","v":"MAKE BLANK"},null,null,{"$f":"IF(LG$78=\"NO\",\"MAKE BLANK\",IF(INDEX(All_Hazards_and_Controls,$BW10,LG$79)=0,\"\",INDEX(All_Hazards_and_Controls,$BW10,LG$79)))","v":"MAKE BLANK"},null,null,{"$f":"IF(LJ$78=\"NO\",\"MAKE BLANK\",IF(INDEX(All_Hazards_and_Controls,$BW10,LJ$79)=0,\"\",INDEX(All_Hazards_and_Controls,$BW10,LJ$79)))","v":"MAKE BLANK"},null,null,{"$f":"IF(LM$78=\"NO\",\"MAKE BLANK\",IF(INDEX(All_Hazards_and_Controls,$BW10,LM$79)=0,\"\",INDEX(All_Hazards_and_Controls,$BW10,LM$79)))","v":"MAKE BLANK"},null,null,{"$f":"IF(LP$78=\"NO\",\"MAKE BLANK\",IF(INDEX(All_Hazards_and_Controls,$BW10,LP$79)=0,\"\",INDEX(All_Hazards_and_Controls,$BW10,LP$79)))","v":"MAKE BLANK"},null,null,{"$f":"IF(LS$78=\"NO\",\"MAKE BLANK\",IF(INDEX(All_Hazards_and_Controls,$BW10,LS$79)=0,\"\",INDEX(All_Hazards_and_Controls,$BW10,LS$79)))","v":"MAKE BLANK"},null,null,{"$f":"IF(LV$78=\"NO\",\"MAKE BLANK\",IF(INDEX(All_Hazards_and_Controls,$BW10,LV$79)=0,\"\",INDEX(All_Hazards_and_Controls,$BW10,LV$79)))","v":"MAKE BLANK"},null,null,{"$f":"IF(LY$78=\"NO\",\"MAKE BLANK\",IF(INDEX(All_Hazards_and_Controls,$BW10,LY$79)=0,\"\",INDEX(All_Hazards_and_Controls,$BW10,LY$79)))","v":"MAKE BLANK"},null,null,{"$f":"IF(MB$78=\"NO\",\"MAKE BLANK\",IF(INDEX(All_Hazards_and_Controls,$BW10,MB$79)=0,\"\",INDEX(All_Hazards_and_Controls,$BW10,MB$79)))","v":"MAKE BLANK"},null,null,{"$f":"IF(ME$78=\"NO\",\"MAKE BLANK\",IF(INDEX(All_Hazards_and_Controls,$BW10,ME$79)=0,\"\",INDEX(All_Hazards_and_Controls,$BW10,ME$79)))","v":"MAKE BLANK"},null,null,{"$f":"IF(MH$78=\"NO\",\"MAKE BLANK\",IF(INDEX(All_Hazards_and_Controls,$BW10,MH$79)=0,\"\",INDEX(All_Hazards_and_Controls,$BW10,MH$79)))","v":"MAKE BLANK"},null,null,{"$f":"IF(MK$78=\"NO\",\"MAKE BLANK\",IF(INDEX(All_Hazards_and_Controls,$BW10,MK$79)=0,\"\",INDEX(All_Hazards_and_Controls,$BW10,MK$79)))","v":"MAKE BLANK"},null,null,{"$f":"IF(MN$78=\"NO\",\"MAKE BLANK\",IF(INDEX(All_Hazards_and_Controls,$BW10,MN$79)=0,\"\",INDEX(All_Hazards_and_Controls,$BW10,MN$79)))","v":"MAKE BLANK"},null,null,{"$f":"IF(MQ$78=\"NO\",\"MAKE BLANK\",IF(INDEX(All_Hazards_and_Controls,$BW10,MQ$79)=0,\"\",INDEX(All_Hazards_and_Controls,$BW10,MQ$79)))","v":"MAKE BLANK"},null,null,{"$f":"IF(MT$78=\"NO\",\"MAKE BLANK\",IF(INDEX(All_Hazards_and_Controls,$BW10,MT$79)=0,\"\",INDEX(All_Hazards_and_Controls,$BW10,MT$79)))","v":"MAKE BLANK"}]
["Project Number",null,{"$f":"IF(Project_Number=0,\"\",Project_Number)","v":"1213126-"}," ",{"$f":"IF(Work_Area=0,\"\",Work_Area)","v":""},null,null,{"$f":"IF(Scope_Cat_6=0,\"\",Scope_Cat_6)","v":""},null,{"$f":"IF(Scope_Cat_12=0,\"\",Scope_Cat_12)","v":""},null,null,"Supplies",null,null,"Yes",null,null,null,null,null,null,null,null,null,null,null,null,"New Job Steps",null,null,null,null,"Potential Hazards",null,null,null,null,"Control Measures",null,null,null,null,"Struck By / Caught Between",null,null,null,null,null,"Asbestos",null,null,null,null,null,null,null,"Entry permit required",null,null,null,null,"Lifting plan",null,null,null,null,"Flash back arrestors"]
["Project Name",null,{"$f":"IF(Project_Name=0,\"\",Project_Name)","v":"LGA - Redevelopment"}," ",null,null,null,null,null,null,null,null,"Equipment & Material",null,null,"Yes",null,{"$f":"IF(Number_environmental_pages=0,\"MAKE BLANK\",IF(Q7>Total_plan_no_of_Envir_Aspects,\"MAKE BLANK\",\"Target\"))","v":"MAKE BLANK"},{"$f":"IF(Number_environmental_pages=0,\"MAKE BLANK\",IF(Q7>Total_plan_no_of_Envir_Aspects,\"MAKE BLANK\",VLOOKUP(Q7,'4'!$B$116:$Z$136,24,FALSE)))","v":"MAKE BLANK"},null,null,{"$f":"IF(Number_environmental_pages<2,\"MAKE BLANK\",IF(U7>Total_plan_no_of_Envir_Aspects,\"MAKE BLANK\",\"Target\"))","v":"MAKE BLANK"},{"$f":"IF(Number_environmental_pages<2,\"MAKE BLANK\",IF(U7>Total_plan_no_of_Envir_Aspects,\"MAKE BLANK\",VLOOKUP(U7,'4'!$B$116:$Z$136,24,FALSE)))","v":"MAKE BLANK"},null,null,{"$f":"IF(Number_environmental_pages<3,\"MAKE BLANK\",IF(Y7>Total_plan_no_of_Envir_Aspects,\"MAKE BLANK\",\"Target\"))","v":"MAKE BLANK"},{"$f":"IF(Number_environmental_pages<3,\"MAKE BLANK\",IF(Y7>Total_plan_no_of_Envir_Aspects,\"MAKE BLANK\",VLOOKUP(Y7,'4'!$B$116:$Z$136,24,FALSE)))","v":"MAKE BLANK"},null,null,null,null,null,null,null,null,null,null,null,null,null,null,null,null,"Flying Objects",null,null,null,null,null,"Hazardous Material ",null,null,null,null,null,null,null,"Shored/sloped properly",null,null,null,null,"Erection plan",null,null,null,null,"Fire Watch"]
["Project State",null,{"$f":"IF(Project_State=0,\"\",Project_State)","v":"New York"}," ","Access To Area",null,null,"Triggers",null,null,null,"Standards - ","Is guidance adequately clear / practical / specific to control the hazards?",null,null,"Yes",null,null,null,null,null,null,null,null,null,null,null,null,null,null,null,null,null,null,null,null,null,null,null,null,null,null,null,"Rigging Failure (Slings / Shackles / Taglines)",null,null,null,null,null,"Chemicals",null,null,null,null,null,null,null,"Access / Egress",null,null,null,null,"Fall Protection",null,null,null,null,"Welding screens in place"]
["Cost Code",null,{"$f":"IF(Cost_Code_Entry_Method=1,IF(Cost_Code_Selected_Civil=0,\"\",Cost_Code_Selected_Civil),IF(Cost_Code_Entry_Method=2,IF(Cost_Code_Keyed=0,\"\",Cost_Code_Keyed),\"\"))","v":""}," ",{"$f":"IF(Access_to_Area=0,\"\",Access_to_Area)","v":""},null,null,"Task Environment",null,null,null,"Training - ","Is training adequately thorough and recent to control the hazards?",null,null,"Yes",null,{"$f":"IF(Number_environmental_pages=0,\"MAKE BLANK\",IF(Q7>Total_plan_no_of_Envir_Aspects,\"MAKE BLANK\",\"Method to Achieve\"))","v":"MAKE BLANK"},{"$f":"IF(Number_environmental_pages=0,\"MAKE BLANK\",IF(Q7>Total_plan_no_of_Envir_Aspects,\"MAKE BLANK\",VLOOKUP(Q7,'4'!$B$116:$Z$136,25,FALSE)))","v":"MAKE BLANK"},null,null,{"$f":"IF(Number_environmental_pages<2,\"MAKE BLANK\",IF(U7>Total_plan_no_of_Envir_Aspects,\"MAKE BLANK\",\"Method to Achieve\"))","v":"MAKE BLANK"},{"$f":"IF(Number_environmental_pages<2,\"MAKE BLANK\",IF(U7>Total_plan_no_of_Envir_Aspects,\"MAKE BLANK\",VLOOKUP(U7,'4'!$B$116:$Z$136,25,FALSE)))","v":"MAKE BLANK"},null,null,{"$f":"IF(Number_environmental_pages<3,\"MAKE BLANK\",IF(Y7>Total_plan_no_of_Envir_Aspects,\"MAKE BLANK\",\"Method to Achieve\"))","v":"MAKE BLANK"},{"$f":"IF(Number_environmental_pages<3,\"MAKE BLANK\",IF(Y7>Total_plan_no_of_Envir_Aspects,\"MAKE BLANK\",VLOOKUP(Y7,'4'!$B$116:$Z$136,25,FALSE)))","v":"MAKE BLANK"},null,null,null,null,null,null,null,null,null,null,null,null,null,null,null,null,"Noise Exposure",null,null,null,null,null,null,null,null,null,null,null,null,null,"Air Monitoring",null,null,null,null,"Slings inspected",null,null,null,null,"Welding leads in good condition",null,null,null,null,null,null,12,{"$f":"IF(BX$78=\"NO\",\"MAKE BLANK\",IF(INDEX(All_Hazards_and_Controls,$BW14,BX$79)=0,\"\",INDEX(All_Hazards_and_Controls,$BW14,BX$79)))","v":"MAKE BLANK"},null,null,{"$f":"IF(CA$78=\"NO\",\"MAKE BLANK\",IF(INDEX(All_Hazards_and_Controls,$BW14,CA$79)=0,\"\",INDEX(All_Hazards_and_Controls,$BW14,CA$79)))","v":"MAKE BLANK"},null,null,{"$f":"IF(CD$78=\"NO\",\"MAKE BLANK\",IF(INDEX(All_Hazards_and_Controls,$BW14,CD$79)=0,\"\",INDEX(All_Hazards_and_Controls,$BW14,CD$79)))","v":"MAKE BLANK"},null,null,{"$f":"IF(CG$78=\"NO\",\"MAKE BLANK\",IF(INDEX(All_Hazards_and_Controls,$BW14,CG$79)=0,\"\",INDEX(All_Hazards_and_Controls,$BW14,CG$79)))","v":"MAKE BLANK"},null,null,{"$f":"IF(CJ$78=\"NO\",\"MAKE BLANK\",IF(INDEX(All_Hazards_and_Controls,$BW14,CJ$79)=0,\"\",INDEX(All_Hazards_and_Controls,$BW14,CJ$79)))","v":"MAKE BLANK"},null,null,{"$f":"IF(CM$78=\"NO\",\"MAKE BLANK\",IF(INDEX(All_Hazards_and_Controls,$BW14,CM$79)=0,\"\",INDEX(All_Hazards_and_Controls,$BW14,CM$79)))","v":"MAKE BLANK"},null,null,{"$f":"IF(CP$78=\"NO\",\"MAKE BLANK\",IF(INDEX(All_Hazards_and_Controls,$BW14,CP$79)=0,\"\",INDEX(All_Hazards_and_Controls,$BW14,CP$79)))","v":"MAKE BLANK"},null,null,{"$f":"IF(CS$78=\"NO\",\"MAKE BLANK\",IF(INDEX(All_Hazards_and_Controls,$BW14,CS$79)=0,\"\",INDEX(All_Hazards_and_Controls,$BW14,CS$79)))","v":"MAKE BLANK"},null,null,{"$f":"IF(CV$78=\"NO\",\"MAKE BLANK\",IF(INDEX(All_Hazards_and_Controls,$BW14,CV$79)=0,\"\",INDEX(All_Hazards_and_Controls,$BW14,CV$79)))","v":"MAKE BLANK"},null,null,{"$f":"IF(CY$78=\"NO\",\"MAKE BLANK\",IF(INDEX(All_Hazards_and_Controls,$BW14,CY$79)=0,\"\",INDEX(All_Hazards_and_Controls,$BW14,CY$79)))","v":"MAKE BLANK"},null,null,{"$f":"IF(DB$78=\"NO\",\"MAKE BLANK\",IF(INDEX(All_Hazards_and_Controls,$BW14,DB$79)=0,\"\",INDEX(All_Hazards_and_Controls,$BW14,DB$79)))","v":"MAKE BLANK"},null,null,{"$f":"IF(DE$78=\"NO\",\"MAKE BLANK\",IF(INDEX(All_Hazards_and_Controls,$BW14,DE$79)=0,\"\",INDEX(All_Hazards_and_Controls,$BW14,DE$79)))","v":"MAKE BLANK"},null,null,{"$f":"IF(DH$78=\"NO\",\"MAKE BLANK\",IF(INDEX(All_Hazards_and_Controls,$BW14,DH$79)=0,\"\",INDEX(All_Hazards_and_Controls,$BW14,DH$79)))","v":"MAKE BLANK"},null,null,{"$f":"IF(DK$78=\"NO\",\"MAKE BLANK\",IF(INDEX(All_Hazards_and_Controls,$BW14,DK$79)=0,\"\",INDEX(All_Hazards_and_Controls,$BW14,DK$79)))","v":"MAKE BLANK"},null,null,{"$f":"IF(DN$78=\"NO\",\"MAKE BLANK\",IF(INDEX(All_Hazards_and_Controls,$BW14,DN$79)=0,\"\",INDEX(All_Hazards_and_Controls,$BW14,DN$79)))","v":"MAKE BLANK"},null,null,{"$f":"IF(DQ$78=\"NO\",\"MAKE BLANK\",IF(INDEX(All_Hazards_and_Controls,$BW14,DQ$79)=0,\"\",INDEX(All_Hazards_and_Controls,$BW14,DQ$79)))","v":"MAKE BLANK"},null,null,{"$f":"IF(DT$78=\"NO\",\"MAKE BLANK\",IF(INDEX(All_Hazards_and_Controls,$BW14,DT$79)=0,\"\",INDEX(All_Hazards_and_Controls,$BW14,DT$79)))","v":"MAKE BLANK"},null,null,{"$f":"IF(DW$78=\"NO\",\"MAKE BLANK\",IF(INDEX(All_Hazards_and_Controls,$BW14,DW$79)=0,\"\",INDEX(All_Hazards_and_Controls,$BW14,DW$79)))","v":"MAKE BLANK"},null,null,{"$f":"IF(DZ$78=\"NO\",\"MAKE BLANK\",IF(INDEX(All_Hazards_and_Controls,$BW14,DZ$79)=0,\"\",INDEX(All_Hazards_and_Controls,$BW14,DZ$79)))","v":"MAKE BLANK"},null,null,{"$f":"IF(EC$78=\"NO\",\"MAKE BLANK\",IF(INDEX(All_Hazards_and_Controls,$BW14,EC$79)=0,\"\",INDEX(All_Hazards_and_Controls,$BW14,EC$79)))","v":"MAKE BLANK"},null,null,{"$f":"IF(EF$78=\"NO\",\"MAKE BLANK\",IF(INDEX(All_Hazards_and_Controls,$BW14,EF$79)=0,\"\",INDEX(All_Hazards_and_Controls,$BW14,EF$79)))","v":"MAKE BLANK"},null,null,{"$f":"IF(EI$78=\"NO\",\"MAKE BLANK\",IF(INDEX(All_Hazards_and_Controls,$BW14,EI$79)=0,\"\",INDEX(All_Hazards_and_Controls,$BW14,EI$79)))","v":"MAKE BLANK"},null,null,{"$f":"IF(EL$78=\"NO\",\"MAKE BLANK\",IF(INDEX(All_Hazards_and_Controls,$BW14,EL$79)=0,\"\",INDEX(All_Hazards_and_Controls,$BW14,EL$79)))","v":"MAKE BLANK"},null,null,{"$f":"IF(EO$78=\"NO\",\"MAKE BLANK\",IF(INDEX(All_Hazards_and_Controls,$BW14,EO$79)=0,\"\",INDEX(All_Hazards_and_Controls,$BW14,EO$79)))","v":"MAKE BLANK"},null,null,{"$f":"IF(ER$78=\"NO\",\"MAKE BLANK\",IF(INDEX(All_Hazards_and_Controls,$BW14,ER$79)=0,\"\",INDEX(All_Hazards_and_Controls,$BW14,ER$79)))","v":"MAKE BLANK"},null,null,{"$f":"IF(EU$78=\"NO\",\"MAKE BLANK\",IF(INDEX(All_Hazards_and_Controls,$BW14,EU$79)=0,\"\",INDEX(All_Hazards_and_Controls,$BW14,EU$79)))","v":"MAKE BLANK"},null,null,{"$f":"IF(EX$78=\"NO\",\"MAKE BLANK\",IF(INDEX(All_Hazards_and_Controls,$BW14,EX$79)=0,\"\",INDEX(All_Hazards_and_Controls,$BW14,EX$79)))","v":"MAKE BLANK"},null,null,{"$f":"IF(FA$78=\"NO\",\"MAKE BLANK\",IF(INDEX(All_Hazards_and_Controls,$BW14,FA$79)=0,\"\",INDEX(All_Hazards_and_Controls,$BW14,FA$79)))","v":"MAKE BLANK"},null,null,{"$f":"IF(FD$78=\"NO\",\"MAKE BLANK\",IF(INDEX(All_Hazards_and_Controls,$BW14,FD$79)=0,\"\",INDEX(All_Hazards_and_Controls,$BW14,FD$79)))","v":"MAKE BLANK"},null,null,{"$f":"IF(FG$78=\"NO\",\"MAKE BLANK\",IF(INDEX(All_Hazards_and_Controls,$BW14,FG$79)=0,\"\",INDEX(All_Hazards_and_Controls,$BW14,FG$79)))","v":"MAKE BLANK"},null,null,{"$f":"IF(FJ$78=\"NO\",\"MAKE BLANK\",IF(INDEX(All_Hazards_and_Controls,$BW14,FJ$79)=0,\"\",INDEX(All_Hazards_and_Controls,$BW14,FJ$79)))","v":"MAKE BLANK"},null,null,{"$f":"IF(FM$78=\"NO\",\"MAKE BLANK\",IF(INDEX(All_Hazards_and_Controls,$BW14,FM$79)=0,\"\",INDEX(All_Hazards_and_Controls,$BW14,FM$79)))","v":"MAKE BLANK"},null,null,{"$f":"IF(FP$78=\"NO\",\"MAKE BLANK\",IF(INDEX(All_Hazards_and_Controls,$BW14,FP$79)=0,\"\",INDEX(All_Hazards_and_Controls,$BW14,FP$79)))","v":"MAKE BLANK"},null,null,{"$f":"IF(FS$78=\"NO\",\"MAKE BLANK\",IF(INDEX(All_Hazards_and_Controls,$BW14,FS$79)=0,\"\",INDEX(All_Hazards_and_Controls,$BW14,FS$79)))","v":"MAKE BLANK"},null,null,{"$f":"IF(FV$78=\"NO\",\"MAKE BLANK\",IF(INDEX(All_Hazards_and_Controls,$BW14,FV$79)=0,\"\",INDEX(All_Hazards_and_Controls,$BW14,FV$79)))","v":"MAKE BLANK"},null,null,{"$f":"IF(FY$78=\"NO\",\"MAKE BLANK\",IF(INDEX(All_Hazards_and_Controls,$BW14,FY$79)=0,\"\",INDEX(All_Hazards_and_Controls,$BW14,FY$79)))","v":"MAKE BLANK"},null,null,{"$f":"IF(GB$78=\"NO\",\"MAKE BLANK\",IF(INDEX(All_Hazards_and_Controls,$BW14,GB$79)=0,\"\",INDEX(All_Hazards_and_Controls,$BW14,GB$79)))","v":"MAKE BLANK"},null,null,{"$f":"IF(GE$78=\"NO\",\"MAKE BLANK\",IF(INDEX(All_Hazards_and_Controls,$BW14,GE$79)=0,\"\",INDEX(All_Hazards_and_Controls,$BW14,GE$79)))","v":"MAKE BLANK"},null,null,{"$f":"IF(GH$78=\"NO\",\"MAKE BLANK\",IF(INDEX(All_Hazards_and_Controls,$BW14,GH$79)=0,\"\",INDEX(All_Hazards_and_Controls,$BW14,GH$79)))","v":"MAKE BLANK"},null,null,{"$f":"IF(GK$78=\"NO\",\"MAKE BLANK\",IF(INDEX(All_Hazards_and_Controls,$BW14,GK$79)=0,\"\",INDEX(All_Hazards_and_Controls,$BW14,GK$79)))","v":"MAKE BLANK"},null,null,{"$f":"IF(GN$78=\"NO\",\"MAKE BLANK\",IF(INDEX(All_Hazards_and_Controls,$BW14,GN$79)=0,\"\",INDEX(All_Hazards_and_Controls,$BW14,GN$79)))","v":"MAKE BLANK"},null,null,{"$f":"IF(GQ$78=\"NO\",\"MAKE BLANK\",IF(INDEX(All_Hazards_and_Controls,$BW14,GQ$79)=0,\"\",INDEX(All_Hazards_and_Controls,$BW14,GQ$79)))","v":"MAKE BLANK"},null,null,{"$f":"IF(GT$78=\"NO\",\"MAKE BLANK\",IF(INDEX(All_Hazards_and_Controls,$BW14,GT$79)=0,\"\",INDEX(All_Hazards_and_Controls,$BW14,GT$79)))","v":"MAKE BLANK"},null,null,{"$f":"IF(GW$78=\"NO\",\"MAKE BLANK\",IF(INDEX(All_Hazards_and_Controls,$BW14,GW$79)=0,\"\",INDEX(All_Hazards_and_Controls,$BW14,GW$79)))","v":"MAKE BLANK"},null,null,{"$f":"IF(GZ$78=\"NO\",\"MAKE BLANK\",IF(INDEX(All_Hazards_and_Controls,$BW14,GZ$79)=0,\"\",INDEX(All_Hazards_and_Controls,$BW14,GZ$79)))","v":"MAKE BLANK"},null,null,{"$f":"IF(HC$78=\"NO\",\"MAKE BLANK\",IF(INDEX(All_Hazards_and_Controls,$BW14,HC$79)=0,\"\",INDEX(All_Hazards_and_Controls,$BW14,HC$79)))","v":"MAKE BLANK"},null,null,{"$f":"IF(HF$78=\"NO\",\"MAKE BLANK\",IF(INDEX(All_Hazards_and_Controls,$BW14,HF$79)=0,\"\",INDEX(All_Hazards_and_Controls,$BW14,HF$79)))","v":"MAKE BLANK"},null,null,{"$f":"IF(HI$78=\"NO\",\"MAKE BLANK\",IF(INDEX(All_Hazards_and_Controls,$BW14,HI$79)=0,\"\",INDEX(All_Hazards_and_Controls,$BW14,HI$79)))","v":"MAKE BLANK"},null,null,{"$f":"IF(HL$78=\"NO\",\"MAKE BLANK\",IF(INDEX(All_Hazards_and_Controls,$BW14,HL$79)=0,\"\",INDEX(All_Hazards_and_Controls,$BW14,HL$79)))","v":"MAKE BLANK"},null,null,{"$f":"IF(HO$78=\"NO\",\"MAKE BLANK\",IF(INDEX(All_Hazards_and_Controls,$BW14,HO$79)=0,\"\",INDEX(All_Hazards_and_Controls,$BW14,HO$79)))","v":"MAKE BLANK"},null,null,{"$f":"IF(HR$78=\"NO\",\"MAKE BLANK\",IF(INDEX(All_Hazards_and_Controls,$BW14,HR$79)=0,\"\",INDEX(All_Hazards_and_Controls,$BW14,HR$79)))","v":"MAKE BLANK"},null,null,{"$f":"IF(HU$78=\"NO\",\"MAKE BLANK\",IF(INDEX(All_Hazards_and_Controls,$BW14,HU$79)=0,\"\",INDEX(All_Hazards_and_Controls,$BW14,HU$79)))","v":"MAKE BLANK"},null,null,{"$f":"IF(HX$78=\"NO\",\"MAKE BLANK\",IF(INDEX(All_Hazards_and_Controls,$BW14,HX$79)=0,\"\",INDEX(All_Hazards_and_Controls,$BW14,HX$79)))","v":"MAKE BLANK"},null,null,{"$f":"IF(IA$78=\"NO\",\"MAKE BLANK\",IF(INDEX(All_Hazards_and_Controls,$BW14,IA$79)=0,\"\",INDEX(All_Hazards_and_Controls,$BW14,IA$79)))","v":"MAKE BLANK"},null,null,{"$f":"IF(ID$78=\"NO\",\"MAKE BLANK\",IF(INDEX(All_Hazards_and_Controls,$BW14,ID$79)=0,\"\",INDEX(All_Hazards_and_Controls,$BW14,ID$79)))","v":"MAKE BLANK"},null,null,{"$f":"IF(IG$78=\"NO\",\"MAKE BLANK\",IF(INDEX(All_Hazards_and_Controls,$BW14,IG$79)=0,\"\",INDEX(All_Hazards_and_Controls,$BW14,IG$79)))","v":"MAKE BLANK"},null,null,{"$f":"IF(IJ$78=\"NO\",\"MAKE BLANK\",IF(INDEX(All_Hazards_and_Controls,$BW14,IJ$79)=0,\"\",INDEX(All_Hazards_and_Controls,$BW14,IJ$79)))","v":"MAKE BLANK"},null,null,{"$f":"IF(IM$78=\"NO\",\"MAKE BLANK\",IF(INDEX(All_Hazards_and_Controls,$BW14,IM$79)=0,\"\",INDEX(All_Hazards_and_Controls,$BW14,IM$79)))","v":"MAKE BLANK"},null,null,{"$f":"IF(IP$78=\"NO\",\"MAKE BLANK\",IF(INDEX(All_Hazards_and_Controls,$BW14,IP$79)=0,\"\",INDEX(All_Hazards_and_Controls,$BW14,IP$79)))","v":"MAKE BLANK"},null,null,{"$f":"IF(IS$78=\"NO\",\"MAKE BLANK\",IF(INDEX(All_Hazards_and_Controls,$BW14,IS$79)=0,\"\",INDEX(All_Hazards_and_Controls,$BW14,IS$79)))","v":"MAKE BLANK"},null,null,{"$f":"IF(IV$78=\"NO\",\"MAKE BLANK\",IF(INDEX(All_Hazards_and_Controls,$BW14,IV$79)=0,\"\",INDEX(All_Hazards_and_Controls,$BW14,IV$79)))","v":"MAKE BLANK"},null,null,{"$f":"IF(IY$78=\"NO\",\"MAKE BLANK\",IF(INDEX(All_Hazards_and_Controls,$BW14,IY$79)=0,\"\",INDEX(All_Hazards_and_Controls,$BW14,IY$79)))","v":"MAKE BLANK"},null,null,{"$f":"IF(JB$78=\"NO\",\"MAKE BLANK\",IF(INDEX(All_Hazards_and_Controls,$BW14,JB$79)=0,\"\",INDEX(All_Hazards_and_Controls,$BW14,JB$79)))","v":"MAKE BLANK"},null,null,{"$f":"IF(JE$78=\"NO\",\"MAKE BLANK\",IF(INDEX(All_Hazards_and_Controls,$BW14,JE$79)=0,\"\",INDEX(All_Hazards_and_Controls,$BW14,JE$79)))","v":"MAKE BLANK"},null,null,{"$f":"IF(JH$78=\"NO\",\"MAKE BLANK\",IF(INDEX(All_Hazards_and_Controls,$BW14,JH$79)=0,\"\",INDEX(All_Hazards_and_Controls,$BW14,JH$79)))","v":"MAKE BLANK"},null,null,{"$f":"IF(JK$78=\"NO\",\"MAKE BLANK\",IF(INDEX(All_Hazards_and_Controls,$BW14,JK$79)=0,\"\",INDEX(All_Hazards_and_Controls,$BW14,JK$79)))","v":"MAKE BLANK"},null,null,{"$f":"IF(JN$78=\"NO\",\"MAKE BLANK\",IF(INDEX(All_Hazards_and_Controls,$BW14,JN$79)=0,\"\",INDEX(All_Hazards_and_Controls,$BW14,JN$79)))","v":"MAKE BLANK"},null,null,{"$f":"IF(JQ$78=\"NO\",\"MAKE BLANK\",IF(INDEX(All_Hazards_and_Controls,$BW14,JQ$79)=0,\"\",INDEX(All_Hazards_and_Controls,$BW14,JQ$79)))","v":"MAKE BLANK"},null,null,{"$f":"IF(JT$78=\"NO\",\"MAKE BLANK\",IF(INDEX(All_Hazards_and_Controls,$BW14,JT$79)=0,\"\",INDEX(All_Hazards_and_Controls,$BW14,JT$79)))","v":"MAKE BLANK"},null,null,{"$f":"IF(JW$78=\"NO\",\"MAKE BLANK\",IF(INDEX(All_Hazards_and_Controls,$BW14,JW$79)=0,\"\",INDEX(All_Hazards_and_Controls,$BW14,JW$79)))","v":"MAKE BLANK"},null,null,{"$f":"IF(JZ$78=\"NO\",\"MAKE BLANK\",IF(INDEX(All_Hazards_and_Controls,$BW14,JZ$79)=0,\"\",INDEX(All_Hazards_and_Controls,$BW14,JZ$79)))","v":"MAKE BLANK"},null,null,{"$f":"IF(KC$78=\"NO\",\"MAKE BLANK\",IF(INDEX(All_Hazards_and_Controls,$BW14,KC$79)=0,\"\",INDEX(All_Hazards_and_Controls,$BW14,KC$79)))","v":"MAKE BLANK"},null,null,{"$f":"IF(KF$78=\"NO\",\"MAKE BLANK\",IF(INDEX(All_Hazards_and_Controls,$BW14,KF$79)=0,\"\",INDEX(All_Hazards_and_Controls,$BW14,KF$79)))","v":"MAKE BLANK"},null,null,{"$f":"IF(KI$78=\"NO\",\"MAKE BLANK\",IF(INDEX(All_Hazards_and_Controls,$BW14,KI$79)=0,\"\",INDEX(All_Hazards_and_Controls,$BW14,KI$79)))","v":"MAKE BLANK"},null,null,{"$f":"IF(KL$78=\"NO\",\"MAKE BLANK\",IF(INDEX(All_Hazards_and_Controls,$BW14,KL$79)=0,\"\",INDEX(All_Hazards_and_Controls,$BW14,KL$79)))","v":"MAKE BLANK"},null,null,{"$f":"IF(KO$78=\"NO\",\"MAKE BLANK\",IF(INDEX(All_Hazards_and_Controls,$BW14,KO$79)=0,\"\",INDEX(All_Hazards_and_Controls,$BW14,KO$79)))","v":"MAKE BLANK"},null,null,{"$f":"IF(KR$78=\"NO\",\"MAKE BLANK\",IF(INDEX(All_Hazards_and_Controls,$BW14,KR$79)=0,\"\",INDEX(All_Hazards_and_Controls,$BW14,KR$79)))","v":"MAKE BLANK"},null,null,{"$f":"IF(KU$78=\"NO\",\"MAKE BLANK\",IF(INDEX(All_Hazards_and_Controls,$BW14,KU$79)=0,\"\",INDEX(All_Hazards_and_Controls,$BW14,KU$79)))","v":"MAKE BLANK"},null,null,{"$f":"IF(KX$78=\"NO\",\"MAKE BLANK\",IF(INDEX(All_Hazards_and_Controls,$BW14,KX$79)=0,\"\",INDEX(All_Hazards_and_Controls,$BW14,KX$79)))","v":"MAKE BLANK"},null,null,{"$f":"IF(LA$78=\"NO\",\"MAKE BLANK\",IF(INDEX(All_Hazards_and_Controls,$BW14,LA$79)=0,\"\",INDEX(All_Hazards_and_Controls,$BW14,LA$79)))","v":"MAKE BLANK"},null,null,{"$f":"IF(LD$78=\"NO\",\"MAKE BLANK\",IF(INDEX(All_Hazards_and_Controls,$BW14,LD$79)=0,\"\",INDEX(All_Hazards_and_Controls,$BW14,LD$79)))","v":"MAKE BLANK"},null,null,{"$f":"IF(LG$78=\"NO\",\"MAKE BLANK\",IF(INDEX(All_Hazards_and_Controls,$BW14,LG$79)=0,\"\",INDEX(All_Hazards_and_Controls,$BW14,LG$79)))","v":"MAKE BLANK"},null,null,{"$f":"IF(LJ$78=\"NO\",\"MAKE BLANK\",IF(INDEX(All_Hazards_and_Controls,$BW14,LJ$79)=0,\"\",INDEX(All_Hazards_and_Controls,$BW14,LJ$79)))","v":"MAKE BLANK"},null,null,{"$f":"IF(LM$78=\"NO\",\"MAKE BLANK\",IF(INDEX(All_Hazards_and_Controls,$BW14,LM$79)=0,\"\",INDEX(All_Hazards_and_Controls,$BW14,LM$79)))","v":"MAKE BLANK"},null,null,{"$f":"IF(LP$78=\"NO\",\"MAKE BLANK\",IF(INDEX(All_Hazards_and_Controls,$BW14,LP$79)=0,\"\",INDEX(All_Hazards_and_Controls,$BW14,LP$79)))","v":"MAKE BLANK"},null,null,{"$f":"IF(LS$78=\"NO\",\"MAKE BLANK\",IF(INDEX(All_Hazards_and_Controls,$BW14,LS$79)=0,\"\",INDEX(All_Hazards_and_Controls,$BW14,LS$79)))","v":"MAKE BLANK"},null,null,{"$f":"IF(LV$78=\"NO\",\"MAKE BLANK\",IF(INDEX(All_Hazards_and_Controls,$BW14,LV$79)=0,\"\",INDEX(All_Hazards_and_Controls,$BW14,LV$79)))","v":"MAKE BLANK"},null,null,{"$f":"IF(LY$78=\"NO\",\"MAKE BLANK\",IF(INDEX(All_Hazards_and_Controls,$BW14,LY$79)=0,\"\",INDEX(All_Hazards_and_Controls,$BW14,LY$79)))","v":"MAKE BLANK"},null,null,{"$f":"IF(MB$78=\"NO\",\"MAKE BLANK\",IF(INDEX(All_Hazards_and_Controls,$BW14,MB$79)=0,\"\",INDEX(All_Hazards_and_Controls,$BW14,MB$79)))","v":"MAKE BLANK"},null,null,{"$f":"IF(ME$78=\"NO\",\"MAKE BLANK\",IF(INDEX(All_Hazards_and_Controls,$BW14,ME$79)=0,\"\",INDEX(All_Hazards_and_Controls,$BW14,ME$79)))","v":"MAKE BLANK"},null,null,{"$f":"IF(MH$78=\"NO\",\"MAKE BLANK\",IF(INDEX(All_Hazards_and_Controls,$BW14,MH$79)=0,\"\",INDEX(All_Hazards_and_Controls,$BW14,MH$79)))","v":"MAKE BLANK"},null,null,{"$f":"IF(MK$78=\"NO\",\"MAKE BLANK\",IF(INDEX(All_Hazards_and_Controls,$BW14,MK$79)=0,\"\",INDEX(All_Hazards_and_Controls,$BW14,MK$79)))","v":"MAKE BLANK"},null,null,{"$f":"IF(MN$78=\"NO\",\"MAKE BLANK\",IF(INDEX(All_Hazards_and_Controls,$BW14,MN$79)=0,\"\",INDEX(All_Hazards_and_Controls,$BW14,MN$79)))","v":"MAKE BLANK"},null,null,{"$f":"IF(MQ$78=\"NO\",\"MAKE BLANK\",IF(INDEX(All_Hazards_and_Controls,$BW14,MQ$79)=0,\"\",INDEX(All_Hazards_and_Controls,$BW14,MQ$79)))","v":"MAKE BLANK"},null,null,{"$f":"IF(MT$78=\"NO\",\"MAKE BLANK\",IF(INDEX(All_Hazards_and_Controls,$BW14,MT$79)=0,\"\",INDEX(All_Hazards_and_Controls,$BW14,MT$79)))","v":"MAKE BLANK"}]
["Plan No.",null,{"$f":"IF(Sequential_Number=\"\",\"\",Plan_Number)","v":""},null,null,null,null,{"$f":"Links!HC4","v":""},null,null,null,"Leadership - "," Is the project management team ready, willing, and able to enforce the standards required to control the hazards?",null,null,"Yes",null,null,null,null,null,null,null,null,null,null,null,null,null,null,null,null,null,null,null,null,null,null,null,null,null,null,null,"Silica Dust Exposure",null,null,null,null,null,null,null,null,null,null,null,null,null,null,null,null,null,null,"Checklist Performed",null,null,null,null,"Fire Extinguisher"]
["Start Date",null,{"$f":"IF(Activity_Start_Date=0,\"\",Activity_Start_Date)","v":""}," ",null,null,null,null,null,null,null,null,null,null,null,null,null,null,null,null,null,null,null,null,null,null,null,null,null,null,null,null,null,null,null,null,null,null,null,null,null,null,null,"Pickup Trucks / Flat Trucks",null,null,null,null,"Additional Environmental Aspects Identified",null,null,null,null,null,null,null,"Permits & Forms",null,null,null,null,null,null,null,null,null,null,null,null,null,null,null,null,null,14,{"$f":"IF(BX78=\"YES\",\"Administrative Controls\",\"MAKE BLANK\")","v":"MAKE BLANK"},{"$f":"IF(BX$78=\"NO\",\"MAKE BLANK\",IF(INDEX(All_Hazards_and_Controls,$BW16,BY$79)=0,\"\",INDEX(All_Hazards_and_Controls,$BW16,BY$79)))","v":"MAKE BLANK"},{"$f":"IF(BX$78=\"NO\",\"MAKE BLANK\",IF(INDEX(All_Hazards_and_Controls,$BW16,BZ$79)=0,\"\",INDEX(All_Hazards_and_Controls,$BW16,BZ$79)))","v":"MAKE BLANK"},{"$f":"IF(CA78=\"YES\",\"Administrative Controls\",\"MAKE BLANK\")","v":"MAKE BLANK"},{"$f":"IF(CA$78=\"NO\",\"MAKE BLANK\",IF(INDEX(All_Hazards_and_Controls,$BW16,CB$79)=0,\"\",INDEX(All_Hazards_and_Controls,$BW16,CB$79)))","v":"MAKE BLANK"},{"$f":"IF(CA$78=\"NO\",\"MAKE BLANK\",IF(INDEX(All_Hazards_and_Controls,$BW16,CC$79)=0,\"\",INDEX(All_Hazards_and_Controls,$BW16,CC$79)))","v":"MAKE BLANK"},{"$f":"IF(CD78=\"YES\",\"Administrative Controls\",\"MAKE BLANK\")","v":"MAKE BLANK"},{"$f":"IF(CD$78=\"NO\",\"MAKE BLANK\",IF(INDEX(All_Hazards_and_Controls,$BW16,CE$79)=0,\"\",INDEX(All_Hazards_and_Controls,$BW16,CE$79)))","v":"MAKE BLANK"},{"$f":"IF(CD$78=\"NO\",\"MAKE BLANK\",IF(INDEX(All_Hazards_and_Controls,$BW16,CF$79)=0,\"\",INDEX(All_Hazards_and_Controls,$BW16,CF$79)))","v":"MAKE BLANK"},{"$f":"IF(CG78=\"YES\",\"Administrative Controls\",\"MAKE BLANK\")","v":"MAKE BLANK"},{"$f":"IF(CG$78=\"NO\",\"MAKE BLANK\",IF(INDEX(All_Hazards_and_Controls,$BW16,CH$79)=0,\"\",INDEX(All_Hazards_and_Controls,$BW16,CH$79)))","v":"MAKE BLANK"},{"$f":"IF(CG$78=\"NO\",\"MAKE BLANK\",IF(INDEX(All_Hazards_and_Controls,$BW16,CI$79)=0,\"\",INDEX(All_Hazards_and_Controls,$BW16,CI$79)))","v":"MAKE BLANK"},{"$f":"IF(CJ78=\"YES\",\"Administrative Controls\",\"MAKE BLANK\")","v":"MAKE BLANK"},{"$f":"IF(CJ$78=\"NO\",\"MAKE BLANK\",IF(INDEX(All_Hazards_and_Controls,$BW16,CK$79)=0,\"\",INDEX(All_Hazards_and_Controls,$BW16,CK$79)))","v":"MAKE BLANK"},{"$f":"IF(CJ$78=\"NO\",\"MAKE BLANK\",IF(INDEX(All_Hazards_and_Controls,$BW16,CL$79)=0,\"\",INDEX(All_Hazards_and_Controls,$BW16,CL$79)))","v":"MAKE BLANK"},{"$f":"IF(CM78=\"YES\",\"Administrative Controls\",\"MAKE BLANK\")","v":"MAKE BLANK"},{"$f":"IF(CM$78=\"NO\",\"MAKE BLANK\",IF(INDEX(All_Hazards_and_Controls,$BW16,CN$79)=0,\"\",INDEX(All_Hazards_and_Controls,$BW16,CN$79)))","v":"MAKE BLANK"},{"$f":"IF(CM$78=\"NO\",\"MAKE BLANK\",IF(INDEX(All_Hazards_and_Controls,$BW16,CO$79)=0,\"\",INDEX(All_Hazards_and_Controls,$BW16,CO$79)))","v":"MAKE BLANK"},{"$f":"IF(CP78=\"YES\",\"Administrative Controls\",\"MAKE BLANK\")","v":"MAKE BLANK"},{"$f":"IF(CP$78=\"NO\",\"MAKE BLANK\",IF(INDEX(All_Hazards_and_Controls,$BW16,CQ$79)=0,\"\",INDEX(All_Hazards_and_Controls,$BW16,CQ$79)))","v":"MAKE BLANK"},{"$f":"IF(CP$78=\"NO\",\"MAKE BLANK\",IF(INDEX(All_Hazards_and_Controls,$BW16,CR$79)=0,\"\",INDEX(All_Hazards_and_Controls,$BW16,CR$79)))","v":"MAKE BLANK"},{"$f":"IF(CS78=\"YES\",\"Administrative Controls\",\"MAKE BLANK\")","v":"MAKE BLANK"},{"$f":"IF(CS$78=\"NO\",\"MAKE BLANK\",IF(INDEX(All_Hazards_and_Controls,$BW16,CT$79)=0,\"\",INDEX(All_Hazards_and_Controls,$BW16,CT$79)))","v":"MAKE BLANK"},{"$f":"IF(CS$78=\"NO\",\"MAKE BLANK\",IF(INDEX(All_Hazards_and_Controls,$BW16,CU$79)=0,\"\",INDEX(All_Hazards_and_Controls,$BW16,CU$79)))","v":"MAKE BLANK"},{"$f":"IF(CV78=\"YES\",\"Administrative Controls\",\"MAKE BLANK\")","v":"MAKE BLANK"},{"$f":"IF(CV$78=\"NO\",\"MAKE BLANK\",IF(INDEX(All_Hazards_and_Controls,$BW16,CW$79)=0,\"\",INDEX(All_Hazards_and_Controls,$BW16,CW$79)))","v":"MAKE BLANK"},{"$f":"IF(CV$78=\"NO\",\"MAKE BLANK\",IF(INDEX(All_Hazards_and_Controls,$BW16,CX$79)=0,\"\",INDEX(All_Hazards_and_Controls,$BW16,CX$79)))","v":"MAKE BLANK"},{"$f":"IF(CY78=\"YES\",\"Administrative Controls\",\"MAKE BLANK\")","v":"MAKE BLANK"},{"$f":"IF(CY$78=\"NO\",\"MAKE BLANK\",IF(INDEX(All_Hazards_and_Controls,$BW16,CZ$79)=0,\"\",INDEX(All_Hazards_and_Controls,$BW16,CZ$79)))","v":"MAKE BLANK"},{"$f":"IF(CY$78=\"NO\",\"MAKE BLANK\",IF(INDEX(All_Hazards_and_Controls,$BW16,DA$79)=0,\"\",INDEX(All_Hazards_and_Controls,$BW16,DA$79)))","v":"MAKE BLANK"},{"$f":"IF(DB78=\"YES\",\"Administrative Controls\",\"MAKE BLANK\")","v":"MAKE BLANK"},{"$f":"IF(DB$78=\"NO\",\"MAKE BLANK\",IF(INDEX(All_Hazards_and_Controls,$BW16,DC$79)=0,\"\",INDEX(All_Hazards_and_Controls,$BW16,DC$79)))","v":"MAKE BLANK"},{"$f":"IF(DB$78=\"NO\",\"MAKE BLANK\",IF(INDEX(All_Hazards_and_Controls,$BW16,DD$79)=0,\"\",INDEX(All_Hazards_and_Controls,$BW16,DD$79)))","v":"MAKE BLANK"},{"$f":"IF(DE78=\"YES\",\"Administrative Controls\",\"MAKE BLANK\")","v":"MAKE BLANK"},{"$f":"IF(DE$78=\"NO\",\"MAKE BLANK\",IF(INDEX(All_Hazards_and_Controls,$BW16,DF$79)=0,\"\",INDEX(All_Hazards_and_Controls,$BW16,DF$79)))","v":"MAKE BLANK"},{"$f":"IF(DE$78=\"NO\",\"MAKE BLANK\",IF(INDEX(All_Hazards_and_Controls,$BW16,DG$79)=0,\"\",INDEX(All_Hazards_and_Controls,$BW16,DG$79)))","v":"MAKE BLANK"},{"$f":"IF(DH78=\"YES\",\"Administrative Controls\",\"MAKE BLANK\")","v":"MAKE BLANK"},{"$f":"IF(DH$78=\"NO\",\"MAKE BLANK\",IF(INDEX(All_Hazards_and_Controls,$BW16,DI$79)=0,\"\",INDEX(All_Hazards_and_Controls,$BW16,DI$79)))","v":"MAKE BLANK"},{"$f":"IF(DH$78=\"NO\",\"MAKE BLANK\",IF(INDEX(All_Hazards_and_Controls,$BW16,DJ$79)=0,\"\",INDEX(All_Hazards_and_Controls,$BW16,DJ$79)))","v":"MAKE BLANK"},{"$f":"IF(DK78=\"YES\",\"Administrative Controls\",\"MAKE BLANK\")","v":"MAKE BLANK"},{"$f":"IF(DK$78=\"NO\",\"MAKE BLANK\",IF(INDEX(All_Hazards_and_Controls,$BW16,DL$79)=0,\"\",INDEX(All_Hazards_and_Controls,$BW16,DL$79)))","v":"MAKE BLANK"},{"$f":"IF(DK$78=\"NO\",\"MAKE BLANK\",IF(INDEX(All_Hazards_and_Controls,$BW16,DM$79)=0,\"\",INDEX(All_Hazards_and_Controls,$BW16,DM$79)))","v":"MAKE BLANK"},{"$f":"IF(DN78=\"YES\",\"Administrative Controls\",\"MAKE BLANK\")","v":"MAKE BLANK"},{"$f":"IF(DN$78=\"NO\",\"MAKE BLANK\",IF(INDEX(All_Hazards_and_Controls,$BW16,DO$79)=0,\"\",INDEX(All_Hazards_and_Controls,$BW16,DO$79)))","v":"MAKE BLANK"},{"$f":"IF(DN$78=\"NO\",\"MAKE BLANK\",IF(INDEX(All_Hazards_and_Controls,$BW16,DP$79)=0,\"\",INDEX(All_Hazards_and_Controls,$BW16,DP$79)))","v":"MAKE BLANK"},{"$f":"IF(DQ78=\"YES\",\"Administrative Controls\",\"MAKE BLANK\")","v":"MAKE BLANK"},{"$f":"IF(DQ$78=\"NO\",\"MAKE BLANK\",IF(INDEX(All_Hazards_and_Controls,$BW16,DR$79)=0,\"\",INDEX(All_Hazards_and_Controls,$BW16,DR$79)))","v":"MAKE BLANK"},{"$f":"IF(DQ$78=\"NO\",\"MAKE BLANK\",IF(INDEX(All_Hazards_and_Controls,$BW16,DS$79)=0,\"\",INDEX(All_Hazards_and_Controls,$BW16,DS$79)))","v":"MAKE BLANK"},{"$f":"IF(DT78=\"YES\",\"Administrative Controls\",\"MAKE BLANK\")","v":"MAKE BLANK"},{"$f":"IF(DT$78=\"NO\",\"MAKE BLANK\",IF(INDEX(All_Hazards_and_Controls,$BW16,DU$79)=0,\"\",INDEX(All_Hazards_and_Controls,$BW16,DU$79)))","v":"MAKE BLANK"},{"$f":"IF(DT$78=\"NO\",\"MAKE BLANK\",IF(INDEX(All_Hazards_and_Controls,$BW16,DV$79)=0,\"\",INDEX(All_Hazards_and_Controls,$BW16,DV$79)))","v":"MAKE BLANK"},{"$f":"IF(DW78=\"YES\",\"Administrative Controls\",\"MAKE BLANK\")","v":"MAKE BLANK"},{"$f":"IF(DW$78=\"NO\",\"MAKE BLANK\",IF(INDEX(All_Hazards_and_Controls,$BW16,DX$79)=0,\"\",INDEX(All_Hazards_and_Controls,$BW16,DX$79)))","v":"MAKE BLANK"},{"$f":"IF(DW$78=\"NO\",\"MAKE BLANK\",IF(INDEX(All_Hazards_and_Controls,$BW16,DY$79)=0,\"\",INDEX(All_Hazards_and_Controls,$BW16,DY$79)))","v":"MAKE BLANK"},{"$f":"IF(DZ78=\"YES\",\"Administrative Controls\",\"MAKE BLANK\")","v":"MAKE BLANK"},{"$f":"IF(DZ$78=\"NO\",\"MAKE BLANK\",IF(INDEX(All_Hazards_and_Controls,$BW16,EA$79)=0,\"\",INDEX(All_Hazards_and_Controls,$BW16,EA$79)))","v":"MAKE BLANK"},{"$f":"IF(DZ$78=\"NO\",\"MAKE BLANK\",IF(INDEX(All_Hazards_and_Controls,$BW16,EB$79)=0,\"\",INDEX(All_Hazards_and_Controls,$BW16,EB$79)))","v":"MAKE BLANK"},{"$f":"IF(EC78=\"YES\",\"Administrative Controls\",\"MAKE BLANK\")","v":"MAKE BLANK"},{"$f":"IF(EC$78=\"NO\",\"MAKE BLANK\",IF(INDEX(All_Hazards_and_Controls,$BW16,ED$79)=0,\"\",INDEX(All_Hazards_and_Controls,$BW16,ED$79)))","v":"MAKE BLANK"},{"$f":"IF(EC$78=\"NO\",\"MAKE BLANK\",IF(INDEX(All_Hazards_and_Controls,$BW16,EE$79)=0,\"\",INDEX(All_Hazards_and_Controls,$BW16,EE$79)))","v":"MAKE BLANK"},{"$f":"IF(EF78=\"YES\",\"Administrative Controls\",\"MAKE BLANK\")","v":"MAKE BLANK"},{"$f":"IF(EF$78=\"NO\",\"MAKE BLANK\",IF(INDEX(All_Hazards_and_Controls,$BW16,EG$79)=0,\"\",INDEX(All_Hazards_and_Controls,$BW16,EG$79)))","v":"MAKE BLANK"},{"$f":"IF(EF$78=\"NO\",\"MAKE BLANK\",IF(INDEX(All_Hazards_and_Controls,$BW16,EH$79)=0,\"\",INDEX(All_Hazards_and_Controls,$BW16,EH$79)))","v":"MAKE BLANK"},{"$f":"IF(EI78=\"YES\",\"Administrative Controls\",\"MAKE BLANK\")","v":"MAKE BLANK"},{"$f":"IF(EI$78=\"NO\",\"MAKE BLANK\",IF(INDEX(All_Hazards_and_Controls,$BW16,EJ$79)=0,\"\",INDEX(All_Hazards_and_Controls,$BW16,EJ$79)))","v":"MAKE BLANK"},{"$f":"IF(EI$78=\"NO\",\"MAKE BLANK\",IF(INDEX(All_Hazards_and_Controls,$BW16,EK$79)=0,\"\",INDEX(All_Hazards_and_Controls,$BW16,EK$79)))","v":"MAKE BLANK"},{"$f":"IF(EL78=\"YES\",\"Administrative Controls\",\"MAKE BLANK\")","v":"MAKE BLANK"},{"$f":"IF(EL$78=\"NO\",\"MAKE BLANK\",IF(INDEX(All_Hazards_and_Controls,$BW16,EM$79)=0,\"\",INDEX(All_Hazards_and_Controls,$BW16,EM$79)))","v":"MAKE BLANK"},{"$f":"IF(EL$78=\"NO\",\"MAKE BLANK\",IF(INDEX(All_Hazards_and_Controls,$BW16,EN$79)=0,\"\",INDEX(All_Hazards_and_Controls,$BW16,EN$79)))","v":"MAKE BLANK"},{"$f":"IF(EO78=\"YES\",\"Administrative Controls\",\"MAKE BLANK\")","v":"MAKE BLANK"},{"$f":"IF(EO$78=\"NO\",\"MAKE BLANK\",IF(INDEX(All_Hazards_and_Controls,$BW16,EP$79)=0,\"\",INDEX(All_Hazards_and_Controls,$BW16,EP$79)))","v":"MAKE BLANK"},{"$f":"IF(EO$78=\"NO\",\"MAKE BLANK\",IF(INDEX(All_Hazards_and_Controls,$BW16,EQ$79)=0,\"\",INDEX(All_Hazards_and_Controls,$BW16,EQ$79)))","v":"MAKE BLANK"},{"$f":"IF(ER78=\"YES\",\"Administrative Controls\",\"MAKE BLANK\")","v":"MAKE BLANK"},{"$f":"IF(ER$78=\"NO\",\"MAKE BLANK\",IF(INDEX(All_Hazards_and_Controls,$BW16,ES$79)=0,\"\",INDEX(All_Hazards_and_Controls,$BW16,ES$79)))","v":"MAKE BLANK"},{"$f":"IF(ER$78=\"NO\",\"MAKE BLANK\",IF(INDEX(All_Hazards_and_Controls,$BW16,ET$79)=0,\"\",INDEX(All_Hazards_and_Controls,$BW16,ET$79)))","v":"MAKE BLANK"},{"$f":"IF(EU78=\"YES\",\"Administrative Controls\",\"MAKE BLANK\")","v":"MAKE BLANK"},{"$f":"IF(EU$78=\"NO\",\"MAKE BLANK\",IF(INDEX(All_Hazards_and_Controls,$BW16,EV$79)=0,\"\",INDEX(All_Hazards_and_Controls,$BW16,EV$79)))","v":"MAKE BLANK"},{"$f":"IF(EU$78=\"NO\",\"MAKE BLANK\",IF(INDEX(All_Hazards_and_Controls,$BW16,EW$79)=0,\"\",INDEX(All_Hazards_and_Controls,$BW16,EW$79)))","v":"MAKE BLANK"},{"$f":"IF(EX78=\"YES\",\"Administrative Controls\",\"MAKE BLANK\")","v":"MAKE BLANK"},{"$f":"IF(EX$78=\"NO\",\"MAKE BLANK\",IF(INDEX(All_Hazards_and_Controls,$BW16,EY$79)=0,\"\",INDEX(All_Hazards_and_Controls,$BW16,EY$79)))","v":"MAKE BLANK"},{"$f":"IF(EX$78=\"NO\",\"MAKE BLANK\",IF(INDEX(All_Hazards_and_Controls,$BW16,EZ$79)=0,\"\",INDEX(All_Hazards_and_Controls,$BW16,EZ$79)))","v":"MAKE BLANK"},{"$f":"IF(FA78=\"YES\",\"Administrative Controls\",\"MAKE BLANK\")","v":"MAKE BLANK"},{"$f":"IF(FA$78=\"NO\",\"MAKE BLANK\",IF(INDEX(All_Hazards_and_Controls,$BW16,FB$79)=0,\"\",INDEX(All_Hazards_and_Controls,$BW16,FB$79)))","v":"MAKE BLANK"},{"$f":"IF(FA$78=\"NO\",\"MAKE BLANK\",IF(INDEX(All_Hazards_and_Controls,$BW16,FC$79)=0,\"\",INDEX(All_Hazards_and_Controls,$BW16,FC$79)))","v":"MAKE BLANK"},{"$f":"IF(FD78=\"YES\",\"Administrative Controls\",\"MAKE BLANK\")","v":"MAKE BLANK"},{"$f":"IF(FD$78=\"NO\",\"MAKE BLANK\",IF(INDEX(All_Hazards_and_Controls,$BW16,FE$79)=0,\"\",INDEX(All_Hazards_and_Controls,$BW16,FE$79)))","v":"MAKE BLANK"},{"$f":"IF(FD$78=\"NO\",\"MAKE BLANK\",IF(INDEX(All_Hazards_and_Controls,$BW16,FF$79)=0,\"\",INDEX(All_Hazards_and_Controls,$BW16,FF$79)))","v":"MAKE BLANK"},{"$f":"IF(FG78=\"YES\",\"Administrative Controls\",\"MAKE BLANK\")","v":"MAKE BLANK"},{"$f":"IF(FG$78=\"NO\",\"MAKE BLANK\",IF(INDEX(All_Hazards_and_Controls,$BW16,FH$79)=0,\"\",INDEX(All_Hazards_and_Controls,$BW16,FH$79)))","v":"MAKE BLANK"},{"$f":"IF(FG$78=\"NO\",\"MAKE BLANK\",IF(INDEX(All_Hazards_and_Controls,$BW16,FI$79)=0,\"\",INDEX(All_Hazards_and_Controls,$BW16,FI$79)))","v":"MAKE BLANK"},{"$f":"IF(FJ78=\"YES\",\"Administrative Controls\",\"MAKE BLANK\")","v":"MAKE BLANK"},{"$f":"IF(FJ$78=\"NO\",\"MAKE BLANK\",IF(INDEX(All_Hazards_and_Controls,$BW16,FK$79)=0,\"\",INDEX(All_Hazards_and_Controls,$BW16,FK$79)))","v":"MAKE BLANK"},{"$f":"IF(FJ$78=\"NO\",\"MAKE BLANK\",IF(INDEX(All_Hazards_and_Controls,$BW16,FL$79)=0,\"\",INDEX(All_Hazards_and_Controls,$BW16,FL$79)))","v":"MAKE BLANK"},{"$f":"IF(FM78=\"YES\",\"Administrative Controls\",\"MAKE BLANK\")","v":"MAKE BLANK"},{"$f":"IF(FM$78=\"NO\",\"MAKE BLANK\",IF(INDEX(All_Hazards_and_Controls,$BW16,FN$79)=0,\"\",INDEX(All_Hazards_and_Controls,$BW16,FN$79)))","v":"MAKE BLANK"},{"$f":"IF(FM$78=\"NO\",\"MAKE BLANK\",IF(INDEX(All_Hazards_and_Controls,$BW16,FO$79)=0,\"\",INDEX(All_Hazards_and_Controls,$BW16,FO$79)))","v":"MAKE BLANK"},{"$f":"IF(FP78=\"YES\",\"Administrative Controls\",\"MAKE BLANK\")","v":"MAKE BLANK"},{"$f":"IF(FP$78=\"NO\",\"MAKE BLANK\",IF(INDEX(All_Hazards_and_Controls,$BW16,FQ$79)=0,\"\",INDEX(All_Hazards_and_Controls,$BW16,FQ$79)))","v":"MAKE BLANK"},{"$f":"IF(FP$78=\"NO\",\"MAKE BLANK\",IF(INDEX(All_Hazards_and_Controls,$BW16,FR$79)=0,\"\",INDEX(All_Hazards_and_Controls,$BW16,FR$79)))","v":"MAKE BLANK"},{"$f":"IF(FS78=\"YES\",\"Administrative Controls\",\"MAKE BLANK\")","v":"MAKE BLANK"},{"$f":"IF(FS$78=\"NO\",\"MAKE BLANK\",IF(INDEX(All_Hazards_and_Controls,$BW16,FT$79)=0,\"\",INDEX(All_Hazards_and_Controls,$BW16,FT$79)))","v":"MAKE BLANK"},{"$f":"IF(FS$78=\"NO\",\"MAKE BLANK\",IF(INDEX(All_Hazards_and_Controls,$BW16,FU$79)=0,\"\",INDEX(All_Hazards_and_Controls,$BW16,FU$79)))","v":"MAKE BLANK"},{"$f":"IF(FV78=\"YES\",\"Administrative Controls\",\"MAKE BLANK\")","v":"MAKE BLANK"},{"$f":"IF(FV$78=\"NO\",\"MAKE BLANK\",IF(INDEX(All_Hazards_and_Controls,$BW16,FW$79)=0,\"\",INDEX(All_Hazards_and_Controls,$BW16,FW$79)))","v":"MAKE BLANK"},{"$f":"IF(FV$78=\"NO\",\"MAKE BLANK\",IF(INDEX(All_Hazards_and_Controls,$BW16,FX$79)=0,\"\",INDEX(All_Hazards_and_Controls,$BW16,FX$79)))","v":"MAKE BLANK"},{"$f":"IF(FY78=\"YES\",\"Administrative Controls\",\"MAKE BLANK\")","v":"MAKE BLANK"},{"$f":"IF(FY$78=\"NO\",\"MAKE BLANK\",IF(INDEX(All_Hazards_and_Controls,$BW16,FZ$79)=0,\"\",INDEX(All_Hazards_and_Controls,$BW16,FZ$79)))","v":"MAKE BLANK"},{"$f":"IF(FY$78=\"NO\",\"MAKE BLANK\",IF(INDEX(All_Hazards_and_Controls,$BW16,GA$79)=0,\"\",INDEX(All_Hazards_and_Controls,$BW16,GA$79)))","v":"MAKE BLANK"},{"$f":"IF(GB78=\"YES\",\"Administrative Controls\",\"MAKE BLANK\")","v":"MAKE BLANK"},{"$f":"IF(GB$78=\"NO\",\"MAKE BLANK\",IF(INDEX(All_Hazards_and_Controls,$BW16,GC$79)=0,\"\",INDEX(All_Hazards_and_Controls,$BW16,GC$79)))","v":"MAKE BLANK"},{"$f":"IF(GB$78=\"NO\",\"MAKE BLANK\",IF(INDEX(All_Hazards_and_Controls,$BW16,GD$79)=0,\"\",INDEX(All_Hazards_and_Controls,$BW16,GD$79)))","v":"MAKE BLANK"},{"$f":"IF(GE78=\"YES\",\"Administrative Controls\",\"MAKE BLANK\")","v":"MAKE BLANK"},{"$f":"IF(GE$78=\"NO\",\"MAKE BLANK\",IF(INDEX(All_Hazards_and_Controls,$BW16,GF$79)=0,\"\",INDEX(All_Hazards_and_Controls,$BW16,GF$79)))","v":"MAKE BLANK"},{"$f":"IF(GE$78=\"NO\",\"MAKE BLANK\",IF(INDEX(All_Hazards_and_Controls,$BW16,GG$79)=0,\"\",INDEX(All_Hazards_and_Controls,$BW16,GG$79)))","v":"MAKE BLANK"},{"$f":"IF(GH78=\"YES\",\"Administrative Controls\",\"MAKE BLANK\")","v":"MAKE BLANK"},{"$f":"IF(GH$78=\"NO\",\"MAKE BLANK\",IF(INDEX(All_Hazards_and_Controls,$BW16,GI$79)=0,\"\",INDEX(All_Hazards_and_Controls,$BW16,GI$79)))","v":"MAKE BLANK"},{"$f":"IF(GH$78=\"NO\",\"MAKE BLANK\",IF(INDEX(All_Hazards_and_Controls,$BW16,GJ$79)=0,\"\",INDEX(All_Hazards_and_Controls,$BW16,GJ$79)))","v":"MAKE BLANK"},{"$f":"IF(GK78=\"YES\",\"Administrative Controls\",\"MAKE BLANK\")","v":"MAKE BLANK"},{"$f":"IF(GK$78=\"NO\",\"MAKE BLANK\",IF(INDEX(All_Hazards_and_Controls,$BW16,GL$79)=0,\"\",INDEX(All_Hazards_and_Controls,$BW16,GL$79)))","v":"MAKE BLANK"},{"$f":"IF(GK$78=\"NO\",\"MAKE BLANK\",IF(INDEX(All_Hazards_and_Controls,$BW16,GM$79)=0,\"\",INDEX(All_Hazards_and_Controls,$BW16,GM$79)))","v":"MAKE BLANK"},{"$f":"IF(GN78=\"YES\",\"Administrative Controls\",\"MAKE BLANK\")","v":"MAKE BLANK"},{"$f":"IF(GN$78=\"NO\",\"MAKE BLANK\",IF(INDEX(All_Hazards_and_Controls,$BW16,GO$79)=0,\"\",INDEX(All_Hazards_and_Controls,$BW16,GO$79)))","v":"MAKE BLANK"},{"$f":"IF(GN$78=\"NO\",\"MAKE BLANK\",IF(INDEX(All_Hazards_and_Controls,$BW16,GP$79)=0,\"\",INDEX(All_Hazards_and_Controls,$BW16,GP$79)))","v":"MAKE BLANK"},{"$f":"IF(GQ78=\"YES\",\"Administrative Controls\",\"MAKE BLANK\")","v":"MAKE BLANK"},{"$f":"IF(GQ$78=\"NO\",\"MAKE BLANK\",IF(INDEX(All_Hazards_and_Controls,$BW16,GR$79)=0,\"\",INDEX(All_Hazards_and_Controls,$BW16,GR$79)))","v":"MAKE BLANK"},{"$f":"IF(GQ$78=\"NO\",\"MAKE BLANK\",IF(INDEX(All_Hazards_and_Controls,$BW16,GS$79)=0,\"\",INDEX(All_Hazards_and_Controls,$BW16,GS$79)))","v":"MAKE BLANK"},{"$f":"IF(GT78=\"YES\",\"Administrative Controls\",\"MAKE BLANK\")","v":"MAKE BLANK"},{"$f":"IF(GT$78=\"NO\",\"MAKE BLANK\",IF(INDEX(All_Hazards_and_Controls,$BW16,GU$79)=0,\"\",INDEX(All_Hazards_and_Controls,$BW16,GU$79)))","v":"MAKE BLANK"},{"$f":"IF(GT$78=\"NO\",\"MAKE BLANK\",IF(INDEX(All_Hazards_and_Controls,$BW16,GV$79)=0,\"\",INDEX(All_Hazards_and_Controls,$BW16,GV$79)))","v":"MAKE BLANK"},{"$f":"IF(GW78=\"YES\",\"Administrative Controls\",\"MAKE BLANK\")","v":"MAKE BLANK"},{"$f":"IF(GW$78=\"NO\",\"MAKE BLANK\",IF(INDEX(All_Hazards_and_Controls,$BW16,GX$79)=0,\"\",INDEX(All_Hazards_and_Controls,$BW16,GX$79)))","v":"MAKE BLANK"},{"$f":"IF(GW$78=\"NO\",\"MAKE BLANK\",IF(INDEX(All_Hazards_and_Controls,$BW16,GY$79)=0,\"\",INDEX(All_Hazards_and_Controls,$BW16,GY$79)))","v":"MAKE BLANK"},{"$f":"IF(GZ78=\"YES\",\"Administrative Controls\",\"MAKE BLANK\")","v":"MAKE BLANK"},{"$f":"IF(GZ$78=\"NO\",\"MAKE BLANK\",IF(INDEX(All_Hazards_and_Controls,$BW16,HA$79)=0,\"\",INDEX(All_Hazards_and_Controls,$BW16,HA$79)))","v":"MAKE BLANK"},{"$f":"IF(GZ$78=\"NO\",\"MAKE BLANK\",IF(INDEX(All_Hazards_and_Controls,$BW16,HB$79)=0,\"\",INDEX(All_Hazards_and_Controls,$BW16,HB$79)))","v":"MAKE BLANK"},{"$f":"IF(HC78=\"YES\",\"Administrative Controls\",\"MAKE BLANK\")","v":"MAKE BLANK"},{"$f":"IF(HC$78=\"NO\",\"MAKE BLANK\",IF(INDEX(All_Hazards_and_Controls,$BW16,HD$79)=0,\"\",INDEX(All_Hazards_and_Controls,$BW16,HD$79)))","v":"MAKE BLANK"},{"$f":"IF(HC$78=\"NO\",\"MAKE BLANK\",IF(INDEX(All_Hazards_and_Controls,$BW16,HE$79)=0,\"\",INDEX(All_Hazards_and_Controls,$BW16,HE$79)))","v":"MAKE BLANK"},{"$f":"IF(HF78=\"YES\",\"Administrative Controls\",\"MAKE BLANK\")","v":"MAKE BLANK"},{"$f":"IF(HF$78=\"NO\",\"MAKE BLANK\",IF(INDEX(All_Hazards_and_Controls,$BW16,HG$79)=0,\"\",INDEX(All_Hazards_and_Controls,$BW16,HG$79)))","v":"MAKE BLANK"},{"$f":"IF(HF$78=\"NO\",\"MAKE BLANK\",IF(INDEX(All_Hazards_and_Controls,$BW16,HH$79)=0,\"\",INDEX(All_Hazards_and_Controls,$BW16,HH$79)))","v":"MAKE BLANK"},{"$f":"IF(HI78=\"YES\",\"Administrative Controls\",\"MAKE BLANK\")","v":"MAKE BLANK"},{"$f":"IF(HI$78=\"NO\",\"MAKE BLANK\",IF(INDEX(All_Hazards_and_Controls,$BW16,HJ$79)=0,\"\",INDEX(All_Hazards_and_Controls,$BW16,HJ$79)))","v":"MAKE BLANK"},{"$f":"IF(HI$78=\"NO\",\"MAKE BLANK\",IF(INDEX(All_Hazards_and_Controls,$BW16,HK$79)=0,\"\",INDEX(All_Hazards_and_Controls,$BW16,HK$79)))","v":"MAKE BLANK"},{"$f":"IF(HL78=\"YES\",\"Administrative Controls\",\"MAKE BLANK\")","v":"MAKE BLANK"},{"$f":"IF(HL$78=\"NO\",\"MAKE BLANK\",IF(INDEX(All_Hazards_and_Controls,$BW16,HM$79)=0,\"\",INDEX(All_Hazards_and_Controls,$BW16,HM$79)))","v":"MAKE BLANK"},{"$f":"IF(HL$78=\"NO\",\"MAKE BLANK\",IF(INDEX(All_Hazards_and_Controls,$BW16,HN$79)=0,\"\",INDEX(All_Hazards_and_Controls,$BW16,HN$79)))","v":"MAKE BLANK"},{"$f":"IF(HO78=\"YES\",\"Administrative Controls\",\"MAKE BLANK\")","v":"MAKE BLANK"},{"$f":"IF(HO$78=\"NO\",\"MAKE BLANK\",IF(INDEX(All_Hazards_and_Controls,$BW16,HP$79)=0,\"\",INDEX(All_Hazards_and_Controls,$BW16,HP$79)))","v":"MAKE BLANK"},{"$f":"IF(HO$78=\"NO\",\"MAKE BLANK\",IF(INDEX(All_Hazards_and_Controls,$BW16,HQ$79)=0,\"\",INDEX(All_Hazards_and_Controls,$BW16,HQ$79)))","v":"MAKE BLANK"},{"$f":"IF(HR78=\"YES\",\"Administrative Controls\",\"MAKE BLANK\")","v":"MAKE BLANK"},{"$f":"IF(HR$78=\"NO\",\"MAKE BLANK\",IF(INDEX(All_Hazards_and_Controls,$BW16,HS$79)=0,\"\",INDEX(All_Hazards_and_Controls,$BW16,HS$79)))","v":"MAKE BLANK"},{"$f":"IF(HR$78=\"NO\",\"MAKE BLANK\",IF(INDEX(All_Hazards_and_Controls,$BW16,HT$79)=0,\"\",INDEX(All_Hazards_and_Controls,$BW16,HT$79)))","v":"MAKE BLANK"},{"$f":"IF(HU78=\"YES\",\"Administrative Controls\",\"MAKE BLANK\")","v":"MAKE BLANK"},{"$f":"IF(HU$78=\"NO\",\"MAKE BLANK\",IF(INDEX(All_Hazards_and_Controls,$BW16,HV$79)=0,\"\",INDEX(All_Hazards_and_Controls,$BW16,HV$79)))","v":"MAKE BLANK"},{"$f":"IF(HU$78=\"NO\",\"MAKE BLANK\",IF(INDEX(All_Hazards_and_Controls,$BW16,HW$79)=0,\"\",INDEX(All_Hazards_and_Controls,$BW16,HW$79)))","v":"MAKE BLANK"},{"$f":"IF(HX78=\"YES\",\"Administrative Controls\",\"MAKE BLANK\")","v":"MAKE BLANK"},{"$f":"IF(HX$78=\"NO\",\"MAKE BLANK\",IF(INDEX(All_Hazards_and_Controls,$BW16,HY$79)=0,\"\",INDEX(All_Hazards_and_Controls,$BW16,HY$79)))","v":"MAKE BLANK"},{"$f":"IF(HX$78=\"NO\",\"MAKE BLANK\",IF(INDEX(All_Hazards_and_Controls,$BW16,HZ$79)=0,\"\",INDEX(All_Hazards_and_Controls,$BW16,HZ$79)))","v":"MAKE BLANK"},{"$f":"IF(IA78=\"YES\",\"Administrative Controls\",\"MAKE BLANK\")","v":"MAKE BLANK"},{"$f":"IF(IA$78=\"NO\",\"MAKE BLANK\",IF(INDEX(All_Hazards_and_Controls,$BW16,IB$79)=0,\"\",INDEX(All_Hazards_and_Controls,$BW16,IB$79)))","v":"MAKE BLANK"},{"$f":"IF(IA$78=\"NO\",\"MAKE BLANK\",IF(INDEX(All_Hazards_and_Controls,$BW16,IC$79)=0,\"\",INDEX(All_Hazards_and_Controls,$BW16,IC$79)))","v":"MAKE BLANK"},{"$f":"IF(ID78=\"YES\",\"Administrative Controls\",\"MAKE BLANK\")","v":"MAKE BLANK"},{"$f":"IF(ID$78=\"NO\",\"MAKE BLANK\",IF(INDEX(All_Hazards_and_Controls,$BW16,IE$79)=0,\"\",INDEX(All_Hazards_and_Controls,$BW16,IE$79)))","v":"MAKE BLANK"},{"$f":"IF(ID$78=\"NO\",\"MAKE BLANK\",IF(INDEX(All_Hazards_and_Controls,$BW16,IF$79)=0,\"\",INDEX(All_Hazards_and_Controls,$BW16,IF$79)))","v":"MAKE BLANK"},{"$f":"IF(IG78=\"YES\",\"Administrative Controls\",\"MAKE BLANK\")","v":"MAKE BLANK"},{"$f":"IF(IG$78=\"NO\",\"MAKE BLANK\",IF(INDEX(All_Hazards_and_Controls,$BW16,IH$79)=0,\"\",INDEX(All_Hazards_and_Controls,$BW16,IH$79)))","v":"MAKE BLANK"},{"$f":"IF(IG$78=\"NO\",\"MAKE BLANK\",IF(INDEX(All_Hazards_and_Controls,$BW16,II$79)=0,\"\",INDEX(All_Hazards_and_Controls,$BW16,II$79)))","v":"MAKE BLANK"},{"$f":"IF(IJ78=\"YES\",\"Administrative Controls\",\"MAKE BLANK\")","v":"MAKE BLANK"},{"$f":"IF(IJ$78=\"NO\",\"MAKE BLANK\",IF(INDEX(All_Hazards_and_Controls,$BW16,IK$79)=0,\"\",INDEX(All_Hazards_and_Controls,$BW16,IK$79)))","v":"MAKE BLANK"},{"$f":"IF(IJ$78=\"NO\",\"MAKE BLANK\",IF(INDEX(All_Hazards_and_Controls,$BW16,IL$79)=0,\"\",INDEX(All_Hazards_and_Controls,$BW16,IL$79)))","v":"MAKE BLANK"},{"$f":"IF(IM78=\"YES\",\"Administrative Controls\",\"MAKE BLANK\")","v":"MAKE BLANK"},{"$f":"IF(IM$78=\"NO\",\"MAKE BLANK\",IF(INDEX(All_Hazards_and_Controls,$BW16,IN$79)=0,\"\",INDEX(All_Hazards_and_Controls,$BW16,IN$79)))","v":"MAKE BLANK"},{"$f":"IF(IM$78=\"NO\",\"MAKE BLANK\",IF(INDEX(All_Hazards_and_Controls,$BW16,IO$79)=0,\"\",INDEX(All_Hazards_and_Controls,$BW16,IO$79)))","v":"MAKE BLANK"},{"$f":"IF(IP78=\"YES\",\"Administrative Controls\",\"MAKE BLANK\")","v":"MAKE BLANK"},{"$f":"IF(IP$78=\"NO\",\"MAKE BLANK\",IF(INDEX(All_Hazards_and_Controls,$BW16,IQ$79)=0,\"\",INDEX(All_Hazards_and_Controls,$BW16,IQ$79)))","v":"MAKE BLANK"},{"$f":"IF(IP$78=\"NO\",\"MAKE BLANK\",IF(INDEX(All_Hazards_and_Controls,$BW16,IR$79)=0,\"\",INDEX(All_Hazards_and_Controls,$BW16,IR$79)))","v":"MAKE BLANK"},{"$f":"IF(IS78=\"YES\",\"Administrative Controls\",\"MAKE BLANK\")","v":"MAKE BLANK"},{"$f":"IF(IS$78=\"NO\",\"MAKE BLANK\",IF(INDEX(All_Hazards_and_Controls,$BW16,IT$79)=0,\"\",INDEX(All_Hazards_and_Controls,$BW16,IT$79)))","v":"MAKE BLANK"},{"$f":"IF(IS$78=\"NO\",\"MAKE BLANK\",IF(INDEX(All_Hazards_and_Controls,$BW16,IU$79)=0,\"\",INDEX(All_Hazards_and_Controls,$BW16,IU$79)))","v":"MAKE BLANK"},{"$f":"IF(IV78=\"YES\",\"Administrative Controls\",\"MAKE BLANK\")","v":"MAKE BLANK"},{"$f":"IF(IV$78=\"NO\",\"MAKE BLANK\",IF(INDEX(All_Hazards_and_Controls,$BW16,IW$79)=0,\"\",INDEX(All_Hazards_and_Controls,$BW16,IW$79)))","v":"MAKE BLANK"},{"$f":"IF(IV$78=\"NO\",\"MAKE BLANK\",IF(INDEX(All_Hazards_and_Controls,$BW16,IX$79)=0,\"\",INDEX(All_Hazards_and_Controls,$BW16,IX$79)))","v":"MAKE BLANK"},{"$f":"IF(IY78=\"YES\",\"Administrative Controls\",\"MAKE BLANK\")","v":"MAKE BLANK"},{"$f":"IF(IY$78=\"NO\",\"MAKE BLANK\",IF(INDEX(All_Hazards_and_Controls,$BW16,IZ$79)=0,\"\",INDEX(All_Hazards_and_Controls,$BW16,IZ$79)))","v":"MAKE BLANK"},{"$f":"IF(IY$78=\"NO\",\"MAKE BLANK\",IF(INDEX(All_Hazards_and_Controls,$BW16,JA$79)=0,\"\",INDEX(All_Hazards_and_Controls,$BW16,JA$79)))","v":"MAKE BLANK"},{"$f":"IF(JB78=\"YES\",\"Administrative Controls\",\"MAKE BLANK\")","v":"MAKE BLANK"},{"$f":"IF(JB$78=\"NO\",\"MAKE BLANK\",IF(INDEX(All_Hazards_and_Controls,$BW16,JC$79)=0,\"\",INDEX(All_Hazards_and_Controls,$BW16,JC$79)))","v":"MAKE BLANK"},{"$f":"IF(JB$78=\"NO\",\"MAKE BLANK\",IF(INDEX(All_Hazards_and_Controls,$BW16,JD$79)=0,\"\",INDEX(All_Hazards_and_Controls,$BW16,JD$79)))","v":"MAKE BLANK"},{"$f":"IF(JE78=\"YES\",\"Administrative Controls\",\"MAKE BLANK\")","v":"MAKE BLANK"},{"$f":"IF(JE$78=\"NO\",\"MAKE BLANK\",IF(INDEX(All_Hazards_and_Controls,$BW16,JF$79)=0,\"\",INDEX(All_Hazards_and_Controls,$BW16,JF$79)))","v":"MAKE BLANK"},{"$f":"IF(JE$78=\"NO\",\"MAKE BLANK\",IF(INDEX(All_Hazards_and_Controls,$BW16,JG$79)=0,\"\",INDEX(All_Hazards_and_Controls,$BW16,JG$79)))","v":"MAKE BLANK"},{"$f":"IF(JH78=\"YES\",\"Administrative Controls\",\"MAKE BLANK\")","v":"MAKE BLANK"},{"$f":"IF(JH$78=\"NO\",\"MAKE BLANK\",IF(INDEX(All_Hazards_and_Controls,$BW16,JI$79)=0,\"\",INDEX(All_Hazards_and_Controls,$BW16,JI$79)))","v":"MAKE BLANK"},{"$f":"IF(JH$78=\"NO\",\"MAKE BLANK\",IF(INDEX(All_Hazards_and_Controls,$BW16,JJ$79)=0,\"\",INDEX(All_Hazards_and_Controls,$BW16,JJ$79)))","v":"MAKE BLANK"},{"$f":"IF(JK78=\"YES\",\"Administrative Controls\",\"MAKE BLANK\")","v":"MAKE BLANK"},{"$f":"IF(JK$78=\"NO\",\"MAKE BLANK\",IF(INDEX(All_Hazards_and_Controls,$BW16,JL$79)=0,\"\",INDEX(All_Hazards_and_Controls,$BW16,JL$79)))","v":"MAKE BLANK"},{"$f":"IF(JK$78=\"NO\",\"MAKE BLANK\",IF(INDEX(All_Hazards_and_Controls,$BW16,JM$79)=0,\"\",INDEX(All_Hazards_and_Controls,$BW16,JM$79)))","v":"MAKE BLANK"},{"$f":"IF(JN78=\"YES\",\"Administrative Controls\",\"MAKE BLANK\")","v":"MAKE BLANK"},{"$f":"IF(JN$78=\"NO\",\"MAKE BLANK\",IF(INDEX(All_Hazards_and_Controls,$BW16,JO$79)=0,\"\",INDEX(All_Hazards_and_Controls,$BW16,JO$79)))","v":"MAKE BLANK"},{"$f":"IF(JN$78=\"NO\",\"MAKE BLANK\",IF(INDEX(All_Hazards_and_Controls,$BW16,JP$79)=0,\"\",INDEX(All_Hazards_and_Controls,$BW16,JP$79)))","v":"MAKE BLANK"},{"$f":"IF(JQ78=\"YES\",\"Administrative Controls\",\"MAKE BLANK\")","v":"MAKE BLANK"},{"$f":"IF(JQ$78=\"NO\",\"MAKE BLANK\",IF(INDEX(All_Hazards_and_Controls,$BW16,JR$79)=0,\"\",INDEX(All_Hazards_and_Controls,$BW16,JR$79)))","v":"MAKE BLANK"},{"$f":"IF(JQ$78=\"NO\",\"MAKE BLANK\",IF(INDEX(All_Hazards_and_Controls,$BW16,JS$79)=0,\"\",INDEX(All_Hazards_and_Controls,$BW16,JS$79)))","v":"MAKE BLANK"},{"$f":"IF(JT78=\"YES\",\"Administrative Controls\",\"MAKE BLANK\")","v":"MAKE BLANK"},{"$f":"IF(JT$78=\"NO\",\"MAKE BLANK\",IF(INDEX(All_Hazards_and_Controls,$BW16,JU$79)=0,\"\",INDEX(All_Hazards_and_Controls,$BW16,JU$79)))","v":"MAKE BLANK"},{"$f":"IF(JT$78=\"NO\",\"MAKE BLANK\",IF(INDEX(All_Hazards_and_Controls,$BW16,JV$79)=0,\"\",INDEX(All_Hazards_and_Controls,$BW16,JV$79)))","v":"MAKE BLANK"},{"$f":"IF(JW78=\"YES\",\"Administrative Controls\",\"MAKE BLANK\")","v":"MAKE BLANK"},{"$f":"IF(JW$78=\"NO\",\"MAKE BLANK\",IF(INDEX(All_Hazards_and_Controls,$BW16,JX$79)=0,\"\",INDEX(All_Hazards_and_Controls,$BW16,JX$79)))","v":"MAKE BLANK"},{"$f":"IF(JW$78=\"NO\",\"MAKE BLANK\",IF(INDEX(All_Hazards_and_Controls,$BW16,JY$79)=0,\"\",INDEX(All_Hazards_and_Controls,$BW16,JY$79)))","v":"MAKE BLANK"},{"$f":"IF(JZ78=\"YES\",\"Administrative Controls\",\"MAKE BLANK\")","v":"MAKE BLANK"},{"$f":"IF(JZ$78=\"NO\",\"MAKE BLANK\",IF(INDEX(All_Hazards_and_Controls,$BW16,KA$79)=0,\"\",INDEX(All_Hazards_and_Controls,$BW16,KA$79)))","v":"MAKE BLANK"},{"$f":"IF(JZ$78=\"NO\",\"MAKE BLANK\",IF(INDEX(All_Hazards_and_Controls,$BW16,KB$79)=0,\"\",INDEX(All_Hazards_and_Controls,$BW16,KB$79)))","v":"MAKE BLANK"},{"$f":"IF(KC78=\"YES\",\"Administrative Controls\",\"MAKE BLANK\")","v":"MAKE BLANK"},{"$f":"IF(KC$78=\"NO\",\"MAKE BLANK\",IF(INDEX(All_Hazards_and_Controls,$BW16,KD$79)=0,\"\",INDEX(All_Hazards_and_Controls,$BW16,KD$79)))","v":"MAKE BLANK"},{"$f":"IF(KC$78=\"NO\",\"MAKE BLANK\",IF(INDEX(All_Hazards_and_Controls,$BW16,KE$79)=0,\"\",INDEX(All_Hazards_and_Controls,$BW16,KE$79)))","v":"MAKE BLANK"},{"$f":"IF(KF78=\"YES\",\"Administrative Controls\",\"MAKE BLANK\")","v":"MAKE BLANK"},{"$f":"IF(KF$78=\"NO\",\"MAKE BLANK\",IF(INDEX(All_Hazards_and_Controls,$BW16,KG$79)=0,\"\",INDEX(All_Hazards_and_Controls,$BW16,KG$79)))","v":"MAKE BLANK"},{"$f":"IF(KF$78=\"NO\",\"MAKE BLANK\",IF(INDEX(All_Hazards_and_Controls,$BW16,KH$79)=0,\"\",INDEX(All_Hazards_and_Controls,$BW16,KH$79)))","v":"MAKE BLANK"},{"$f":"IF(KI78=\"YES\",\"Administrative Controls\",\"MAKE BLANK\")","v":"MAKE BLANK"},{"$f":"IF(KI$78=\"NO\",\"MAKE BLANK\",IF(INDEX(All_Hazards_and_Controls,$BW16,KJ$79)=0,\"\",INDEX(All_Hazards_and_Controls,$BW16,KJ$79)))","v":"MAKE BLANK"},{"$f":"IF(KI$78=\"NO\",\"MAKE BLANK\",IF(INDEX(All_Hazards_and_Controls,$BW16,KK$79)=0,\"\",INDEX(All_Hazards_and_Controls,$BW16,KK$79)))","v":"MAKE BLANK"},{"$f":"IF(KL78=\"YES\",\"Administrative Controls\",\"MAKE BLANK\")","v":"MAKE BLANK"},{"$f":"IF(KL$78=\"NO\",\"MAKE BLANK\",IF(INDEX(All_Hazards_and_Controls,$BW16,KM$79)=0,\"\",INDEX(All_Hazards_and_Controls,$BW16,KM$79)))","v":"MAKE BLANK"},{"$f":"IF(KL$78=\"NO\",\"MAKE BLANK\",IF(INDEX(All_Hazards_and_Controls,$BW16,KN$79)=0,\"\",INDEX(All_Hazards_and_Controls,$BW16,KN$79)))","v":"MAKE BLANK"},{"$f":"IF(KO78=\"YES\",\"Administrative Controls\",\"MAKE BLANK\")","v":"MAKE BLANK"},{"$f":"IF(KO$78=\"NO\",\"MAKE BLANK\",IF(INDEX(All_Hazards_and_Controls,$BW16,KP$79)=0,\"\",INDEX(All_Hazards_and_Controls,$BW16,KP$79)))","v":"MAKE BLANK"},{"$f":"IF(KO$78=\"NO\",\"MAKE BLANK\",IF(INDEX(All_Hazards_and_Controls,$BW16,KQ$79)=0,\"\",INDEX(All_Hazards_and_Controls,$BW16,KQ$79)))","v":"MAKE BLANK"},{"$f":"IF(KR78=\"YES\",\"Administrative Controls\",\"MAKE BLANK\")","v":"MAKE BLANK"},{"$f":"IF(KR$78=\"NO\",\"MAKE BLANK\",IF(INDEX(All_Hazards_and_Controls,$BW16,KS$79)=0,\"\",INDEX(All_Hazards_and_Controls,$BW16,KS$79)))","v":"MAKE BLANK"},{"$f":"IF(KR$78=\"NO\",\"MAKE BLANK\",IF(INDEX(All_Hazards_and_Controls,$BW16,KT$79)=0,\"\",INDEX(All_Hazards_and_Controls,$BW16,KT$79)))","v":"MAKE BLANK"},{"$f":"IF(KU78=\"YES\",\"Administrative Controls\",\"MAKE BLANK\")","v":"MAKE BLANK"},{"$f":"IF(KU$78=\"NO\",\"MAKE BLANK\",IF(INDEX(All_Hazards_and_Controls,$BW16,KV$79)=0,\"\",INDEX(All_Hazards_and_Controls,$BW16,KV$79)))","v":"MAKE BLANK"},{"$f":"IF(KU$78=\"NO\",\"MAKE BLANK\",IF(INDEX(All_Hazards_and_Controls,$BW16,KW$79)=0,\"\",INDEX(All_Hazards_and_Controls,$BW16,KW$79)))","v":"MAKE BLANK"},{"$f":"IF(KX78=\"YES\",\"Administrative Controls\",\"MAKE BLANK\")","v":"MAKE BLANK"},{"$f":"IF(KX$78=\"NO\",\"MAKE BLANK\",IF(INDEX(All_Hazards_and_Controls,$BW16,KY$79)=0,\"\",INDEX(All_Hazards_and_Controls,$BW16,KY$79)))","v":"MAKE BLANK"},{"$f":"IF(KX$78=\"NO\",\"MAKE BLANK\",IF(INDEX(All_Hazards_and_Controls,$BW16,KZ$79)=0,\"\",INDEX(All_Hazards_and_Controls,$BW16,KZ$79)))","v":"MAKE BLANK"},{"$f":"IF(LA78=\"YES\",\"Administrative Controls\",\"MAKE BLANK\")","v":"MAKE BLANK"},{"$f":"IF(LA$78=\"NO\",\"MAKE BLANK\",IF(INDEX(All_Hazards_and_Controls,$BW16,LB$79)=0,\"\",INDEX(All_Hazards_and_Controls,$BW16,LB$79)))","v":"MAKE BLANK"},{"$f":"IF(LA$78=\"NO\",\"MAKE BLANK\",IF(INDEX(All_Hazards_and_Controls,$BW16,LC$79)=0,\"\",INDEX(All_Hazards_and_Controls,$BW16,LC$79)))","v":"MAKE BLANK"},{"$f":"IF(LD78=\"YES\",\"Administrative Controls\",\"MAKE BLANK\")","v":"MAKE BLANK"},{"$f":"IF(LD$78=\"NO\",\"MAKE BLANK\",IF(INDEX(All_Hazards_and_Controls,$BW16,LE$79)=0,\"\",INDEX(All_Hazards_and_Controls,$BW16,LE$79)))","v":"MAKE BLANK"},{"$f":"IF(LD$78=\"NO\",\"MAKE BLANK\",IF(INDEX(All_Hazards_and_Controls,$BW16,LF$79)=0,\"\",INDEX(All_Hazards_and_Controls,$BW16,LF$79)))","v":"MAKE BLANK"},{"$f":"IF(LG78=\"YES\",\"Administrative Controls\",\"MAKE BLANK\")","v":"MAKE BLANK"},{"$f":"IF(LG$78=\"NO\",\"MAKE BLANK\",IF(INDEX(All_Hazards_and_Controls,$BW16,LH$79)=0,\"\",INDEX(All_Hazards_and_Controls,$BW16,LH$79)))","v":"MAKE BLANK"},{"$f":"IF(LG$78=\"NO\",\"MAKE BLANK\",IF(INDEX(All_Hazards_and_Controls,$BW16,LI$79)=0,\"\",INDEX(All_Hazards_and_Controls,$BW16,LI$79)))","v":"MAKE BLANK"},{"$f":"IF(LJ78=\"YES\",\"Administrative Controls\",\"MAKE BLANK\")","v":"MAKE BLANK"},{"$f":"IF(LJ$78=\"NO\",\"MAKE BLANK\",IF(INDEX(All_Hazards_and_Controls,$BW16,LK$79)=0,\"\",INDEX(All_Hazards_and_Controls,$BW16,LK$79)))","v":"MAKE BLANK"},{"$f":"IF(LJ$78=\"NO\",\"MAKE BLANK\",IF(INDEX(All_Hazards_and_Controls,$BW16,LL$79)=0,\"\",INDEX(All_Hazards_and_Controls,$BW16,LL$79)))","v":"MAKE BLANK"},{"$f":"IF(LM78=\"YES\",\"Administrative Controls\",\"MAKE BLANK\")","v":"MAKE BLANK"},{"$f":"IF(LM$78=\"NO\",\"MAKE BLANK\",IF(INDEX(All_Hazards_and_Controls,$BW16,LN$79)=0,\"\",INDEX(All_Hazards_and_Controls,$BW16,LN$79)))","v":"MAKE BLANK"},{"$f":"IF(LM$78=\"NO\",\"MAKE BLANK\",IF(INDEX(All_Hazards_and_Controls,$BW16,LO$79)=0,\"\",INDEX(All_Hazards_and_Controls,$BW16,LO$79)))","v":"MAKE BLANK"},{"$f":"IF(LP78=\"YES\",\"Administrative Controls\",\"MAKE BLANK\")","v":"MAKE BLANK"},{"$f":"IF(LP$78=\"NO\",\"MAKE BLANK\",IF(INDEX(All_Hazards_and_Controls,$BW16,LQ$79)=0,\"\",INDEX(All_Hazards_and_Controls,$BW16,LQ$79)))","v":"MAKE BLANK"},{"$f":"IF(LP$78=\"NO\",\"MAKE BLANK\",IF(INDEX(All_Hazards_and_Controls,$BW16,LR$79)=0,\"\",INDEX(All_Hazards_and_Controls,$BW16,LR$79)))","v":"MAKE BLANK"},{"$f":"IF(LS78=\"YES\",\"Administrative Controls\",\"MAKE BLANK\")","v":"MAKE BLANK"},{"$f":"IF(LS$78=\"NO\",\"MAKE BLANK\",IF(INDEX(All_Hazards_and_Controls,$BW16,LT$79)=0,\"\",INDEX(All_Hazards_and_Controls,$BW16,LT$79)))","v":"MAKE BLANK"},{"$f":"IF(LS$78=\"NO\",\"MAKE BLANK\",IF(INDEX(All_Hazards_and_Controls,$BW16,LU$79)=0,\"\",INDEX(All_Hazards_and_Controls,$BW16,LU$79)))","v":"MAKE BLANK"},{"$f":"IF(LV78=\"YES\",\"Administrative Controls\",\"MAKE BLANK\")","v":"MAKE BLANK"},{"$f":"IF(LV$78=\"NO\",\"MAKE BLANK\",IF(INDEX(All_Hazards_and_Controls,$BW16,LW$79)=0,\"\",INDEX(All_Hazards_and_Controls,$BW16,LW$79)))","v":"MAKE BLANK"},{"$f":"IF(LV$78=\"NO\",\"MAKE BLANK\",IF(INDEX(All_Hazards_and_Controls,$BW16,LX$79)=0,\"\",INDEX(All_Hazards_and_Controls,$BW16,LX$79)))","v":"MAKE BLANK"},{"$f":"IF(LY78=\"YES\",\"Administrative Controls\",\"MAKE BLANK\")","v":"MAKE BLANK"},{"$f":"IF(LY$78=\"NO\",\"MAKE BLANK\",IF(INDEX(All_Hazards_and_Controls,$BW16,LZ$79)=0,\"\",INDEX(All_Hazards_and_Controls,$BW16,LZ$79)))","v":"MAKE BLANK"},{"$f":"IF(LY$78=\"NO\",\"MAKE BLANK\",IF(INDEX(All_Hazards_and_Controls,$BW16,MA$79)=0,\"\",INDEX(All_Hazards_and_Controls,$BW16,MA$79)))","v":"MAKE BLANK"},{"$f":"IF(MB78=\"YES\",\"Administrative Controls\",\"MAKE BLANK\")","v":"MAKE BLANK"},{"$f":"IF(MB$78=\"NO\",\"MAKE BLANK\",IF(INDEX(All_Hazards_and_Controls,$BW16,MC$79)=0,\"\",INDEX(All_Hazards_and_Controls,$BW16,MC$79)))","v":"MAKE BLANK"},{"$f":"IF(MB$78=\"NO\",\"MAKE BLANK\",IF(INDEX(All_Hazards_and_Controls,$BW16,MD$79)=0,\"\",INDEX(All_Hazards_and_Controls,$BW16,MD$79)))","v":"MAKE BLANK"},{"$f":"IF(ME78=\"YES\",\"Administrative Controls\",\"MAKE BLANK\")","v":"MAKE BLANK"},{"$f":"IF(ME$78=\"NO\",\"MAKE BLANK\",IF(INDEX(All_Hazards_and_Controls,$BW16,MF$79)=0,\"\",INDEX(All_Hazards_and_Controls,$BW16,MF$79)))","v":"MAKE BLANK"},{"$f":"IF(ME$78=\"NO\",\"MAKE BLANK\",IF(INDEX(All_Hazards_and_Controls,$BW16,MG$79)=0,\"\",INDEX(All_Hazards_and_Controls,$BW16,MG$79)))","v":"MAKE BLANK"},{"$f":"IF(MH78=\"YES\",\"Administrative Controls\",\"MAKE BLANK\")","v":"MAKE BLANK"},{"$f":"IF(MH$78=\"NO\",\"MAKE BLANK\",IF(INDEX(All_Hazards_and_Controls,$BW16,MI$79)=0,\"\",INDEX(All_Hazards_and_Controls,$BW16,MI$79)))","v":"MAKE BLANK"},{"$f":"IF(MH$78=\"NO\",\"MAKE BLANK\",IF(INDEX(All_Hazards_and_Controls,$BW16,MJ$79)=0,\"\",INDEX(All_Hazards_and_Controls,$BW16,MJ$79)))","v":"MAKE BLANK"},{"$f":"IF(MK78=\"YES\",\"Administrative Controls\",\"MAKE BLANK\")","v":"MAKE BLANK"},{"$f":"IF(MK$78=\"NO\",\"MAKE BLANK\",IF(INDEX(All_Hazards_and_Controls,$BW16,ML$79)=0,\"\",INDEX(All_Hazards_and_Controls,$BW16,ML$79)))","v":"MAKE BLANK"},{"$f":"IF(MK$78=\"NO\",\"MAKE BLANK\",IF(INDEX(All_Hazards_and_Controls,$BW16,MM$79)=0,\"\",INDEX(All_Hazards_and_Controls,$BW16,MM$79)))","v":"MAKE BLANK"},{"$f":"IF(MN78=\"YES\",\"Administrative Controls\",\"MAKE BLANK\")","v":"MAKE BLANK"},{"$f":"IF(MN$78=\"NO\",\"MAKE BLANK\",IF(INDEX(All_Hazards_and_Controls,$BW16,MO$79)=0,\"\",INDEX(All_Hazards_and_Controls,$BW16,MO$79)))","v":"MAKE BLANK"},{"$f":"IF(MN$78=\"NO\",\"MAKE BLANK\",IF(INDEX(All_Hazards_and_Controls,$BW16,MP$79)=0,\"\",INDEX(All_Hazards_and_Controls,$BW16,MP$79)))","v":"MAKE BLANK"},{"$f":"IF(MQ78=\"YES\",\"Administrative Controls\",\"MAKE BLANK\")","v":"MAKE BLANK"},{"$f":"IF(MQ$78=\"NO\",\"MAKE BLANK\",IF(INDEX(All_Hazards_and_Controls,$BW16,MR$79)=0,\"\",INDEX(All_Hazards_and_Controls,$BW16,MR$79)))","v":"MAKE BLANK"},{"$f":"IF(MQ$78=\"NO\",\"MAKE BLANK\",IF(INDEX(All_Hazards_and_Controls,$BW16,MS$79)=0,\"\",INDEX(All_Hazards_and_Controls,$BW16,MS$79)))","v":"MAKE BLANK"},{"$f":"IF(MT78=\"YES\",\"Administrative Controls\",\"MAKE BLANK\")","v":"MAKE BLANK"},{"$f":"IF(MT$78=\"NO\",\"MAKE BLANK\",IF(INDEX(All_Hazards_and_Controls,$BW16,MU$79)=0,\"\",INDEX(All_Hazards_and_Controls,$BW16,MU$79)))","v":"MAKE BLANK"},{"$f":"IF(MT$78=\"NO\",\"MAKE BLANK\",IF(INDEX(All_Hazards_and_Controls,$BW16,MV$79)=0,\"\",INDEX(All_Hazards_and_Controls,$BW16,MV$79)))","v":"MAKE BLANK"}]
["Expiration Date",null,{"$f":"IF(Expiration_Date=0,\"\",Expiration_Date)","v":""}," ",null,null,null,null,null,null,null,"Risk Acceptance",null,null,null,null,null,null,null,null,null,null,null,null,null,null,null,null,null,null,null,null,null,null,null,null,null,null,null,null,null,null,null,"Electrocution / Shock",null,null,null,null,null,"Archaeological, Cultural and Historic",null,null,null,null,null,null,null,"Confined Space Permit",null,null,null,null,null,null,null,"Lockout / Tagout Shut Down Equipment Form",null,null,null,null,null,null,null,null,15,{"$f":"IF(BX$78=\"NO\",\"MAKE BLANK\",IF(INDEX(All_Hazards_and_Controls,$BW17,BX$79)=0,\"\",INDEX(All_Hazards_and_Controls,$BW17,BX$79)))","v":"MAKE BLANK"},null,null,{"$f":"IF(CA$78=\"NO\",\"MAKE BLANK\",IF(INDEX(All_Hazards_and_Controls,$BW17,CA$79)=0,\"\",INDEX(All_Hazards_and_Controls,$BW17,CA$79)))","v":"MAKE BLANK"},null,null,{"$f":"IF(CD$78=\"NO\",\"MAKE BLANK\",IF(INDEX(All_Hazards_and_Controls,$BW17,CD$79)=0,\"\",INDEX(All_Hazards_and_Controls,$BW17,CD$79)))","v":"MAKE BLANK"},null,null,{"$f":"IF(CG$78=\"NO\",\"MAKE BLANK\",IF(INDEX(All_Hazards_and_Controls,$BW17,CG$79)=0,\"\",INDEX(All_Hazards_and_Controls,$BW17,CG$79)))","v":"MAKE BLANK"},null,null,{"$f":"IF(CJ$78=\"NO\",\"MAKE BLANK\",IF(INDEX(All_Hazards_and_Controls,$BW17,CJ$79)=0,\"\",INDEX(All_Hazards_and_Controls,$BW17,CJ$79)))","v":"MAKE BLANK"},null,null,{"$f":"IF(CM$78=\"NO\",\"MAKE BLANK\",IF(INDEX(All_Hazards_and_Controls,$BW17,CM$79)=0,\"\",INDEX(All_Hazards_and_Controls,$BW17,CM$79)))","v":"MAKE BLANK"},null,null,{"$f":"IF(CP$78=\"NO\",\"MAKE BLANK\",IF(INDEX(All_Hazards_and_Controls,$BW17,CP$79)=0,\"\",INDEX(All_Hazards_and_Controls,$BW17,CP$79)))","v":"MAKE BLANK"},null,null,{"$f":"IF(CS$78=\"NO\",\"MAKE BLANK\",IF(INDEX(All_Hazards_and_Controls,$BW17,CS$79)=0,\"\",INDEX(All_Hazards_and_Controls,$BW17,CS$79)))","v":"MAKE BLANK"},null,null,{"$f":"IF(CV$78=\"NO\",\"MAKE BLANK\",IF(INDEX(All_Hazards_and_Controls,$BW17,CV$79)=0,\"\",INDEX(All_Hazards_and_Controls,$BW17,CV$79)))","v":"MAKE BLANK"},null,null,{"$f":"IF(CY$78=\"NO\",\"MAKE BLANK\",IF(INDEX(All_Hazards_and_Controls,$BW17,CY$79)=0,\"\",INDEX(All_Hazards_and_Controls,$BW17,CY$79)))","v":"MAKE BLANK"},null,null,{"$f":"IF(DB$78=\"NO\",\"MAKE BLANK\",IF(INDEX(All_Hazards_and_Controls,$BW17,DB$79)=0,\"\",INDEX(All_Hazards_and_Controls,$BW17,DB$79)))","v":"MAKE BLANK"},null,null,{"$f":"IF(DE$78=\"NO\",\"MAKE BLANK\",IF(INDEX(All_Hazards_and_Controls,$BW17,DE$79)=0,\"\",INDEX(All_Hazards_and_Controls,$BW17,DE$79)))","v":"MAKE BLANK"},null,null,{"$f":"IF(DH$78=\"NO\",\"MAKE BLANK\",IF(INDEX(All_Hazards_and_Controls,$BW17,DH$79)=0,\"\",INDEX(All_Hazards_and_Controls,$BW17,DH$79)))","v":"MAKE BLANK"},null,null,{"$f":"IF(DK$78=\"NO\",\"MAKE BLANK\",IF(INDEX(All_Hazards_and_Controls,$BW17,DK$79)=0,\"\",INDEX(All_Hazards_and_Controls,$BW17,DK$79)))","v":"MAKE BLANK"},null,null,{"$f":"IF(DN$78=\"NO\",\"MAKE BLANK\",IF(INDEX(All_Hazards_and_Controls,$BW17,DN$79)=0,\"\",INDEX(All_Hazards_and_Controls,$BW17,DN$79)))","v":"MAKE BLANK"},null,null,{"$f":"IF(DQ$78=\"NO\",\"MAKE BLANK\",IF(INDEX(All_Hazards_and_Controls,$BW17,DQ$79)=0,\"\",INDEX(All_Hazards_and_Controls,$BW17,DQ$79)))","v":"MAKE BLANK"},null,null,{"$f":"IF(DT$78=\"NO\",\"MAKE BLANK\",IF(INDEX(All_Hazards_and_Controls,$BW17,DT$79)=0,\"\",INDEX(All_Hazards_and_Controls,$BW17,DT$79)))","v":"MAKE BLANK"},null,null,{"$f":"IF(DW$78=\"NO\",\"MAKE BLANK\",IF(INDEX(All_Hazards_and_Controls,$BW17,DW$79)=0,\"\",INDEX(All_Hazards_and_Controls,$BW17,DW$79)))","v":"MAKE BLANK"},null,null,{"$f":"IF(DZ$78=\"NO\",\"MAKE BLANK\",IF(INDEX(All_Hazards_and_Controls,$BW17,DZ$79)=0,\"\",INDEX(All_Hazards_and_Controls,$BW17,DZ$79)))","v":"MAKE BLANK"},null,null,{"$f":"IF(EC$78=\"NO\",\"MAKE BLANK\",IF(INDEX(All_Hazards_and_Controls,$BW17,EC$79)=0,\"\",INDEX(All_Hazards_and_Controls,$BW17,EC$79)))","v":"MAKE BLANK"},null,null,{"$f":"IF(EF$78=\"NO\",\"MAKE BLANK\",IF(INDEX(All_Hazards_and_Controls,$BW17,EF$79)=0,\"\",INDEX(All_Hazards_and_Controls,$BW17,EF$79)))","v":"MAKE BLANK"},null,null,{"$f":"IF(EI$78=\"NO\",\"MAKE BLANK\",IF(INDEX(All_Hazards_and_Controls,$BW17,EI$79)=0,\"\",INDEX(All_Hazards_and_Controls,$BW17,EI$79)))","v":"MAKE BLANK"},null,null,{"$f":"IF(EL$78=\"NO\",\"MAKE BLANK\",IF(INDEX(All_Hazards_and_Controls,$BW17,EL$79)=0,\"\",INDEX(All_Hazards_and_Controls,$BW17,EL$79)))","v":"MAKE BLANK"},null,null,{"$f":"IF(EO$78=\"NO\",\"MAKE BLANK\",IF(INDEX(All_Hazards_and_Controls,$BW17,EO$79)=0,\"\",INDEX(All_Hazards_and_Controls,$BW17,EO$79)))","v":"MAKE BLANK"},null,null,{"$f":"IF(ER$78=\"NO\",\"MAKE BLANK\",IF(INDEX(All_Hazards_and_Controls,$BW17,ER$79)=0,\"\",INDEX(All_Hazards_and_Controls,$BW17,ER$79)))","v":"MAKE BLANK"},null,null,{"$f":"IF(EU$78=\"NO\",\"MAKE BLANK\",IF(INDEX(All_Hazards_and_Controls,$BW17,EU$79)=0,\"\",INDEX(All_Hazards_and_Controls,$BW17,EU$79)))","v":"MAKE BLANK"},null,null,{"$f":"IF(EX$78=\"NO\",\"MAKE BLANK\",IF(INDEX(All_Hazards_and_Controls,$BW17,EX$79)=0,\"\",INDEX(All_Hazards_and_Controls,$BW17,EX$79)))","v":"MAKE BLANK"},null,null,{"$f":"IF(FA$78=\"NO\",\"MAKE BLANK\",IF(INDEX(All_Hazards_and_Controls,$BW17,FA$79)=0,\"\",INDEX(All_Hazards_and_Controls,$BW17,FA$79)))","v":"MAKE BLANK"},null,null,{"$f":"IF(FD$78=\"NO\",\"MAKE BLANK\",IF(INDEX(All_Hazards_and_Controls,$BW17,FD$79)=0,\"\",INDEX(All_Hazards_and_Controls,$BW17,FD$79)))","v":"MAKE BLANK"},null,null,{"$f":"IF(FG$78=\"NO\",\"MAKE BLANK\",IF(INDEX(All_Hazards_and_Controls,$BW17,FG$79)=0,\"\",INDEX(All_Hazards_and_Controls,$BW17,FG$79)))","v":"MAKE BLANK"},null,null,{"$f":"IF(FJ$78=\"NO\",\"MAKE BLANK\",IF(INDEX(All_Hazards_and_Controls,$BW17,FJ$79)=0,\"\",INDEX(All_Hazards_and_Controls,$BW17,FJ$79)))","v":"MAKE BLANK"},null,null,{"$f":"IF(FM$78=\"NO\",\"MAKE BLANK\",IF(INDEX(All_Hazards_and_Controls,$BW17,FM$79)=0,\"\",INDEX(All_Hazards_and_Controls,$BW17,FM$79)))","v":"MAKE BLANK"},null,null,{"$f":"IF(FP$78=\"NO\",\"MAKE BLANK\",IF(INDEX(All_Hazards_and_Controls,$BW17,FP$79)=0,\"\",INDEX(All_Hazards_and_Controls,$BW17,FP$79)))","v":"MAKE BLANK"},null,null,{"$f":"IF(FS$78=\"NO\",\"MAKE BLANK\",IF(INDEX(All_Hazards_and_Controls,$BW17,FS$79)=0,\"\",INDEX(All_Hazards_and_Controls,$BW17,FS$79)))","v":"MAKE BLANK"},null,null,{"$f":"IF(FV$78=\"NO\",\"MAKE BLANK\",IF(INDEX(All_Hazards_and_Controls,$BW17,FV$79)=0,\"\",INDEX(All_Hazards_and_Controls,$BW17,FV$79)))","v":"MAKE BLANK"},null,null,{"$f":"IF(FY$78=\"NO\",\"MAKE BLANK\",IF(INDEX(All_Hazards_and_Controls,$BW17,FY$79)=0,\"\",INDEX(All_Hazards_and_Controls,$BW17,FY$79)))","v":"MAKE BLANK"},null,null,{"$f":"IF(GB$78=\"NO\",\"MAKE BLANK\",IF(INDEX(All_Hazards_and_Controls,$BW17,GB$79)=0,\"\",INDEX(All_Hazards_and_Controls,$BW17,GB$79)))","v":"MAKE BLANK"},null,null,{"$f":"IF(GE$78=\"NO\",\"MAKE BLANK\",IF(INDEX(All_Hazards_and_Controls,$BW17,GE$79)=0,\"\",INDEX(All_Hazards_and_Controls,$BW17,GE$79)))","v":"MAKE BLANK"},null,null,{"$f":"IF(GH$78=\"NO\",\"MAKE BLANK\",IF(INDEX(All_Hazards_and_Controls,$BW17,GH$79)=0,\"\",INDEX(All_Hazards_and_Controls,$BW17,GH$79)))","v":"MAKE BLANK"},null,null,{"$f":"IF(GK$78=\"NO\",\"MAKE BLANK\",IF(INDEX(All_Hazards_and_Controls,$BW17,GK$79)=0,\"\",INDEX(All_Hazards_and_Controls,$BW17,GK$79)))","v":"MAKE BLANK"},null,null,{"$f":"IF(GN$78=\"NO\",\"MAKE BLANK\",IF(INDEX(All_Hazards_and_Controls,$BW17,GN$79)=0,\"\",INDEX(All_Hazards_and_Controls,$BW17,GN$79)))","v":"MAKE BLANK"},null,null,{"$f":"IF(GQ$78=\"NO\",\"MAKE BLANK\",IF(INDEX(All_Hazards_and_Controls,$BW17,GQ$79)=0,\"\",INDEX(All_Hazards_and_Controls,$BW17,GQ$79)))","v":"MAKE BLANK"},null,null,{"$f":"IF(GT$78=\"NO\",\"MAKE BLANK\",IF(INDEX(All_Hazards_and_Controls,$BW17,GT$79)=0,\"\",INDEX(All_Hazards_and_Controls,$BW17,GT$79)))","v":"MAKE BLANK"},null,null,{"$f":"IF(GW$78=\"NO\",\"MAKE BLANK\",IF(INDEX(All_Hazards_and_Controls,$BW17,GW$79)=0,\"\",INDEX(All_Hazards_and_Controls,$BW17,GW$79)))","v":"MAKE BLANK"},null,null,{"$f":"IF(GZ$78=\"NO\",\"MAKE BLANK\",IF(INDEX(All_Hazards_and_Controls,$BW17,GZ$79)=0,\"\",INDEX(All_Hazards_and_Controls,$BW17,GZ$79)))","v":"MAKE BLANK"},null,null,{"$f":"IF(HC$78=\"NO\",\"MAKE BLANK\",IF(INDEX(All_Hazards_and_Controls,$BW17,HC$79)=0,\"\",INDEX(All_Hazards_and_Controls,$BW17,HC$79)))","v":"MAKE BLANK"},null,null,{"$f":"IF(HF$78=\"NO\",\"MAKE BLANK\",IF(INDEX(All_Hazards_and_Controls,$BW17,HF$79)=0,\"\",INDEX(All_Hazards_and_Controls,$BW17,HF$79)))","v":"MAKE BLANK"},null,null,{"$f":"IF(HI$78=\"NO\",\"MAKE BLANK\",IF(INDEX(All_Hazards_and_Controls,$BW17,HI$79)=0,\"\",INDEX(All_Hazards_and_Controls,$BW17,HI$79)))","v":"MAKE BLANK"},null,null,{"$f":"IF(HL$78=\"NO\",\"MAKE BLANK\",IF(INDEX(All_Hazards_and_Controls,$BW17,HL$79)=0,\"\",INDEX(All_Hazards_and_Controls,$BW17,HL$79)))","v":"MAKE BLANK"},null,null,{"$f":"IF(HO$78=\"NO\",\"MAKE BLANK\",IF(INDEX(All_Hazards_and_Controls,$BW17,HO$79)=0,\"\",INDEX(All_Hazards_and_Controls,$BW17,HO$79)))","v":"MAKE BLANK"},null,null,{"$f":"IF(HR$78=\"NO\",\"MAKE BLANK\",IF(INDEX(All_Hazards_and_Controls,$BW17,HR$79)=0,\"\",INDEX(All_Hazards_and_Controls,$BW17,HR$79)))","v":"MAKE BLANK"},null,null,{"$f":"IF(HU$78=\"NO\",\"MAKE BLANK\",IF(INDEX(All_Hazards_and_Controls,$BW17,HU$79)=0,\"\",INDEX(All_Hazards_and_Controls,$BW17,HU$79)))","v":"MAKE BLANK"},null,null,{"$f":"IF(HX$78=\"NO\",\"MAKE BLANK\",IF(INDEX(All_Hazards_and_Controls,$BW17,HX$79)=0,\"\",INDEX(All_Hazards_and_Controls,$BW17,HX$79)))","v":"MAKE BLANK"},null,null,{"$f":"IF(IA$78=\"NO\",\"MAKE BLANK\",IF(INDEX(All_Hazards_and_Controls,$BW17,IA$79)=0,\"\",INDEX(All_Hazards_and_Controls,$BW17,IA$79)))","v":"MAKE BLANK"},null,null,{"$f":"IF(ID$78=\"NO\",\"MAKE BLANK\",IF(INDEX(All_Hazards_and_Controls,$BW17,ID$79)=0,\"\",INDEX(All_Hazards_and_Controls,$BW17,ID$79)))","v":"MAKE BLANK"},null,null,{"$f":"IF(IG$78=\"NO\",\"MAKE BLANK\",IF(INDEX(All_Hazards_and_Controls,$BW17,IG$79)=0,\"\",INDEX(All_Hazards_and_Controls,$BW17,IG$79)))","v":"MAKE BLANK"},null,null,{"$f":"IF(IJ$78=\"NO\",\"MAKE BLANK\",IF(INDEX(All_Hazards_and_Controls,$BW17,IJ$79)=0,\"\",INDEX(All_Hazards_and_Controls,$BW17,IJ$79)))","v":"MAKE BLANK"},null,null,{"$f":"IF(IM$78=\"NO\",\"MAKE BLANK\",IF(INDEX(All_Hazards_and_Controls,$BW17,IM$79)=0,\"\",INDEX(All_Hazards_and_Controls,$BW17,IM$79)))","v":"MAKE BLANK"},null,null,{"$f":"IF(IP$78=\"NO\",\"MAKE BLANK\",IF(INDEX(All_Hazards_and_Controls,$BW17,IP$79)=0,\"\",INDEX(All_Hazards_and_Controls,$BW17,IP$79)))","v":"MAKE BLANK"},null,null,{"$f":"IF(IS$78=\"NO\",\"MAKE BLANK\",IF(INDEX(All_Hazards_and_Controls,$BW17,IS$79)=0,\"\",INDEX(All_Hazards_and_Controls,$BW17,IS$79)))","v":"MAKE BLANK"},null,null,{"$f":"IF(IV$78=\"NO\",\"MAKE BLANK\",IF(INDEX(All_Hazards_and_Controls,$BW17,IV$79)=0,\"\",INDEX(All_Hazards_and_Controls,$BW17,IV$79)))","v":"MAKE BLANK"},null,null,{"$f":"IF(IY$78=\"NO\",\"MAKE BLANK\",IF(INDEX(All_Hazards_and_Controls,$BW17,IY$79)=0,\"\",INDEX(All_Hazards_and_Controls,$BW17,IY$79)))","v":"MAKE BLANK"},null,null,{"$f":"IF(JB$78=\"NO\",\"MAKE BLANK\",IF(INDEX(All_Hazards_and_Controls,$BW17,JB$79)=0,\"\",INDEX(All_Hazards_and_Controls,$BW17,JB$79)))","v":"MAKE BLANK"},null,null,{"$f":"IF(JE$78=\"NO\",\"MAKE BLANK\",IF(INDEX(All_Hazards_and_Controls,$BW17,JE$79)=0,\"\",INDEX(All_Hazards_and_Controls,$BW17,JE$79)))","v":"MAKE BLANK"},null,null,{"$f":"IF(JH$78=\"NO\",\"MAKE BLANK\",IF(INDEX(All_Hazards_and_Controls,$BW17,JH$79)=0,\"\",INDEX(All_Hazards_and_Controls,$BW17,JH$79)))","v":"MAKE BLANK"},null,null,{"$f":"IF(JK$78=\"NO\",\"MAKE BLANK\",IF(INDEX(All_Hazards_and_Controls,$BW17,JK$79)=0,\"\",INDEX(All_Hazards_and_Controls,$BW17,JK$79)))","v":"MAKE BLANK"},null,null,{"$f":"IF(JN$78=\"NO\",\"MAKE BLANK\",IF(INDEX(All_Hazards_and_Controls,$BW17,JN$79)=0,\"\",INDEX(All_Hazards_and_Controls,$BW17,JN$79)))","v":"MAKE BLANK"},null,null,{"$f":"IF(JQ$78=\"NO\",\"MAKE BLANK\",IF(INDEX(All_Hazards_and_Controls,$BW17,JQ$79)=0,\"\",INDEX(All_Hazards_and_Controls,$BW17,JQ$79)))","v":"MAKE BLANK"},null,null,{"$f":"IF(JT$78=\"NO\",\"MAKE BLANK\",IF(INDEX(All_Hazards_and_Controls,$BW17,JT$79)=0,\"\",INDEX(All_Hazards_and_Controls,$BW17,JT$79)))","v":"MAKE BLANK"},null,null,{"$f":"IF(JW$78=\"NO\",\"MAKE BLANK\",IF(INDEX(All_Hazards_and_Controls,$BW17,JW$79)=0,\"\",INDEX(All_Hazards_and_Controls,$BW17,JW$79)))","v":"MAKE BLANK"},null,null,{"$f":"IF(JZ$78=\"NO\",\"MAKE BLANK\",IF(INDEX(All_Hazards_and_Controls,$BW17,JZ$79)=0,\"\",INDEX(All_Hazards_and_Controls,$BW17,JZ$79)))","v":"MAKE BLANK"},null,null,{"$f":"IF(KC$78=\"NO\",\"MAKE BLANK\",IF(INDEX(All_Hazards_and_Controls,$BW17,KC$79)=0,\"\",INDEX(All_Hazards_and_Controls,$BW17,KC$79)))","v":"MAKE BLANK"},null,null,{"$f":"IF(KF$78=\"NO\",\"MAKE BLANK\",IF(INDEX(All_Hazards_and_Controls,$BW17,KF$79)=0,\"\",INDEX(All_Hazards_and_Controls,$BW17,KF$79)))","v":"MAKE BLANK"},null,null,{"$f":"IF(KI$78=\"NO\",\"MAKE BLANK\",IF(INDEX(All_Hazards_and_Controls,$BW17,KI$79)=0,\"\",INDEX(All_Hazards_and_Controls,$BW17,KI$79)))","v":"MAKE BLANK"},null,null,{"$f":"IF(KL$78=\"NO\",\"MAKE BLANK\",IF(INDEX(All_Hazards_and_Controls,$BW17,KL$79)=0,\"\",INDEX(All_Hazards_and_Controls,$BW17,KL$79)))","v":"MAKE BLANK"},null,null,{"$f":"IF(KO$78=\"NO\",\"MAKE BLANK\",IF(INDEX(All_Hazards_and_Controls,$BW17,KO$79)=0,\"\",INDEX(All_Hazards_and_Controls,$BW17,KO$79)))","v":"MAKE BLANK"},null,null,{"$f":"IF(KR$78=\"NO\",\"MAKE BLANK\",IF(INDEX(All_Hazards_and_Controls,$BW17,KR$79)=0,\"\",INDEX(All_Hazards_and_Controls,$BW17,KR$79)))","v":"MAKE BLANK"},null,null,{"$f":"IF(KU$78=\"NO\",\"MAKE BLANK\",IF(INDEX(All_Hazards_and_Controls,$BW17,KU$79)=0,\"\",INDEX(All_Hazards_and_Controls,$BW17,KU$79)))","v":"MAKE BLANK"},null,null,{"$f":"IF(KX$78=\"NO\",\"MAKE BLANK\",IF(INDEX(All_Hazards_and_Controls,$BW17,KX$79)=0,\"\",INDEX(All_Hazards_and_Controls,$BW17,KX$79)))","v":"MAKE BLANK"},null,null,{"$f":"IF(LA$78=\"NO\",\"MAKE BLANK\",IF(INDEX(All_Hazards_and_Controls,$BW17,LA$79)=0,\"\",INDEX(All_Hazards_and_Controls,$BW17,LA$79)))","v":"MAKE BLANK"},null,null,{"$f":"IF(LD$78=\"NO\",\"MAKE BLANK\",IF(INDEX(All_Hazards_and_Controls,$BW17,LD$79)=0,\"\",INDEX(All_Hazards_and_Controls,$BW17,LD$79)))","v":"MAKE BLANK"},null,null,{"$f":"IF(LG$78=\"NO\",\"MAKE BLANK\",IF(INDEX(All_Hazards_and_Controls,$BW17,LG$79)=0,\"\",INDEX(All_Hazards_and_Controls,$BW17,LG$79)))","v":"MAKE BLANK"},null,null,{"$f":"IF(LJ$78=\"NO\",\"MAKE BLANK\",IF(INDEX(All_Hazards_and_Controls,$BW17,LJ$79)=0,\"\",INDEX(All_Hazards_and_Controls,$BW17,LJ$79)))","v":"MAKE BLANK"},null,null,{"$f":"IF(LM$78=\"NO\",\"MAKE BLANK\",IF(INDEX(All_Hazards_and_Controls,$BW17,LM$79)=0,\"\",INDEX(All_Hazards_and_Controls,$BW17,LM$79)))","v":"MAKE BLANK"},null,null,{"$f":"IF(LP$78=\"NO\",\"MAKE BLANK\",IF(INDEX(All_Hazards_and_Controls,$BW17,LP$79)=0,\"\",INDEX(All_Hazards_and_Controls,$BW17,LP$79)))","v":"MAKE BLANK"},null,null,{"$f":"IF(LS$78=\"NO\",\"MAKE BLANK\",IF(INDEX(All_Hazards_and_Controls,$BW17,LS$79)=0,\"\",INDEX(All_Hazards_and_Controls,$BW17,LS$79)))","v":"MAKE BLANK"},null,null,{"$f":"IF(LV$78=\"NO\",\"MAKE BLANK\",IF(INDEX(All_Hazards_and_Controls,$BW17,LV$79)=0,\"\",INDEX(All_Hazards_and_Controls,$BW17,LV$79)))","v":"MAKE BLANK"},null,null,{"$f":"IF(LY$78=\"NO\",\"MAKE BLANK\",IF(INDEX(All_Hazards_and_Controls,$BW17,LY$79)=0,\"\",INDEX(All_Hazards_and_Controls,$BW17,LY$79)))","v":"MAKE BLANK"},null,null,{"$f":"IF(MB$78=\"NO\",\"MAKE BLANK\",IF(INDEX(All_Hazards_and_Controls,$BW17,MB$79)=0,\"\",INDEX(All_Hazards_and_Controls,$BW17,MB$79)))","v":"MAKE BLANK"},null,null,{"$f":"IF(ME$78=\"NO\",\"MAKE BLANK\",IF(INDEX(All_Hazards_and_Controls,$BW17,ME$79)=0,\"\",INDEX(All_Hazards_and_Controls,$BW17,ME$79)))","v":"MAKE BLANK"},null,null,{"$f":"IF(MH$78=\"NO\",\"MAKE BLANK\",IF(INDEX(All_Hazards_and_Controls,$BW17,MH$79)=0,\"\",INDEX(All_Hazards_and_Controls,$BW17,MH$79)))","v":"MAKE BLANK"},null,null,{"$f":"IF(MK$78=\"NO\",\"MAKE BLANK\",IF(INDEX(All_Hazards_and_Controls,$BW17,MK$79)=0,\"\",INDEX(All_Hazards_and_Controls,$BW17,MK$79)))","v":"MAKE BLANK"},null,null,{"$f":"IF(MN$78=\"NO\",\"MAKE BLANK\",IF(INDEX(All_Hazards_and_Controls,$BW17,MN$79)=0,\"\",INDEX(All_Hazards_and_Controls,$BW17,MN$79)))","v":"MAKE BLANK"},null,null,{"$f":"IF(MQ$78=\"NO\",\"MAKE BLANK\",IF(INDEX(All_Hazards_and_Controls,$BW17,MQ$79)=0,\"\",INDEX(All_Hazards_and_Controls,$BW17,MQ$79)))","v":"MAKE BLANK"},null,null,{"$f":"IF(MT$78=\"NO\",\"MAKE BLANK\",IF(INDEX(All_Hazards_and_Controls,$BW17,MT$79)=0,\"\",INDEX(All_Hazards_and_Controls,$BW17,MT$79)))","v":"MAKE BLANK"}]
["Plan Creator",null,{"$f":"IF(Plan_Creator=0,\"\",Plan_Creator)","v":""}," ",null,null,null,null,null,null,null,{"$f":"IF(M81=4,\"\",IF(M81=3,\"Officer of the Company\",IF(M81=2,\"Project Manager\",IF(M81=1,\"\",IF(M81=0,\"\",\"ERROR\")))))","v":""},{"$f":"IF(L18=\"\",\"\",\"Name\")","v":""},{"$f":"IF(L18=\"\",\"\",\"Signature\")","v":""},null,{"$f":"IF(L18=\"\",\"\",\"Date\")","v":""},2,{"$f":"IF(Number_environmental_pages=0,\"MAKE BLANK\",IF(Q18>Total_plan_no_of_Envir_Aspects,\"MAKE BLANK\",VLOOKUP(Q18,'4'!$B$116:$Y$136,3,FALSE)))","v":"MAKE BLANK"},null,null,6,{"$f":"IF(Number_environmental_pages<2,\"MAKE BLANK\",IF(U18>Total_plan_no_of_Envir_Aspects,\"MAKE BLANK\",VLOOKUP(U18,'4'!$B$116:$Y$136,3,FALSE)))","v":"MAKE BLANK"},null,null,10,{"$f":"IF(Number_environmental_pages<3,\"MAKE BLANK\",IF(Y18>Total_plan_no_of_Envir_Aspects,\"MAKE BLANK\",VLOOKUP(Y18,'4'!$B$116:$Y$136,3,FALSE)))","v":"MAKE BLANK"},null,null,null,null,null,null,null,null,null,null,null,null,null,null,null,null,null,"Confined Space",null,null,null,null,null,"Community Impacts: Transportation, Traffic Circulation & Economic",null,null,null,null,null,null,null,"Excavation Inspection Form",null,null,null,null,null,null,null,"Lockout / Tagout Removal Form"]
["Engineer",null,{"$f":"IF(Engineer_1=0,\"\",Engineer_1)","v":""}," ","PPE & Safety Equipment",null,null,"Equipment",null,null,null,{"$f":"IF(L18=\"\",\"\",\" \")","v":""},{"$f":"IF(L18=\"\",\"\",IF(Max_Residual_Risk=2,IF(Project_Manager_1=0,\" \",Project_Manager_1),\" \"))","v":""},null,null,null,null,{"$f":"IF(Number_environmental_pages=0,\"MAKE BLANK\",IF(Q18>Total_plan_no_of_Envir_Aspects,\"MAKE BLANK\",\"Objective\"))","v":"MAKE BLANK"},{"$f":"IF(Number_environmental_pages=0,\"MAKE BLANK\",IF(Q18>Total_plan_no_of_Envir_Aspects,\"MAKE BLANK\",VLOOKUP(Q18,'4'!$B$116:$Z$136,23,FALSE)))","v":"MAKE BLANK"},null,null,{"$f":"IF(Number_environmental_pages<2,\"MAKE BLANK\",IF(U18>Total_plan_no_of_Envir_Aspects,\"MAKE BLANK\",\"Objective\"))","v":"MAKE BLANK"},{"$f":"IF(Number_environmental_pages<2,\"MAKE BLANK\",IF(U18>Total_plan_no_of_Envir_Aspects,\"MAKE BLANK\",VLOOKUP(U18,'4'!$B$116:$Z$136,23,FALSE)))","v":"MAKE BLANK"},null,null,{"$f":"IF(Number_environmental_pages<3,\"MAKE BLANK\",IF(Y18>Total_plan_no_of_Envir_Aspects,\"MAKE BLANK\",\"Objective\"))","v":"MAKE BLANK"},{"$f":"IF(Number_environmental_pages<3,\"MAKE BLANK\",IF(Y18>Total_plan_no_of_Envir_Aspects,\"MAKE BLANK\",VLOOKUP(Y18,'4'!$B$116:$Z$136,23,FALSE)))","v":"MAKE BLANK"},null,null,null,null,null,null,null,null,null,null,null,null,null,null,null,null,"Aerial Work Platforms",null,null,null,null,null,"Community Impacts: Utilities",null,null,null,null,null,null,null,"Guard Rail Removal Permit",null,null,null,null,null,null,null,"Material Handling Inspection Log"]
[null,null,{"$f":"IF(Engineer_2=0,\"\",Engineer_2)","v":""},null,{"$f":"PPE_Safety_Equipment","v":"Hard Hat, Safety Glasses, Safety Toe Work Boots, Safety Vest, Task Appropriate Gloves"},null,null,{"$f":"Links!HC44","v":""},null,null,null,null,null,null,null,null,null,null,null,null,null,null,null,null,null,null,null,null,null,null,null,null,null,null,null,null,null,null,null,null,null,null,null,"Hotwork (Burning / Welding / etc.)",null,null,null,null,null,"Dewatering",null,null,null,null,null,null,null,"Hot Tap/ Pressurized/ in-service lines / vessels Form",null,null,null,null,null,null,null,"Notice to Commence Steel Erection"]
[null,null,{"$f":"IF(Engineer_3=0,\"\",Engineer_3)","v":""},null,null,null,null,null,null,null,null,{"$f":"IF(M81=4,\"\",\"Superintendent\")","v":"Superintendent"},{"$f":"IF(M81=4,\"\",\"Name\")","v":"Name"},{"$f":"IF(M81=4,\"\",\"Signature\")","v":"Signature"},null,{"$f":"IF(M81=4,\"\",\"Date\")","v":"Date"},null,null,null,null,null,null,null,null,null,null,null,null,null,null,null,null,null,null,null,null,null,null,null,null,null,null,null,"Lead Exposure",null,null,null,null,null,"Flora, Fauna and Habitat Areas (Wetlands)",null,null,null,null,null,null,null,"Hot Work Permit",null,null,null,null,null,null,null,"Ready to Work Form",null,null,null,null,null,"Things That Didn't Contribute - - Stop Doing",null,null,19,{"$f":"IF(BX$78=\"NO\",\"MAKE BLANK\",IF(INDEX(All_Hazards_and_Controls,$BW21,BX$79)=0,\"\",INDEX(All_Hazards_and_Controls,$BW21,BX$79)))","v":"MAKE BLANK"},null,null,{"$f":"IF(CA$78=\"NO\",\"MAKE BLANK\",IF(INDEX(All_Hazards_and_Controls,$BW21,CA$79)=0,\"\",INDEX(All_Hazards_and_Controls,$BW21,CA$79)))","v":"MAKE BLANK"},null,null,{"$f":"IF(CD$78=\"NO\",\"MAKE BLANK\",IF(INDEX(All_Hazards_and_Controls,$BW21,CD$79)=0,\"\",INDEX(All_Hazards_and_Controls,$BW21,CD$79)))","v":"MAKE BLANK"},null,null,{"$f":"IF(CG$78=\"NO\",\"MAKE BLANK\",IF(INDEX(All_Hazards_and_Controls,$BW21,CG$79)=0,\"\",INDEX(All_Hazards_and_Controls,$BW21,CG$79)))","v":"MAKE BLANK"},null,null,{"$f":"IF(CJ$78=\"NO\",\"MAKE BLANK\",IF(INDEX(All_Hazards_and_Controls,$BW21,CJ$79)=0,\"\",INDEX(All_Hazards_and_Controls,$BW21,CJ$79)))","v":"MAKE BLANK"},null,null,{"$f":"IF(CM$78=\"NO\",\"MAKE BLANK\",IF(INDEX(All_Hazards_and_Controls,$BW21,CM$79)=0,\"\",INDEX(All_Hazards_and_Controls,$BW21,CM$79)))","v":"MAKE BLANK"},null,null,{"$f":"IF(CP$78=\"NO\",\"MAKE BLANK\",IF(INDEX(All_Hazards_and_Controls,$BW21,CP$79)=0,\"\",INDEX(All_Hazards_and_Controls,$BW21,CP$79)))","v":"MAKE BLANK"},null,null,{"$f":"IF(CS$78=\"NO\",\"MAKE BLANK\",IF(INDEX(All_Hazards_and_Controls,$BW21,CS$79)=0,\"\",INDEX(All_Hazards_and_Controls,$BW21,CS$79)))","v":"MAKE BLANK"},null,null,{"$f":"IF(CV$78=\"NO\",\"MAKE BLANK\",IF(INDEX(All_Hazards_and_Controls,$BW21,CV$79)=0,\"\",INDEX(All_Hazards_and_Controls,$BW21,CV$79)))","v":"MAKE BLANK"},null,null,{"$f":"IF(CY$78=\"NO\",\"MAKE BLANK\",IF(INDEX(All_Hazards_and_Controls,$BW21,CY$79)=0,\"\",INDEX(All_Hazards_and_Controls,$BW21,CY$79)))","v":"MAKE BLANK"},null,null,{"$f":"IF(DB$78=\"NO\",\"MAKE BLANK\",IF(INDEX(All_Hazards_and_Controls,$BW21,DB$79)=0,\"\",INDEX(All_Hazards_and_Controls,$BW21,DB$79)))","v":"MAKE BLANK"},null,null,{"$f":"IF(DE$78=\"NO\",\"MAKE BLANK\",IF(INDEX(All_Hazards_and_Controls,$BW21,DE$79)=0,\"\",INDEX(All_Hazards_and_Controls,$BW21,DE$79)))","v":"MAKE BLANK"},null,null,{"$f":"IF(DH$78=\"NO\",\"MAKE BLANK\",IF(INDEX(All_Hazards_and_Controls,$BW21,DH$79)=0,\"\",INDEX(All_Hazards_and_Controls,$BW21,DH$79)))","v":"MAKE BLANK"},null,null,{"$f":"IF(DK$78=\"NO\",\"MAKE BLANK\",IF(INDEX(All_Hazards_and_Controls,$BW21,DK$79)=0,\"\",INDEX(All_Hazards_and_Controls,$BW21,DK$79)))","v":"MAKE BLANK"},null,null,{"$f":"IF(DN$78=\"NO\",\"MAKE BLANK\",IF(INDEX(All_Hazards_and_Controls,$BW21,DN$79)=0,\"\",INDEX(All_Hazards_and_Controls,$BW21,DN$79)))","v":"MAKE BLANK"},null,null,{"$f":"IF(DQ$78=\"NO\",\"MAKE BLANK\",IF(INDEX(All_Hazards_and_Controls,$BW21,DQ$79)=0,\"\",INDEX(All_Hazards_and_Controls,$BW21,DQ$79)))","v":"MAKE BLANK"},null,null,{"$f":"IF(DT$78=\"NO\",\"MAKE BLANK\",IF(INDEX(All_Hazards_and_Controls,$BW21,DT$79)=0,\"\",INDEX(All_Hazards_and_Controls,$BW21,DT$79)))","v":"MAKE BLANK"},null,null,{"$f":"IF(DW$78=\"NO\",\"MAKE BLANK\",IF(INDEX(All_Hazards_and_Controls,$BW21,DW$79)=0,\"\",INDEX(All_Hazards_and_Controls,$BW21,DW$79)))","v":"MAKE BLANK"},null,null,{"$f":"IF(DZ$78=\"NO\",\"MAKE BLANK\",IF(INDEX(All_Hazards_and_Controls,$BW21,DZ$79)=0,\"\",INDEX(All_Hazards_and_Controls,$BW21,DZ$79)))","v":"MAKE BLANK"},null,null,{"$f":"IF(EC$78=\"NO\",\"MAKE BLANK\",IF(INDEX(All_Hazards_and_Controls,$BW21,EC$79)=0,\"\",INDEX(All_Hazards_and_Controls,$BW21,EC$79)))","v":"MAKE BLANK"},null,null,{"$f":"IF(EF$78=\"NO\",\"MAKE BLANK\",IF(INDEX(All_Hazards_and_Controls,$BW21,EF$79)=0,\"\",INDEX(All_Hazards_and_Controls,$BW21,EF$79)))","v":"MAKE BLANK"},null,null,{"$f":"IF(EI$78=\"NO\",\"MAKE BLANK\",IF(INDEX(All_Hazards_and_Controls,$BW21,EI$79)=0,\"\",INDEX(All_Hazards_and_Controls,$BW21,EI$79)))","v":"MAKE BLANK"},null,null,{"$f":"IF(EL$78=\"NO\",\"MAKE BLANK\",IF(INDEX(All_Hazards_and_Controls,$BW21,EL$79)=0,\"\",INDEX(All_Hazards_and_Controls,$BW21,EL$79)))","v":"MAKE BLANK"},null,null,{"$f":"IF(EO$78=\"NO\",\"MAKE BLANK\",IF(INDEX(All_Hazards_and_Controls,$BW21,EO$79)=0,\"\",INDEX(All_Hazards_and_Controls,$BW21,EO$79)))","v":"MAKE BLANK"},null,null,{"$f":"IF(ER$78=\"NO\",\"MAKE BLANK\",IF(INDEX(All_Hazards_and_Controls,$BW21,ER$79)=0,\"\",INDEX(All_Hazards_and_Controls,$BW21,ER$79)))","v":"MAKE BLANK"},null,null,{"$f":"IF(EU$78=\"NO\",\"MAKE BLANK\",IF(INDEX(All_Hazards_and_Controls,$BW21,EU$79)=0,\"\",INDEX(All_Hazards_and_Controls,$BW21,EU$79)))","v":"MAKE BLANK"},null,null,{"$f":"IF(EX$78=\"NO\",\"MAKE BLANK\",IF(INDEX(All_Hazards_and_Controls,$BW21,EX$79)=0,\"\",INDEX(All_Hazards_and_Controls,$BW21,EX$79)))","v":"MAKE BLANK"},null,null,{"$f":"IF(FA$78=\"NO\",\"MAKE BLANK\",IF(INDEX(All_Hazards_and_Controls,$BW21,FA$79)=0,\"\",INDEX(All_Hazards_and_Controls,$BW21,FA$79)))","v":"MAKE BLANK"},null,null,{"$f":"IF(FD$78=\"NO\",\"MAKE BLANK\",IF(INDEX(All_Hazards_and_Controls,$BW21,FD$79)=0,\"\",INDEX(All_Hazards_and_Controls,$BW21,FD$79)))","v":"MAKE BLANK"},null,null,{"$f":"IF(FG$78=\"NO\",\"MAKE BLANK\",IF(INDEX(All_Hazards_and_Controls,$BW21,FG$79)=0,\"\",INDEX(All_Hazards_and_Controls,$BW21,FG$79)))","v":"MAKE BLANK"},null,null,{"$f":"IF(FJ$78=\"NO\",\"MAKE BLANK\",IF(INDEX(All_Hazards_and_Controls,$BW21,FJ$79)=0,\"\",INDEX(All_Hazards_and_Controls,$BW21,FJ$79)))","v":"MAKE BLANK"},null,null,{"$f":"IF(FM$78=\"NO\",\"MAKE BLANK\",IF(INDEX(All_Hazards_and_Controls,$BW21,FM$79)=0,\"\",INDEX(All_Hazards_and_Controls,$BW21,FM$79)))","v":"MAKE BLANK"},null,null,{"$f":"IF(FP$78=\"NO\",\"MAKE BLANK\",IF(INDEX(All_Hazards_and_Controls,$BW21,FP$79)=0,\"\",INDEX(All_Hazards_and_Controls,$BW21,FP$79)))","v":"MAKE BLANK"},null,null,{"$f":"IF(FS$78=\"NO\",\"MAKE BLANK\",IF(INDEX(All_Hazards_and_Controls,$BW21,FS$79)=0,\"\",INDEX(All_Hazards_and_Controls,$BW21,FS$79)))","v":"MAKE BLANK"},null,null,{"$f":"IF(FV$78=\"NO\",\"MAKE BLANK\",IF(INDEX(All_Hazards_and_Controls,$BW21,FV$79)=0,\"\",INDEX(All_Hazards_and_Controls,$BW21,FV$79)))","v":"MAKE BLANK"},null,null,{"$f":"IF(FY$78=\"NO\",\"MAKE BLANK\",IF(INDEX(All_Hazards_and_Controls,$BW21,FY$79)=0,\"\",INDEX(All_Hazards_and_Controls,$BW21,FY$79)))","v":"MAKE BLANK"},null,null,{"$f":"IF(GB$78=\"NO\",\"MAKE BLANK\",IF(INDEX(All_Hazards_and_Controls,$BW21,GB$79)=0,\"\",INDEX(All_Hazards_and_Controls,$BW21,GB$79)))","v":"MAKE BLANK"},null,null,{"$f":"IF(GE$78=\"NO\",\"MAKE BLANK\",IF(INDEX(All_Hazards_and_Controls,$BW21,GE$79)=0,\"\",INDEX(All_Hazards_and_Controls,$BW21,GE$79)))","v":"MAKE BLANK"},null,null,{"$f":"IF(GH$78=\"NO\",\"MAKE BLANK\",IF(INDEX(All_Hazards_and_Controls,$BW21,GH$79)=0,\"\",INDEX(All_Hazards_and_Controls,$BW21,GH$79)))","v":"MAKE BLANK"},null,null,{"$f":"IF(GK$78=\"NO\",\"MAKE BLANK\",IF(INDEX(All_Hazards_and_Controls,$BW21,GK$79)=0,\"\",INDEX(All_Hazards_and_Controls,$BW21,GK$79)))","v":"MAKE BLANK"},null,null,{"$f":"IF(GN$78=\"NO\",\"MAKE BLANK\",IF(INDEX(All_Hazards_and_Controls,$BW21,GN$79)=0,\"\",INDEX(All_Hazards_and_Controls,$BW21,GN$79)))","v":"MAKE BLANK"},null,null,{"$f":"IF(GQ$78=\"NO\",\"MAKE BLANK\",IF(INDEX(All_Hazards_and_Controls,$BW21,GQ$79)=0,\"\",INDEX(All_Hazards_and_Controls,$BW21,GQ$79)))","v":"MAKE BLANK"},null,null,{"$f":"IF(GT$78=\"NO\",\"MAKE BLANK\",IF(INDEX(All_Hazards_and_Controls,$BW21,GT$79)=0,\"\",INDEX(All_Hazards_and_Controls,$BW21,GT$79)))","v":"MAKE BLANK"},null,null,{"$f":"IF(GW$78=\"NO\",\"MAKE BLANK\",IF(INDEX(All_Hazards_and_Controls,$BW21,GW$79)=0,\"\",INDEX(All_Hazards_and_Controls,$BW21,GW$79)))","v":"MAKE BLANK"},null,null,{"$f":"IF(GZ$78=\"NO\",\"MAKE BLANK\",IF(INDEX(All_Hazards_and_Controls,$BW21,GZ$79)=0,\"\",INDEX(All_Hazards_and_Controls,$BW21,GZ$79)))","v":"MAKE BLANK"},null,null,{"$f":"IF(HC$78=\"NO\",\"MAKE BLANK\",IF(INDEX(All_Hazards_and_Controls,$BW21,HC$79)=0,\"\",INDEX(All_Hazards_and_Controls,$BW21,HC$79)))","v":"MAKE BLANK"},null,null,{"$f":"IF(HF$78=\"NO\",\"MAKE BLANK\",IF(INDEX(All_Hazards_and_Controls,$BW21,HF$79)=0,\"\",INDEX(All_Hazards_and_Controls,$BW21,HF$79)))","v":"MAKE BLANK"},null,null,{"$f":"IF(HI$78=\"NO\",\"MAKE BLANK\",IF(INDEX(All_Hazards_and_Controls,$BW21,HI$79)=0,\"\",INDEX(All_Hazards_and_Controls,$BW21,HI$79)))","v":"MAKE BLANK"},null,null,{"$f":"IF(HL$78=\"NO\",\"MAKE BLANK\",IF(INDEX(All_Hazards_and_Controls,$BW21,HL$79)=0,\"\",INDEX(All_Hazards_and_Controls,$BW21,HL$79)))","v":"MAKE BLANK"},null,null,{"$f":"IF(HO$78=\"NO\",\"MAKE BLANK\",IF(INDEX(All_Hazards_and_Controls,$BW21,HO$79)=0,\"\",INDEX(All_Hazards_and_Controls,$BW21,HO$79)))","v":"MAKE BLANK"},null,null,{"$f":"IF(HR$78=\"NO\",\"MAKE BLANK\",IF(INDEX(All_Hazards_and_Controls,$BW21,HR$79)=0,\"\",INDEX(All_Hazards_and_Controls,$BW21,HR$79)))","v":"MAKE BLANK"},null,null,{"$f":"IF(HU$78=\"NO\",\"MAKE BLANK\",IF(INDEX(All_Hazards_and_Controls,$BW21,HU$79)=0,\"\",INDEX(All_Hazards_and_Controls,$BW21,HU$79)))","v":"MAKE BLANK"},null,null,{"$f":"IF(HX$78=\"NO\",\"MAKE BLANK\",IF(INDEX(All_Hazards_and_Controls,$BW21,HX$79)=0,\"\",INDEX(All_Hazards_and_Controls,$BW21,HX$79)))","v":"MAKE BLANK"},null,null,{"$f":"IF(IA$78=\"NO\",\"MAKE BLANK\",IF(INDEX(All_Hazards_and_Controls,$BW21,IA$79)=0,\"\",INDEX(All_Hazards_and_Controls,$BW21,IA$79)))","v":"MAKE BLANK"},null,null,{"$f":"IF(ID$78=\"NO\",\"MAKE BLANK\",IF(INDEX(All_Hazards_and_Controls,$BW21,ID$79)=0,\"\",INDEX(All_Hazards_and_Controls,$BW21,ID$79)))","v":"MAKE BLANK"},null,null,{"$f":"IF(IG$78=\"NO\",\"MAKE BLANK\",IF(INDEX(All_Hazards_and_Controls,$BW21,IG$79)=0,\"\",INDEX(All_Hazards_and_Controls,$BW21,IG$79)))","v":"MAKE BLANK"},null,null,{"$f":"IF(IJ$78=\"NO\",\"MAKE BLANK\",IF(INDEX(All_Hazards_and_Controls,$BW21,IJ$79)=0,\"\",INDEX(All_Hazards_and_Controls,$BW21,IJ$79)))","v":"MAKE BLANK"},null,null,{"$f":"IF(IM$78=\"NO\",\"MAKE BLANK\",IF(INDEX(All_Hazards_and_Controls,$BW21,IM$79)=0,\"\",INDEX(All_Hazards_and_Controls,$BW21,IM$79)))","v":"MAKE BLANK"},null,null,{"$f":"IF(IP$78=\"NO\",\"MAKE BLANK\",IF(INDEX(All_Hazards_and_Controls,$BW21,IP$79)=0,\"\",INDEX(All_Hazards_and_Controls,$BW21,IP$79)))","v":"MAKE BLANK"},null,null,{"$f":"IF(IS$78=\"NO\",\"MAKE BLANK\",IF(INDEX(All_Hazards_and_Controls,$BW21,IS$79)=0,\"\",INDEX(All_Hazards_and_Controls,$BW21,IS$79)))","v":"MAKE BLANK"},null,null,{"$f":"IF(IV$78=\"NO\",\"MAKE BLANK\",IF(INDEX(All_Hazards_and_Controls,$BW21,IV$79)=0,\"\",INDEX(All_Hazards_and_Controls,$BW21,IV$79)))","v":"MAKE BLANK"},null,null,{"$f":"IF(IY$78=\"NO\",\"MAKE BLANK\",IF(INDEX(All_Hazards_and_Controls,$BW21,IY$79)=0,\"\",INDEX(All_Hazards_and_Controls,$BW21,IY$79)))","v":"MAKE BLANK"},null,null,{"$f":"IF(JB$78=\"NO\",\"MAKE BLANK\",IF(INDEX(All_Hazards_and_Controls,$BW21,JB$79)=0,\"\",INDEX(All_Hazards_and_Controls,$BW21,JB$79)))","v":"MAKE BLANK"},null,null,{"$f":"IF(JE$78=\"NO\",\"MAKE BLANK\",IF(INDEX(All_Hazards_and_Controls,$BW21,JE$79)=0,\"\",INDEX(All_Hazards_and_Controls,$BW21,JE$79)))","v":"MAKE BLANK"},null,null,{"$f":"IF(JH$78=\"NO\",\"MAKE BLANK\",IF(INDEX(All_Hazards_and_Controls,$BW21,JH$79)=0,\"\",INDEX(All_Hazards_and_Controls,$BW21,JH$79)))","v":"MAKE BLANK"},null,null,{"$f":"IF(JK$78=\"NO\",\"MAKE BLANK\",IF(INDEX(All_Hazards_and_Controls,$BW21,JK$79)=0,\"\",INDEX(All_Hazards_and_Controls,$BW21,JK$79)))","v":"MAKE BLANK"},null,null,{"$f":"IF(JN$78=\"NO\",\"MAKE BLANK\",IF(INDEX(All_Hazards_and_Controls,$BW21,JN$79)=0,\"\",INDEX(All_Hazards_and_Controls,$BW21,JN$79)))","v":"MAKE BLANK"},null,null,{"$f":"IF(JQ$78=\"NO\",\"MAKE BLANK\",IF(INDEX(All_Hazards_and_Controls,$BW21,JQ$79)=0,\"\",INDEX(All_Hazards_and_Controls,$BW21,JQ$79)))","v":"MAKE BLANK"},null,null,{"$f":"IF(JT$78=\"NO\",\"MAKE BLANK\",IF(INDEX(All_Hazards_and_Controls,$BW21,JT$79)=0,\"\",INDEX(All_Hazards_and_Controls,$BW21,JT$79)))","v":"MAKE BLANK"},null,null,{"$f":"IF(JW$78=\"NO\",\"MAKE BLANK\",IF(INDEX(All_Hazards_and_Controls,$BW21,JW$79)=0,\"\",INDEX(All_Hazards_and_Controls,$BW21,JW$79)))","v":"MAKE BLANK"},null,null,{"$f":"IF(JZ$78=\"NO\",\"MAKE BLANK\",IF(INDEX(All_Hazards_and_Controls,$BW21,JZ$79)=0,\"\",INDEX(All_Hazards_and_Controls,$BW21,JZ$79)))","v":"MAKE BLANK"},null,null,{"$f":"IF(KC$78=\"NO\",\"MAKE BLANK\",IF(INDEX(All_Hazards_and_Controls,$BW21,KC$79)=0,\"\",INDEX(All_Hazards_and_Controls,$BW21,KC$79)))","v":"MAKE BLANK"},null,null,{"$f":"IF(KF$78=\"NO\",\"MAKE BLANK\",IF(INDEX(All_Hazards_and_Controls,$BW21,KF$79)=0,\"\",INDEX(All_Hazards_and_Controls,$BW21,KF$79)))","v":"MAKE BLANK"},null,null,{"$f":"IF(KI$78=\"NO\",\"MAKE BLANK\",IF(INDEX(All_Hazards_and_Controls,$BW21,KI$79)=0,\"\",INDEX(All_Hazards_and_Controls,$BW21,KI$79)))","v":"MAKE BLANK"},null,null,{"$f":"IF(KL$78=\"NO\",\"MAKE BLANK\",IF(INDEX(All_Hazards_and_Controls,$BW21,KL$79)=0,\"\",INDEX(All_Hazards_and_Controls,$BW21,KL$79)))","v":"MAKE BLANK"},null,null,{"$f":"IF(KO$78=\"NO\",\"MAKE BLANK\",IF(INDEX(All_Hazards_and_Controls,$BW21,KO$79)=0,\"\",INDEX(All_Hazards_and_Controls,$BW21,KO$79)))","v":"MAKE BLANK"},null,null,{"$f":"IF(KR$78=\"NO\",\"MAKE BLANK\",IF(INDEX(All_Hazards_and_Controls,$BW21,KR$79)=0,\"\",INDEX(All_Hazards_and_Controls,$BW21,KR$79)))","v":"MAKE BLANK"},null,null,{"$f":"IF(KU$78=\"NO\",\"MAKE BLANK\",IF(INDEX(All_Hazards_and_Controls,$BW21,KU$79)=0,\"\",INDEX(All_Hazards_and_Controls,$BW21,KU$79)))","v":"MAKE BLANK"},null,null,{"$f":"IF(KX$78=\"NO\",\"MAKE BLANK\",IF(INDEX(All_Hazards_and_Controls,$BW21,KX$79)=0,\"\",INDEX(All_Hazards_and_Controls,$BW21,KX$79)))","v":"MAKE BLANK"},null,null,{"$f":"IF(LA$78=\"NO\",\"MAKE BLANK\",IF(INDEX(All_Hazards_and_Controls,$BW21,LA$79)=0,\"\",INDEX(All_Hazards_and_Controls,$BW21,LA$79)))","v":"MAKE BLANK"},null,null,{"$f":"IF(LD$78=\"NO\",\"MAKE BLANK\",IF(INDEX(All_Hazards_and_Controls,$BW21,LD$79)=0,\"\",INDEX(All_Hazards_and_Controls,$BW21,LD$79)))","v":"MAKE BLANK"},null,null,{"$f":"IF(LG$78=\"NO\",\"MAKE BLANK\",IF(INDEX(All_Hazards_and_Controls,$BW21,LG$79)=0,\"\",INDEX(All_Hazards_and_Controls,$BW21,LG$79)))","v":"MAKE BLANK"},null,null,{"$f":"IF(LJ$78=\"NO\",\"MAKE BLANK\",IF(INDEX(All_Hazards_and_Controls,$BW21,LJ$79)=0,\"\",INDEX(All_Hazards_and_Controls,$BW21,LJ$79)))","v":"MAKE BLANK"},null,null,{"$f":"IF(LM$78=\"NO\",\"MAKE BLANK\",IF(INDEX(All_Hazards_and_Controls,$BW21,LM$79)=0,\"\",INDEX(All_Hazards_and_Controls,$BW21,LM$79)))","v":"MAKE BLANK"},null,null,{"$f":"IF(LP$78=\"NO\",\"MAKE BLANK\",IF(INDEX(All_Hazards_and_Controls,$BW21,LP$79)=0,\"\",INDEX(All_Hazards_and_Controls,$BW21,LP$79)))","v":"MAKE BLANK"},null,null,{"$f":"IF(LS$78=\"NO\",\"MAKE BLANK\",IF(INDEX(All_Hazards_and_Controls,$BW21,LS$79)=0,\"\",INDEX(All_Hazards_and_Controls,$BW21,LS$79)))","v":"MAKE BLANK"},null,null,{"$f":"IF(LV$78=\"NO\",\"MAKE BLANK\",IF(INDEX(All_Hazards_and_Controls,$BW21,LV$79)=0,\"\",INDEX(All_Hazards_and_Controls,$BW21,LV$79)))","v":"MAKE BLANK"},null,null,{"$f":"IF(LY$78=\"NO\",\"MAKE BLANK\",IF(INDEX(All_Hazards_and_Controls,$BW21,LY$79)=0,\"\",INDEX(All_Hazards_and_Controls,$BW21,LY$79)))","v":"MAKE BLANK"},null,null,{"$f":"IF(MB$78=\"NO\",\"MAKE BLANK\",IF(INDEX(All_Hazards_and_Controls,$BW21,MB$79)=0,\"\",INDEX(All_Hazards_and_Controls,$BW21,MB$79)))","v":"MAKE BLANK"},null,null,{"$f":"IF(ME$78=\"NO\",\"MAKE BLANK\",IF(INDEX(All_Hazards_and_Controls,$BW21,ME$79)=0,\"\",INDEX(All_Hazards_and_Controls,$BW21,ME$79)))","v":"MAKE BLANK"},null,null,{"$f":"IF(MH$78=\"NO\",\"MAKE BLANK\",IF(INDEX(All_Hazards_and_Controls,$BW21,MH$79)=0,\"\",INDEX(All_Hazards_and_Controls,$BW21,MH$79)))","v":"MAKE BLANK"},null,null,{"$f":"IF(MK$78=\"NO\",\"MAKE BLANK\",IF(INDEX(All_Hazards_and_Controls,$BW21,MK$79)=0,\"\",INDEX(All_Hazards_and_Controls,$BW21,MK$79)))","v":"MAKE BLANK"},null,null,{"$f":"IF(MN$78=\"NO\",\"MAKE BLANK\",IF(INDEX(All_Hazards_and_Controls,$BW21,MN$79)=0,\"\",INDEX(All_Hazards_and_Controls,$BW21,MN$79)))","v":"MAKE BLANK"},null,null,{"$f":"IF(MQ$78=\"NO\",\"MAKE BLANK\",IF(INDEX(All_Hazards_and_Controls,$BW21,MQ$79)=0,\"\",INDEX(All_Hazards_and_Controls,$BW21,MQ$79)))","v":"MAKE BLANK"},null,null,{"$f":"IF(MT$78=\"NO\",\"MAKE BLANK\",IF(INDEX(All_Hazards_and_Controls,$BW21,MT$79)=0,\"\",INDEX(All_Hazards_and_Controls,$BW21,MT$79)))","v":"MAKE BLANK"}]
["Superintendent",null,{"$f":"IF(Superintendent_1=0,\"\",Superintendent_1)","v":""},null,null,null,null,null,null,null,null,{"$f":"IF(M81=4,\"RISK TOO GREAT\",\"\")","v":""},null,null,null,null,null,null,null,null,null,null,null,null,null,null,null,null,"Triggers",null,null,null,null,null,null,null,null,null,"Additional PPE",null,null,null,null,"Trenching & Excavation Cave-In / Utilities",null,null,null,null,null,"Hazardous Materials and Waste Management",null,null,null,null,null,null,null,"Lift Plans - Critical, Personnel, etc.",null,null,null,null,null,null,null,"Safety Data Sheets",null,null,null,null,null,{"$f":"IF(LL_Stop=0,CONCATENATE(\" \n_______________________________________________________________________________________________\n\n_______________________________________________________________________________________________\n\",\" \n_______________________________________________________________________________________________\n\n_______________________________________________________________________________________________\n\",\" \n_______________________________________________________________________________________________\n\n_______________________________________________________________________________________________\n\n\"),LL_Stop)","v":" \n_______________________________________________________________________________________________\n\n_______________________________________________________________________________________________\n \n_______________________________________________________________________________________________\n\n_______________________________________________________________________________________________\n \n_______________________________________________________________________________________________\n\n_______________________________________________________________________________________________\n\n"}]
[null,null,{"$f":"IF(Superintendent_2=0,\"\",Superintendent_2)","v":""},null,null,null,null,null,null,null,null,null,null,null,null,null,null,{"$f":"IF(Number_environmental_pages=0,\"MAKE BLANK\",IF(Q18>Total_plan_no_of_Envir_Aspects,\"MAKE BLANK\",\"Target\"))","v":"MAKE BLANK"},{"$f":"IF(Number_environmental_pages=0,\"MAKE BLANK\",IF(Q18>Total_plan_no_of_Envir_Aspects,\"MAKE BLANK\",VLOOKUP(Q18,'4'!$B$116:$Z$136,24,FALSE)))","v":"MAKE BLANK"},null,null,{"$f":"IF(Number_environmental_pages<2,\"MAKE BLANK\",IF(U18>Total_plan_no_of_Envir_Aspects,\"MAKE BLANK\",\"Target\"))","v":"MAKE BLANK"},{"$f":"IF(Number_environmental_pages<2,\"MAKE BLANK\",IF(U18>Total_plan_no_of_Envir_Aspects,\"MAKE BLANK\",VLOOKUP(U18,'4'!$B$116:$Z$136,24,FALSE)))","v":"MAKE BLANK"},null,null,{"$f":"IF(Number_environmental_pages<3,\"MAKE BLANK\",IF(Y18>Total_plan_no_of_Envir_Aspects,\"MAKE BLANK\",\"Target\"))","v":"MAKE BLANK"},{"$f":"IF(Number_environmental_pages<3,\"MAKE BLANK\",IF(Y18>Total_plan_no_of_Envir_Aspects,\"MAKE BLANK\",VLOOKUP(Y18,'4'!$B$116:$Z$136,24,FALSE)))","v":"MAKE BLANK"},null,"New Task Environment ",null,null,null,null,"Additional Tools",null,null,null,null,null,"Chaps",null,null,null,"Spill / Leak",null,null,null,null,null,"Indoor Air Quality",null,null,null,null,null,null,null,"Lockout / Tagout Evaluation Form",null,null,null,null,null,null,null,"Work Site Safety Inspection Form",null,null,null,null,null,null,null,null,null,{"$f":"IF(BX78=\"YES\",\"Competent Person\",\"MAKE BLANK\")","v":"MAKE BLANK"},{"$f":"IF(BX78=\"YES\",\"Alternate Competent Person\",\"MAKE BLANK\")","v":"MAKE BLANK"},{"$f":"IF(BY78=\"YES\",\"\",\"MAKE BLANK\")","v":"MAKE BLANK"},{"$f":"IF(CA78=\"YES\",\"Competent Person\",\"MAKE BLANK\")","v":"MAKE BLANK"},{"$f":"IF(CA78=\"YES\",\"Alternate Competent Person\",\"MAKE BLANK\")","v":"MAKE BLANK"},{"$f":"IF(CB78=\"YES\",\"\",\"MAKE BLANK\")","v":"MAKE BLANK"},{"$f":"IF(CD78=\"YES\",\"Competent Person\",\"MAKE BLANK\")","v":"MAKE BLANK"},{"$f":"IF(CD78=\"YES\",\"Alternate Competent Person\",\"MAKE BLANK\")","v":"MAKE BLANK"},{"$f":"IF(CE78=\"YES\",\"\",\"MAKE BLANK\")","v":"MAKE BLANK"},{"$f":"IF(CG78=\"YES\",\"Competent Person\",\"MAKE BLANK\")","v":"MAKE BLANK"},{"$f":"IF(CG78=\"YES\",\"Alternate Competent Person\",\"MAKE BLANK\")","v":"MAKE BLANK"},{"$f":"IF(CH78=\"YES\",\"\",\"MAKE BLANK\")","v":"MAKE BLANK"},{"$f":"IF(CJ78=\"YES\",\"Competent Person\",\"MAKE BLANK\")","v":"MAKE BLANK"},{"$f":"IF(CJ78=\"YES\",\"Alternate Competent Person\",\"MAKE BLANK\")","v":"MAKE BLANK"},{"$f":"IF(CK78=\"YES\",\"\",\"MAKE BLANK\")","v":"MAKE BLANK"},{"$f":"IF(CM78=\"YES\",\"Competent Person\",\"MAKE BLANK\")","v":"MAKE BLANK"},{"$f":"IF(CM78=\"YES\",\"Alternate Competent Person\",\"MAKE BLANK\")","v":"MAKE BLANK"},{"$f":"IF(CN78=\"YES\",\"\",\"MAKE BLANK\")","v":"MAKE BLANK"},{"$f":"IF(CP78=\"YES\",\"Competent Person\",\"MAKE BLANK\")","v":"MAKE BLANK"},{"$f":"IF(CP78=\"YES\",\"Alternate Competent Person\",\"MAKE BLANK\")","v":"MAKE BLANK"},{"$f":"IF(CQ78=\"YES\",\"\",\"MAKE BLANK\")","v":"MAKE BLANK"},{"$f":"IF(CS78=\"YES\",\"Competent Person\",\"MAKE BLANK\")","v":"MAKE BLANK"},{"$f":"IF(CS78=\"YES\",\"Alternate Competent Person\",\"MAKE BLANK\")","v":"MAKE BLANK"},{"$f":"IF(CT78=\"YES\",\"\",\"MAKE BLANK\")","v":"MAKE BLANK"},{"$f":"IF(CV78=\"YES\",\"Competent Person\",\"MAKE BLANK\")","v":"MAKE BLANK"},{"$f":"IF(CV78=\"YES\",\"Alternate Competent Person\",\"MAKE BLANK\")","v":"MAKE BLANK"},{"$f":"IF(CW78=\"YES\",\"\",\"MAKE BLANK\")","v":"MAKE BLANK"},{"$f":"IF(CY78=\"YES\",\"Competent Person\",\"MAKE BLANK\")","v":"MAKE BLANK"},{"$f":"IF(CY78=\"YES\",\"Alternate Competent Person\",\"MAKE BLANK\")","v":"MAKE BLANK"},{"$f":"IF(CZ78=\"YES\",\"\",\"MAKE BLANK\")","v":"MAKE BLANK"},{"$f":"IF(DB78=\"YES\",\"Competent Person\",\"MAKE BLANK\")","v":"MAKE BLANK"},{"$f":"IF(DB78=\"YES\",\"Alternate Competent Person\",\"MAKE BLANK\")","v":"MAKE BLANK"},{"$f":"IF(DC78=\"YES\",\"\",\"MAKE BLANK\")","v":"MAKE BLANK"},{"$f":"IF(DE78=\"YES\",\"Competent Person\",\"MAKE BLANK\")","v":"MAKE BLANK"},{"$f":"IF(DE78=\"YES\",\"Alternate Competent Person\",\"MAKE BLANK\")","v":"MAKE BLANK"},{"$f":"IF(DF78=\"YES\",\"\",\"MAKE BLANK\")","v":"MAKE BLANK"},{"$f":"IF(DH78=\"YES\",\"Competent Person\",\"MAKE BLANK\")","v":"MAKE BLANK"},{"$f":"IF(DH78=\"YES\",\"Alternate Competent Person\",\"MAKE BLANK\")","v":"MAKE BLANK"},{"$f":"IF(DI78=\"YES\",\"\",\"MAKE BLANK\")","v":"MAKE BLANK"},{"$f":"IF(DK78=\"YES\",\"Competent Person\",\"MAKE BLANK\")","v":"MAKE BLANK"},{"$f":"IF(DK78=\"YES\",\"Alternate Competent Person\",\"MAKE BLANK\")","v":"MAKE BLANK"},{"$f":"IF(DL78=\"YES\",\"\",\"MAKE BLANK\")","v":"MAKE BLANK"},{"$f":"IF(DN78=\"YES\",\"Competent Person\",\"MAKE BLANK\")","v":"MAKE BLANK"},{"$f":"IF(DN78=\"YES\",\"Alternate Competent Person\",\"MAKE BLANK\")","v":"MAKE BLANK"},{"$f":"IF(DO78=\"YES\",\"\",\"MAKE BLANK\")","v":"MAKE BLANK"},{"$f":"IF(DQ78=\"YES\",\"Competent Person\",\"MAKE BLANK\")","v":"MAKE BLANK"},{"$f":"IF(DQ78=\"YES\",\"Alternate Competent Person\",\"MAKE BLANK\")","v":"MAKE BLANK"},{"$f":"IF(DR78=\"YES\",\"\",\"MAKE BLANK\")","v":"MAKE BLANK"},{"$f":"IF(DT78=\"YES\",\"Competent Person\",\"MAKE BLANK\")","v":"MAKE BLANK"},{"$f":"IF(DT78=\"YES\",\"Alternate Competent Person\",\"MAKE BLANK\")","v":"MAKE BLANK"},{"$f":"IF(DU78=\"YES\",\"\",\"MAKE BLANK\")","v":"MAKE BLANK"},{"$f":"IF(DW78=\"YES\",\"Competent Person\",\"MAKE BLANK\")","v":"MAKE BLANK"},{"$f":"IF(DW78=\"YES\",\"Alternate Competent Person\",\"MAKE BLANK\")","v":"MAKE BLANK"},{"$f":"IF(DX78=\"YES\",\"\",\"MAKE BLANK\")","v":"MAKE BLANK"},{"$f":"IF(DZ78=\"YES\",\"Competent Person\",\"MAKE BLANK\")","v":"MAKE BLANK"},{"$f":"IF(DZ78=\"YES\",\"Alternate Competent Person\",\"MAKE BLANK\")","v":"MAKE BLANK"},{"$f":"IF(EA78=\"YES\",\"\",\"MAKE BLANK\")","v":"MAKE BLANK"},{"$f":"IF(EC78=\"YES\",\"Competent Person\",\"MAKE BLANK\")","v":"MAKE BLANK"},{"$f":"IF(EC78=\"YES\",\"Alternate Competent Person\",\"MAKE BLANK\")","v":"MAKE BLANK"},{"$f":"IF(ED78=\"YES\",\"\",\"MAKE BLANK\")","v":"MAKE BLANK"},{"$f":"IF(EF78=\"YES\",\"Competent Person\",\"MAKE BLANK\")","v":"MAKE BLANK"},{"$f":"IF(EF78=\"YES\",\"Alternate Competent Person\",\"MAKE BLANK\")","v":"MAKE BLANK"},{"$f":"IF(EG78=\"YES\",\"\",\"MAKE BLANK\")","v":"MAKE BLANK"},{"$f":"IF(EI78=\"YES\",\"Competent Person\",\"MAKE BLANK\")","v":"MAKE BLANK"},{"$f":"IF(EI78=\"YES\",\"Alternate Competent Person\",\"MAKE BLANK\")","v":"MAKE BLANK"},{"$f":"IF(EJ78=\"YES\",\"\",\"MAKE BLANK\")","v":"MAKE BLANK"},{"$f":"IF(EL78=\"YES\",\"Competent Person\",\"MAKE BLANK\")","v":"MAKE BLANK"},{"$f":"IF(EL78=\"YES\",\"Alternate Competent Person\",\"MAKE BLANK\")","v":"MAKE BLANK"},{"$f":"IF(EM78=\"YES\",\"\",\"MAKE BLANK\")","v":"MAKE BLANK"},{"$f":"IF(EO78=\"YES\",\"Competent Person\",\"MAKE BLANK\")","v":"MAKE BLANK"},{"$f":"IF(EO78=\"YES\",\"Alternate Competent Person\",\"MAKE BLANK\")","v":"MAKE BLANK"},{"$f":"IF(EP78=\"YES\",\"\",\"MAKE BLANK\")","v":"MAKE BLANK"},{"$f":"IF(ER78=\"YES\",\"Competent Person\",\"MAKE BLANK\")","v":"MAKE BLANK"},{"$f":"IF(ER78=\"YES\",\"Alternate Competent Person\",\"MAKE BLANK\")","v":"MAKE BLANK"},{"$f":"IF(ES78=\"YES\",\"\",\"MAKE BLANK\")","v":"MAKE BLANK"},{"$f":"IF(EU78=\"YES\",\"Competent Person\",\"MAKE BLANK\")","v":"MAKE BLANK"},{"$f":"IF(EU78=\"YES\",\"Alternate Competent Person\",\"MAKE BLANK\")","v":"MAKE BLANK"},{"$f":"IF(EV78=\"YES\",\"\",\"MAKE BLANK\")","v":"MAKE BLANK"},{"$f":"IF(EX78=\"YES\",\"Competent Person\",\"MAKE BLANK\")","v":"MAKE BLANK"},{"$f":"IF(EX78=\"YES\",\"Alternate Competent Person\",\"MAKE BLANK\")","v":"MAKE BLANK"},{"$f":"IF(EY78=\"YES\",\"\",\"MAKE BLANK\")","v":"MAKE BLANK"},{"$f":"IF(FA78=\"YES\",\"Competent Person\",\"MAKE BLANK\")","v":"MAKE BLANK"},{"$f":"IF(FA78=\"YES\",\"Alternate Competent Person\",\"MAKE BLANK\")","v":"MAKE BLANK"},{"$f":"IF(FB78=\"YES\",\"\",\"MAKE BLANK\")","v":"MAKE BLANK"},{"$f":"IF(FD78=\"YES\",\"Competent Person\",\"MAKE BLANK\")","v":"MAKE BLANK"},{"$f":"IF(FD78=\"YES\",\"Alternate Competent Person\",\"MAKE BLANK\")","v":"MAKE BLANK"},{"$f":"IF(FE78=\"YES\",\"\",\"MAKE BLANK\")","v":"MAKE BLANK"},{"$f":"IF(FG78=\"YES\",\"Competent Person\",\"MAKE BLANK\")","v":"MAKE BLANK"},{"$f":"IF(FG78=\"YES\",\"Alternate Competent Person\",\"MAKE BLANK\")","v":"MAKE BLANK"},{"$f":"IF(FH78=\"YES\",\"\",\"MAKE BLANK\")","v":"MAKE BLANK"},{"$f":"IF(FJ78=\"YES\",\"Competent Person\",\"MAKE BLANK\")","v":"MAKE BLANK"},{"$f":"IF(FJ78=\"YES\",\"Alternate Competent Person\",\"MAKE BLANK\")","v":"MAKE BLANK"},{"$f":"IF(FK78=\"YES\",\"\",\"MAKE BLANK\")","v":"MAKE BLANK"},{"$f":"IF(FM78=\"YES\",\"Competent Person\",\"MAKE BLANK\")","v":"MAKE BLANK"},{"$f":"IF(FM78=\"YES\",\"Alternate Competent Person\",\"MAKE BLANK\")","v":"MAKE BLANK"},{"$f":"IF(FN78=\"YES\",\"\",\"MAKE BLANK\")","v":"MAKE BLANK"},{"$f":"IF(FP78=\"YES\",\"Competent Person\",\"MAKE BLANK\")","v":"MAKE BLANK"},{"$f":"IF(FP78=\"YES\",\"Alternate Competent Person\",\"MAKE BLANK\")","v":"MAKE BLANK"},{"$f":"IF(FQ78=\"YES\",\"\",\"MAKE BLANK\")","v":"MAKE BLANK"},{"$f":"IF(FS78=\"YES\",\"Competent Person\",\"MAKE BLANK\")","v":"MAKE BLANK"},{"$f":"IF(FS78=\"YES\",\"Alternate Competent Person\",\"MAKE BLANK\")","v":"MAKE BLANK"},{"$f":"IF(FT78=\"YES\",\"\",\"MAKE BLANK\")","v":"MAKE BLANK"},{"$f":"IF(FV78=\"YES\",\"Competent Person\",\"MAKE BLANK\")","v":"MAKE BLANK"},{"$f":"IF(FV78=\"YES\",\"Alternate Competent Person\",\"MAKE BLANK\")","v":"MAKE BLANK"},{"$f":"IF(FW78=\"YES\",\"\",\"MAKE BLANK\")","v":"MAKE BLANK"},{"$f":"IF(FY78=\"YES\",\"Competent Person\",\"MAKE BLANK\")","v":"MAKE BLANK"},{"$f":"IF(FY78=\"YES\",\"Alternate Competent Person\",\"MAKE BLANK\")","v":"MAKE BLANK"},{"$f":"IF(FZ78=\"YES\",\"\",\"MAKE BLANK\")","v":"MAKE BLANK"},{"$f":"IF(GB78=\"YES\",\"Competent Person\",\"MAKE BLANK\")","v":"MAKE BLANK"},{"$f":"IF(GB78=\"YES\",\"Alternate Competent Person\",\"MAKE BLANK\")","v":"MAKE BLANK"},{"$f":"IF(GC78=\"YES\",\"\",\"MAKE BLANK\")","v":"MAKE BLANK"},{"$f":"IF(GE78=\"YES\",\"Competent Person\",\"MAKE BLANK\")","v":"MAKE BLANK"},{"$f":"IF(GE78=\"YES\",\"Alternate Competent Person\",\"MAKE BLANK\")","v":"MAKE BLANK"},{"$f":"IF(GF78=\"YES\",\"\",\"MAKE BLANK\")","v":"MAKE BLANK"},{"$f":"IF(GH78=\"YES\",\"Competent Person\",\"MAKE BLANK\")","v":"MAKE BLANK"},{"$f":"IF(GH78=\"YES\",\"Alternate Competent Person\",\"MAKE BLANK\")","v":"MAKE BLANK"},{"$f":"IF(GI78=\"YES\",\"\",\"MAKE BLANK\")","v":"MAKE BLANK"},{"$f":"IF(GK78=\"YES\",\"Competent Person\",\"MAKE BLANK\")","v":"MAKE BLANK"},{"$f":"IF(GK78=\"YES\",\"Alternate Competent Person\",\"MAKE BLANK\")","v":"MAKE BLANK"},{"$f":"IF(GL78=\"YES\",\"\",\"MAKE BLANK\")","v":"MAKE BLANK"},{"$f":"IF(GN78=\"YES\",\"Competent Person\",\"MAKE BLANK\")","v":"MAKE BLANK"},{"$f":"IF(GN78=\"YES\",\"Alternate Competent Person\",\"MAKE BLANK\")","v":"MAKE BLANK"},{"$f":"IF(GO78=\"YES\",\"\",\"MAKE BLANK\")","v":"MAKE BLANK"},{"$f":"IF(GQ78=\"YES\",\"Competent Person\",\"MAKE BLANK\")","v":"MAKE BLANK"},{"$f":"IF(GQ78=\"YES\",\"Alternate Competent Person\",\"MAKE BLANK\")","v":"MAKE BLANK"},{"$f":"IF(GR78=\"YES\",\"\",\"MAKE BLANK\")","v":"MAKE BLANK"},{"$f":"IF(GT78=\"YES\",\"Competent Person\",\"MAKE BLANK\")","v":"MAKE BLANK"},{"$f":"IF(GT78=\"YES\",\"Alternate Competent Person\",\"MAKE BLANK\")","v":"MAKE BLANK"},{"$f":"IF(GU78=\"YES\",\"\",\"MAKE BLANK\")","v":"MAKE BLANK"},{"$f":"IF(GW78=\"YES\",\"Competent Person\",\"MAKE BLANK\")","v":"MAKE BLANK"},{"$f":"IF(GW78=\"YES\",\"Alternate Competent Person\",\"MAKE BLANK\")","v":"MAKE BLANK"},{"$f":"IF(GX78=\"YES\",\"\",\"MAKE BLANK\")","v":"MAKE BLANK"},{"$f":"IF(GZ78=\"YES\",\"Competent Person\",\"MAKE BLANK\")","v":"MAKE BLANK"},{"$f":"IF(GZ78=\"YES\",\"Alternate Competent Person\",\"MAKE BLANK\")","v":"MAKE BLANK"},{"$f":"IF(HA78=\"YES\",\"\",\"MAKE BLANK\")","v":"MAKE BLANK"},{"$f":"IF(HC78=\"YES\",\"Competent Person\",\"MAKE BLANK\")","v":"MAKE BLANK"},{"$f":"IF(HC78=\"YES\",\"Alternate Competent Person\",\"MAKE BLANK\")","v":"MAKE BLANK"},{"$f":"IF(HD78=\"YES\",\"\",\"MAKE BLANK\")","v":"MAKE BLANK"},{"$f":"IF(HF78=\"YES\",\"Competent Person\",\"MAKE BLANK\")","v":"MAKE BLANK"},{"$f":"IF(HF78=\"YES\",\"Alternate Competent Person\",\"MAKE BLANK\")","v":"MAKE BLANK"},{"$f":"IF(HG78=\"YES\",\"\",\"MAKE BLANK\")","v":"MAKE BLANK"},{"$f":"IF(HI78=\"YES\",\"Competent Person\",\"MAKE BLANK\")","v":"MAKE BLANK"},{"$f":"IF(HI78=\"YES\",\"Alternate Competent Person\",\"MAKE BLANK\")","v":"MAKE BLANK"},{"$f":"IF(HJ78=\"YES\",\"\",\"MAKE BLANK\")","v":"MAKE BLANK"},{"$f":"IF(HL78=\"YES\",\"Competent Person\",\"MAKE BLANK\")","v":"MAKE BLANK"},{"$f":"IF(HL78=\"YES\",\"Alternate Competent Person\",\"MAKE BLANK\")","v":"MAKE BLANK"},{"$f":"IF(HM78=\"YES\",\"\",\"MAKE BLANK\")","v":"MAKE BLANK"},{"$f":"IF(HO78=\"YES\",\"Competent Person\",\"MAKE BLANK\")","v":"MAKE BLANK"},{"$f":"IF(HO78=\"YES\",\"Alternate Competent Person\",\"MAKE BLANK\")","v":"MAKE BLANK"},{"$f":"IF(HP78=\"YES\",\"\",\"MAKE BLANK\")","v":"MAKE BLANK"},{"$f":"IF(HR78=\"YES\",\"Competent Person\",\"MAKE BLANK\")","v":"MAKE BLANK"},{"$f":"IF(HR78=\"YES\",\"Alternate Competent Person\",\"MAKE BLANK\")","v":"MAKE BLANK"},{"$f":"IF(HS78=\"YES\",\"\",\"MAKE BLANK\")","v":"MAKE BLANK"},{"$f":"IF(HU78=\"YES\",\"Competent Person\",\"MAKE BLANK\")","v":"MAKE BLANK"},{"$f":"IF(HU78=\"YES\",\"Alternate Competent Person\",\"MAKE BLANK\")","v":"MAKE BLANK"},{"$f":"IF(HV78=\"YES\",\"\",\"MAKE BLANK\")","v":"MAKE BLANK"},{"$f":"IF(HX78=\"YES\",\"Competent Person\",\"MAKE BLANK\")","v":"MAKE BLANK"},{"$f":"IF(HX78=\"YES\",\"Alternate Competent Person\",\"MAKE BLANK\")","v":"MAKE BLANK"},{"$f":"IF(HY78=\"YES\",\"\",\"MAKE BLANK\")","v":"MAKE BLANK"},{"$f":"IF(IA78=\"YES\",\"Competent Person\",\"MAKE BLANK\")","v":"MAKE BLANK"},{"$f":"IF(IA78=\"YES\",\"Alternate Competent Person\",\"MAKE BLANK\")","v":"MAKE BLANK"},{"$f":"IF(IB78=\"YES\",\"\",\"MAKE BLANK\")","v":"MAKE BLANK"},{"$f":"IF(ID78=\"YES\",\"Competent Person\",\"MAKE BLANK\")","v":"MAKE BLANK"},{"$f":"IF(ID78=\"YES\",\"Alternate Competent Person\",\"MAKE BLANK\")","v":"MAKE BLANK"},{"$f":"IF(IE78=\"YES\",\"\",\"MAKE BLANK\")","v":"MAKE BLANK"},{"$f":"IF(IG78=\"YES\",\"Competent Person\",\"MAKE BLANK\")","v":"MAKE BLANK"},{"$f":"IF(IG78=\"YES\",\"Alternate Competent Person\",\"MAKE BLANK\")","v":"MAKE BLANK"},{"$f":"IF(IH78=\"YES\",\"\",\"MAKE BLANK\")","v":"MAKE BLANK"},{"$f":"IF(IJ78=\"YES\",\"Competent Person\",\"MAKE BLANK\")","v":"MAKE BLANK"},{"$f":"IF(IJ78=\"YES\",\"Alternate Competent Person\",\"MAKE BLANK\")","v":"MAKE BLANK"},{"$f":"IF(IK78=\"YES\",\"\",\"MAKE BLANK\")","v":"MAKE BLANK"},{"$f":"IF(IM78=\"YES\",\"Competent Person\",\"MAKE BLANK\")","v":"MAKE BLANK"},{"$f":"IF(IM78=\"YES\",\"Alternate Competent Person\",\"MAKE BLANK\")","v":"MAKE BLANK"},{"$f":"IF(IN78=\"YES\",\"\",\"MAKE BLANK\")","v":"MAKE BLANK"},{"$f":"IF(IP78=\"YES\",\"Competent Person\",\"MAKE BLANK\")","v":"MAKE BLANK"},{"$f":"IF(IP78=\"YES\",\"Alternate Competent Person\",\"MAKE BLANK\")","v":"MAKE BLANK"},{"$f":"IF(IQ78=\"YES\",\"\",\"MAKE BLANK\")","v":"MAKE BLANK"},{"$f":"IF(IS78=\"YES\",\"Competent Person\",\"MAKE BLANK\")","v":"MAKE BLANK"},{"$f":"IF(IS78=\"YES\",\"Alternate Competent Person\",\"MAKE BLANK\")","v":"MAKE BLANK"},{"$f":"IF(IT78=\"YES\",\"\",\"MAKE BLANK\")","v":"MAKE BLANK"},{"$f":"IF(IV78=\"YES\",\"Competent Person\",\"MAKE BLANK\")","v":"MAKE BLANK"},{"$f":"IF(IV78=\"YES\",\"Alternate Competent Person\",\"MAKE BLANK\")","v":"MAKE BLANK"},{"$f":"IF(IW78=\"YES\",\"\",\"MAKE BLANK\")","v":"MAKE BLANK"},{"$f":"IF(IY78=\"YES\",\"Competent Person\",\"MAKE BLANK\")","v":"MAKE BLANK"},{"$f":"IF(IY78=\"YES\",\"Alternate Competent Person\",\"MAKE BLANK\")","v":"MAKE BLANK"},{"$f":"IF(IZ78=\"YES\",\"\",\"MAKE BLANK\")","v":"MAKE BLANK"},{"$f":"IF(JB78=\"YES\",\"Competent Person\",\"MAKE BLANK\")","v":"MAKE BLANK"},{"$f":"IF(JB78=\"YES\",\"Alternate Competent Person\",\"MAKE BLANK\")","v":"MAKE BLANK"},{"$f":"IF(JC78=\"YES\",\"\",\"MAKE BLANK\")","v":"MAKE BLANK"},{"$f":"IF(JE78=\"YES\",\"Competent Person\",\"MAKE BLANK\")","v":"MAKE BLANK"},{"$f":"IF(JE78=\"YES\",\"Alternate Competent Person\",\"MAKE BLANK\")","v":"MAKE BLANK"},{"$f":"IF(JF78=\"YES\",\"\",\"MAKE BLANK\")","v":"MAKE BLANK"},{"$f":"IF(JH78=\"YES\",\"Competent Person\",\"MAKE BLANK\")","v":"MAKE BLANK"},{"$f":"IF(JH78=\"YES\",\"Alternate Competent Person\",\"MAKE BLANK\")","v":"MAKE BLANK"},{"$f":"IF(JI78=\"YES\",\"\",\"MAKE BLANK\")","v":"MAKE BLANK"},{"$f":"IF(JK78=\"YES\",\"Competent Person\",\"MAKE BLANK\")","v":"MAKE BLANK"},{"$f":"IF(JK78=\"YES\",\"Alternate Competent Person\",\"MAKE BLANK\")","v":"MAKE BLANK"},{"$f":"IF(JL78=\"YES\",\"\",\"MAKE BLANK\")","v":"MAKE BLANK"},{"$f":"IF(JN78=\"YES\",\"Competent Person\",\"MAKE BLANK\")","v":"MAKE BLANK"},{"$f":"IF(JN78=\"YES\",\"Alternate Competent Person\",\"MAKE BLANK\")","v":"MAKE BLANK"},{"$f":"IF(JO78=\"YES\",\"\",\"MAKE BLANK\")","v":"MAKE BLANK"},{"$f":"IF(JQ78=\"YES\",\"Competent Person\",\"MAKE BLANK\")","v":"MAKE BLANK"},{"$f":"IF(JQ78=\"YES\",\"Alternate Competent Person\",\"MAKE BLANK\")","v":"MAKE BLANK"},{"$f":"IF(JR78=\"YES\",\"\",\"MAKE BLANK\")","v":"MAKE BLANK"},{"$f":"IF(JT78=\"YES\",\"Competent Person\",\"MAKE BLANK\")","v":"MAKE BLANK"},{"$f":"IF(JT78=\"YES\",\"Alternate Competent Person\",\"MAKE BLANK\")","v":"MAKE BLANK"},{"$f":"IF(JU78=\"YES\",\"\",\"MAKE BLANK\")","v":"MAKE BLANK"},{"$f":"IF(JW78=\"YES\",\"Competent Person\",\"MAKE BLANK\")","v":"MAKE BLANK"},{"$f":"IF(JW78=\"YES\",\"Alternate Competent Person\",\"MAKE BLANK\")","v":"MAKE BLANK"},{"$f":"IF(JX78=\"YES\",\"\",\"MAKE BLANK\")","v":"MAKE BLANK"},{"$f":"IF(JZ78=\"YES\",\"Competent Person\",\"MAKE BLANK\")","v":"MAKE BLANK"},{"$f":"IF(JZ78=\"YES\",\"Alternate Competent Person\",\"MAKE BLANK\")","v":"MAKE BLANK"},{"$f":"IF(KA78=\"YES\",\"\",\"MAKE BLANK\")","v":"MAKE BLANK"},{"$f":"IF(KC78=\"YES\",\"Competent Person\",\"MAKE BLANK\")","v":"MAKE BLANK"},{"$f":"IF(KC78=\"YES\",\"Alternate Competent Person\",\"MAKE BLANK\")","v":"MAKE BLANK"},{"$f":"IF(KD78=\"YES\",\"\",\"MAKE BLANK\")","v":"MAKE BLANK"},{"$f":"IF(KF78=\"YES\",\"Competent Person\",\"MAKE BLANK\")","v":"MAKE BLANK"},{"$f":"IF(KF78=\"YES\",\"Alternate Competent Person\",\"MAKE BLANK\")","v":"MAKE BLANK"},{"$f":"IF(KG78=\"YES\",\"\",\"MAKE BLANK\")","v":"MAKE BLANK"},{"$f":"IF(KI78=\"YES\",\"Competent Person\",\"MAKE BLANK\")","v":"MAKE BLANK"},{"$f":"IF(KI78=\"YES\",\"Alternate Competent Person\",\"MAKE BLANK\")","v":"MAKE BLANK"},{"$f":"IF(KJ78=\"YES\",\"\",\"MAKE BLANK\")","v":"MAKE BLANK"},{"$f":"IF(KL78=\"YES\",\"Competent Person\",\"MAKE BLANK\")","v":"MAKE BLANK"},{"$f":"IF(KL78=\"YES\",\"Alternate Competent Person\",\"MAKE BLANK\")","v":"MAKE BLANK"},{"$f":"IF(KM78=\"YES\",\"\",\"MAKE BLANK\")","v":"MAKE BLANK"},{"$f":"IF(KO78=\"YES\",\"Competent Person\",\"MAKE BLANK\")","v":"MAKE BLANK"},{"$f":"IF(KO78=\"YES\",\"Alternate Competent Person\",\"MAKE BLANK\")","v":"MAKE BLANK"},{"$f":"IF(KP78=\"YES\",\"\",\"MAKE BLANK\")","v":"MAKE BLANK"},{"$f":"IF(KR78=\"YES\",\"Competent Person\",\"MAKE BLANK\")","v":"MAKE BLANK"},{"$f":"IF(KR78=\"YES\",\"Alternate Competent Person\",\"MAKE BLANK\")","v":"MAKE BLANK"},{"$f":"IF(KS78=\"YES\",\"\",\"MAKE BLANK\")","v":"MAKE BLANK"},{"$f":"IF(KU78=\"YES\",\"Competent Person\",\"MAKE BLANK\")","v":"MAKE BLANK"},{"$f":"IF(KU78=\"YES\",\"Alternate Competent Person\",\"MAKE BLANK\")","v":"MAKE BLANK"},{"$f":"IF(KV78=\"YES\",\"\",\"MAKE BLANK\")","v":"MAKE BLANK"},{"$f":"IF(KX78=\"YES\",\"Competent Person\",\"MAKE BLANK\")","v":"MAKE BLANK"},{"$f":"IF(KX78=\"YES\",\"Alternate Competent Person\",\"MAKE BLANK\")","v":"MAKE BLANK"},{"$f":"IF(KY78=\"YES\",\"\",\"MAKE BLANK\")","v":"MAKE BLANK"},{"$f":"IF(LA78=\"YES\",\"Competent Person\",\"MAKE BLANK\")","v":"MAKE BLANK"},{"$f":"IF(LA78=\"YES\",\"Alternate Competent Person\",\"MAKE BLANK\")","v":"MAKE BLANK"},{"$f":"IF(LB78=\"YES\",\"\",\"MAKE BLANK\")","v":"MAKE BLANK"},{"$f":"IF(LD78=\"YES\",\"Competent Person\",\"MAKE BLANK\")","v":"MAKE BLANK"},{"$f":"IF(LD78=\"YES\",\"Alternate Competent Person\",\"MAKE BLANK\")","v":"MAKE BLANK"},{"$f":"IF(LE78=\"YES\",\"\",\"MAKE BLANK\")","v":"MAKE BLANK"},{"$f":"IF(LG78=\"YES\",\"Competent Person\",\"MAKE BLANK\")","v":"MAKE BLANK"},{"$f":"IF(LG78=\"YES\",\"Alternate Competent Person\",\"MAKE BLANK\")","v":"MAKE BLANK"},{"$f":"IF(LH78=\"YES\",\"\",\"MAKE BLANK\")","v":"MAKE BLANK"},{"$f":"IF(LJ78=\"YES\",\"Competent Person\",\"MAKE BLANK\")","v":"MAKE BLANK"},{"$f":"IF(LJ78=\"YES\",\"Alternate Competent Person\",\"MAKE BLANK\")","v":"MAKE BLANK"},{"$f":"IF(LK78=\"YES\",\"\",\"MAKE BLANK\")","v":"MAKE BLANK"},{"$f":"IF(LM78=\"YES\",\"Competent Person\",\"MAKE BLANK\")","v":"MAKE BLANK"},{"$f":"IF(LM78=\"YES\",\"Alternate Competent Person\",\"MAKE BLANK\")","v":"MAKE BLANK"},{"$f":"IF(LN78=\"YES\",\"\",\"MAKE BLANK\")","v":"MAKE BLANK"},{"$f":"IF(LP78=\"YES\",\"Competent Person\",\"MAKE BLANK\")","v":"MAKE BLANK"},{"$f":"IF(LP78=\"YES\",\"Alternate Competent Person\",\"MAKE BLANK\")","v":"MAKE BLANK"},{"$f":"IF(LQ78=\"YES\",\"\",\"MAKE BLANK\")","v":"MAKE BLANK"},{"$f":"IF(LS78=\"YES\",\"Competent Person\",\"MAKE BLANK\")","v":"MAKE BLANK"},{"$f":"IF(LS78=\"YES\",\"Alternate Competent Person\",\"MAKE BLANK\")","v":"MAKE BLANK"},{"$f":"IF(LT78=\"YES\",\"\",\"MAKE BLANK\")","v":"MAKE BLANK"},{"$f":"IF(LV78=\"YES\",\"Competent Person\",\"MAKE BLANK\")","v":"MAKE BLANK"},{"$f":"IF(LV78=\"YES\",\"Alternate Competent Person\",\"MAKE BLANK\")","v":"MAKE BLANK"},{"$f":"IF(LW78=\"YES\",\"\",\"MAKE BLANK\")","v":"MAKE BLANK"},{"$f":"IF(LY78=\"YES\",\"Competent Person\",\"MAKE BLANK\")","v":"MAKE BLANK"},{"$f":"IF(LY78=\"YES\",\"Alternate Competent Person\",\"MAKE BLANK\")","v":"MAKE BLANK"},{"$f":"IF(LZ78=\"YES\",\"\",\"MAKE BLANK\")","v":"MAKE BLANK"},{"$f":"IF(MB78=\"YES\",\"Competent Person\",\"MAKE BLANK\")","v":"MAKE BLANK"},{"$f":"IF(MB78=\"YES\",\"Alternate Competent Person\",\"MAKE BLANK\")","v":"MAKE BLANK"},{"$f":"IF(MC78=\"YES\",\"\",\"MAKE BLANK\")","v":"MAKE BLANK"},{"$f":"IF(ME78=\"YES\",\"Competent Person\",\"MAKE BLANK\")","v":"MAKE BLANK"},{"$f":"IF(ME78=\"YES\",\"Alternate Competent Person\",\"MAKE BLANK\")","v":"MAKE BLANK"},{"$f":"IF(MF78=\"YES\",\"\",\"MAKE BLANK\")","v":"MAKE BLANK"},{"$f":"IF(MH78=\"YES\",\"Competent Person\",\"MAKE BLANK\")","v":"MAKE BLANK"},{"$f":"IF(MH78=\"YES\",\"Alternate Competent Person\",\"MAKE BLANK\")","v":"MAKE BLANK"},{"$f":"IF(MI78=\"YES\",\"\",\"MAKE BLANK\")","v":"MAKE BLANK"},{"$f":"IF(MK78=\"YES\",\"Competent Person\",\"MAKE BLANK\")","v":"MAKE BLANK"},{"$f":"IF(MK78=\"YES\",\"Alternate Competent Person\",\"MAKE BLANK\")","v":"MAKE BLANK"},{"$f":"IF(ML78=\"YES\",\"\",\"MAKE BLANK\")","v":"MAKE BLANK"},{"$f":"IF(MN78=\"YES\",\"Competent Person\",\"MAKE BLANK\")","v":"MAKE BLANK"},{"$f":"IF(MN78=\"YES\",\"Alternate Competent Person\",\"MAKE BLANK\")","v":"MAKE BLANK"},{"$f":"IF(MO78=\"YES\",\"\",\"MAKE BLANK\")","v":"MAKE BLANK"},{"$f":"IF(MQ78=\"YES\",\"Competent Person\",\"MAKE BLANK\")","v":"MAKE BLANK"},{"$f":"IF(MQ78=\"YES\",\"Alternate Competent Person\",\"MAKE BLANK\")","v":"MAKE BLANK"},{"$f":"IF(MR78=\"YES\",\"\",\"MAKE BLANK\")","v":"MAKE BLANK"},{"$f":"IF(MT78=\"YES\",\"Competent Person\",\"MAKE BLANK\")","v":"MAKE BLANK"},{"$f":"IF(MT78=\"YES\",\"Alternate Competent Person\",\"MAKE BLANK\")","v":"MAKE BLANK"},{"$f":"IF(MU78=\"YES\",\"\",\"MAKE BLANK\")","v":"MAKE BLANK"}]
[null,null,{"$f":"IF(Superintendent_3=0,\"\",Superintendent_3)","v":""},null,null,null,null,null,null,null,null,{"$f":"IF(M81=4,\"\",\"EHS Professional\")","v":"EHS Professional"},{"$f":"IF(M81=4,\"\",\"Name\")","v":"Name"},{"$f":"IF(M81=4,\"\",\"Signature\")","v":"Signature"},null,{"$f":"IF(M81=4,\"\",\"Date\")","v":"Date"},null,null,null,null,null,null,null,null,null,null,null,null,null,null,null,null,null,null,null,null,null,null,null,"Face shield",null,null,null,"Inadequate Illumination",null,null,null,null,null,"Materials and Waste Management",null,null,null,null,null,null,null,null,null,null,null,null,null,null,null,null,null,null,null,null,null,null,null,null,22,{"$f":"IF(BX$78=\"NO\",\"MAKE BLANK\",IF(INDEX(All_Hazards_and_Controls,$BW24,BX$79)=0,\"\",INDEX(All_Hazards_and_Controls,$BW24,BX$79)))","v":"MAKE BLANK"},{"$f":"IF(BY$78=\"NO\",\"MAKE BLANK\",IF(INDEX(All_Hazards_and_Controls,$BW24,BY$79)=0,\"\",INDEX(All_Hazards_and_Controls,$BW24,BY$79)))","v":"MAKE BLANK"},null,{"$f":"IF(CA$78=\"NO\",\"MAKE BLANK\",IF(INDEX(All_Hazards_and_Controls,$BW24,CA$79)=0,\"\",INDEX(All_Hazards_and_Controls,$BW24,CA$79)))","v":"MAKE BLANK"},{"$f":"IF(CB$78=\"NO\",\"MAKE BLANK\",IF(INDEX(All_Hazards_and_Controls,$BW24,CB$79)=0,\"\",INDEX(All_Hazards_and_Controls,$BW24,CB$79)))","v":"MAKE BLANK"},null,{"$f":"IF(CD$78=\"NO\",\"MAKE BLANK\",IF(INDEX(All_Hazards_and_Controls,$BW24,CD$79)=0,\"\",INDEX(All_Hazards_and_Controls,$BW24,CD$79)))","v":"MAKE BLANK"},{"$f":"IF(CE$78=\"NO\",\"MAKE BLANK\",IF(INDEX(All_Hazards_and_Controls,$BW24,CE$79)=0,\"\",INDEX(All_Hazards_and_Controls,$BW24,CE$79)))","v":"MAKE BLANK"},null,{"$f":"IF(CG$78=\"NO\",\"MAKE BLANK\",IF(INDEX(All_Hazards_and_Controls,$BW24,CG$79)=0,\"\",INDEX(All_Hazards_and_Controls,$BW24,CG$79)))","v":"MAKE BLANK"},{"$f":"IF(CH$78=\"NO\",\"MAKE BLANK\",IF(INDEX(All_Hazards_and_Controls,$BW24,CH$79)=0,\"\",INDEX(All_Hazards_and_Controls,$BW24,CH$79)))","v":"MAKE BLANK"},null,{"$f":"IF(CJ$78=\"NO\",\"MAKE BLANK\",IF(INDEX(All_Hazards_and_Controls,$BW24,CJ$79)=0,\"\",INDEX(All_Hazards_and_Controls,$BW24,CJ$79)))","v":"MAKE BLANK"},{"$f":"IF(CK$78=\"NO\",\"MAKE BLANK\",IF(INDEX(All_Hazards_and_Controls,$BW24,CK$79)=0,\"\",INDEX(All_Hazards_and_Controls,$BW24,CK$79)))","v":"MAKE BLANK"},null,{"$f":"IF(CM$78=\"NO\",\"MAKE BLANK\",IF(INDEX(All_Hazards_and_Controls,$BW24,CM$79)=0,\"\",INDEX(All_Hazards_and_Controls,$BW24,CM$79)))","v":"MAKE BLANK"},{"$f":"IF(CN$78=\"NO\",\"MAKE BLANK\",IF(INDEX(All_Hazards_and_Controls,$BW24,CN$79)=0,\"\",INDEX(All_Hazards_and_Controls,$BW24,CN$79)))","v":"MAKE BLANK"},null,{"$f":"IF(CP$78=\"NO\",\"MAKE BLANK\",IF(INDEX(All_Hazards_and_Controls,$BW24,CP$79)=0,\"\",INDEX(All_Hazards_and_Controls,$BW24,CP$79)))","v":"MAKE BLANK"},{"$f":"IF(CQ$78=\"NO\",\"MAKE BLANK\",IF(INDEX(All_Hazards_and_Controls,$BW24,CQ$79)=0,\"\",INDEX(All_Hazards_and_Controls,$BW24,CQ$79)))","v":"MAKE BLANK"},null,{"$f":"IF(CS$78=\"NO\",\"MAKE BLANK\",IF(INDEX(All_Hazards_and_Controls,$BW24,CS$79)=0,\"\",INDEX(All_Hazards_and_Controls,$BW24,CS$79)))","v":"MAKE BLANK"},{"$f":"IF(CT$78=\"NO\",\"MAKE BLANK\",IF(INDEX(All_Hazards_and_Controls,$BW24,CT$79)=0,\"\",INDEX(All_Hazards_and_Controls,$BW24,CT$79)))","v":"MAKE BLANK"},null,{"$f":"IF(CV$78=\"NO\",\"MAKE BLANK\",IF(INDEX(All_Hazards_and_Controls,$BW24,CV$79)=0,\"\",INDEX(All_Hazards_and_Controls,$BW24,CV$79)))","v":"MAKE BLANK"},{"$f":"IF(CW$78=\"NO\",\"MAKE BLANK\",IF(INDEX(All_Hazards_and_Controls,$BW24,CW$79)=0,\"\",INDEX(All_Hazards_and_Controls,$BW24,CW$79)))","v":"MAKE BLANK"},null,{"$f":"IF(CY$78=\"NO\",\"MAKE BLANK\",IF(INDEX(All_Hazards_and_Controls,$BW24,CY$79)=0,\"\",INDEX(All_Hazards_and_Controls,$BW24,CY$79)))","v":"MAKE BLANK"},{"$f":"IF(CZ$78=\"NO\",\"MAKE BLANK\",IF(INDEX(All_Hazards_and_Controls,$BW24,CZ$79)=0,\"\",INDEX(All_Hazards_and_Controls,$BW24,CZ$79)))","v":"MAKE BLANK"},null,{"$f":"IF(DB$78=\"NO\",\"MAKE BLANK\",IF(INDEX(All_Hazards_and_Controls,$BW24,DB$79)=0,\"\",INDEX(All_Hazards_and_Controls,$BW24,DB$79)))","v":"MAKE BLANK"},{"$f":"IF(DC$78=\"NO\",\"MAKE BLANK\",IF(INDEX(All_Hazards_and_Controls,$BW24,DC$79)=0,\"\",INDEX(All_Hazards_and_Controls,$BW24,DC$79)))","v":"MAKE BLANK"},null,{"$f":"IF(DE$78=\"NO\",\"MAKE BLANK\",IF(INDEX(All_Hazards_and_Controls,$BW24,DE$79)=0,\"\",INDEX(All_Hazards_and_Controls,$BW24,DE$79)))","v":"MAKE BLANK"},{"$f":"IF(DF$78=\"NO\",\"MAKE BLANK\",IF(INDEX(All_Hazards_and_Controls,$BW24,DF$79)=0,\"\",INDEX(All_Hazards_and_Controls,$BW24,DF$79)))","v":"MAKE BLANK"},null,{"$f":"IF(DH$78=\"NO\",\"MAKE BLANK\",IF(INDEX(All_Hazards_and_Controls,$BW24,DH$79)=0,\"\",INDEX(All_Hazards_and_Controls,$BW24,DH$79)))","v":"MAKE BLANK"},{"$f":"IF(DI$78=\"NO\",\"MAKE BLANK\",IF(INDEX(All_Hazards_and_Controls,$BW24,DI$79)=0,\"\",INDEX(All_Hazards_and_Controls,$BW24,DI$79)))","v":"MAKE BLANK"},null,{"$f":"IF(DK$78=\"NO\",\"MAKE BLANK\",IF(INDEX(All_Hazards_and_Controls,$BW24,DK$79)=0,\"\",INDEX(All_Hazards_and_Controls,$BW24,DK$79)))","v":"MAKE BLANK"},{"$f":"IF(DL$78=\"NO\",\"MAKE BLANK\",IF(INDEX(All_Hazards_and_Controls,$BW24,DL$79)=0,\"\",INDEX(All_Hazards_and_Controls,$BW24,DL$79)))","v":"MAKE BLANK"},null,{"$f":"IF(DN$78=\"NO\",\"MAKE BLANK\",IF(INDEX(All_Hazards_and_Controls,$BW24,DN$79)=0,\"\",INDEX(All_Hazards_and_Controls,$BW24,DN$79)))","v":"MAKE BLANK"},{"$f":"IF(DO$78=\"NO\",\"MAKE BLANK\",IF(INDEX(All_Hazards_and_Controls,$BW24,DO$79)=0,\"\",INDEX(All_Hazards_and_Controls,$BW24,DO$79)))","v":"MAKE BLANK"},null,{"$f":"IF(DQ$78=\"NO\",\"MAKE BLANK\",IF(INDEX(All_Hazards_and_Controls,$BW24,DQ$79)=0,\"\",INDEX(All_Hazards_and_Controls,$BW24,DQ$79)))","v":"MAKE BLANK"},{"$f":"IF(DR$78=\"NO\",\"MAKE BLANK\",IF(INDEX(All_Hazards_and_Controls,$BW24,DR$79)=0,\"\",INDEX(All_Hazards_and_Controls,$BW24,DR$79)))","v":"MAKE BLANK"},null,{"$f":"IF(DT$78=\"NO\",\"MAKE BLANK\",IF(INDEX(All_Hazards_and_Controls,$BW24,DT$79)=0,\"\",INDEX(All_Hazards_and_Controls,$BW24,DT$79)))","v":"MAKE BLANK"},{"$f":"IF(DU$78=\"NO\",\"MAKE BLANK\",IF(INDEX(All_Hazards_and_Controls,$BW24,DU$79)=0,\"\",INDEX(All_Hazards_and_Controls,$BW24,DU$79)))","v":"MAKE BLANK"},null,{"$f":"IF(DW$78=\"NO\",\"MAKE BLANK\",IF(INDEX(All_Hazards_and_Controls,$BW24,DW$79)=0,\"\",INDEX(All_Hazards_and_Controls,$BW24,DW$79)))","v":"MAKE BLANK"},{"$f":"IF(DX$78=\"NO\",\"MAKE BLANK\",IF(INDEX(All_Hazards_and_Controls,$BW24,DX$79)=0,\"\",INDEX(All_Hazards_and_Controls,$BW24,DX$79)))","v":"MAKE BLANK"},null,{"$f":"IF(DZ$78=\"NO\",\"MAKE BLANK\",IF(INDEX(All_Hazards_and_Controls,$BW24,DZ$79)=0,\"\",INDEX(All_Hazards_and_Controls,$BW24,DZ$79)))","v":"MAKE BLANK"},{"$f":"IF(EA$78=\"NO\",\"MAKE BLANK\",IF(INDEX(All_Hazards_and_Controls,$BW24,EA$79)=0,\"\",INDEX(All_Hazards_and_Controls,$BW24,EA$79)))","v":"MAKE BLANK"},null,{"$f":"IF(EC$78=\"NO\",\"MAKE BLANK\",IF(INDEX(All_Hazards_and_Controls,$BW24,EC$79)=0,\"\",INDEX(All_Hazards_and_Controls,$BW24,EC$79)))","v":"MAKE BLANK"},{"$f":"IF(ED$78=\"NO\",\"MAKE BLANK\",IF(INDEX(All_Hazards_and_Controls,$BW24,ED$79)=0,\"\",INDEX(All_Hazards_and_Controls,$BW24,ED$79)))","v":"MAKE BLANK"},null,{"$f":"IF(EF$78=\"NO\",\"MAKE BLANK\",IF(INDEX(All_Hazards_and_Controls,$BW24,EF$79)=0,\"\",INDEX(All_Hazards_and_Controls,$BW24,EF$79)))","v":"MAKE BLANK"},{"$f":"IF(EG$78=\"NO\",\"MAKE BLANK\",IF(INDEX(All_Hazards_and_Controls,$BW24,EG$79)=0,\"\",INDEX(All_Hazards_and_Controls,$BW24,EG$79)))","v":"MAKE BLANK"},null,{"$f":"IF(EI$78=\"NO\",\"MAKE BLANK\",IF(INDEX(All_Hazards_and_Controls,$BW24,EI$79)=0,\"\",INDEX(All_Hazards_and_Controls,$BW24,EI$79)))","v":"MAKE BLANK"},{"$f":"IF(EJ$78=\"NO\",\"MAKE BLANK\",IF(INDEX(All_Hazards_and_Controls,$BW24,EJ$79)=0,\"\",INDEX(All_Hazards_and_Controls,$BW24,EJ$79)))","v":"MAKE BLANK"},null,{"$f":"IF(EL$78=\"NO\",\"MAKE BLANK\",IF(INDEX(All_Hazards_and_Controls,$BW24,EL$79)=0,\"\",INDEX(All_Hazards_and_Controls,$BW24,EL$79)))","v":"MAKE BLANK"},{"$f":"IF(EM$78=\"NO\",\"MAKE BLANK\",IF(INDEX(All_Hazards_and_Controls,$BW24,EM$79)=0,\"\",INDEX(All_Hazards_and_Controls,$BW24,EM$79)))","v":"MAKE BLANK"},null,{"$f":"IF(EO$78=\"NO\",\"MAKE BLANK\",IF(INDEX(All_Hazards_and_Controls,$BW24,EO$79)=0,\"\",INDEX(All_Hazards_and_Controls,$BW24,EO$79)))","v":"MAKE BLANK"},{"$f":"IF(EP$78=\"NO\",\"MAKE BLANK\",IF(INDEX(All_Hazards_and_Controls,$BW24,EP$79)=0,\"\",INDEX(All_Hazards_and_Controls,$BW24,EP$79)))","v":"MAKE BLANK"},null,{"$f":"IF(ER$78=\"NO\",\"MAKE BLANK\",IF(INDEX(All_Hazards_and_Controls,$BW24,ER$79)=0,\"\",INDEX(All_Hazards_and_Controls,$BW24,ER$79)))","v":"MAKE BLANK"},{"$f":"IF(ES$78=\"NO\",\"MAKE BLANK\",IF(INDEX(All_Hazards_and_Controls,$BW24,ES$79)=0,\"\",INDEX(All_Hazards_and_Controls,$BW24,ES$79)))","v":"MAKE BLANK"},null,{"$f":"IF(EU$78=\"NO\",\"MAKE BLANK\",IF(INDEX(All_Hazards_and_Controls,$BW24,EU$79)=0,\"\",INDEX(All_Hazards_and_Controls,$BW24,EU$79)))","v":"MAKE BLANK"},{"$f":"IF(EV$78=\"NO\",\"MAKE BLANK\",IF(INDEX(All_Hazards_and_Controls,$BW24,EV$79)=0,\"\",INDEX(All_Hazards_and_Controls,$BW24,EV$79)))","v":"MAKE BLANK"},null,{"$f":"IF(EX$78=\"NO\",\"MAKE BLANK\",IF(INDEX(All_Hazards_and_Controls,$BW24,EX$79)=0,\"\",INDEX(All_Hazards_and_Controls,$BW24,EX$79)))","v":"MAKE BLANK"},{"$f":"IF(EY$78=\"NO\",\"MAKE BLANK\",IF(INDEX(All_Hazards_and_Controls,$BW24,EY$79)=0,\"\",INDEX(All_Hazards_and_Controls,$BW24,EY$79)))","v":"MAKE BLANK"},null,{"$f":"IF(FA$78=\"NO\",\"MAKE BLANK\",IF(INDEX(All_Hazards_and_Controls,$BW24,FA$79)=0,\"\",INDEX(All_Hazards_and_Controls,$BW24,FA$79)))","v":"MAKE BLANK"},{"$f":"IF(FB$78=\"NO\",\"MAKE BLANK\",IF(INDEX(All_Hazards_and_Controls,$BW24,FB$79)=0,\"\",INDEX(All_Hazards_and_Controls,$BW24,FB$79)))","v":"MAKE BLANK"},null,{"$f":"IF(FD$78=\"NO\",\"MAKE BLANK\",IF(INDEX(All_Hazards_and_Controls,$BW24,FD$79)=0,\"\",INDEX(All_Hazards_and_Controls,$BW24,FD$79)))","v":"MAKE BLANK"},{"$f":"IF(FE$78=\"NO\",\"MAKE BLANK\",IF(INDEX(All_Hazards_and_Controls,$BW24,FE$79)=0,\"\",INDEX(All_Hazards_and_Controls,$BW24,FE$79)))","v":"MAKE BLANK"},null,{"$f":"IF(FG$78=\"NO\",\"MAKE BLANK\",IF(INDEX(All_Hazards_and_Controls,$BW24,FG$79)=0,\"\",INDEX(All_Hazards_and_Controls,$BW24,FG$79)))","v":"MAKE BLANK"},{"$f":"IF(FH$78=\"NO\",\"MAKE BLANK\",IF(INDEX(All_Hazards_and_Controls,$BW24,FH$79)=0,\"\",INDEX(All_Hazards_and_Controls,$BW24,FH$79)))","v":"MAKE BLANK"},null,{"$f":"IF(FJ$78=\"NO\",\"MAKE BLANK\",IF(INDEX(All_Hazards_and_Controls,$BW24,FJ$79)=0,\"\",INDEX(All_Hazards_and_Controls,$BW24,FJ$79)))","v":"MAKE BLANK"},{"$f":"IF(FK$78=\"NO\",\"MAKE BLANK\",IF(INDEX(All_Hazards_and_Controls,$BW24,FK$79)=0,\"\",INDEX(All_Hazards_and_Controls,$BW24,FK$79)))","v":"MAKE BLANK"},null,{"$f":"IF(FM$78=\"NO\",\"MAKE BLANK\",IF(INDEX(All_Hazards_and_Controls,$BW24,FM$79)=0,\"\",INDEX(All_Hazards_and_Controls,$BW24,FM$79)))","v":"MAKE BLANK"},{"$f":"IF(FN$78=\"NO\",\"MAKE BLANK\",IF(INDEX(All_Hazards_and_Controls,$BW24,FN$79)=0,\"\",INDEX(All_Hazards_and_Controls,$BW24,FN$79)))","v":"MAKE BLANK"},null,{"$f":"IF(FP$78=\"NO\",\"MAKE BLANK\",IF(INDEX(All_Hazards_and_Controls,$BW24,FP$79)=0,\"\",INDEX(All_Hazards_and_Controls,$BW24,FP$79)))","v":"MAKE BLANK"},{"$f":"IF(FQ$78=\"NO\",\"MAKE BLANK\",IF(INDEX(All_Hazards_and_Controls,$BW24,FQ$79)=0,\"\",INDEX(All_Hazards_and_Controls,$BW24,FQ$79)))","v":"MAKE BLANK"},null,{"$f":"IF(FS$78=\"NO\",\"MAKE BLANK\",IF(INDEX(All_Hazards_and_Controls,$BW24,FS$79)=0,\"\",INDEX(All_Hazards_and_Controls,$BW24,FS$79)))","v":"MAKE BLANK"},{"$f":"IF(FT$78=\"NO\",\"MAKE BLANK\",IF(INDEX(All_Hazards_and_Controls,$BW24,FT$79)=0,\"\",INDEX(All_Hazards_and_Controls,$BW24,FT$79)))","v":"MAKE BLANK"},null,{"$f":"IF(FV$78=\"NO\",\"MAKE BLANK\",IF(INDEX(All_Hazards_and_Controls,$BW24,FV$79)=0,\"\",INDEX(All_Hazards_and_Controls,$BW24,FV$79)))","v":"MAKE BLANK"},{"$f":"IF(FW$78=\"NO\",\"MAKE BLANK\",IF(INDEX(All_Hazards_and_Controls,$BW24,FW$79)=0,\"\",INDEX(All_Hazards_and_Controls,$BW24,FW$79)))","v":"MAKE BLANK"},null,{"$f":"IF(FY$78=\"NO\",\"MAKE BLANK\",IF(INDEX(All_Hazards_and_Controls,$BW24,FY$79)=0,\"\",INDEX(All_Hazards_and_Controls,$BW24,FY$79)))","v":"MAKE BLANK"},{"$f":"IF(FZ$78=\"NO\",\"MAKE BLANK\",IF(INDEX(All_Hazards_and_Controls,$BW24,FZ$79)=0,\"\",INDEX(All_Hazards_and_Controls,$BW24,FZ$79)))","v":"MAKE BLANK"},null,{"$f":"IF(GB$78=\"NO\",\"MAKE BLANK\",IF(INDEX(All_Hazards_and_Controls,$BW24,GB$79)=0,\"\",INDEX(All_Hazards_and_Controls,$BW24,GB$79)))","v":"MAKE BLANK"},{"$f":"IF(GC$78=\"NO\",\"MAKE BLANK\",IF(INDEX(All_Hazards_and_Controls,$BW24,GC$79)=0,\"\",INDEX(All_Hazards_and_Controls,$BW24,GC$79)))","v":"MAKE BLANK"},null,{"$f":"IF(GE$78=\"NO\",\"MAKE BLANK\",IF(INDEX(All_Hazards_and_Controls,$BW24,GE$79)=0,\"\",INDEX(All_Hazards_and_Controls,$BW24,GE$79)))","v":"MAKE BLANK"},{"$f":"IF(GF$78=\"NO\",\"MAKE BLANK\",IF(INDEX(All_Hazards_and_Controls,$BW24,GF$79)=0,\"\",INDEX(All_Hazards_and_Controls,$BW24,GF$79)))","v":"MAKE BLANK"},null,{"$f":"IF(GH$78=\"NO\",\"MAKE BLANK\",IF(INDEX(All_Hazards_and_Controls,$BW24,GH$79)=0,\"\",INDEX(All_Hazards_and_Controls,$BW24,GH$79)))","v":"MAKE BLANK"},{"$f":"IF(GI$78=\"NO\",\"MAKE BLANK\",IF(INDEX(All_Hazards_and_Controls,$BW24,GI$79)=0,\"\",INDEX(All_Hazards_and_Controls,$BW24,GI$79)))","v":"MAKE BLANK"},null,{"$f":"IF(GK$78=\"NO\",\"MAKE BLANK\",IF(INDEX(All_Hazards_and_Controls,$BW24,GK$79)=0,\"\",INDEX(All_Hazards_and_Controls,$BW24,GK$79)))","v":"MAKE BLANK"},{"$f":"IF(GL$78=\"NO\",\"MAKE BLANK\",IF(INDEX(All_Hazards_and_Controls,$BW24,GL$79)=0,\"\",INDEX(All_Hazards_and_Controls,$BW24,GL$79)))","v":"MAKE BLANK"},null,{"$f":"IF(GN$78=\"NO\",\"MAKE BLANK\",IF(INDEX(All_Hazards_and_Controls,$BW24,GN$79)=0,\"\",INDEX(All_Hazards_and_Controls,$BW24,GN$79)))","v":"MAKE BLANK"},{"$f":"IF(GO$78=\"NO\",\"MAKE BLANK\",IF(INDEX(All_Hazards_and_Controls,$BW24,GO$79)=0,\"\",INDEX(All_Hazards_and_Controls,$BW24,GO$79)))","v":"MAKE BLANK"},null,{"$f":"IF(GQ$78=\"NO\",\"MAKE BLANK\",IF(INDEX(All_Hazards_and_Controls,$BW24,GQ$79)=0,\"\",INDEX(All_Hazards_and_Controls,$BW24,GQ$79)))","v":"MAKE BLANK"},{"$f":"IF(GR$78=\"NO\",\"MAKE BLANK\",IF(INDEX(All_Hazards_and_Controls,$BW24,GR$79)=0,\"\",INDEX(All_Hazards_and_Controls,$BW24,GR$79)))","v":"MAKE BLANK"},null,{"$f":"IF(GT$78=\"NO\",\"MAKE BLANK\",IF(INDEX(All_Hazards_and_Controls,$BW24,GT$79)=0,\"\",INDEX(All_Hazards_and_Controls,$BW24,GT$79)))","v":"MAKE BLANK"},{"$f":"IF(GU$78=\"NO\",\"MAKE BLANK\",IF(INDEX(All_Hazards_and_Controls,$BW24,GU$79)=0,\"\",INDEX(All_Hazards_and_Controls,$BW24,GU$79)))","v":"MAKE BLANK"},null,{"$f":"IF(GW$78=\"NO\",\"MAKE BLANK\",IF(INDEX(All_Hazards_and_Controls,$BW24,GW$79)=0,\"\",INDEX(All_Hazards_and_Controls,$BW24,GW$79)))","v":"MAKE BLANK"},{"$f":"IF(GX$78=\"NO\",\"MAKE BLANK\",IF(INDEX(All_Hazards_and_Controls,$BW24,GX$79)=0,\"\",INDEX(All_Hazards_and_Controls,$BW24,GX$79)))","v":"MAKE BLANK"},null,{"$f":"IF(GZ$78=\"NO\",\"MAKE BLANK\",IF(INDEX(All_Hazards_and_Controls,$BW24,GZ$79)=0,\"\",INDEX(All_Hazards_and_Controls,$BW24,GZ$79)))","v":"MAKE BLANK"},{"$f":"IF(HA$78=\"NO\",\"MAKE BLANK\",IF(INDEX(All_Hazards_and_Controls,$BW24,HA$79)=0,\"\",INDEX(All_Hazards_and_Controls,$BW24,HA$79)))","v":"MAKE BLANK"},null,{"$f":"IF(HC$78=\"NO\",\"MAKE BLANK\",IF(INDEX(All_Hazards_and_Controls,$BW24,HC$79)=0,\"\",INDEX(All_Hazards_and_Controls,$BW24,HC$79)))","v":"MAKE BLANK"},{"$f":"IF(HD$78=\"NO\",\"MAKE BLANK\",IF(INDEX(All_Hazards_and_Controls,$BW24,HD$79)=0,\"\",INDEX(All_Hazards_and_Controls,$BW24,HD$79)))","v":"MAKE BLANK"},null,{"$f":"IF(HF$78=\"NO\",\"MAKE BLANK\",IF(INDEX(All_Hazards_and_Controls,$BW24,HF$79)=0,\"\",INDEX(All_Hazards_and_Controls,$BW24,HF$79)))","v":"MAKE BLANK"},{"$f":"IF(HG$78=\"NO\",\"MAKE BLANK\",IF(INDEX(All_Hazards_and_Controls,$BW24,HG$79)=0,\"\",INDEX(All_Hazards_and_Controls,$BW24,HG$79)))","v":"MAKE BLANK"},null,{"$f":"IF(HI$78=\"NO\",\"MAKE BLANK\",IF(INDEX(All_Hazards_and_Controls,$BW24,HI$79)=0,\"\",INDEX(All_Hazards_and_Controls,$BW24,HI$79)))","v":"MAKE BLANK"},{"$f":"IF(HJ$78=\"NO\",\"MAKE BLANK\",IF(INDEX(All_Hazards_and_Controls,$BW24,HJ$79)=0,\"\",INDEX(All_Hazards_and_Controls,$BW24,HJ$79)))","v":"MAKE BLANK"},null,{"$f":"IF(HL$78=\"NO\",\"MAKE BLANK\",IF(INDEX(All_Hazards_and_Controls,$BW24,HL$79)=0,\"\",INDEX(All_Hazards_and_Controls,$BW24,HL$79)))","v":"MAKE BLANK"},{"$f":"IF(HM$78=\"NO\",\"MAKE BLANK\",IF(INDEX(All_Hazards_and_Controls,$BW24,HM$79)=0,\"\",INDEX(All_Hazards_and_Controls,$BW24,HM$79)))","v":"MAKE BLANK"},null,{"$f":"IF(HO$78=\"NO\",\"MAKE BLANK\",IF(INDEX(All_Hazards_and_Controls,$BW24,HO$79)=0,\"\",INDEX(All_Hazards_and_Controls,$BW24,HO$79)))","v":"MAKE BLANK"},{"$f":"IF(HP$78=\"NO\",\"MAKE BLANK\",IF(INDEX(All_Hazards_and_Controls,$BW24,HP$79)=0,\"\",INDEX(All_Hazards_and_Controls,$BW24,HP$79)))","v":"MAKE BLANK"},null,{"$f":"IF(HR$78=\"NO\",\"MAKE BLANK\",IF(INDEX(All_Hazards_and_Controls,$BW24,HR$79)=0,\"\",INDEX(All_Hazards_and_Controls,$BW24,HR$79)))","v":"MAKE BLANK"},{"$f":"IF(HS$78=\"NO\",\"MAKE BLANK\",IF(INDEX(All_Hazards_and_Controls,$BW24,HS$79)=0,\"\",INDEX(All_Hazards_and_Controls,$BW24,HS$79)))","v":"MAKE BLANK"},null,{"$f":"IF(HU$78=\"NO\",\"MAKE BLANK\",IF(INDEX(All_Hazards_and_Controls,$BW24,HU$79)=0,\"\",INDEX(All_Hazards_and_Controls,$BW24,HU$79)))","v":"MAKE BLANK"},{"$f":"IF(HV$78=\"NO\",\"MAKE BLANK\",IF(INDEX(All_Hazards_and_Controls,$BW24,HV$79)=0,\"\",INDEX(All_Hazards_and_Controls,$BW24,HV$79)))","v":"MAKE BLANK"},null,{"$f":"IF(HX$78=\"NO\",\"MAKE BLANK\",IF(INDEX(All_Hazards_and_Controls,$BW24,HX$79)=0,\"\",INDEX(All_Hazards_and_Controls,$BW24,HX$79)))","v":"MAKE BLANK"},{"$f":"IF(HY$78=\"NO\",\"MAKE BLANK\",IF(INDEX(All_Hazards_and_Controls,$BW24,HY$79)=0,\"\",INDEX(All_Hazards_and_Controls,$BW24,HY$79)))","v":"MAKE BLANK"},null,{"$f":"IF(IA$78=\"NO\",\"MAKE BLANK\",IF(INDEX(All_Hazards_and_Controls,$BW24,IA$79)=0,\"\",INDEX(All_Hazards_and_Controls,$BW24,IA$79)))","v":"MAKE BLANK"},{"$f":"IF(IB$78=\"NO\",\"MAKE BLANK\",IF(INDEX(All_Hazards_and_Controls,$BW24,IB$79)=0,\"\",INDEX(All_Hazards_and_Controls,$BW24,IB$79)))","v":"MAKE BLANK"},null,{"$f":"IF(ID$78=\"NO\",\"MAKE BLANK\",IF(INDEX(All_Hazards_and_Controls,$BW24,ID$79)=0,\"\",INDEX(All_Hazards_and_Controls,$BW24,ID$79)))","v":"MAKE BLANK"},{"$f":"IF(IE$78=\"NO\",\"MAKE BLANK\",IF(INDEX(All_Hazards_and_Controls,$BW24,IE$79)=0,\"\",INDEX(All_Hazards_and_Controls,$BW24,IE$79)))","v":"MAKE BLANK"},null,{"$f":"IF(IG$78=\"NO\",\"MAKE BLANK\",IF(INDEX(All_Hazards_and_Controls,$BW24,IG$79)=0,\"\",INDEX(All_Hazards_and_Controls,$BW24,IG$79)))","v":"MAKE BLANK"},{"$f":"IF(IH$78=\"NO\",\"MAKE BLANK\",IF(INDEX(All_Hazards_and_Controls,$BW24,IH$79)=0,\"\",INDEX(All_Hazards_and_Controls,$BW24,IH$79)))","v":"MAKE BLANK"},null,{"$f":"IF(IJ$78=\"NO\",\"MAKE BLANK\",IF(INDEX(All_Hazards_and_Controls,$BW24,IJ$79)=0,\"\",INDEX(All_Hazards_and_Controls,$BW24,IJ$79)))","v":"MAKE BLANK"},{"$f":"IF(IK$78=\"NO\",\"MAKE BLANK\",IF(INDEX(All_Hazards_and_Controls,$BW24,IK$79)=0,\"\",INDEX(All_Hazards_and_Controls,$BW24,IK$79)))","v":"MAKE BLANK"},null,{"$f":"IF(IM$78=\"NO\",\"MAKE BLANK\",IF(INDEX(All_Hazards_and_Controls,$BW24,IM$79)=0,\"\",INDEX(All_Hazards_and_Controls,$BW24,IM$79)))","v":"MAKE BLANK"},{"$f":"IF(IN$78=\"NO\",\"MAKE BLANK\",IF(INDEX(All_Hazards_and_Controls,$BW24,IN$79)=0,\"\",INDEX(All_Hazards_and_Controls,$BW24,IN$79)))","v":"MAKE BLANK"},null,{"$f":"IF(IP$78=\"NO\",\"MAKE BLANK\",IF(INDEX(All_Hazards_and_Controls,$BW24,IP$79)=0,\"\",INDEX(All_Hazards_and_Controls,$BW24,IP$79)))","v":"MAKE BLANK"},{"$f":"IF(IQ$78=\"NO\",\"MAKE BLANK\",IF(INDEX(All_Hazards_and_Controls,$BW24,IQ$79)=0,\"\",INDEX(All_Hazards_and_Controls,$BW24,IQ$79)))","v":"MAKE BLANK"},null,{"$f":"IF(IS$78=\"NO\",\"MAKE BLANK\",IF(INDEX(All_Hazards_and_Controls,$BW24,IS$79)=0,\"\",INDEX(All_Hazards_and_Controls,$BW24,IS$79)))","v":"MAKE BLANK"},{"$f":"IF(IT$78=\"NO\",\"MAKE BLANK\",IF(INDEX(All_Hazards_and_Controls,$BW24,IT$79)=0,\"\",INDEX(All_Hazards_and_Controls,$BW24,IT$79)))","v":"MAKE BLANK"},null,{"$f":"IF(IV$78=\"NO\",\"MAKE BLANK\",IF(INDEX(All_Hazards_and_Controls,$BW24,IV$79)=0,\"\",INDEX(All_Hazards_and_Controls,$BW24,IV$79)))","v":"MAKE BLANK"},{"$f":"IF(IW$78=\"NO\",\"MAKE BLANK\",IF(INDEX(All_Hazards_and_Controls,$BW24,IW$79)=0,\"\",INDEX(All_Hazards_and_Controls,$BW24,IW$79)))","v":"MAKE BLANK"},null,{"$f":"IF(IY$78=\"NO\",\"MAKE BLANK\",IF(INDEX(All_Hazards_and_Controls,$BW24,IY$79)=0,\"\",INDEX(All_Hazards_and_Controls,$BW24,IY$79)))","v":"MAKE BLANK"},{"$f":"IF(IZ$78=\"NO\",\"MAKE BLANK\",IF(INDEX(All_Hazards_and_Controls,$BW24,IZ$79)=0,\"\",INDEX(All_Hazards_and_Controls,$BW24,IZ$79)))","v":"MAKE BLANK"},null,{"$f":"IF(JB$78=\"NO\",\"MAKE BLANK\",IF(INDEX(All_Hazards_and_Controls,$BW24,JB$79)=0,\"\",INDEX(All_Hazards_and_Controls,$BW24,JB$79)))","v":"MAKE BLANK"},{"$f":"IF(JC$78=\"NO\",\"MAKE BLANK\",IF(INDEX(All_Hazards_and_Controls,$BW24,JC$79)=0,\"\",INDEX(All_Hazards_and_Controls,$BW24,JC$79)))","v":"MAKE BLANK"},null,{"$f":"IF(JE$78=\"NO\",\"MAKE BLANK\",IF(INDEX(All_Hazards_and_Controls,$BW24,JE$79)=0,\"\",INDEX(All_Hazards_and_Controls,$BW24,JE$79)))","v":"MAKE BLANK"},{"$f":"IF(JF$78=\"NO\",\"MAKE BLANK\",IF(INDEX(All_Hazards_and_Controls,$BW24,JF$79)=0,\"\",INDEX(All_Hazards_and_Controls,$BW24,JF$79)))","v":"MAKE BLANK"},null,{"$f":"IF(JH$78=\"NO\",\"MAKE BLANK\",IF(INDEX(All_Hazards_and_Controls,$BW24,JH$79)=0,\"\",INDEX(All_Hazards_and_Controls,$BW24,JH$79)))","v":"MAKE BLANK"},{"$f":"IF(JI$78=\"NO\",\"MAKE BLANK\",IF(INDEX(All_Hazards_and_Controls,$BW24,JI$79)=0,\"\",INDEX(All_Hazards_and_Controls,$BW24,JI$79)))","v":"MAKE BLANK"},null,{"$f":"IF(JK$78=\"NO\",\"MAKE BLANK\",IF(INDEX(All_Hazards_and_Controls,$BW24,JK$79)=0,\"\",INDEX(All_Hazards_and_Controls,$BW24,JK$79)))","v":"MAKE BLANK"},{"$f":"IF(JL$78=\"NO\",\"MAKE BLANK\",IF(INDEX(All_Hazards_and_Controls,$BW24,JL$79)=0,\"\",INDEX(All_Hazards_and_Controls,$BW24,JL$79)))","v":"MAKE BLANK"},null,{"$f":"IF(JN$78=\"NO\",\"MAKE BLANK\",IF(INDEX(All_Hazards_and_Controls,$BW24,JN$79)=0,\"\",INDEX(All_Hazards_and_Controls,$BW24,JN$79)))","v":"MAKE BLANK"},{"$f":"IF(JO$78=\"NO\",\"MAKE BLANK\",IF(INDEX(All_Hazards_and_Controls,$BW24,JO$79)=0,\"\",INDEX(All_Hazards_and_Controls,$BW24,JO$79)))","v":"MAKE BLANK"},null,{"$f":"IF(JQ$78=\"NO\",\"MAKE BLANK\",IF(INDEX(All_Hazards_and_Controls,$BW24,JQ$79)=0,\"\",INDEX(All_Hazards_and_Controls,$BW24,JQ$79)))","v":"MAKE BLANK"},{"$f":"IF(JR$78=\"NO\",\"MAKE BLANK\",IF(INDEX(All_Hazards_and_Controls,$BW24,JR$79)=0,\"\",INDEX(All_Hazards_and_Controls,$BW24,JR$79)))","v":"MAKE BLANK"},null,{"$f":"IF(JT$78=\"NO\",\"MAKE BLANK\",IF(INDEX(All_Hazards_and_Controls,$BW24,JT$79)=0,\"\",INDEX(All_Hazards_and_Controls,$BW24,JT$79)))","v":"MAKE BLANK"},{"$f":"IF(JU$78=\"NO\",\"MAKE BLANK\",IF(INDEX(All_Hazards_and_Controls,$BW24,JU$79)=0,\"\",INDEX(All_Hazards_and_Controls,$BW24,JU$79)))","v":"MAKE BLANK"},null,{"$f":"IF(JW$78=\"NO\",\"MAKE BLANK\",IF(INDEX(All_Hazards_and_Controls,$BW24,JW$79)=0,\"\",INDEX(All_Hazards_and_Controls,$BW24,JW$79)))","v":"MAKE BLANK"},{"$f":"IF(JX$78=\"NO\",\"MAKE BLANK\",IF(INDEX(All_Hazards_and_Controls,$BW24,JX$79)=0,\"\",INDEX(All_Hazards_and_Controls,$BW24,JX$79)))","v":"MAKE BLANK"},null,{"$f":"IF(JZ$78=\"NO\",\"MAKE BLANK\",IF(INDEX(All_Hazards_and_Controls,$BW24,JZ$79)=0,\"\",INDEX(All_Hazards_and_Controls,$BW24,JZ$79)))","v":"MAKE BLANK"},{"$f":"IF(KA$78=\"NO\",\"MAKE BLANK\",IF(INDEX(All_Hazards_and_Controls,$BW24,KA$79)=0,\"\",INDEX(All_Hazards_and_Controls,$BW24,KA$79)))","v":"MAKE BLANK"},null,{"$f":"IF(KC$78=\"NO\",\"MAKE BLANK\",IF(INDEX(All_Hazards_and_Controls,$BW24,KC$79)=0,\"\",INDEX(All_Hazards_and_Controls,$BW24,KC$79)))","v":"MAKE BLANK"},{"$f":"IF(KD$78=\"NO\",\"MAKE BLANK\",IF(INDEX(All_Hazards_and_Controls,$BW24,KD$79)=0,\"\",INDEX(All_Hazards_and_Controls,$BW24,KD$79)))","v":"MAKE BLANK"},null,{"$f":"IF(KF$78=\"NO\",\"MAKE BLANK\",IF(INDEX(All_Hazards_and_Controls,$BW24,KF$79)=0,\"\",INDEX(All_Hazards_and_Controls,$BW24,KF$79)))","v":"MAKE BLANK"},{"$f":"IF(KG$78=\"NO\",\"MAKE BLANK\",IF(INDEX(All_Hazards_and_Controls,$BW24,KG$79)=0,\"\",INDEX(All_Hazards_and_Controls,$BW24,KG$79)))","v":"MAKE BLANK"},null,{"$f":"IF(KI$78=\"NO\",\"MAKE BLANK\",IF(INDEX(All_Hazards_and_Controls,$BW24,KI$79)=0,\"\",INDEX(All_Hazards_and_Controls,$BW24,KI$79)))","v":"MAKE BLANK"},{"$f":"IF(KJ$78=\"NO\",\"MAKE BLANK\",IF(INDEX(All_Hazards_and_Controls,$BW24,KJ$79)=0,\"\",INDEX(All_Hazards_and_Controls,$BW24,KJ$79)))","v":"MAKE BLANK"},null,{"$f":"IF(KL$78=\"NO\",\"MAKE BLANK\",IF(INDEX(All_Hazards_and_Controls,$BW24,KL$79)=0,\"\",INDEX(All_Hazards_and_Controls,$BW24,KL$79)))","v":"MAKE BLANK"},{"$f":"IF(KM$78=\"NO\",\"MAKE BLANK\",IF(INDEX(All_Hazards_and_Controls,$BW24,KM$79)=0,\"\",INDEX(All_Hazards_and_Controls,$BW24,KM$79)))","v":"MAKE BLANK"},null,{"$f":"IF(KO$78=\"NO\",\"MAKE BLANK\",IF(INDEX(All_Hazards_and_Controls,$BW24,KO$79)=0,\"\",INDEX(All_Hazards_and_Controls,$BW24,KO$79)))","v":"MAKE BLANK"},{"$f":"IF(KP$78=\"NO\",\"MAKE BLANK\",IF(INDEX(All_Hazards_and_Controls,$BW24,KP$79)=0,\"\",INDEX(All_Hazards_and_Controls,$BW24,KP$79)))","v":"MAKE BLANK"},null,{"$f":"IF(KR$78=\"NO\",\"MAKE BLANK\",IF(INDEX(All_Hazards_and_Controls,$BW24,KR$79)=0,\"\",INDEX(All_Hazards_and_Controls,$BW24,KR$79)))","v":"MAKE BLANK"},{"$f":"IF(KS$78=\"NO\",\"MAKE BLANK\",IF(INDEX(All_Hazards_and_Controls,$BW24,KS$79)=0,\"\",INDEX(All_Hazards_and_Controls,$BW24,KS$79)))","v":"MAKE BLANK"},null,{"$f":"IF(KU$78=\"NO\",\"MAKE BLANK\",IF(INDEX(All_Hazards_and_Controls,$BW24,KU$79)=0,\"\",INDEX(All_Hazards_and_Controls,$BW24,KU$79)))","v":"MAKE BLANK"},{"$f":"IF(KV$78=\"NO\",\"MAKE BLANK\",IF(INDEX(All_Hazards_and_Controls,$BW24,KV$79)=0,\"\",INDEX(All_Hazards_and_Controls,$BW24,KV$79)))","v":"MAKE BLANK"},null,{"$f":"IF(KX$78=\"NO\",\"MAKE BLANK\",IF(INDEX(All_Hazards_and_Controls,$BW24,KX$79)=0,\"\",INDEX(All_Hazards_and_Controls,$BW24,KX$79)))","v":"MAKE BLANK"},{"$f":"IF(KY$78=\"NO\",\"MAKE BLANK\",IF(INDEX(All_Hazards_and_Controls,$BW24,KY$79)=0,\"\",INDEX(All_Hazards_and_Controls,$BW24,KY$79)))","v":"MAKE BLANK"},null,{"$f":"IF(LA$78=\"NO\",\"MAKE BLANK\",IF(INDEX(All_Hazards_and_Controls,$BW24,LA$79)=0,\"\",INDEX(All_Hazards_and_Controls,$BW24,LA$79)))","v":"MAKE BLANK"},{"$f":"IF(LB$78=\"NO\",\"MAKE BLANK\",IF(INDEX(All_Hazards_and_Controls,$BW24,LB$79)=0,\"\",INDEX(All_Hazards_and_Controls,$BW24,LB$79)))","v":"MAKE BLANK"},null,{"$f":"IF(LD$78=\"NO\",\"MAKE BLANK\",IF(INDEX(All_Hazards_and_Controls,$BW24,LD$79)=0,\"\",INDEX(All_Hazards_and_Controls,$BW24,LD$79)))","v":"MAKE BLANK"},{"$f":"IF(LE$78=\"NO\",\"MAKE BLANK\",IF(INDEX(All_Hazards_and_Controls,$BW24,LE$79)=0,\"\",INDEX(All_Hazards_and_Controls,$BW24,LE$79)))","v":"MAKE BLANK"},null,{"$f":"IF(LG$78=\"NO\",\"MAKE BLANK\",IF(INDEX(All_Hazards_and_Controls,$BW24,LG$79)=0,\"\",INDEX(All_Hazards_and_Controls,$BW24,LG$79)))","v":"MAKE BLANK"},{"$f":"IF(LH$78=\"NO\",\"MAKE BLANK\",IF(INDEX(All_Hazards_and_Controls,$BW24,LH$79)=0,\"\",INDEX(All_Hazards_and_Controls,$BW24,LH$79)))","v":"MAKE BLANK"},null,{"$f":"IF(LJ$78=\"NO\",\"MAKE BLANK\",IF(INDEX(All_Hazards_and_Controls,$BW24,LJ$79)=0,\"\",INDEX(All_Hazards_and_Controls,$BW24,LJ$79)))","v":"MAKE BLANK"},{"$f":"IF(LK$78=\"NO\",\"MAKE BLANK\",IF(INDEX(All_Hazards_and_Controls,$BW24,LK$79)=0,\"\",INDEX(All_Hazards_and_Controls,$BW24,LK$79)))","v":"MAKE BLANK"},null,{"$f":"IF(LM$78=\"NO\",\"MAKE BLANK\",IF(INDEX(All_Hazards_and_Controls,$BW24,LM$79)=0,\"\",INDEX(All_Hazards_and_Controls,$BW24,LM$79)))","v":"MAKE BLANK"},{"$f":"IF(LN$78=\"NO\",\"MAKE BLANK\",IF(INDEX(All_Hazards_and_Controls,$BW24,LN$79)=0,\"\",INDEX(All_Hazards_and_Controls,$BW24,LN$79)))","v":"MAKE BLANK"},null,{"$f":"IF(LP$78=\"NO\",\"MAKE BLANK\",IF(INDEX(All_Hazards_and_Controls,$BW24,LP$79)=0,\"\",INDEX(All_Hazards_and_Controls,$BW24,LP$79)))","v":"MAKE BLANK"},{"$f":"IF(LQ$78=\"NO\",\"MAKE BLANK\",IF(INDEX(All_Hazards_and_Controls,$BW24,LQ$79)=0,\"\",INDEX(All_Hazards_and_Controls,$BW24,LQ$79)))","v":"MAKE BLANK"},null,{"$f":"IF(LS$78=\"NO\",\"MAKE BLANK\",IF(INDEX(All_Hazards_and_Controls,$BW24,LS$79)=0,\"\",INDEX(All_Hazards_and_Controls,$BW24,LS$79)))","v":"MAKE BLANK"},{"$f":"IF(LT$78=\"NO\",\"MAKE BLANK\",IF(INDEX(All_Hazards_and_Controls,$BW24,LT$79)=0,\"\",INDEX(All_Hazards_and_Controls,$BW24,LT$79)))","v":"MAKE BLANK"},null,{"$f":"IF(LV$78=\"NO\",\"MAKE BLANK\",IF(INDEX(All_Hazards_and_Controls,$BW24,LV$79)=0,\"\",INDEX(All_Hazards_and_Controls,$BW24,LV$79)))","v":"MAKE BLANK"},{"$f":"IF(LW$78=\"NO\",\"MAKE BLANK\",IF(INDEX(All_Hazards_and_Controls,$BW24,LW$79)=0,\"\",INDEX(All_Hazards_and_Controls,$BW24,LW$79)))","v":"MAKE BLANK"},null,{"$f":"IF(LY$78=\"NO\",\"MAKE BLANK\",IF(INDEX(All_Hazards_and_Controls,$BW24,LY$79)=0,\"\",INDEX(All_Hazards_and_Controls,$BW24,LY$79)))","v":"MAKE BLANK"},{"$f":"IF(LZ$78=\"NO\",\"MAKE BLANK\",IF(INDEX(All_Hazards_and_Controls,$BW24,LZ$79)=0,\"\",INDEX(All_Hazards_and_Controls,$BW24,LZ$79)))","v":"MAKE BLANK"},null,{"$f":"IF(MB$78=\"NO\",\"MAKE BLANK\",IF(INDEX(All_Hazards_and_Controls,$BW24,MB$79)=0,\"\",INDEX(All_Hazards_and_Controls,$BW24,MB$79)))","v":"MAKE BLANK"},{"$f":"IF(MC$78=\"NO\",\"MAKE BLANK\",IF(INDEX(All_Hazards_and_Controls,$BW24,MC$79)=0,\"\",INDEX(All_Hazards_and_Controls,$BW24,MC$79)))","v":"MAKE BLANK"},null,{"$f":"IF(ME$78=\"NO\",\"MAKE BLANK\",IF(INDEX(All_Hazards_and_Controls,$BW24,ME$79)=0,\"\",INDEX(All_Hazards_and_Controls,$BW24,ME$79)))","v":"MAKE BLANK"},{"$f":"IF(MF$78=\"NO\",\"MAKE BLANK\",IF(INDEX(All_Hazards_and_Controls,$BW24,MF$79)=0,\"\",INDEX(All_Hazards_and_Controls,$BW24,MF$79)))","v":"MAKE BLANK"},null,{"$f":"IF(MH$78=\"NO\",\"MAKE BLANK\",IF(INDEX(All_Hazards_and_Controls,$BW24,MH$79)=0,\"\",INDEX(All_Hazards_and_Controls,$BW24,MH$79)))","v":"MAKE BLANK"},{"$f":"IF(MI$78=\"NO\",\"MAKE BLANK\",IF(INDEX(All_Hazards_and_Controls,$BW24,MI$79)=0,\"\",INDEX(All_Hazards_and_Controls,$BW24,MI$79)))","v":"MAKE BLANK"},null,{"$f":"IF(MK$78=\"NO\",\"MAKE BLANK\",IF(INDEX(All_Hazards_and_Controls,$BW24,MK$79)=0,\"\",INDEX(All_Hazards_and_Controls,$BW24,MK$79)))","v":"MAKE BLANK"},{"$f":"IF(ML$78=\"NO\",\"MAKE BLANK\",IF(INDEX(All_Hazards_and_Controls,$BW24,ML$79)=0,\"\",INDEX(All_Hazards_and_Controls,$BW24,ML$79)))","v":"MAKE BLANK"},null,{"$f":"IF(MN$78=\"NO\",\"MAKE BLANK\",IF(INDEX(All_Hazards_and_Controls,$BW24,MN$79)=0,\"\",INDEX(All_Hazards_and_Controls,$BW24,MN$79)))","v":"MAKE BLANK"},{"$f":"IF(MO$78=\"NO\",\"MAKE BLANK\",IF(INDEX(All_Hazards_and_Controls,$BW24,MO$79)=0,\"\",INDEX(All_Hazards_and_Controls,$BW24,MO$79)))","v":"MAKE BLANK"},null,{"$f":"IF(MQ$78=\"NO\",\"MAKE BLANK\",IF(INDEX(All_Hazards_and_Controls,$BW24,MQ$79)=0,\"\",INDEX(All_Hazards_and_Controls,$BW24,MQ$79)))","v":"MAKE BLANK"},{"$f":"IF(MR$78=\"NO\",\"MAKE BLANK\",IF(INDEX(All_Hazards_and_Controls,$BW24,MR$79)=0,\"\",INDEX(All_Hazards_and_Controls,$BW24,MR$79)))","v":"MAKE BLANK"},null,{"$f":"IF(MT$78=\"NO\",\"MAKE BLANK\",IF(INDEX(All_Hazards_and_Controls,$BW24,MT$79)=0,\"\",INDEX(All_Hazards_and_Controls,$BW24,MT$79)))","v":"MAKE BLANK"},{"$f":"IF(MU$78=\"NO\",\"MAKE BLANK\",IF(INDEX(All_Hazards_and_Controls,$BW24,MU$79)=0,\"\",INDEX(All_Hazards_and_Controls,$BW24,MU$79)))","v":"MAKE BLANK"}]
["EHS Professional",null,{"$f":"IF(EHS_Prof_1=0,\"\",EHS_Prof_1)","v":"Mike Ceglio"},null,null,null,null,null,null,null,null,{"$f":"IF(M81=4,\"PLAN IS NOT ACCEPTABLE\",\"\")","v":""},"",null,null,null,null,{"$f":"IF(Number_environmental_pages=0,\"MAKE BLANK\",IF(Q18>Total_plan_no_of_Envir_Aspects,\"MAKE BLANK\",\"Method to Achieve\"))","v":"MAKE BLANK"},{"$f":"IF(Number_environmental_pages=0,\"MAKE BLANK\",IF(Q18>Total_plan_no_of_Envir_Aspects,\"MAKE BLANK\",VLOOKUP(Q18,'4'!$B$116:$Z$136,25,FALSE)))","v":"MAKE BLANK"},null,null,{"$f":"IF(Number_environmental_pages<2,\"MAKE BLANK\",IF(U18>Total_plan_no_of_Envir_Aspects,\"MAKE BLANK\",\"Method to Achieve\"))","v":"MAKE BLANK"},{"$f":"IF(Number_environmental_pages<2,\"MAKE BLANK\",IF(U18>Total_plan_no_of_Envir_Aspects,\"MAKE BLANK\",VLOOKUP(U18,'4'!$B$116:$Z$136,25,FALSE)))","v":"MAKE BLANK"},null,null,{"$f":"IF(Number_environmental_pages<3,\"MAKE BLANK\",IF(Y18>Total_plan_no_of_Envir_Aspects,\"MAKE BLANK\",\"Method to Achieve\"))","v":"MAKE BLANK"},{"$f":"IF(Number_environmental_pages<3,\"MAKE BLANK\",IF(Y18>Total_plan_no_of_Envir_Aspects,\"MAKE BLANK\",VLOOKUP(Y18,'4'!$B$116:$Z$136,25,FALSE)))","v":"MAKE BLANK"},null,null,null,null,null,null,null,null,null,null,null,null,"Fall protection",null,null,null,"Heat Illness  ",null,null,null,null,null,"Noise and Vibration",null,null,null,null,null,null,null,null,null,null,null,null,null,null,null,null,null,null,null,null,null,null,null,null,null,{"$f":"IF(BX78=\"YES\",\"Implementation\",\"MAKE BLANK\")","v":"MAKE BLANK"},null,null,{"$f":"IF(CA78=\"YES\",\"Implementation\",\"MAKE BLANK\")","v":"MAKE BLANK"},null,null,{"$f":"IF(CD78=\"YES\",\"Implementation\",\"MAKE BLANK\")","v":"MAKE BLANK"},null,null,{"$f":"IF(CG78=\"YES\",\"Implementation\",\"MAKE BLANK\")","v":"MAKE BLANK"},null,null,{"$f":"IF(CJ78=\"YES\",\"Implementation\",\"MAKE BLANK\")","v":"MAKE BLANK"},null,null,{"$f":"IF(CM78=\"YES\",\"Implementation\",\"MAKE BLANK\")","v":"MAKE BLANK"},null,null,{"$f":"IF(CP78=\"YES\",\"Implementation\",\"MAKE BLANK\")","v":"MAKE BLANK"},null,null,{"$f":"IF(CS78=\"YES\",\"Implementation\",\"MAKE BLANK\")","v":"MAKE BLANK"},null,null,{"$f":"IF(CV78=\"YES\",\"Implementation\",\"MAKE BLANK\")","v":"MAKE BLANK"},null,null,{"$f":"IF(CY78=\"YES\",\"Implementation\",\"MAKE BLANK\")","v":"MAKE BLANK"},null,null,{"$f":"IF(DB78=\"YES\",\"Implementation\",\"MAKE BLANK\")","v":"MAKE BLANK"},null,null,{"$f":"IF(DE78=\"YES\",\"Implementation\",\"MAKE BLANK\")","v":"MAKE BLANK"},null,null,{"$f":"IF(DH78=\"YES\",\"Implementation\",\"MAKE BLANK\")","v":"MAKE BLANK"},null,null,{"$f":"IF(DK78=\"YES\",\"Implementation\",\"MAKE BLANK\")","v":"MAKE BLANK"},null,null,{"$f":"IF(DN78=\"YES\",\"Implementation\",\"MAKE BLANK\")","v":"MAKE BLANK"},null,null,{"$f":"IF(DQ78=\"YES\",\"Implementation\",\"MAKE BLANK\")","v":"MAKE BLANK"},null,null,{"$f":"IF(DT78=\"YES\",\"Implementation\",\"MAKE BLANK\")","v":"MAKE BLANK"},null,null,{"$f":"IF(DW78=\"YES\",\"Implementation\",\"MAKE BLANK\")","v":"MAKE BLANK"},null,null,{"$f":"IF(DZ78=\"YES\",\"Implementation\",\"MAKE BLANK\")","v":"MAKE BLANK"},null,null,{"$f":"IF(EC78=\"YES\",\"Implementation\",\"MAKE BLANK\")","v":"MAKE BLANK"},null,null,{"$f":"IF(EF78=\"YES\",\"Implementation\",\"MAKE BLANK\")","v":"MAKE BLANK"},null,null,{"$f":"IF(EI78=\"YES\",\"Implementation\",\"MAKE BLANK\")","v":"MAKE BLANK"},null,null,{"$f":"IF(EL78=\"YES\",\"Implementation\",\"MAKE BLANK\")","v":"MAKE BLANK"},null,null,{"$f":"IF(EO78=\"YES\",\"Implementation\",\"MAKE BLANK\")","v":"MAKE BLANK"},null,null,{"$f":"IF(ER78=\"YES\",\"Implementation\",\"MAKE BLANK\")","v":"MAKE BLANK"},null,null,{"$f":"IF(EU78=\"YES\",\"Implementation\",\"MAKE BLANK\")","v":"MAKE BLANK"},null,null,{"$f":"IF(EX78=\"YES\",\"Implementation\",\"MAKE BLANK\")","v":"MAKE BLANK"},null,null,{"$f":"IF(FA78=\"YES\",\"Implementation\",\"MAKE BLANK\")","v":"MAKE BLANK"},null,null,{"$f":"IF(FD78=\"YES\",\"Implementation\",\"MAKE BLANK\")","v":"MAKE BLANK"},null,null,{"$f":"IF(FG78=\"YES\",\"Implementation\",\"MAKE BLANK\")","v":"MAKE BLANK"},null,null,{"$f":"IF(FJ78=\"YES\",\"Implementation\",\"MAKE BLANK\")","v":"MAKE BLANK"},null,null,{"$f":"IF(FM78=\"YES\",\"Implementation\",\"MAKE BLANK\")","v":"MAKE BLANK"},null,null,{"$f":"IF(FP78=\"YES\",\"Implementation\",\"MAKE BLANK\")","v":"MAKE BLANK"},null,null,{"$f":"IF(FS78=\"YES\",\"Implementation\",\"MAKE BLANK\")","v":"MAKE BLANK"},null,null,{"$f":"IF(FV78=\"YES\",\"Implementation\",\"MAKE BLANK\")","v":"MAKE BLANK"},null,null,{"$f":"IF(FY78=\"YES\",\"Implementation\",\"MAKE BLANK\")","v":"MAKE BLANK"},null,null,{"$f":"IF(GB78=\"YES\",\"Implementation\",\"MAKE BLANK\")","v":"MAKE BLANK"},null,null,{"$f":"IF(GE78=\"YES\",\"Implementation\",\"MAKE BLANK\")","v":"MAKE BLANK"},null,null,{"$f":"IF(GH78=\"YES\",\"Implementation\",\"MAKE BLANK\")","v":"MAKE BLANK"},null,null,{"$f":"IF(GK78=\"YES\",\"Implementation\",\"MAKE BLANK\")","v":"MAKE BLANK"},null,null,{"$f":"IF(GN78=\"YES\",\"Implementation\",\"MAKE BLANK\")","v":"MAKE BLANK"},null,null,{"$f":"IF(GQ78=\"YES\",\"Implementation\",\"MAKE BLANK\")","v":"MAKE BLANK"},null,null,{"$f":"IF(GT78=\"YES\",\"Implementation\",\"MAKE BLANK\")","v":"MAKE BLANK"},null,null,{"$f":"IF(GW78=\"YES\",\"Implementation\",\"MAKE BLANK\")","v":"MAKE BLANK"},null,null,{"$f":"IF(GZ78=\"YES\",\"Implementation\",\"MAKE BLANK\")","v":"MAKE BLANK"},null,null,{"$f":"IF(HC78=\"YES\",\"Implementation\",\"MAKE BLANK\")","v":"MAKE BLANK"},null,null,{"$f":"IF(HF78=\"YES\",\"Implementation\",\"MAKE BLANK\")","v":"MAKE BLANK"},null,null,{"$f":"IF(HI78=\"YES\",\"Implementation\",\"MAKE BLANK\")","v":"MAKE BLANK"},null,null,{"$f":"IF(HL78=\"YES\",\"Implementation\",\"MAKE BLANK\")","v":"MAKE BLANK"},null,null,{"$f":"IF(HO78=\"YES\",\"Implementation\",\"MAKE BLANK\")","v":"MAKE BLANK"},null,null,{"$f":"IF(HR78=\"YES\",\"Implementation\",\"MAKE BLANK\")","v":"MAKE BLANK"},null,null,{"$f":"IF(HU78=\"YES\",\"Implementation\",\"MAKE BLANK\")","v":"MAKE BLANK"},null,null,{"$f":"IF(HX78=\"YES\",\"Implementation\",\"MAKE BLANK\")","v":"MAKE BLANK"},null,null,{"$f":"IF(IA78=\"YES\",\"Implementation\",\"MAKE BLANK\")","v":"MAKE BLANK"},null,null,{"$f":"IF(ID78=\"YES\",\"Implementation\",\"MAKE BLANK\")","v":"MAKE BLANK"},null,null,{"$f":"IF(IG78=\"YES\",\"Implementation\",\"MAKE BLANK\")","v":"MAKE BLANK"},null,null,{"$f":"IF(IJ78=\"YES\",\"Implementation\",\"MAKE BLANK\")","v":"MAKE BLANK"},null,null,{"$f":"IF(IM78=\"YES\",\"Implementation\",\"MAKE BLANK\")","v":"MAKE BLANK"},null,null,{"$f":"IF(IP78=\"YES\",\"Implementation\",\"MAKE BLANK\")","v":"MAKE BLANK"},null,null,{"$f":"IF(IS78=\"YES\",\"Implementation\",\"MAKE BLANK\")","v":"MAKE BLANK"},null,null,{"$f":"IF(IV78=\"YES\",\"Implementation\",\"MAKE BLANK\")","v":"MAKE BLANK"},null,null,{"$f":"IF(IY78=\"YES\",\"Implementation\",\"MAKE BLANK\")","v":"MAKE BLANK"},null,null,{"$f":"IF(JB78=\"YES\",\"Implementation\",\"MAKE BLANK\")","v":"MAKE BLANK"},null,null,{"$f":"IF(JE78=\"YES\",\"Implementation\",\"MAKE BLANK\")","v":"MAKE BLANK"},null,null,{"$f":"IF(JH78=\"YES\",\"Implementation\",\"MAKE BLANK\")","v":"MAKE BLANK"},null,null,{"$f":"IF(JK78=\"YES\",\"Implementation\",\"MAKE BLANK\")","v":"MAKE BLANK"},null,null,{"$f":"IF(JN78=\"YES\",\"Implementation\",\"MAKE BLANK\")","v":"MAKE BLANK"},null,null,{"$f":"IF(JQ78=\"YES\",\"Implementation\",\"MAKE BLANK\")","v":"MAKE BLANK"},null,null,{"$f":"IF(JT78=\"YES\",\"Implementation\",\"MAKE BLANK\")","v":"MAKE BLANK"},null,null,{"$f":"IF(JW78=\"YES\",\"Implementation\",\"MAKE BLANK\")","v":"MAKE BLANK"},null,null,{"$f":"IF(JZ78=\"YES\",\"Implementation\",\"MAKE BLANK\")","v":"MAKE BLANK"},null,null,{"$f":"IF(KC78=\"YES\",\"Implementation\",\"MAKE BLANK\")","v":"MAKE BLANK"},null,null,{"$f":"IF(KF78=\"YES\",\"Implementation\",\"MAKE BLANK\")","v":"MAKE BLANK"},null,null,{"$f":"IF(KI78=\"YES\",\"Implementation\",\"MAKE BLANK\")","v":"MAKE BLANK"},null,null,{"$f":"IF(KL78=\"YES\",\"Implementation\",\"MAKE BLANK\")","v":"MAKE BLANK"},null,null,{"$f":"IF(KO78=\"YES\",\"Implementation\",\"MAKE BLANK\")","v":"MAKE BLANK"},null,null,{"$f":"IF(KR78=\"YES\",\"Implementation\",\"MAKE BLANK\")","v":"MAKE BLANK"},null,null,{"$f":"IF(KU78=\"YES\",\"Implementation\",\"MAKE BLANK\")","v":"MAKE BLANK"},null,null,{"$f":"IF(KX78=\"YES\",\"Implementation\",\"MAKE BLANK\")","v":"MAKE BLANK"},null,null,{"$f":"IF(LA78=\"YES\",\"Implementation\",\"MAKE BLANK\")","v":"MAKE BLANK"},null,null,{"$f":"IF(LD78=\"YES\",\"Implementation\",\"MAKE BLANK\")","v":"MAKE BLANK"},null,null,{"$f":"IF(LG78=\"YES\",\"Implementation\",\"MAKE BLANK\")","v":"MAKE BLANK"},null,null,{"$f":"IF(LJ78=\"YES\",\"Implementation\",\"MAKE BLANK\")","v":"MAKE BLANK"},null,null,{"$f":"IF(LM78=\"YES\",\"Implementation\",\"MAKE BLANK\")","v":"MAKE BLANK"},null,null,{"$f":"IF(LP78=\"YES\",\"Implementation\",\"MAKE BLANK\")","v":"MAKE BLANK"},null,null,{"$f":"IF(LS78=\"YES\",\"Implementation\",\"MAKE BLANK\")","v":"MAKE BLANK"},null,null,{"$f":"IF(LV78=\"YES\",\"Implementation\",\"MAKE BLANK\")","v":"MAKE BLANK"},null,null,{"$f":"IF(LY78=\"YES\",\"Implementation\",\"MAKE BLANK\")","v":"MAKE BLANK"},null,null,{"$f":"IF(MB78=\"YES\",\"Implementation\",\"MAKE BLANK\")","v":"MAKE BLANK"},null,null,{"$f":"IF(ME78=\"YES\",\"Implementation\",\"MAKE BLANK\")","v":"MAKE BLANK"},null,null,{"$f":"IF(MH78=\"YES\",\"Implementation\",\"MAKE BLANK\")","v":"MAKE BLANK"},null,null,{"$f":"IF(MK78=\"YES\",\"Implementation\",\"MAKE BLANK\")","v":"MAKE BLANK"},null,null,{"$f":"IF(MN78=\"YES\",\"Implementation\",\"MAKE BLANK\")","v":"MAKE BLANK"},null,null,{"$f":"IF(MQ78=\"YES\",\"Implementation\",\"MAKE BLANK\")","v":"MAKE BLANK"},null,null,{"$f":"IF(MT78=\"YES\",\"Implementation\",\"MAKE BLANK\")","v":"MAKE BLANK"}]
[null,null,{"$f":"IF(EHS_Prof_2=0,\"\",EHS_Prof_2)","v":"Greg Masciotti"},null,null,null,null,null,null,null,null,null,null,null,null,null,null,null,null,null,null,null,null,null,null,null,null,null,null,null,null,null,null,null,null,null,null,null,null,"Glasses - Welding",null,null,null,"Compressor / Air Pneumatic Tools",null,null,null,null,null,"Outdoor Air Quality",null,null,null,null,null,null,"Approvals",null,null,null,null,null,null,null,null,null,null,null,null,null,null,null,null,null,24,{"$f":"IF(BX$78=\"NO\",\"MAKE BLANK\",IF(INDEX(All_Hazards_and_Controls,$BW26,BX$79)=0,\"\",INDEX(All_Hazards_and_Controls,$BW26,BX$79)))","v":"MAKE BLANK"},null,null,{"$f":"IF(CA$78=\"NO\",\"MAKE BLANK\",IF(INDEX(All_Hazards_and_Controls,$BW26,CA$79)=0,\"\",INDEX(All_Hazards_and_Controls,$BW26,CA$79)))","v":"MAKE BLANK"},null,null,{"$f":"IF(CD$78=\"NO\",\"MAKE BLANK\",IF(INDEX(All_Hazards_and_Controls,$BW26,CD$79)=0,\"\",INDEX(All_Hazards_and_Controls,$BW26,CD$79)))","v":"MAKE BLANK"},null,null,{"$f":"IF(CG$78=\"NO\",\"MAKE BLANK\",IF(INDEX(All_Hazards_and_Controls,$BW26,CG$79)=0,\"\",INDEX(All_Hazards_and_Controls,$BW26,CG$79)))","v":"MAKE BLANK"},null,null,{"$f":"IF(CJ$78=\"NO\",\"MAKE BLANK\",IF(INDEX(All_Hazards_and_Controls,$BW26,CJ$79)=0,\"\",INDEX(All_Hazards_and_Controls,$BW26,CJ$79)))","v":"MAKE BLANK"},null,null,{"$f":"IF(CM$78=\"NO\",\"MAKE BLANK\",IF(INDEX(All_Hazards_and_Controls,$BW26,CM$79)=0,\"\",INDEX(All_Hazards_and_Controls,$BW26,CM$79)))","v":"MAKE BLANK"},null,null,{"$f":"IF(CP$78=\"NO\",\"MAKE BLANK\",IF(INDEX(All_Hazards_and_Controls,$BW26,CP$79)=0,\"\",INDEX(All_Hazards_and_Controls,$BW26,CP$79)))","v":"MAKE BLANK"},null,null,{"$f":"IF(CS$78=\"NO\",\"MAKE BLANK\",IF(INDEX(All_Hazards_and_Controls,$BW26,CS$79)=0,\"\",INDEX(All_Hazards_and_Controls,$BW26,CS$79)))","v":"MAKE BLANK"},null,null,{"$f":"IF(CV$78=\"NO\",\"MAKE BLANK\",IF(INDEX(All_Hazards_and_Controls,$BW26,CV$79)=0,\"\",INDEX(All_Hazards_and_Controls,$BW26,CV$79)))","v":"MAKE BLANK"},null,null,{"$f":"IF(CY$78=\"NO\",\"MAKE BLANK\",IF(INDEX(All_Hazards_and_Controls,$BW26,CY$79)=0,\"\",INDEX(All_Hazards_and_Controls,$BW26,CY$79)))","v":"MAKE BLANK"},null,null,{"$f":"IF(DB$78=\"NO\",\"MAKE BLANK\",IF(INDEX(All_Hazards_and_Controls,$BW26,DB$79)=0,\"\",INDEX(All_Hazards_and_Controls,$BW26,DB$79)))","v":"MAKE BLANK"},null,null,{"$f":"IF(DE$78=\"NO\",\"MAKE BLANK\",IF(INDEX(All_Hazards_and_Controls,$BW26,DE$79)=0,\"\",INDEX(All_Hazards_and_Controls,$BW26,DE$79)))","v":"MAKE BLANK"},null,null,{"$f":"IF(DH$78=\"NO\",\"MAKE BLANK\",IF(INDEX(All_Hazards_and_Controls,$BW26,DH$79)=0,\"\",INDEX(All_Hazards_and_Controls,$BW26,DH$79)))","v":"MAKE BLANK"},null,null,{"$f":"IF(DK$78=\"NO\",\"MAKE BLANK\",IF(INDEX(All_Hazards_and_Controls,$BW26,DK$79)=0,\"\",INDEX(All_Hazards_and_Controls,$BW26,DK$79)))","v":"MAKE BLANK"},null,null,{"$f":"IF(DN$78=\"NO\",\"MAKE BLANK\",IF(INDEX(All_Hazards_and_Controls,$BW26,DN$79)=0,\"\",INDEX(All_Hazards_and_Controls,$BW26,DN$79)))","v":"MAKE BLANK"},null,null,{"$f":"IF(DQ$78=\"NO\",\"MAKE BLANK\",IF(INDEX(All_Hazards_and_Controls,$BW26,DQ$79)=0,\"\",INDEX(All_Hazards_and_Controls,$BW26,DQ$79)))","v":"MAKE BLANK"},null,null,{"$f":"IF(DT$78=\"NO\",\"MAKE BLANK\",IF(INDEX(All_Hazards_and_Controls,$BW26,DT$79)=0,\"\",INDEX(All_Hazards_and_Controls,$BW26,DT$79)))","v":"MAKE BLANK"},null,null,{"$f":"IF(DW$78=\"NO\",\"MAKE BLANK\",IF(INDEX(All_Hazards_and_Controls,$BW26,DW$79)=0,\"\",INDEX(All_Hazards_and_Controls,$BW26,DW$79)))","v":"MAKE BLANK"},null,null,{"$f":"IF(DZ$78=\"NO\",\"MAKE BLANK\",IF(INDEX(All_Hazards_and_Controls,$BW26,DZ$79)=0,\"\",INDEX(All_Hazards_and_Controls,$BW26,DZ$79)))","v":"MAKE BLANK"},null,null,{"$f":"IF(EC$78=\"NO\",\"MAKE BLANK\",IF(INDEX(All_Hazards_and_Controls,$BW26,EC$79)=0,\"\",INDEX(All_Hazards_and_Controls,$BW26,EC$79)))","v":"MAKE BLANK"},null,null,{"$f":"IF(EF$78=\"NO\",\"MAKE BLANK\",IF(INDEX(All_Hazards_and_Controls,$BW26,EF$79)=0,\"\",INDEX(All_Hazards_and_Controls,$BW26,EF$79)))","v":"MAKE BLANK"},null,null,{"$f":"IF(EI$78=\"NO\",\"MAKE BLANK\",IF(INDEX(All_Hazards_and_Controls,$BW26,EI$79)=0,\"\",INDEX(All_Hazards_and_Controls,$BW26,EI$79)))","v":"MAKE BLANK"},null,null,{"$f":"IF(EL$78=\"NO\",\"MAKE BLANK\",IF(INDEX(All_Hazards_and_Controls,$BW26,EL$79)=0,\"\",INDEX(All_Hazards_and_Controls,$BW26,EL$79)))","v":"MAKE BLANK"},null,null,{"$f":"IF(EO$78=\"NO\",\"MAKE BLANK\",IF(INDEX(All_Hazards_and_Controls,$BW26,EO$79)=0,\"\",INDEX(All_Hazards_and_Controls,$BW26,EO$79)))","v":"MAKE BLANK"},null,null,{"$f":"IF(ER$78=\"NO\",\"MAKE BLANK\",IF(INDEX(All_Hazards_and_Controls,$BW26,ER$79)=0,\"\",INDEX(All_Hazards_and_Controls,$BW26,ER$79)))","v":"MAKE BLANK"},null,null,{"$f":"IF(EU$78=\"NO\",\"MAKE BLANK\",IF(INDEX(All_Hazards_and_Controls,$BW26,EU$79)=0,\"\",INDEX(All_Hazards_and_Controls,$BW26,EU$79)))","v":"MAKE BLANK"},null,null,{"$f":"IF(EX$78=\"NO\",\"MAKE BLANK\",IF(INDEX(All_Hazards_and_Controls,$BW26,EX$79)=0,\"\",INDEX(All_Hazards_and_Controls,$BW26,EX$79)))","v":"MAKE BLANK"},null,null,{"$f":"IF(FA$78=\"NO\",\"MAKE BLANK\",IF(INDEX(All_Hazards_and_Controls,$BW26,FA$79)=0,\"\",INDEX(All_Hazards_and_Controls,$BW26,FA$79)))","v":"MAKE BLANK"},null,null,{"$f":"IF(FD$78=\"NO\",\"MAKE BLANK\",IF(INDEX(All_Hazards_and_Controls,$BW26,FD$79)=0,\"\",INDEX(All_Hazards_and_Controls,$BW26,FD$79)))","v":"MAKE BLANK"},null,null,{"$f":"IF(FG$78=\"NO\",\"MAKE BLANK\",IF(INDEX(All_Hazards_and_Controls,$BW26,FG$79)=0,\"\",INDEX(All_Hazards_and_Controls,$BW26,FG$79)))","v":"MAKE BLANK"},null,null,{"$f":"IF(FJ$78=\"NO\",\"MAKE BLANK\",IF(INDEX(All_Hazards_and_Controls,$BW26,FJ$79)=0,\"\",INDEX(All_Hazards_and_Controls,$BW26,FJ$79)))","v":"MAKE BLANK"},null,null,{"$f":"IF(FM$78=\"NO\",\"MAKE BLANK\",IF(INDEX(All_Hazards_and_Controls,$BW26,FM$79)=0,\"\",INDEX(All_Hazards_and_Controls,$BW26,FM$79)))","v":"MAKE BLANK"},null,null,{"$f":"IF(FP$78=\"NO\",\"MAKE BLANK\",IF(INDEX(All_Hazards_and_Controls,$BW26,FP$79)=0,\"\",INDEX(All_Hazards_and_Controls,$BW26,FP$79)))","v":"MAKE BLANK"},null,null,{"$f":"IF(FS$78=\"NO\",\"MAKE BLANK\",IF(INDEX(All_Hazards_and_Controls,$BW26,FS$79)=0,\"\",INDEX(All_Hazards_and_Controls,$BW26,FS$79)))","v":"MAKE BLANK"},null,null,{"$f":"IF(FV$78=\"NO\",\"MAKE BLANK\",IF(INDEX(All_Hazards_and_Controls,$BW26,FV$79)=0,\"\",INDEX(All_Hazards_and_Controls,$BW26,FV$79)))","v":"MAKE BLANK"},null,null,{"$f":"IF(FY$78=\"NO\",\"MAKE BLANK\",IF(INDEX(All_Hazards_and_Controls,$BW26,FY$79)=0,\"\",INDEX(All_Hazards_and_Controls,$BW26,FY$79)))","v":"MAKE BLANK"},null,null,{"$f":"IF(GB$78=\"NO\",\"MAKE BLANK\",IF(INDEX(All_Hazards_and_Controls,$BW26,GB$79)=0,\"\",INDEX(All_Hazards_and_Controls,$BW26,GB$79)))","v":"MAKE BLANK"},null,null,{"$f":"IF(GE$78=\"NO\",\"MAKE BLANK\",IF(INDEX(All_Hazards_and_Controls,$BW26,GE$79)=0,\"\",INDEX(All_Hazards_and_Controls,$BW26,GE$79)))","v":"MAKE BLANK"},null,null,{"$f":"IF(GH$78=\"NO\",\"MAKE BLANK\",IF(INDEX(All_Hazards_and_Controls,$BW26,GH$79)=0,\"\",INDEX(All_Hazards_and_Controls,$BW26,GH$79)))","v":"MAKE BLANK"},null,null,{"$f":"IF(GK$78=\"NO\",\"MAKE BLANK\",IF(INDEX(All_Hazards_and_Controls,$BW26,GK$79)=0,\"\",INDEX(All_Hazards_and_Controls,$BW26,GK$79)))","v":"MAKE BLANK"},null,null,{"$f":"IF(GN$78=\"NO\",\"MAKE BLANK\",IF(INDEX(All_Hazards_and_Controls,$BW26,GN$79)=0,\"\",INDEX(All_Hazards_and_Controls,$BW26,GN$79)))","v":"MAKE BLANK"},null,null,{"$f":"IF(GQ$78=\"NO\",\"MAKE BLANK\",IF(INDEX(All_Hazards_and_Controls,$BW26,GQ$79)=0,\"\",INDEX(All_Hazards_and_Controls,$BW26,GQ$79)))","v":"MAKE BLANK"},null,null,{"$f":"IF(GT$78=\"NO\",\"MAKE BLANK\",IF(INDEX(All_Hazards_and_Controls,$BW26,GT$79)=0,\"\",INDEX(All_Hazards_and_Controls,$BW26,GT$79)))","v":"MAKE BLANK"},null,null,{"$f":"IF(GW$78=\"NO\",\"MAKE BLANK\",IF(INDEX(All_Hazards_and_Controls,$BW26,GW$79)=0,\"\",INDEX(All_Hazards_and_Controls,$BW26,GW$79)))","v":"MAKE BLANK"},null,null,{"$f":"IF(GZ$78=\"NO\",\"MAKE BLANK\",IF(INDEX(All_Hazards_and_Controls,$BW26,GZ$79)=0,\"\",INDEX(All_Hazards_and_Controls,$BW26,GZ$79)))","v":"MAKE BLANK"},null,null,{"$f":"IF(HC$78=\"NO\",\"MAKE BLANK\",IF(INDEX(All_Hazards_and_Controls,$BW26,HC$79)=0,\"\",INDEX(All_Hazards_and_Controls,$BW26,HC$79)))","v":"MAKE BLANK"},null,null,{"$f":"IF(HF$78=\"NO\",\"MAKE BLANK\",IF(INDEX(All_Hazards_and_Controls,$BW26,HF$79)=0,\"\",INDEX(All_Hazards_and_Controls,$BW26,HF$79)))","v":"MAKE BLANK"},null,null,{"$f":"IF(HI$78=\"NO\",\"MAKE BLANK\",IF(INDEX(All_Hazards_and_Controls,$BW26,HI$79)=0,\"\",INDEX(All_Hazards_and_Controls,$BW26,HI$79)))","v":"MAKE BLANK"},null,null,{"$f":"IF(HL$78=\"NO\",\"MAKE BLANK\",IF(INDEX(All_Hazards_and_Controls,$BW26,HL$79)=0,\"\",INDEX(All_Hazards_and_Controls,$BW26,HL$79)))","v":"MAKE BLANK"},null,null,{"$f":"IF(HO$78=\"NO\",\"MAKE BLANK\",IF(INDEX(All_Hazards_and_Controls,$BW26,HO$79)=0,\"\",INDEX(All_Hazards_and_Controls,$BW26,HO$79)))","v":"MAKE BLANK"},null,null,{"$f":"IF(HR$78=\"NO\",\"MAKE BLANK\",IF(INDEX(All_Hazards_and_Controls,$BW26,HR$79)=0,\"\",INDEX(All_Hazards_and_Controls,$BW26,HR$79)))","v":"MAKE BLANK"},null,null,{"$f":"IF(HU$78=\"NO\",\"MAKE BLANK\",IF(INDEX(All_Hazards_and_Controls,$BW26,HU$79)=0,\"\",INDEX(All_Hazards_and_Controls,$BW26,HU$79)))","v":"MAKE BLANK"},null,null,{"$f":"IF(HX$78=\"NO\",\"MAKE BLANK\",IF(INDEX(All_Hazards_and_Controls,$BW26,HX$79)=0,\"\",INDEX(All_Hazards_and_Controls,$BW26,HX$79)))","v":"MAKE BLANK"},null,null,{"$f":"IF(IA$78=\"NO\",\"MAKE BLANK\",IF(INDEX(All_Hazards_and_Controls,$BW26,IA$79)=0,\"\",INDEX(All_Hazards_and_Controls,$BW26,IA$79)))","v":"MAKE BLANK"},null,null,{"$f":"IF(ID$78=\"NO\",\"MAKE BLANK\",IF(INDEX(All_Hazards_and_Controls,$BW26,ID$79)=0,\"\",INDEX(All_Hazards_and_Controls,$BW26,ID$79)))","v":"MAKE BLANK"},null,null,{"$f":"IF(IG$78=\"NO\",\"MAKE BLANK\",IF(INDEX(All_Hazards_and_Controls,$BW26,IG$79)=0,\"\",INDEX(All_Hazards_and_Controls,$BW26,IG$79)))","v":"MAKE BLANK"},null,null,{"$f":"IF(IJ$78=\"NO\",\"MAKE BLANK\",IF(INDEX(All_Hazards_and_Controls,$BW26,IJ$79)=0,\"\",INDEX(All_Hazards_and_Controls,$BW26,IJ$79)))","v":"MAKE BLANK"},null,null,{"$f":"IF(IM$78=\"NO\",\"MAKE BLANK\",IF(INDEX(All_Hazards_and_Controls,$BW26,IM$79)=0,\"\",INDEX(All_Hazards_and_Controls,$BW26,IM$79)))","v":"MAKE BLANK"},null,null,{"$f":"IF(IP$78=\"NO\",\"MAKE BLANK\",IF(INDEX(All_Hazards_and_Controls,$BW26,IP$79)=0,\"\",INDEX(All_Hazards_and_Controls,$BW26,IP$79)))","v":"MAKE BLANK"},null,null,{"$f":"IF(IS$78=\"NO\",\"MAKE BLANK\",IF(INDEX(All_Hazards_and_Controls,$BW26,IS$79)=0,\"\",INDEX(All_Hazards_and_Controls,$BW26,IS$79)))","v":"MAKE BLANK"},null,null,{"$f":"IF(IV$78=\"NO\",\"MAKE BLANK\",IF(INDEX(All_Hazards_and_Controls,$BW26,IV$79)=0,\"\",INDEX(All_Hazards_and_Controls,$BW26,IV$79)))","v":"MAKE BLANK"},null,null,{"$f":"IF(IY$78=\"NO\",\"MAKE BLANK\",IF(INDEX(All_Hazards_and_Controls,$BW26,IY$79)=0,\"\",INDEX(All_Hazards_and_Controls,$BW26,IY$79)))","v":"MAKE BLANK"},null,null,{"$f":"IF(JB$78=\"NO\",\"MAKE BLANK\",IF(INDEX(All_Hazards_and_Controls,$BW26,JB$79)=0,\"\",INDEX(All_Hazards_and_Controls,$BW26,JB$79)))","v":"MAKE BLANK"},null,null,{"$f":"IF(JE$78=\"NO\",\"MAKE BLANK\",IF(INDEX(All_Hazards_and_Controls,$BW26,JE$79)=0,\"\",INDEX(All_Hazards_and_Controls,$BW26,JE$79)))","v":"MAKE BLANK"},null,null,{"$f":"IF(JH$78=\"NO\",\"MAKE BLANK\",IF(INDEX(All_Hazards_and_Controls,$BW26,JH$79)=0,\"\",INDEX(All_Hazards_and_Controls,$BW26,JH$79)))","v":"MAKE BLANK"},null,null,{"$f":"IF(JK$78=\"NO\",\"MAKE BLANK\",IF(INDEX(All_Hazards_and_Controls,$BW26,JK$79)=0,\"\",INDEX(All_Hazards_and_Controls,$BW26,JK$79)))","v":"MAKE BLANK"},null,null,{"$f":"IF(JN$78=\"NO\",\"MAKE BLANK\",IF(INDEX(All_Hazards_and_Controls,$BW26,JN$79)=0,\"\",INDEX(All_Hazards_and_Controls,$BW26,JN$79)))","v":"MAKE BLANK"},null,null,{"$f":"IF(JQ$78=\"NO\",\"MAKE BLANK\",IF(INDEX(All_Hazards_and_Controls,$BW26,JQ$79)=0,\"\",INDEX(All_Hazards_and_Controls,$BW26,JQ$79)))","v":"MAKE BLANK"},null,null,{"$f":"IF(JT$78=\"NO\",\"MAKE BLANK\",IF(INDEX(All_Hazards_and_Controls,$BW26,JT$79)=0,\"\",INDEX(All_Hazards_and_Controls,$BW26,JT$79)))","v":"MAKE BLANK"},null,null,{"$f":"IF(JW$78=\"NO\",\"MAKE BLANK\",IF(INDEX(All_Hazards_and_Controls,$BW26,JW$79)=0,\"\",INDEX(All_Hazards_and_Controls,$BW26,JW$79)))","v":"MAKE BLANK"},null,null,{"$f":"IF(JZ$78=\"NO\",\"MAKE BLANK\",IF(INDEX(All_Hazards_and_Controls,$BW26,JZ$79)=0,\"\",INDEX(All_Hazards_and_Controls,$BW26,JZ$79)))","v":"MAKE BLANK"},null,null,{"$f":"IF(KC$78=\"NO\",\"MAKE BLANK\",IF(INDEX(All_Hazards_and_Controls,$BW26,KC$79)=0,\"\",INDEX(All_Hazards_and_Controls,$BW26,KC$79)))","v":"MAKE BLANK"},null,null,{"$f":"IF(KF$78=\"NO\",\"MAKE BLANK\",IF(INDEX(All_Hazards_and_Controls,$BW26,KF$79)=0,\"\",INDEX(All_Hazards_and_Controls,$BW26,KF$79)))","v":"MAKE BLANK"},null,null,{"$f":"IF(KI$78=\"NO\",\"MAKE BLANK\",IF(INDEX(All_Hazards_and_Controls,$BW26,KI$79)=0,\"\",INDEX(All_Hazards_and_Controls,$BW26,KI$79)))","v":"MAKE BLANK"},null,null,{"$f":"IF(KL$78=\"NO\",\"MAKE BLANK\",IF(INDEX(All_Hazards_and_Controls,$BW26,KL$79)=0,\"\",INDEX(All_Hazards_and_Controls,$BW26,KL$79)))","v":"MAKE BLANK"},null,null,{"$f":"IF(KO$78=\"NO\",\"MAKE BLANK\",IF(INDEX(All_Hazards_and_Controls,$BW26,KO$79)=0,\"\",INDEX(All_Hazards_and_Controls,$BW26,KO$79)))","v":"MAKE BLANK"},null,null,{"$f":"IF(KR$78=\"NO\",\"MAKE BLANK\",IF(INDEX(All_Hazards_and_Controls,$BW26,KR$79)=0,\"\",INDEX(All_Hazards_and_Controls,$BW26,KR$79)))","v":"MAKE BLANK"},null,null,{"$f":"IF(KU$78=\"NO\",\"MAKE BLANK\",IF(INDEX(All_Hazards_and_Controls,$BW26,KU$79)=0,\"\",INDEX(All_Hazards_and_Controls,$BW26,KU$79)))","v":"MAKE BLANK"},null,null,{"$f":"IF(KX$78=\"NO\",\"MAKE BLANK\",IF(INDEX(All_Hazards_and_Controls,$BW26,KX$79)=0,\"\",INDEX(All_Hazards_and_Controls,$BW26,KX$79)))","v":"MAKE BLANK"},null,null,{"$f":"IF(LA$78=\"NO\",\"MAKE BLANK\",IF(INDEX(All_Hazards_and_Controls,$BW26,LA$79)=0,\"\",INDEX(All_Hazards_and_Controls,$BW26,LA$79)))","v":"MAKE BLANK"},null,null,{"$f":"IF(LD$78=\"NO\",\"MAKE BLANK\",IF(INDEX(All_Hazards_and_Controls,$BW26,LD$79)=0,\"\",INDEX(All_Hazards_and_Controls,$BW26,LD$79)))","v":"MAKE BLANK"},null,null,{"$f":"IF(LG$78=\"NO\",\"MAKE BLANK\",IF(INDEX(All_Hazards_and_Controls,$BW26,LG$79)=0,\"\",INDEX(All_Hazards_and_Controls,$BW26,LG$79)))","v":"MAKE BLANK"},null,null,{"$f":"IF(LJ$78=\"NO\",\"MAKE BLANK\",IF(INDEX(All_Hazards_and_Controls,$BW26,LJ$79)=0,\"\",INDEX(All_Hazards_and_Controls,$BW26,LJ$79)))","v":"MAKE BLANK"},null,null,{"$f":"IF(LM$78=\"NO\",\"MAKE BLANK\",IF(INDEX(All_Hazards_and_Controls,$BW26,LM$79)=0,\"\",INDEX(All_Hazards_and_Controls,$BW26,LM$79)))","v":"MAKE BLANK"},null,null,{"$f":"IF(LP$78=\"NO\",\"MAKE BLANK\",IF(INDEX(All_Hazards_and_Controls,$BW26,LP$79)=0,\"\",INDEX(All_Hazards_and_Controls,$BW26,LP$79)))","v":"MAKE BLANK"},null,null,{"$f":"IF(LS$78=\"NO\",\"MAKE BLANK\",IF(INDEX(All_Hazards_and_Controls,$BW26,LS$79)=0,\"\",INDEX(All_Hazards_and_Controls,$BW26,LS$79)))","v":"MAKE BLANK"},null,null,{"$f":"IF(LV$78=\"NO\",\"MAKE BLANK\",IF(INDEX(All_Hazards_and_Controls,$BW26,LV$79)=0,\"\",INDEX(All_Hazards_and_Controls,$BW26,LV$79)))","v":"MAKE BLANK"},null,null,{"$f":"IF(LY$78=\"NO\",\"MAKE BLANK\",IF(INDEX(All_Hazards_and_Controls,$BW26,LY$79)=0,\"\",INDEX(All_Hazards_and_Controls,$BW26,LY$79)))","v":"MAKE BLANK"},null,null,{"$f":"IF(MB$78=\"NO\",\"MAKE BLANK\",IF(INDEX(All_Hazards_and_Controls,$BW26,MB$79)=0,\"\",INDEX(All_Hazards_and_Controls,$BW26,MB$79)))","v":"MAKE BLANK"},null,null,{"$f":"IF(ME$78=\"NO\",\"MAKE BLANK\",IF(INDEX(All_Hazards_and_Controls,$BW26,ME$79)=0,\"\",INDEX(All_Hazards_and_Controls,$BW26,ME$79)))","v":"MAKE BLANK"},null,null,{"$f":"IF(MH$78=\"NO\",\"MAKE BLANK\",IF(INDEX(All_Hazards_and_Controls,$BW26,MH$79)=0,\"\",INDEX(All_Hazards_and_Controls,$BW26,MH$79)))","v":"MAKE BLANK"},null,null,{"$f":"IF(MK$78=\"NO\",\"MAKE BLANK\",IF(INDEX(All_Hazards_and_Controls,$BW26,MK$79)=0,\"\",INDEX(All_Hazards_and_Controls,$BW26,MK$79)))","v":"MAKE BLANK"},null,null,{"$f":"IF(MN$78=\"NO\",\"MAKE BLANK\",IF(INDEX(All_Hazards_and_Controls,$BW26,MN$79)=0,\"\",INDEX(All_Hazards_and_Controls,$BW26,MN$79)))","v":"MAKE BLANK"},null,null,{"$f":"IF(MQ$78=\"NO\",\"MAKE BLANK\",IF(INDEX(All_Hazards_and_Controls,$BW26,MQ$79)=0,\"\",INDEX(All_Hazards_and_Controls,$BW26,MQ$79)))","v":"MAKE BLANK"},null,null,{"$f":"IF(MT$78=\"NO\",\"MAKE BLANK\",IF(INDEX(All_Hazards_and_Controls,$BW26,MT$79)=0,\"\",INDEX(All_Hazards_and_Controls,$BW26,MT$79)))","v":"MAKE BLANK"}]
[null,null,{"$f":"IF(EHS_Prof_3=0,\"\",EHS_Prof_3)","v":""},null,null,null,null,null,null,null,null,{"$f":"IF(M81=4,\"\",\"Foreman\")","v":"Foreman"},{"$f":"IF(M81=4,\"\",\"Name\")","v":"Name"},{"$f":"IF(M81=4,\"\",\"Signature\")","v":"Signature"},null,{"$f":"IF(M81=4,\"\",\"Date\")","v":"Date"},null,null,null,null,null,null,null,null,null,null,null,null,null,null,null,null,null,null,null,null,null,null,null,"Gloves - Anti-vibration ",null,null,null,"Hazardous Soil",null,null,null,null,null,"Potential & Unforeseen Upset Conditions (Spills / Leaks)",null,null,null,null,null,null,"If conditions exist beyond the printed plan which are written here, each employee involved in the job will review and sign this analysis before beginning work."]
["Foreman",null,null,null,null,null,null,null,null,null,null,{"$f":"IF(M81=4,\"TASK MUST BE RE-EVALUATED\",\"\")","v":""},{"$f":"IF(Foreman_selected=0,\"\",Foreman_selected)","v":""},null,null,null,null,null,null,null,null,null,null,null,null,null,null,null,null,null,null,null,null,null,null,null,null,null,null,"Gloves - Black knight ",null,null,null,"Scaffolds / Temporary Works",null,null,null,null,null,"Soil Erosion and Sediment Control"]
[null,null,null,null,"Specific PPE",null,null,"Tools",null,null,null,null,null,null,null,null,3,{"$f":"IF(Number_environmental_pages=0,\"MAKE BLANK\",IF(Q29>Total_plan_no_of_Envir_Aspects,\"MAKE BLANK\",VLOOKUP(Q29,'4'!$B$116:$Y$136,3,FALSE)))","v":"MAKE BLANK"},null,null,7,{"$f":"IF(Number_environmental_pages<2,\"MAKE BLANK\",IF(U29>Total_plan_no_of_Envir_Aspects,\"MAKE BLANK\",VLOOKUP(U29,'4'!$B$116:$Y$136,3,FALSE)))","v":"MAKE BLANK"},null,null,11,{"$f":"IF(Number_environmental_pages<3,\"MAKE BLANK\",IF(Y29>Total_plan_no_of_Envir_Aspects,\"MAKE BLANK\",VLOOKUP(Y29,'4'!$B$116:$Y$136,3,FALSE)))","v":"MAKE BLANK"},null,null,null,null,null,null,null,null,null,null,null,null,null,"Gloves - Cotton ",null,null,null,"Stairways / Ladders"]
["Site Specific Hazards & Controls",null,null,null,{"$f":"Links!F602","v":""},null,null,{"$f":"Links!HC219","v":""},null,null,null,"Print Crew Names                    Sign Initials & Date",null,"Print Crew Names                    Sign Initials & Date",null,null,null,{"$f":"IF(Number_environmental_pages=0,\"MAKE BLANK\",IF(Q29>Total_plan_no_of_Envir_Aspects,\"MAKE BLANK\",\"Objective\"))","v":"MAKE BLANK"},{"$f":"IF(Number_environmental_pages=0,\"MAKE BLANK\",IF(Q29>Total_plan_no_of_Envir_Aspects,\"MAKE BLANK\",VLOOKUP(Q29,'4'!$B$116:$Z$136,23,FALSE)))","v":"MAKE BLANK"},null,null,{"$f":"IF(Number_environmental_pages<2,\"MAKE BLANK\",IF(U29>Total_plan_no_of_Envir_Aspects,\"MAKE BLANK\",\"Objective\"))","v":"MAKE BLANK"},{"$f":"IF(Number_environmental_pages<2,\"MAKE BLANK\",IF(U29>Total_plan_no_of_Envir_Aspects,\"MAKE BLANK\",VLOOKUP(U29,'4'!$B$116:$Z$136,23,FALSE)))","v":"MAKE BLANK"},null,null,{"$f":"IF(Number_environmental_pages<3,\"MAKE BLANK\",IF(Y29>Total_plan_no_of_Envir_Aspects,\"MAKE BLANK\",\"Objective\"))","v":"MAKE BLANK"},{"$f":"IF(Number_environmental_pages<3,\"MAKE BLANK\",IF(Y29>Total_plan_no_of_Envir_Aspects,\"MAKE BLANK\",VLOOKUP(Y29,'4'!$B$116:$Z$136,23,FALSE)))","v":"MAKE BLANK"},null,null,null,null,null,null,null,null,null,null,null,null,"Gloves - Dielectric "]
[{"$f":"IF(B31=\"\",\"\",\"1)\")","v":"1)"},{"$f":"IF(Site_HC_1=0,\"\",Site_HC_1)","v":"Traffic and heavy equipment. Always use the cross walks and make eye contact with the operator before crossing a street or walking by equip."},null,null,null,null,null,null,null,null,null,null,null,null,null,null,null,null,null,null,null,null,null,null,null,null,null,null,null,null,null,null,null,null,null,null,null,null,null,"Gloves - Kevlar ",null,null,"Additional Controls Checklist"]
[null,null,null,null,null,null,null,null,null,null,null,null,null,null,null,null,null,null,null,null,null,null,null,null,null,null,null,null,null,null,null,null,null,null,null,null,null,null,null,"Gloves - Leather ",null,null,null,"General Safety",null,null,null,null,"Material Handling",null,null,null,null,"Electrical"]
[null,null,null,null,null,null,null,null,null,null,null,null,null,null,null,null,null,null,null,null,null,null,null,null,null,null,null,null,null,null,null,null,null,null,null,null,null,null,null,"Gloves - Nitrile ",null,null,null,"First Aid",null,null,null,null,"Proper body position",null,null,null,null,"Ground fault system"]
[null,null,null,null,null,null,null,null,null,null,null,null,null,null,null,null,null,{"$f":"IF(Number_environmental_pages=0,\"MAKE BLANK\",IF(Q29>Total_plan_no_of_Envir_Aspects,\"MAKE BLANK\",\"Target\"))","v":"MAKE BLANK"},{"$f":"IF(Number_environmental_pages=0,\"MAKE BLANK\",IF(Q29>Total_plan_no_of_Envir_Aspects,\"MAKE BLANK\",VLOOKUP(Q29,'4'!$B$116:$Z$136,24,FALSE)))","v":"MAKE BLANK"},null,null,{"$f":"IF(Number_environmental_pages<2,\"MAKE BLANK\",IF(U29>Total_plan_no_of_Envir_Aspects,\"MAKE BLANK\",\"Target\"))","v":"MAKE BLANK"},{"$f":"IF(Number_environmental_pages<2,\"MAKE BLANK\",IF(U29>Total_plan_no_of_Envir_Aspects,\"MAKE BLANK\",VLOOKUP(U29,'4'!$B$116:$Z$136,24,FALSE)))","v":"MAKE BLANK"},null,null,{"$f":"IF(Number_environmental_pages<3,\"MAKE BLANK\",IF(Y29>Total_plan_no_of_Envir_Aspects,\"MAKE BLANK\",\"Target\"))","v":"MAKE BLANK"},{"$f":"IF(Number_environmental_pages<3,\"MAKE BLANK\",IF(Y29>Total_plan_no_of_Envir_Aspects,\"MAKE BLANK\",VLOOKUP(Y29,'4'!$B$116:$Z$136,24,FALSE)))","v":"MAKE BLANK"},null,null,null,null,null,null,null,null,null,null,null,null,"Gloves - Silver shield ",null,null,null,"Evacuation",null,null,null,null,"Proper lifting methods",null,null,null,null,"Color coding"]
[{"$f":"IF(B35=\"\",\"\",\"2)\")","v":"2)"},{"$f":"IF(Site_HC_2=0,\"\",Site_HC_2)","v":"Fall Hazards- 100% tie off required whenever there is a fall hazard present. Always look at the RISK and NOT the RULE!"},null,null,null,null,null,null,null,null,null,null,null,null,null,null,null,null,null,null,null,null,null,null,null,null,null,null,"Additional Equipment",null,null,null,null,"Additional Materials",null,null,null,null,null,"Gloves - Welding",null,null,null,"HazCom",null,null,null,null,"Lifting devices needed",null,null,null,null,"Daily inspection"]
[null,null,null,null,"Emergency Action Plan",null,null,null,null,null,null,null,null,null,null,null,null,{"$f":"IF(Number_environmental_pages=0,\"MAKE BLANK\",IF(Q29>Total_plan_no_of_Envir_Aspects,\"MAKE BLANK\",\"Method to Achieve\"))","v":"MAKE BLANK"},{"$f":"IF(Number_environmental_pages=0,\"MAKE BLANK\",IF(Q29>Total_plan_no_of_Envir_Aspects,\"MAKE BLANK\",VLOOKUP(Q29,'4'!$B$116:$Z$136,25,FALSE)))","v":"MAKE BLANK"},null,null,{"$f":"IF(Number_environmental_pages<2,\"MAKE BLANK\",IF(U29>Total_plan_no_of_Envir_Aspects,\"MAKE BLANK\",\"Method to Achieve\"))","v":"MAKE BLANK"},{"$f":"IF(Number_environmental_pages<2,\"MAKE BLANK\",IF(U29>Total_plan_no_of_Envir_Aspects,\"MAKE BLANK\",VLOOKUP(U29,'4'!$B$116:$Z$136,25,FALSE)))","v":"MAKE BLANK"},null,null,{"$f":"IF(Number_environmental_pages<3,\"MAKE BLANK\",IF(Y29>Total_plan_no_of_Envir_Aspects,\"MAKE BLANK\",\"Method to Achieve\"))","v":"MAKE BLANK"},{"$f":"IF(Number_environmental_pages<3,\"MAKE BLANK\",IF(Y29>Total_plan_no_of_Envir_Aspects,\"MAKE BLANK\",VLOOKUP(Y29,'4'!$B$116:$Z$136,25,FALSE)))","v":"MAKE BLANK"},null,null,null,null,null,null,null,null,null,null,null,null,"Hearing protection",null,null,null,"Nearest safety shower/eyewash",null,null,null,null,"Adequate personnel",null,null,null,null,"Lockout / Tagout",null,null,null,null,null,null,null,null,null,null,null,null,null,null,null,null,null,"Things We Could Do Better - - Start Doing"]
[null,null,null,null,{"$f":"IF(Emergency_Action_Plan=0,\"\",Emergency_Action_Plan)","v":"For medical attention, alert supervisors\nMike Kelly 917-418-3559\nMike Ceglio 917-482-6669\nGreg Masciotti - 347-502-3070\nMuster point: Infront of the main office compound - directly across from P1. Grassy knoll.\n\nPAPD - 718-533-3911 *DO NOT CALL 911\nSWJV Emergency Hotline - 646-828-7958 \n\nCalmly make your way to the muster point location and report to your foreman. Foreman will then report to the head count adminster. The head count adminster will be incharge of ideniftying who is accounted for and who is missing."},null,null,null,null,null,null,null,null,null,null,null,null,null,null,null,null,null,null,null,null,null,null,null,null,null,null,null,null,null,null,null,null,null,null,"Kevlar sleeves",null,null,null,"Access / Egress",null,null,null,null,"Forklift",null,null,null,null,"Try start / stop switch",null,null,null,null,null,null,null,null,null,null,null,null,null,null,null,null,null,{"$f":"IF(LL_Start=0,CONCATENATE(\" \n_______________________________________________________________________________________________\n\n_______________________________________________________________________________________________\n\",\" \n_______________________________________________________________________________________________\n\n_______________________________________________________________________________________________\n\",\" \n_______________________________________________________________________________________________\n\n_______________________________________________________________________________________________\n\n\"),LL_Start)","v":" \n_______________________________________________________________________________________________\n\n_______________________________________________________________________________________________\n \n_______________________________________________________________________________________________\n\n_______________________________________________________________________________________________\n \n_______________________________________________________________________________________________\n\n_______________________________________________________________________________________________\n\n"}]
[null,null,null,null,null,null,null,null,null,null,null,null,null,null,null,null,null,null,null,null,null,null,null,null,null,null,null,null,null,null,null,null,null,null,null,null,null,null,null,"Personal flotation device",null,null,null,"Material Storage",null,null,null,null,"Cherry picker",null,null,null,null,"Disconnected (if required)"]
[{"$f":"IF(B39=\"\",\"\",\"3)\")","v":"3)"},{"$f":"IF(Site_HC_3=0,\"\",Site_HC_3)","v":"Be aware of changing access points. Discuss access/egress during daily hazard analysis."},null,null,null,null,null,null,null,null,null,null,null,null,null,null,null,null,null,null,null,null,null,null,null,null,null,null,null,null,null,null,null,null,null,null,null,null,null,"Respirator - Air line ",null,null,null,"Equip. Inspection",null,null,null,null,"Load chart ",null,null,null,null,"Properly Grounded"]
[null,null,null,null,null,null,null,"Materials",null,null,null,null,null,null,null,null,4,{"$f":"IF(Number_environmental_pages=0,\"MAKE BLANK\",IF(Q40>Total_plan_no_of_Envir_Aspects,\"MAKE BLANK\",VLOOKUP(Q40,'4'!$B$116:$Y$136,3,FALSE)))","v":"MAKE BLANK"},null,null,8,{"$f":"IF(Number_environmental_pages<2,\"MAKE BLANK\",IF(U40>Total_plan_no_of_Envir_Aspects,\"MAKE BLANK\",VLOOKUP(U40,'4'!$B$116:$Y$136,3,FALSE)))","v":"MAKE BLANK"},null,null,12,{"$f":"IF(Number_environmental_pages<3,\"MAKE BLANK\",IF(Y40>Total_plan_no_of_Envir_Aspects,\"MAKE BLANK\",VLOOKUP(Y40,'4'!$B$116:$Y$136,3,FALSE)))","v":"MAKE BLANK"},null,null,null,null,null,null,null,null,null,null,null,null,null,"Respirator - Full face ",null,null,null,"Signs / Signals / Barricades",null,null,null,null,"Position"]
[null,null,null,null,null,null,null,{"$f":"Links!HC399","v":""},null,null,null,null,null,null,null,null,null,{"$f":"IF(Number_environmental_pages=0,\"MAKE BLANK\",IF(Q40>Total_plan_no_of_Envir_Aspects,\"MAKE BLANK\",\"Objective\"))","v":"MAKE BLANK"},{"$f":"IF(Number_environmental_pages=0,\"MAKE BLANK\",IF(Q40>Total_plan_no_of_Envir_Aspects,\"MAKE BLANK\",VLOOKUP(Q40,'4'!$B$116:$Z$136,23,FALSE)))","v":"MAKE BLANK"},null,null,{"$f":"IF(Number_environmental_pages<2,\"MAKE BLANK\",IF(U40>Total_plan_no_of_Envir_Aspects,\"MAKE BLANK\",\"Objective\"))","v":"MAKE BLANK"},{"$f":"IF(Number_environmental_pages<2,\"MAKE BLANK\",IF(U40>Total_plan_no_of_Envir_Aspects,\"MAKE BLANK\",VLOOKUP(U40,'4'!$B$116:$Z$136,23,FALSE)))","v":"MAKE BLANK"},null,null,{"$f":"IF(Number_environmental_pages<3,\"MAKE BLANK\",IF(Y40>Total_plan_no_of_Envir_Aspects,\"MAKE BLANK\",\"Objective\"))","v":"MAKE BLANK"},{"$f":"IF(Number_environmental_pages<3,\"MAKE BLANK\",IF(Y40>Total_plan_no_of_Envir_Aspects,\"MAKE BLANK\",VLOOKUP(Y40,'4'!$B$116:$Z$136,23,FALSE)))","v":"MAKE BLANK"},null,null,null,null,null,null,null,null,null,null,null,null,"Respirator - Half face",null,null,null,"Weather",null,null,null,null,"Angle",null,null,null,null,"Ladders & Scaffolds"]
[null,null,null,null,null,null,null,null,null,null,null,null,null,null,null,null,null,null,null,null,null,null,null,null,null,null,null,null,null,null,null,null,null,null,null,null,null,null,null,"Self-Contained Breathing Apparatus",null,null,null,"Nearest fire extinguisher",null,null,null,null,"Crane",null,null,null,null,"Ladder tags"]
["Revision Notes",null,null,null,null,null,null,null,null,null,null,null,null,null,null,null,null,null,null,null,null,null,null,null,null,null,null,null,null,null,null,null,null,null,null,null,null,null,null,"Suit - Chemical ",null,null,null,null,null,null,null,null,"Chainfall",null,null,null,null,"Proper Footing",null,null,null,null,null,null,null,null,null,null,null,null,null,null,null,null,null,null,null,null,40,{"$f":"IF(BX$78=\"NO\",\"MAKE BLANK\",IF(INDEX(All_Hazards_and_Controls,$BW43,BX$79)=0,\"\",INDEX(All_Hazards_and_Controls,$BW43,BX$79)))","v":"MAKE BLANK"},null,null,{"$f":"IF(CA$78=\"NO\",\"MAKE BLANK\",IF(INDEX(All_Hazards_and_Controls,$BW43,CA$79)=0,\"\",INDEX(All_Hazards_and_Controls,$BW43,CA$79)))","v":"MAKE BLANK"},null,null,{"$f":"IF(CD$78=\"NO\",\"MAKE BLANK\",IF(INDEX(All_Hazards_and_Controls,$BW43,CD$79)=0,\"\",INDEX(All_Hazards_and_Controls,$BW43,CD$79)))","v":"MAKE BLANK"},null,null,{"$f":"IF(CG$78=\"NO\",\"MAKE BLANK\",IF(INDEX(All_Hazards_and_Controls,$BW43,CG$79)=0,\"\",INDEX(All_Hazards_and_Controls,$BW43,CG$79)))","v":"MAKE BLANK"},null,null,{"$f":"IF(CJ$78=\"NO\",\"MAKE BLANK\",IF(INDEX(All_Hazards_and_Controls,$BW43,CJ$79)=0,\"\",INDEX(All_Hazards_and_Controls,$BW43,CJ$79)))","v":"MAKE BLANK"},null,null,{"$f":"IF(CM$78=\"NO\",\"MAKE BLANK\",IF(INDEX(All_Hazards_and_Controls,$BW43,CM$79)=0,\"\",INDEX(All_Hazards_and_Controls,$BW43,CM$79)))","v":"MAKE BLANK"},null,null,{"$f":"IF(CP$78=\"NO\",\"MAKE BLANK\",IF(INDEX(All_Hazards_and_Controls,$BW43,CP$79)=0,\"\",INDEX(All_Hazards_and_Controls,$BW43,CP$79)))","v":"MAKE BLANK"},null,null,{"$f":"IF(CS$78=\"NO\",\"MAKE BLANK\",IF(INDEX(All_Hazards_and_Controls,$BW43,CS$79)=0,\"\",INDEX(All_Hazards_and_Controls,$BW43,CS$79)))","v":"MAKE BLANK"},null,null,{"$f":"IF(CV$78=\"NO\",\"MAKE BLANK\",IF(INDEX(All_Hazards_and_Controls,$BW43,CV$79)=0,\"\",INDEX(All_Hazards_and_Controls,$BW43,CV$79)))","v":"MAKE BLANK"},null,null,{"$f":"IF(CY$78=\"NO\",\"MAKE BLANK\",IF(INDEX(All_Hazards_and_Controls,$BW43,CY$79)=0,\"\",INDEX(All_Hazards_and_Controls,$BW43,CY$79)))","v":"MAKE BLANK"},null,null,{"$f":"IF(DB$78=\"NO\",\"MAKE BLANK\",IF(INDEX(All_Hazards_and_Controls,$BW43,DB$79)=0,\"\",INDEX(All_Hazards_and_Controls,$BW43,DB$79)))","v":"MAKE BLANK"},null,null,{"$f":"IF(DE$78=\"NO\",\"MAKE BLANK\",IF(INDEX(All_Hazards_and_Controls,$BW43,DE$79)=0,\"\",INDEX(All_Hazards_and_Controls,$BW43,DE$79)))","v":"MAKE BLANK"},null,null,{"$f":"IF(DH$78=\"NO\",\"MAKE BLANK\",IF(INDEX(All_Hazards_and_Controls,$BW43,DH$79)=0,\"\",INDEX(All_Hazards_and_Controls,$BW43,DH$79)))","v":"MAKE BLANK"},null,null,{"$f":"IF(DK$78=\"NO\",\"MAKE BLANK\",IF(INDEX(All_Hazards_and_Controls,$BW43,DK$79)=0,\"\",INDEX(All_Hazards_and_Controls,$BW43,DK$79)))","v":"MAKE BLANK"},null,null,{"$f":"IF(DN$78=\"NO\",\"MAKE BLANK\",IF(INDEX(All_Hazards_and_Controls,$BW43,DN$79)=0,\"\",INDEX(All_Hazards_and_Controls,$BW43,DN$79)))","v":"MAKE BLANK"},null,null,{"$f":"IF(DQ$78=\"NO\",\"MAKE BLANK\",IF(INDEX(All_Hazards_and_Controls,$BW43,DQ$79)=0,\"\",INDEX(All_Hazards_and_Controls,$BW43,DQ$79)))","v":"MAKE BLANK"},null,null,{"$f":"IF(DT$78=\"NO\",\"MAKE BLANK\",IF(INDEX(All_Hazards_and_Controls,$BW43,DT$79)=0,\"\",INDEX(All_Hazards_and_Controls,$BW43,DT$79)))","v":"MAKE BLANK"},null,null,{"$f":"IF(DW$78=\"NO\",\"MAKE BLANK\",IF(INDEX(All_Hazards_and_Controls,$BW43,DW$79)=0,\"\",INDEX(All_Hazards_and_Controls,$BW43,DW$79)))","v":"MAKE BLANK"},null,null,{"$f":"IF(DZ$78=\"NO\",\"MAKE BLANK\",IF(INDEX(All_Hazards_and_Controls,$BW43,DZ$79)=0,\"\",INDEX(All_Hazards_and_Controls,$BW43,DZ$79)))","v":"MAKE BLANK"},null,null,{"$f":"IF(EC$78=\"NO\",\"MAKE BLANK\",IF(INDEX(All_Hazards_and_Controls,$BW43,EC$79)=0,\"\",INDEX(All_Hazards_and_Controls,$BW43,EC$79)))","v":"MAKE BLANK"},null,null,{"$f":"IF(EF$78=\"NO\",\"MAKE BLANK\",IF(INDEX(All_Hazards_and_Controls,$BW43,EF$79)=0,\"\",INDEX(All_Hazards_and_Controls,$BW43,EF$79)))","v":"MAKE BLANK"},null,null,{"$f":"IF(EI$78=\"NO\",\"MAKE BLANK\",IF(INDEX(All_Hazards_and_Controls,$BW43,EI$79)=0,\"\",INDEX(All_Hazards_and_Controls,$BW43,EI$79)))","v":"MAKE BLANK"},null,null,{"$f":"IF(EL$78=\"NO\",\"MAKE BLANK\",IF(INDEX(All_Hazards_and_Controls,$BW43,EL$79)=0,\"\",INDEX(All_Hazards_and_Controls,$BW43,EL$79)))","v":"MAKE BLANK"},null,null,{"$f":"IF(EO$78=\"NO\",\"MAKE BLANK\",IF(INDEX(All_Hazards_and_Controls,$BW43,EO$79)=0,\"\",INDEX(All_Hazards_and_Controls,$BW43,EO$79)))","v":"MAKE BLANK"},null,null,{"$f":"IF(ER$78=\"NO\",\"MAKE BLANK\",IF(INDEX(All_Hazards_and_Controls,$BW43,ER$79)=0,\"\",INDEX(All_Hazards_and_Controls,$BW43,ER$79)))","v":"MAKE BLANK"},null,null,{"$f":"IF(EU$78=\"NO\",\"MAKE BLANK\",IF(INDEX(All_Hazards_and_Controls,$BW43,EU$79)=0,\"\",INDEX(All_Hazards_and_Controls,$BW43,EU$79)))","v":"MAKE BLANK"},null,null,{"$f":"IF(EX$78=\"NO\",\"MAKE BLANK\",IF(INDEX(All_Hazards_and_Controls,$BW43,EX$79)=0,\"\",INDEX(All_Hazards_and_Controls,$BW43,EX$79)))","v":"MAKE BLANK"},null,null,{"$f":"IF(FA$78=\"NO\",\"MAKE BLANK\",IF(INDEX(All_Hazards_and_Controls,$BW43,FA$79)=0,\"\",INDEX(All_Hazards_and_Controls,$BW43,FA$79)))","v":"MAKE BLANK"},null,null,{"$f":"IF(FD$78=\"NO\",\"MAKE BLANK\",IF(INDEX(All_Hazards_and_Controls,$BW43,FD$79)=0,\"\",INDEX(All_Hazards_and_Controls,$BW43,FD$79)))","v":"MAKE BLANK"},null,null,{"$f":"IF(FG$78=\"NO\",\"MAKE BLANK\",IF(INDEX(All_Hazards_and_Controls,$BW43,FG$79)=0,\"\",INDEX(All_Hazards_and_Controls,$BW43,FG$79)))","v":"MAKE BLANK"},null,null,{"$f":"IF(FJ$78=\"NO\",\"MAKE BLANK\",IF(INDEX(All_Hazards_and_Controls,$BW43,FJ$79)=0,\"\",INDEX(All_Hazards_and_Controls,$BW43,FJ$79)))","v":"MAKE BLANK"},null,null,{"$f":"IF(FM$78=\"NO\",\"MAKE BLANK\",IF(INDEX(All_Hazards_and_Controls,$BW43,FM$79)=0,\"\",INDEX(All_Hazards_and_Controls,$BW43,FM$79)))","v":"MAKE BLANK"},null,null,{"$f":"IF(FP$78=\"NO\",\"MAKE BLANK\",IF(INDEX(All_Hazards_and_Controls,$BW43,FP$79)=0,\"\",INDEX(All_Hazards_and_Controls,$BW43,FP$79)))","v":"MAKE BLANK"},null,null,{"$f":"IF(FS$78=\"NO\",\"MAKE BLANK\",IF(INDEX(All_Hazards_and_Controls,$BW43,FS$79)=0,\"\",INDEX(All_Hazards_and_Controls,$BW43,FS$79)))","v":"MAKE BLANK"},null,null,{"$f":"IF(FV$78=\"NO\",\"MAKE BLANK\",IF(INDEX(All_Hazards_and_Controls,$BW43,FV$79)=0,\"\",INDEX(All_Hazards_and_Controls,$BW43,FV$79)))","v":"MAKE BLANK"},null,null,{"$f":"IF(FY$78=\"NO\",\"MAKE BLANK\",IF(INDEX(All_Hazards_and_Controls,$BW43,FY$79)=0,\"\",INDEX(All_Hazards_and_Controls,$BW43,FY$79)))","v":"MAKE BLANK"},null,null,{"$f":"IF(GB$78=\"NO\",\"MAKE BLANK\",IF(INDEX(All_Hazards_and_Controls,$BW43,GB$79)=0,\"\",INDEX(All_Hazards_and_Controls,$BW43,GB$79)))","v":"MAKE BLANK"},null,null,{"$f":"IF(GE$78=\"NO\",\"MAKE BLANK\",IF(INDEX(All_Hazards_and_Controls,$BW43,GE$79)=0,\"\",INDEX(All_Hazards_and_Controls,$BW43,GE$79)))","v":"MAKE BLANK"},null,null,{"$f":"IF(GH$78=\"NO\",\"MAKE BLANK\",IF(INDEX(All_Hazards_and_Controls,$BW43,GH$79)=0,\"\",INDEX(All_Hazards_and_Controls,$BW43,GH$79)))","v":"MAKE BLANK"},null,null,{"$f":"IF(GK$78=\"NO\",\"MAKE BLANK\",IF(INDEX(All_Hazards_and_Controls,$BW43,GK$79)=0,\"\",INDEX(All_Hazards_and_Controls,$BW43,GK$79)))","v":"MAKE BLANK"},null,null,{"$f":"IF(GN$78=\"NO\",\"MAKE BLANK\",IF(INDEX(All_Hazards_and_Controls,$BW43,GN$79)=0,\"\",INDEX(All_Hazards_and_Controls,$BW43,GN$79)))","v":"MAKE BLANK"},null,null,{"$f":"IF(GQ$78=\"NO\",\"MAKE BLANK\",IF(INDEX(All_Hazards_and_Controls,$BW43,GQ$79)=0,\"\",INDEX(All_Hazards_and_Controls,$BW43,GQ$79)))","v":"MAKE BLANK"},null,null,{"$f":"IF(GT$78=\"NO\",\"MAKE BLANK\",IF(INDEX(All_Hazards_and_Controls,$BW43,GT$79)=0,\"\",INDEX(All_Hazards_and_Controls,$BW43,GT$79)))","v":"MAKE BLANK"},null,null,{"$f":"IF(GW$78=\"NO\",\"MAKE BLANK\",IF(INDEX(All_Hazards_and_Controls,$BW43,GW$79)=0,\"\",INDEX(All_Hazards_and_Controls,$BW43,GW$79)))","v":"MAKE BLANK"},null,null,{"$f":"IF(GZ$78=\"NO\",\"MAKE BLANK\",IF(INDEX(All_Hazards_and_Controls,$BW43,GZ$79)=0,\"\",INDEX(All_Hazards_and_Controls,$BW43,GZ$79)))","v":"MAKE BLANK"},null,null,{"$f":"IF(HC$78=\"NO\",\"MAKE BLANK\",IF(INDEX(All_Hazards_and_Controls,$BW43,HC$79)=0,\"\",INDEX(All_Hazards_and_Controls,$BW43,HC$79)))","v":"MAKE BLANK"},null,null,{"$f":"IF(HF$78=\"NO\",\"MAKE BLANK\",IF(INDEX(All_Hazards_and_Controls,$BW43,HF$79)=0,\"\",INDEX(All_Hazards_and_Controls,$BW43,HF$79)))","v":"MAKE BLANK"},null,null,{"$f":"IF(HI$78=\"NO\",\"MAKE BLANK\",IF(INDEX(All_Hazards_and_Controls,$BW43,HI$79)=0,\"\",INDEX(All_Hazards_and_Controls,$BW43,HI$79)))","v":"MAKE BLANK"},null,null,{"$f":"IF(HL$78=\"NO\",\"MAKE BLANK\",IF(INDEX(All_Hazards_and_Controls,$BW43,HL$79)=0,\"\",INDEX(All_Hazards_and_Controls,$BW43,HL$79)))","v":"MAKE BLANK"},null,null,{"$f":"IF(HO$78=\"NO\",\"MAKE BLANK\",IF(INDEX(All_Hazards_and_Controls,$BW43,HO$79)=0,\"\",INDEX(All_Hazards_and_Controls,$BW43,HO$79)))","v":"MAKE BLANK"},null,null,{"$f":"IF(HR$78=\"NO\",\"MAKE BLANK\",IF(INDEX(All_Hazards_and_Controls,$BW43,HR$79)=0,\"\",INDEX(All_Hazards_and_Controls,$BW43,HR$79)))","v":"MAKE BLANK"},null,null,{"$f":"IF(HU$78=\"NO\",\"MAKE BLANK\",IF(INDEX(All_Hazards_and_Controls,$BW43,HU$79)=0,\"\",INDEX(All_Hazards_and_Controls,$BW43,HU$79)))","v":"MAKE BLANK"},null,null,{"$f":"IF(HX$78=\"NO\",\"MAKE BLANK\",IF(INDEX(All_Hazards_and_Controls,$BW43,HX$79)=0,\"\",INDEX(All_Hazards_and_Controls,$BW43,HX$79)))","v":"MAKE BLANK"},null,null,{"$f":"IF(IA$78=\"NO\",\"MAKE BLANK\",IF(INDEX(All_Hazards_and_Controls,$BW43,IA$79)=0,\"\",INDEX(All_Hazards_and_Controls,$BW43,IA$79)))","v":"MAKE BLANK"},null,null,{"$f":"IF(ID$78=\"NO\",\"MAKE BLANK\",IF(INDEX(All_Hazards_and_Controls,$BW43,ID$79)=0,\"\",INDEX(All_Hazards_and_Controls,$BW43,ID$79)))","v":"MAKE BLANK"},null,null,{"$f":"IF(IG$78=\"NO\",\"MAKE BLANK\",IF(INDEX(All_Hazards_and_Controls,$BW43,IG$79)=0,\"\",INDEX(All_Hazards_and_Controls,$BW43,IG$79)))","v":"MAKE BLANK"},null,null,{"$f":"IF(IJ$78=\"NO\",\"MAKE BLANK\",IF(INDEX(All_Hazards_and_Controls,$BW43,IJ$79)=0,\"\",INDEX(All_Hazards_and_Controls,$BW43,IJ$79)))","v":"MAKE BLANK"},null,null,{"$f":"IF(IM$78=\"NO\",\"MAKE BLANK\",IF(INDEX(All_Hazards_and_Controls,$BW43,IM$79)=0,\"\",INDEX(All_Hazards_and_Controls,$BW43,IM$79)))","v":"MAKE BLANK"},null,null,{"$f":"IF(IP$78=\"NO\",\"MAKE BLANK\",IF(INDEX(All_Hazards_and_Controls,$BW43,IP$79)=0,\"\",INDEX(All_Hazards_and_Controls,$BW43,IP$79)))","v":"MAKE BLANK"},null,null,{"$f":"IF(IS$78=\"NO\",\"MAKE BLANK\",IF(INDEX(All_Hazards_and_Controls,$BW43,IS$79)=0,\"\",INDEX(All_Hazards_and_Controls,$BW43,IS$79)))","v":"MAKE BLANK"},null,null,{"$f":"IF(IV$78=\"NO\",\"MAKE BLANK\",IF(INDEX(All_Hazards_and_Controls,$BW43,IV$79)=0,\"\",INDEX(All_Hazards_and_Controls,$BW43,IV$79)))","v":"MAKE BLANK"},null,null,{"$f":"IF(IY$78=\"NO\",\"MAKE BLANK\",IF(INDEX(All_Hazards_and_Controls,$BW43,IY$79)=0,\"\",INDEX(All_Hazards_and_Controls,$BW43,IY$79)))","v":"MAKE BLANK"},null,null,{"$f":"IF(JB$78=\"NO\",\"MAKE BLANK\",IF(INDEX(All_Hazards_and_Controls,$BW43,JB$79)=0,\"\",INDEX(All_Hazards_and_Controls,$BW43,JB$79)))","v":"MAKE BLANK"},null,null,{"$f":"IF(JE$78=\"NO\",\"MAKE BLANK\",IF(INDEX(All_Hazards_and_Controls,$BW43,JE$79)=0,\"\",INDEX(All_Hazards_and_Controls,$BW43,JE$79)))","v":"MAKE BLANK"},null,null,{"$f":"IF(JH$78=\"NO\",\"MAKE BLANK\",IF(INDEX(All_Hazards_and_Controls,$BW43,JH$79)=0,\"\",INDEX(All_Hazards_and_Controls,$BW43,JH$79)))","v":"MAKE BLANK"},null,null,{"$f":"IF(JK$78=\"NO\",\"MAKE BLANK\",IF(INDEX(All_Hazards_and_Controls,$BW43,JK$79)=0,\"\",INDEX(All_Hazards_and_Controls,$BW43,JK$79)))","v":"MAKE BLANK"},null,null,{"$f":"IF(JN$78=\"NO\",\"MAKE BLANK\",IF(INDEX(All_Hazards_and_Controls,$BW43,JN$79)=0,\"\",INDEX(All_Hazards_and_Controls,$BW43,JN$79)))","v":"MAKE BLANK"},null,null,{"$f":"IF(JQ$78=\"NO\",\"MAKE BLANK\",IF(INDEX(All_Hazards_and_Controls,$BW43,JQ$79)=0,\"\",INDEX(All_Hazards_and_Controls,$BW43,JQ$79)))","v":"MAKE BLANK"},null,null,{"$f":"IF(JT$78=\"NO\",\"MAKE BLANK\",IF(INDEX(All_Hazards_and_Controls,$BW43,JT$79)=0,\"\",INDEX(All_Hazards_and_Controls,$BW43,JT$79)))","v":"MAKE BLANK"},null,null,{"$f":"IF(JW$78=\"NO\",\"MAKE BLANK\",IF(INDEX(All_Hazards_and_Controls,$BW43,JW$79)=0,\"\",INDEX(All_Hazards_and_Controls,$BW43,JW$79)))","v":"MAKE BLANK"},null,null,{"$f":"IF(JZ$78=\"NO\",\"MAKE BLANK\",IF(INDEX(All_Hazards_and_Controls,$BW43,JZ$79)=0,\"\",INDEX(All_Hazards_and_Controls,$BW43,JZ$79)))","v":"MAKE BLANK"},null,null,{"$f":"IF(KC$78=\"NO\",\"MAKE BLANK\",IF(INDEX(All_Hazards_and_Controls,$BW43,KC$79)=0,\"\",INDEX(All_Hazards_and_Controls,$BW43,KC$79)))","v":"MAKE BLANK"},null,null,{"$f":"IF(KF$78=\"NO\",\"MAKE BLANK\",IF(INDEX(All_Hazards_and_Controls,$BW43,KF$79)=0,\"\",INDEX(All_Hazards_and_Controls,$BW43,KF$79)))","v":"MAKE BLANK"},null,null,{"$f":"IF(KI$78=\"NO\",\"MAKE BLANK\",IF(INDEX(All_Hazards_and_Controls,$BW43,KI$79)=0,\"\",INDEX(All_Hazards_and_Controls,$BW43,KI$79)))","v":"MAKE BLANK"},null,null,{"$f":"IF(KL$78=\"NO\",\"MAKE BLANK\",IF(INDEX(All_Hazards_and_Controls,$BW43,KL$79)=0,\"\",INDEX(All_Hazards_and_Controls,$BW43,KL$79)))","v":"MAKE BLANK"},null,null,{"$f":"IF(KO$78=\"NO\",\"MAKE BLANK\",IF(INDEX(All_Hazards_and_Controls,$BW43,KO$79)=0,\"\",INDEX(All_Hazards_and_Controls,$BW43,KO$79)))","v":"MAKE BLANK"},null,null,{"$f":"IF(KR$78=\"NO\",\"MAKE BLANK\",IF(INDEX(All_Hazards_and_Controls,$BW43,KR$79)=0,\"\",INDEX(All_Hazards_and_Controls,$BW43,KR$79)))","v":"MAKE BLANK"},null,null,{"$f":"IF(KU$78=\"NO\",\"MAKE BLANK\",IF(INDEX(All_Hazards_and_Controls,$BW43,KU$79)=0,\"\",INDEX(All_Hazards_and_Controls,$BW43,KU$79)))","v":"MAKE BLANK"},null,null,{"$f":"IF(KX$78=\"NO\",\"MAKE BLANK\",IF(INDEX(All_Hazards_and_Controls,$BW43,KX$79)=0,\"\",INDEX(All_Hazards_and_Controls,$BW43,KX$79)))","v":"MAKE BLANK"},null,null,{"$f":"IF(LA$78=\"NO\",\"MAKE BLANK\",IF(INDEX(All_Hazards_and_Controls,$BW43,LA$79)=0,\"\",INDEX(All_Hazards_and_Controls,$BW43,LA$79)))","v":"MAKE BLANK"},null,null,{"$f":"IF(LD$78=\"NO\",\"MAKE BLANK\",IF(INDEX(All_Hazards_and_Controls,$BW43,LD$79)=0,\"\",INDEX(All_Hazards_and_Controls,$BW43,LD$79)))","v":"MAKE BLANK"},null,null,{"$f":"IF(LG$78=\"NO\",\"MAKE BLANK\",IF(INDEX(All_Hazards_and_Controls,$BW43,LG$79)=0,\"\",INDEX(All_Hazards_and_Controls,$BW43,LG$79)))","v":"MAKE BLANK"},null,null,{"$f":"IF(LJ$78=\"NO\",\"MAKE BLANK\",IF(INDEX(All_Hazards_and_Controls,$BW43,LJ$79)=0,\"\",INDEX(All_Hazards_and_Controls,$BW43,LJ$79)))","v":"MAKE BLANK"},null,null,{"$f":"IF(LM$78=\"NO\",\"MAKE BLANK\",IF(INDEX(All_Hazards_and_Controls,$BW43,LM$79)=0,\"\",INDEX(All_Hazards_and_Controls,$BW43,LM$79)))","v":"MAKE BLANK"},null,null,{"$f":"IF(LP$78=\"NO\",\"MAKE BLANK\",IF(INDEX(All_Hazards_and_Controls,$BW43,LP$79)=0,\"\",INDEX(All_Hazards_and_Controls,$BW43,LP$79)))","v":"MAKE BLANK"},null,null,{"$f":"IF(LS$78=\"NO\",\"MAKE BLANK\",IF(INDEX(All_Hazards_and_Controls,$BW43,LS$79)=0,\"\",INDEX(All_Hazards_and_Controls,$BW43,LS$79)))","v":"MAKE BLANK"},null,null,{"$f":"IF(LV$78=\"NO\",\"MAKE BLANK\",IF(INDEX(All_Hazards_and_Controls,$BW43,LV$79)=0,\"\",INDEX(All_Hazards_and_Controls,$BW43,LV$79)))","v":"MAKE BLANK"},null,null,{"$f":"IF(LY$78=\"NO\",\"MAKE BLANK\",IF(INDEX(All_Hazards_and_Controls,$BW43,LY$79)=0,\"\",INDEX(All_Hazards_and_Controls,$BW43,LY$79)))","v":"MAKE BLANK"},null,null,{"$f":"IF(MB$78=\"NO\",\"MAKE BLANK\",IF(INDEX(All_Hazards_and_Controls,$BW43,MB$79)=0,\"\",INDEX(All_Hazards_and_Controls,$BW43,MB$79)))","v":"MAKE BLANK"},null,null,{"$f":"IF(ME$78=\"NO\",\"MAKE BLANK\",IF(INDEX(All_Hazards_and_Controls,$BW43,ME$79)=0,\"\",INDEX(All_Hazards_and_Controls,$BW43,ME$79)))","v":"MAKE BLANK"},null,null,{"$f":"IF(MH$78=\"NO\",\"MAKE BLANK\",IF(INDEX(All_Hazards_and_Controls,$BW43,MH$79)=0,\"\",INDEX(All_Hazards_and_Controls,$BW43,MH$79)))","v":"MAKE BLANK"},null,null,{"$f":"IF(MK$78=\"NO\",\"MAKE BLANK\",IF(INDEX(All_Hazards_and_Controls,$BW43,MK$79)=0,\"\",INDEX(All_Hazards_and_Controls,$BW43,MK$79)))","v":"MAKE BLANK"},null,null,{"$f":"IF(MN$78=\"NO\",\"MAKE BLANK\",IF(INDEX(All_Hazards_and_Controls,$BW43,MN$79)=0,\"\",INDEX(All_Hazards_and_Controls,$BW43,MN$79)))","v":"MAKE BLANK"},null,null,{"$f":"IF(MQ$78=\"NO\",\"MAKE BLANK\",IF(INDEX(All_Hazards_and_Controls,$BW43,MQ$79)=0,\"\",INDEX(All_Hazards_and_Controls,$BW43,MQ$79)))","v":"MAKE BLANK"},null,null,{"$f":"IF(MT$78=\"NO\",\"MAKE BLANK\",IF(INDEX(All_Hazards_and_Controls,$BW43,MT$79)=0,\"\",INDEX(All_Hazards_and_Controls,$BW43,MT$79)))","v":"MAKE BLANK"}]
[{"$f":"IF(Revision_Notes=0,\"\",Revision_Notes)","v":""},null,null,null,null,null,null,null,null,null,null,null,null,null,null,null,null,null,null,null,null,null,null,null,null,null,null,null,null,null,null,null,null,null,null,null,null,null,null,"Suit - Molten ",null,null,null,"Fire Protection",null,null,null,null,"Proper rigging",null,null,null,null,"Tie off rope"]
[null,null,null,null,null,null,null,null,null,null,null,null,null,null,null,null,null,{"$f":"IF(Number_environmental_pages=0,\"MAKE BLANK\",IF(Q40>Total_plan_no_of_Envir_Aspects,\"MAKE BLANK\",\"Target\"))","v":"MAKE BLANK"},{"$f":"IF(Number_environmental_pages=0,\"MAKE BLANK\",IF(Q40>Total_plan_no_of_Envir_Aspects,\"MAKE BLANK\",VLOOKUP(Q40,'4'!$B$116:$Z$136,24,FALSE)))","v":"MAKE BLANK"},null,null,{"$f":"IF(Number_environmental_pages<2,\"MAKE BLANK\",IF(U40>Total_plan_no_of_Envir_Aspects,\"MAKE BLANK\",\"Target\"))","v":"MAKE BLANK"},{"$f":"IF(Number_environmental_pages<2,\"MAKE BLANK\",IF(U40>Total_plan_no_of_Envir_Aspects,\"MAKE BLANK\",VLOOKUP(U40,'4'!$B$116:$Z$136,24,FALSE)))","v":"MAKE BLANK"},null,null,{"$f":"IF(Number_environmental_pages<3,\"MAKE BLANK\",IF(Y40>Total_plan_no_of_Envir_Aspects,\"MAKE BLANK\",\"Target\"))","v":"MAKE BLANK"},{"$f":"IF(Number_environmental_pages<3,\"MAKE BLANK\",IF(Y40>Total_plan_no_of_Envir_Aspects,\"MAKE BLANK\",VLOOKUP(Y40,'4'!$B$116:$Z$136,24,FALSE)))","v":"MAKE BLANK"},null,null,null,null,null,null,null,null,null,null,null,null,"Suit - Tyvek coveralls",null,null,null,"Combustible material removed",null,null,null,null,"Condition of equipment",null,null,null,null,"Hoist rope",null,null,null,null,null,null,null,null,null,null,null,null,null,null,null,null,null,null,null,null,null,{"$f":"IF(BX78=\"YES\",\"PPE\",\"MAKE BLANK\")","v":"MAKE BLANK"},null,null,{"$f":"IF(CA78=\"YES\",\"PPE\",\"MAKE BLANK\")","v":"MAKE BLANK"},null,null,{"$f":"IF(CD78=\"YES\",\"PPE\",\"MAKE BLANK\")","v":"MAKE BLANK"},null,null,{"$f":"IF(CG78=\"YES\",\"PPE\",\"MAKE BLANK\")","v":"MAKE BLANK"},null,null,{"$f":"IF(CJ78=\"YES\",\"PPE\",\"MAKE BLANK\")","v":"MAKE BLANK"},null,null,{"$f":"IF(CM78=\"YES\",\"PPE\",\"MAKE BLANK\")","v":"MAKE BLANK"},null,null,{"$f":"IF(CP78=\"YES\",\"PPE\",\"MAKE BLANK\")","v":"MAKE BLANK"},null,null,{"$f":"IF(CS78=\"YES\",\"PPE\",\"MAKE BLANK\")","v":"MAKE BLANK"},null,null,{"$f":"IF(CV78=\"YES\",\"PPE\",\"MAKE BLANK\")","v":"MAKE BLANK"},null,null,{"$f":"IF(CY78=\"YES\",\"PPE\",\"MAKE BLANK\")","v":"MAKE BLANK"},null,null,{"$f":"IF(DB78=\"YES\",\"PPE\",\"MAKE BLANK\")","v":"MAKE BLANK"},null,null,{"$f":"IF(DE78=\"YES\",\"PPE\",\"MAKE BLANK\")","v":"MAKE BLANK"},null,null,{"$f":"IF(DH78=\"YES\",\"PPE\",\"MAKE BLANK\")","v":"MAKE BLANK"},null,null,{"$f":"IF(DK78=\"YES\",\"PPE\",\"MAKE BLANK\")","v":"MAKE BLANK"},null,null,{"$f":"IF(DN78=\"YES\",\"PPE\",\"MAKE BLANK\")","v":"MAKE BLANK"},null,null,{"$f":"IF(DQ78=\"YES\",\"PPE\",\"MAKE BLANK\")","v":"MAKE BLANK"},null,null,{"$f":"IF(DT78=\"YES\",\"PPE\",\"MAKE BLANK\")","v":"MAKE BLANK"},null,null,{"$f":"IF(DW78=\"YES\",\"PPE\",\"MAKE BLANK\")","v":"MAKE BLANK"},null,null,{"$f":"IF(DZ78=\"YES\",\"PPE\",\"MAKE BLANK\")","v":"MAKE BLANK"},null,null,{"$f":"IF(EC78=\"YES\",\"PPE\",\"MAKE BLANK\")","v":"MAKE BLANK"},null,null,{"$f":"IF(EF78=\"YES\",\"PPE\",\"MAKE BLANK\")","v":"MAKE BLANK"},null,null,{"$f":"IF(EI78=\"YES\",\"PPE\",\"MAKE BLANK\")","v":"MAKE BLANK"},null,null,{"$f":"IF(EL78=\"YES\",\"PPE\",\"MAKE BLANK\")","v":"MAKE BLANK"},null,null,{"$f":"IF(EO78=\"YES\",\"PPE\",\"MAKE BLANK\")","v":"MAKE BLANK"},null,null,{"$f":"IF(ER78=\"YES\",\"PPE\",\"MAKE BLANK\")","v":"MAKE BLANK"},null,null,{"$f":"IF(EU78=\"YES\",\"PPE\",\"MAKE BLANK\")","v":"MAKE BLANK"},null,null,{"$f":"IF(EX78=\"YES\",\"PPE\",\"MAKE BLANK\")","v":"MAKE BLANK"},null,null,{"$f":"IF(FA78=\"YES\",\"PPE\",\"MAKE BLANK\")","v":"MAKE BLANK"},null,null,{"$f":"IF(FD78=\"YES\",\"PPE\",\"MAKE BLANK\")","v":"MAKE BLANK"},null,null,{"$f":"IF(FG78=\"YES\",\"PPE\",\"MAKE BLANK\")","v":"MAKE BLANK"},null,null,{"$f":"IF(FJ78=\"YES\",\"PPE\",\"MAKE BLANK\")","v":"MAKE BLANK"},null,null,{"$f":"IF(FM78=\"YES\",\"PPE\",\"MAKE BLANK\")","v":"MAKE BLANK"},null,null,{"$f":"IF(FP78=\"YES\",\"PPE\",\"MAKE BLANK\")","v":"MAKE BLANK"},null,null,{"$f":"IF(FS78=\"YES\",\"PPE\",\"MAKE BLANK\")","v":"MAKE BLANK"},null,null,{"$f":"IF(FV78=\"YES\",\"PPE\",\"MAKE BLANK\")","v":"MAKE BLANK"},null,null,{"$f":"IF(FY78=\"YES\",\"PPE\",\"MAKE BLANK\")","v":"MAKE BLANK"},null,null,{"$f":"IF(GB78=\"YES\",\"PPE\",\"MAKE BLANK\")","v":"MAKE BLANK"},null,null,{"$f":"IF(GE78=\"YES\",\"PPE\",\"MAKE BLANK\")","v":"MAKE BLANK"},null,null,{"$f":"IF(GH78=\"YES\",\"PPE\",\"MAKE BLANK\")","v":"MAKE BLANK"},null,null,{"$f":"IF(GK78=\"YES\",\"PPE\",\"MAKE BLANK\")","v":"MAKE BLANK"},null,null,{"$f":"IF(GN78=\"YES\",\"PPE\",\"MAKE BLANK\")","v":"MAKE BLANK"},null,null,{"$f":"IF(GQ78=\"YES\",\"PPE\",\"MAKE BLANK\")","v":"MAKE BLANK"},null,null,{"$f":"IF(GT78=\"YES\",\"PPE\",\"MAKE BLANK\")","v":"MAKE BLANK"},null,null,{"$f":"IF(GW78=\"YES\",\"PPE\",\"MAKE BLANK\")","v":"MAKE BLANK"},null,null,{"$f":"IF(GZ78=\"YES\",\"PPE\",\"MAKE BLANK\")","v":"MAKE BLANK"},null,null,{"$f":"IF(HC78=\"YES\",\"PPE\",\"MAKE BLANK\")","v":"MAKE BLANK"},null,null,{"$f":"IF(HF78=\"YES\",\"PPE\",\"MAKE BLANK\")","v":"MAKE BLANK"},null,null,{"$f":"IF(HI78=\"YES\",\"PPE\",\"MAKE BLANK\")","v":"MAKE BLANK"},null,null,{"$f":"IF(HL78=\"YES\",\"PPE\",\"MAKE BLANK\")","v":"MAKE BLANK"},null,null,{"$f":"IF(HO78=\"YES\",\"PPE\",\"MAKE BLANK\")","v":"MAKE BLANK"},null,null,{"$f":"IF(HR78=\"YES\",\"PPE\",\"MAKE BLANK\")","v":"MAKE BLANK"},null,null,{"$f":"IF(HU78=\"YES\",\"PPE\",\"MAKE BLANK\")","v":"MAKE BLANK"},null,null,{"$f":"IF(HX78=\"YES\",\"PPE\",\"MAKE BLANK\")","v":"MAKE BLANK"},null,null,{"$f":"IF(IA78=\"YES\",\"PPE\",\"MAKE BLANK\")","v":"MAKE BLANK"},null,null,{"$f":"IF(ID78=\"YES\",\"PPE\",\"MAKE BLANK\")","v":"MAKE BLANK"},null,null,{"$f":"IF(IG78=\"YES\",\"PPE\",\"MAKE BLANK\")","v":"MAKE BLANK"},null,null,{"$f":"IF(IJ78=\"YES\",\"PPE\",\"MAKE BLANK\")","v":"MAKE BLANK"},null,null,{"$f":"IF(IM78=\"YES\",\"PPE\",\"MAKE BLANK\")","v":"MAKE BLANK"},null,null,{"$f":"IF(IP78=\"YES\",\"PPE\",\"MAKE BLANK\")","v":"MAKE BLANK"},null,null,{"$f":"IF(IS78=\"YES\",\"PPE\",\"MAKE BLANK\")","v":"MAKE BLANK"},null,null,{"$f":"IF(IV78=\"YES\",\"PPE\",\"MAKE BLANK\")","v":"MAKE BLANK"},null,null,{"$f":"IF(IY78=\"YES\",\"PPE\",\"MAKE BLANK\")","v":"MAKE BLANK"},null,null,{"$f":"IF(JB78=\"YES\",\"PPE\",\"MAKE BLANK\")","v":"MAKE BLANK"},null,null,{"$f":"IF(JE78=\"YES\",\"PPE\",\"MAKE BLANK\")","v":"MAKE BLANK"},null,null,{"$f":"IF(JH78=\"YES\",\"PPE\",\"MAKE BLANK\")","v":"MAKE BLANK"},null,null,{"$f":"IF(JK78=\"YES\",\"PPE\",\"MAKE BLANK\")","v":"MAKE BLANK"},null,null,{"$f":"IF(JN78=\"YES\",\"PPE\",\"MAKE BLANK\")","v":"MAKE BLANK"},null,null,{"$f":"IF(JQ78=\"YES\",\"PPE\",\"MAKE BLANK\")","v":"MAKE BLANK"},null,null,{"$f":"IF(JT78=\"YES\",\"PPE\",\"MAKE BLANK\")","v":"MAKE BLANK"},null,null,{"$f":"IF(JW78=\"YES\",\"PPE\",\"MAKE BLANK\")","v":"MAKE BLANK"},null,null,{"$f":"IF(JZ78=\"YES\",\"PPE\",\"MAKE BLANK\")","v":"MAKE BLANK"},null,null,{"$f":"IF(KC78=\"YES\",\"PPE\",\"MAKE BLANK\")","v":"MAKE BLANK"},null,null,{"$f":"IF(KF78=\"YES\",\"PPE\",\"MAKE BLANK\")","v":"MAKE BLANK"},null,null,{"$f":"IF(KI78=\"YES\",\"PPE\",\"MAKE BLANK\")","v":"MAKE BLANK"},null,null,{"$f":"IF(KL78=\"YES\",\"PPE\",\"MAKE BLANK\")","v":"MAKE BLANK"},null,null,{"$f":"IF(KO78=\"YES\",\"PPE\",\"MAKE BLANK\")","v":"MAKE BLANK"},null,null,{"$f":"IF(KR78=\"YES\",\"PPE\",\"MAKE BLANK\")","v":"MAKE BLANK"},null,null,{"$f":"IF(KU78=\"YES\",\"PPE\",\"MAKE BLANK\")","v":"MAKE BLANK"},null,null,{"$f":"IF(KX78=\"YES\",\"PPE\",\"MAKE BLANK\")","v":"MAKE BLANK"},null,null,{"$f":"IF(LA78=\"YES\",\"PPE\",\"MAKE BLANK\")","v":"MAKE BLANK"},null,null,{"$f":"IF(LD78=\"YES\",\"PPE\",\"MAKE BLANK\")","v":"MAKE BLANK"},null,null,{"$f":"IF(LG78=\"YES\",\"PPE\",\"MAKE BLANK\")","v":"MAKE BLANK"},null,null,{"$f":"IF(LJ78=\"YES\",\"PPE\",\"MAKE BLANK\")","v":"MAKE BLANK"},null,null,{"$f":"IF(LM78=\"YES\",\"PPE\",\"MAKE BLANK\")","v":"MAKE BLANK"},null,null,{"$f":"IF(LP78=\"YES\",\"PPE\",\"MAKE BLANK\")","v":"MAKE BLANK"},null,null,{"$f":"IF(LS78=\"YES\",\"PPE\",\"MAKE BLANK\")","v":"MAKE BLANK"},null,null,{"$f":"IF(LV78=\"YES\",\"PPE\",\"MAKE BLANK\")","v":"MAKE BLANK"},null,null,{"$f":"IF(LY78=\"YES\",\"PPE\",\"MAKE BLANK\")","v":"MAKE BLANK"},null,null,{"$f":"IF(MB78=\"YES\",\"PPE\",\"MAKE BLANK\")","v":"MAKE BLANK"},null,null,{"$f":"IF(ME78=\"YES\",\"PPE\",\"MAKE BLANK\")","v":"MAKE BLANK"},null,null,{"$f":"IF(MH78=\"YES\",\"PPE\",\"MAKE BLANK\")","v":"MAKE BLANK"},null,null,{"$f":"IF(MK78=\"YES\",\"PPE\",\"MAKE BLANK\")","v":"MAKE BLANK"},null,null,{"$f":"IF(MN78=\"YES\",\"PPE\",\"MAKE BLANK\")","v":"MAKE BLANK"},null,null,{"$f":"IF(MQ78=\"YES\",\"PPE\",\"MAKE BLANK\")","v":"MAKE BLANK"},null,null,{"$f":"IF(MT78=\"YES\",\"PPE\",\"MAKE BLANK\")","v":"MAKE BLANK"}]
[null,null,null,null,null,null,null,null,null,null,null,null,null,null,null,null,null,null,null,null,null,null,null,null,null,null,null,null,"Additional Training Needed",null,null,null,null,null,null,null,null,null,null,"Suit - Utility ",null,null,null,"Spark containment",null,null,null,null,null,null,null,null,null,"Handrails",null,null,null,null,null,null,null,null,null,null,null,null,null,null,null,null,null,null,null,null,43,{"$f":"IF(BX$78=\"NO\",\"MAKE BLANK\",IF(INDEX(All_Hazards_and_Controls,$BW46,BX$79)=0,\"\",INDEX(All_Hazards_and_Controls,$BW46,BX$79)))","v":"MAKE BLANK"},null,null,{"$f":"IF(CA$78=\"NO\",\"MAKE BLANK\",IF(INDEX(All_Hazards_and_Controls,$BW46,CA$79)=0,\"\",INDEX(All_Hazards_and_Controls,$BW46,CA$79)))","v":"MAKE BLANK"},null,null,{"$f":"IF(CD$78=\"NO\",\"MAKE BLANK\",IF(INDEX(All_Hazards_and_Controls,$BW46,CD$79)=0,\"\",INDEX(All_Hazards_and_Controls,$BW46,CD$79)))","v":"MAKE BLANK"},null,null,{"$f":"IF(CG$78=\"NO\",\"MAKE BLANK\",IF(INDEX(All_Hazards_and_Controls,$BW46,CG$79)=0,\"\",INDEX(All_Hazards_and_Controls,$BW46,CG$79)))","v":"MAKE BLANK"},null,null,{"$f":"IF(CJ$78=\"NO\",\"MAKE BLANK\",IF(INDEX(All_Hazards_and_Controls,$BW46,CJ$79)=0,\"\",INDEX(All_Hazards_and_Controls,$BW46,CJ$79)))","v":"MAKE BLANK"},null,null,{"$f":"IF(CM$78=\"NO\",\"MAKE BLANK\",IF(INDEX(All_Hazards_and_Controls,$BW46,CM$79)=0,\"\",INDEX(All_Hazards_and_Controls,$BW46,CM$79)))","v":"MAKE BLANK"},null,null,{"$f":"IF(CP$78=\"NO\",\"MAKE BLANK\",IF(INDEX(All_Hazards_and_Controls,$BW46,CP$79)=0,\"\",INDEX(All_Hazards_and_Controls,$BW46,CP$79)))","v":"MAKE BLANK"},null,null,{"$f":"IF(CS$78=\"NO\",\"MAKE BLANK\",IF(INDEX(All_Hazards_and_Controls,$BW46,CS$79)=0,\"\",INDEX(All_Hazards_and_Controls,$BW46,CS$79)))","v":"MAKE BLANK"},null,null,{"$f":"IF(CV$78=\"NO\",\"MAKE BLANK\",IF(INDEX(All_Hazards_and_Controls,$BW46,CV$79)=0,\"\",INDEX(All_Hazards_and_Controls,$BW46,CV$79)))","v":"MAKE BLANK"},null,null,{"$f":"IF(CY$78=\"NO\",\"MAKE BLANK\",IF(INDEX(All_Hazards_and_Controls,$BW46,CY$79)=0,\"\",INDEX(All_Hazards_and_Controls,$BW46,CY$79)))","v":"MAKE BLANK"},null,null,{"$f":"IF(DB$78=\"NO\",\"MAKE BLANK\",IF(INDEX(All_Hazards_and_Controls,$BW46,DB$79)=0,\"\",INDEX(All_Hazards_and_Controls,$BW46,DB$79)))","v":"MAKE BLANK"},null,null,{"$f":"IF(DE$78=\"NO\",\"MAKE BLANK\",IF(INDEX(All_Hazards_and_Controls,$BW46,DE$79)=0,\"\",INDEX(All_Hazards_and_Controls,$BW46,DE$79)))","v":"MAKE BLANK"},null,null,{"$f":"IF(DH$78=\"NO\",\"MAKE BLANK\",IF(INDEX(All_Hazards_and_Controls,$BW46,DH$79)=0,\"\",INDEX(All_Hazards_and_Controls,$BW46,DH$79)))","v":"MAKE BLANK"},null,null,{"$f":"IF(DK$78=\"NO\",\"MAKE BLANK\",IF(INDEX(All_Hazards_and_Controls,$BW46,DK$79)=0,\"\",INDEX(All_Hazards_and_Controls,$BW46,DK$79)))","v":"MAKE BLANK"},null,null,{"$f":"IF(DN$78=\"NO\",\"MAKE BLANK\",IF(INDEX(All_Hazards_and_Controls,$BW46,DN$79)=0,\"\",INDEX(All_Hazards_and_Controls,$BW46,DN$79)))","v":"MAKE BLANK"},null,null,{"$f":"IF(DQ$78=\"NO\",\"MAKE BLANK\",IF(INDEX(All_Hazards_and_Controls,$BW46,DQ$79)=0,\"\",INDEX(All_Hazards_and_Controls,$BW46,DQ$79)))","v":"MAKE BLANK"},null,null,{"$f":"IF(DT$78=\"NO\",\"MAKE BLANK\",IF(INDEX(All_Hazards_and_Controls,$BW46,DT$79)=0,\"\",INDEX(All_Hazards_and_Controls,$BW46,DT$79)))","v":"MAKE BLANK"},null,null,{"$f":"IF(DW$78=\"NO\",\"MAKE BLANK\",IF(INDEX(All_Hazards_and_Controls,$BW46,DW$79)=0,\"\",INDEX(All_Hazards_and_Controls,$BW46,DW$79)))","v":"MAKE BLANK"},null,null,{"$f":"IF(DZ$78=\"NO\",\"MAKE BLANK\",IF(INDEX(All_Hazards_and_Controls,$BW46,DZ$79)=0,\"\",INDEX(All_Hazards_and_Controls,$BW46,DZ$79)))","v":"MAKE BLANK"},null,null,{"$f":"IF(EC$78=\"NO\",\"MAKE BLANK\",IF(INDEX(All_Hazards_and_Controls,$BW46,EC$79)=0,\"\",INDEX(All_Hazards_and_Controls,$BW46,EC$79)))","v":"MAKE BLANK"},null,null,{"$f":"IF(EF$78=\"NO\",\"MAKE BLANK\",IF(INDEX(All_Hazards_and_Controls,$BW46,EF$79)=0,\"\",INDEX(All_Hazards_and_Controls,$BW46,EF$79)))","v":"MAKE BLANK"},null,null,{"$f":"IF(EI$78=\"NO\",\"MAKE BLANK\",IF(INDEX(All_Hazards_and_Controls,$BW46,EI$79)=0,\"\",INDEX(All_Hazards_and_Controls,$BW46,EI$79)))","v":"MAKE BLANK"},null,null,{"$f":"IF(EL$78=\"NO\",\"MAKE BLANK\",IF(INDEX(All_Hazards_and_Controls,$BW46,EL$79)=0,\"\",INDEX(All_Hazards_and_Controls,$BW46,EL$79)))","v":"MAKE BLANK"},null,null,{"$f":"IF(EO$78=\"NO\",\"MAKE BLANK\",IF(INDEX(All_Hazards_and_Controls,$BW46,EO$79)=0,\"\",INDEX(All_Hazards_and_Controls,$BW46,EO$79)))","v":"MAKE BLANK"},null,null,{"$f":"IF(ER$78=\"NO\",\"MAKE BLANK\",IF(INDEX(All_Hazards_and_Controls,$BW46,ER$79)=0,\"\",INDEX(All_Hazards_and_Controls,$BW46,ER$79)))","v":"MAKE BLANK"},null,null,{"$f":"IF(EU$78=\"NO\",\"MAKE BLANK\",IF(INDEX(All_Hazards_and_Controls,$BW46,EU$79)=0,\"\",INDEX(All_Hazards_and_Controls,$BW46,EU$79)))","v":"MAKE BLANK"},null,null,{"$f":"IF(EX$78=\"NO\",\"MAKE BLANK\",IF(INDEX(All_Hazards_and_Controls,$BW46,EX$79)=0,\"\",INDEX(All_Hazards_and_Controls,$BW46,EX$79)))","v":"MAKE BLANK"},null,null,{"$f":"IF(FA$78=\"NO\",\"MAKE BLANK\",IF(INDEX(All_Hazards_and_Controls,$BW46,FA$79)=0,\"\",INDEX(All_Hazards_and_Controls,$BW46,FA$79)))","v":"MAKE BLANK"},null,null,{"$f":"IF(FD$78=\"NO\",\"MAKE BLANK\",IF(INDEX(All_Hazards_and_Controls,$BW46,FD$79)=0,\"\",INDEX(All_Hazards_and_Controls,$BW46,FD$79)))","v":"MAKE BLANK"},null,null,{"$f":"IF(FG$78=\"NO\",\"MAKE BLANK\",IF(INDEX(All_Hazards_and_Controls,$BW46,FG$79)=0,\"\",INDEX(All_Hazards_and_Controls,$BW46,FG$79)))","v":"MAKE BLANK"},null,null,{"$f":"IF(FJ$78=\"NO\",\"MAKE BLANK\",IF(INDEX(All_Hazards_and_Controls,$BW46,FJ$79)=0,\"\",INDEX(All_Hazards_and_Controls,$BW46,FJ$79)))","v":"MAKE BLANK"},null,null,{"$f":"IF(FM$78=\"NO\",\"MAKE BLANK\",IF(INDEX(All_Hazards_and_Controls,$BW46,FM$79)=0,\"\",INDEX(All_Hazards_and_Controls,$BW46,FM$79)))","v":"MAKE BLANK"},null,null,{"$f":"IF(FP$78=\"NO\",\"MAKE BLANK\",IF(INDEX(All_Hazards_and_Controls,$BW46,FP$79)=0,\"\",INDEX(All_Hazards_and_Controls,$BW46,FP$79)))","v":"MAKE BLANK"},null,null,{"$f":"IF(FS$78=\"NO\",\"MAKE BLANK\",IF(INDEX(All_Hazards_and_Controls,$BW46,FS$79)=0,\"\",INDEX(All_Hazards_and_Controls,$BW46,FS$79)))","v":"MAKE BLANK"},null,null,{"$f":"IF(FV$78=\"NO\",\"MAKE BLANK\",IF(INDEX(All_Hazards_and_Controls,$BW46,FV$79)=0,\"\",INDEX(All_Hazards_and_Controls,$BW46,FV$79)))","v":"MAKE BLANK"},null,null,{"$f":"IF(FY$78=\"NO\",\"MAKE BLANK\",IF(INDEX(All_Hazards_and_Controls,$BW46,FY$79)=0,\"\",INDEX(All_Hazards_and_Controls,$BW46,FY$79)))","v":"MAKE BLANK"},null,null,{"$f":"IF(GB$78=\"NO\",\"MAKE BLANK\",IF(INDEX(All_Hazards_and_Controls,$BW46,GB$79)=0,\"\",INDEX(All_Hazards_and_Controls,$BW46,GB$79)))","v":"MAKE BLANK"},null,null,{"$f":"IF(GE$78=\"NO\",\"MAKE BLANK\",IF(INDEX(All_Hazards_and_Controls,$BW46,GE$79)=0,\"\",INDEX(All_Hazards_and_Controls,$BW46,GE$79)))","v":"MAKE BLANK"},null,null,{"$f":"IF(GH$78=\"NO\",\"MAKE BLANK\",IF(INDEX(All_Hazards_and_Controls,$BW46,GH$79)=0,\"\",INDEX(All_Hazards_and_Controls,$BW46,GH$79)))","v":"MAKE BLANK"},null,null,{"$f":"IF(GK$78=\"NO\",\"MAKE BLANK\",IF(INDEX(All_Hazards_and_Controls,$BW46,GK$79)=0,\"\",INDEX(All_Hazards_and_Controls,$BW46,GK$79)))","v":"MAKE BLANK"},null,null,{"$f":"IF(GN$78=\"NO\",\"MAKE BLANK\",IF(INDEX(All_Hazards_and_Controls,$BW46,GN$79)=0,\"\",INDEX(All_Hazards_and_Controls,$BW46,GN$79)))","v":"MAKE BLANK"},null,null,{"$f":"IF(GQ$78=\"NO\",\"MAKE BLANK\",IF(INDEX(All_Hazards_and_Controls,$BW46,GQ$79)=0,\"\",INDEX(All_Hazards_and_Controls,$BW46,GQ$79)))","v":"MAKE BLANK"},null,null,{"$f":"IF(GT$78=\"NO\",\"MAKE BLANK\",IF(INDEX(All_Hazards_and_Controls,$BW46,GT$79)=0,\"\",INDEX(All_Hazards_and_Controls,$BW46,GT$79)))","v":"MAKE BLANK"},null,null,{"$f":"IF(GW$78=\"NO\",\"MAKE BLANK\",IF(INDEX(All_Hazards_and_Controls,$BW46,GW$79)=0,\"\",INDEX(All_Hazards_and_Controls,$BW46,GW$79)))","v":"MAKE BLANK"},null,null,{"$f":"IF(GZ$78=\"NO\",\"MAKE BLANK\",IF(INDEX(All_Hazards_and_Controls,$BW46,GZ$79)=0,\"\",INDEX(All_Hazards_and_Controls,$BW46,GZ$79)))","v":"MAKE BLANK"},null,null,{"$f":"IF(HC$78=\"NO\",\"MAKE BLANK\",IF(INDEX(All_Hazards_and_Controls,$BW46,HC$79)=0,\"\",INDEX(All_Hazards_and_Controls,$BW46,HC$79)))","v":"MAKE BLANK"},null,null,{"$f":"IF(HF$78=\"NO\",\"MAKE BLANK\",IF(INDEX(All_Hazards_and_Controls,$BW46,HF$79)=0,\"\",INDEX(All_Hazards_and_Controls,$BW46,HF$79)))","v":"MAKE BLANK"},null,null,{"$f":"IF(HI$78=\"NO\",\"MAKE BLANK\",IF(INDEX(All_Hazards_and_Controls,$BW46,HI$79)=0,\"\",INDEX(All_Hazards_and_Controls,$BW46,HI$79)))","v":"MAKE BLANK"},null,null,{"$f":"IF(HL$78=\"NO\",\"MAKE BLANK\",IF(INDEX(All_Hazards_and_Controls,$BW46,HL$79)=0,\"\",INDEX(All_Hazards_and_Controls,$BW46,HL$79)))","v":"MAKE BLANK"},null,null,{"$f":"IF(HO$78=\"NO\",\"MAKE BLANK\",IF(INDEX(All_Hazards_and_Controls,$BW46,HO$79)=0,\"\",INDEX(All_Hazards_and_Controls,$BW46,HO$79)))","v":"MAKE BLANK"},null,null,{"$f":"IF(HR$78=\"NO\",\"MAKE BLANK\",IF(INDEX(All_Hazards_and_Controls,$BW46,HR$79)=0,\"\",INDEX(All_Hazards_and_Controls,$BW46,HR$79)))","v":"MAKE BLANK"},null,null,{"$f":"IF(HU$78=\"NO\",\"MAKE BLANK\",IF(INDEX(All_Hazards_and_Controls,$BW46,HU$79)=0,\"\",INDEX(All_Hazards_and_Controls,$BW46,HU$79)))","v":"MAKE BLANK"},null,null,{"$f":"IF(HX$78=\"NO\",\"MAKE BLANK\",IF(INDEX(All_Hazards_and_Controls,$BW46,HX$79)=0,\"\",INDEX(All_Hazards_and_Controls,$BW46,HX$79)))","v":"MAKE BLANK"},null,null,{"$f":"IF(IA$78=\"NO\",\"MAKE BLANK\",IF(INDEX(All_Hazards_and_Controls,$BW46,IA$79)=0,\"\",INDEX(All_Hazards_and_Controls,$BW46,IA$79)))","v":"MAKE BLANK"},null,null,{"$f":"IF(ID$78=\"NO\",\"MAKE BLANK\",IF(INDEX(All_Hazards_and_Controls,$BW46,ID$79)=0,\"\",INDEX(All_Hazards_and_Controls,$BW46,ID$79)))","v":"MAKE BLANK"},null,null,{"$f":"IF(IG$78=\"NO\",\"MAKE BLANK\",IF(INDEX(All_Hazards_and_Controls,$BW46,IG$79)=0,\"\",INDEX(All_Hazards_and_Controls,$BW46,IG$79)))","v":"MAKE BLANK"},null,null,{"$f":"IF(IJ$78=\"NO\",\"MAKE BLANK\",IF(INDEX(All_Hazards_and_Controls,$BW46,IJ$79)=0,\"\",INDEX(All_Hazards_and_Controls,$BW46,IJ$79)))","v":"MAKE BLANK"},null,null,{"$f":"IF(IM$78=\"NO\",\"MAKE BLANK\",IF(INDEX(All_Hazards_and_Controls,$BW46,IM$79)=0,\"\",INDEX(All_Hazards_and_Controls,$BW46,IM$79)))","v":"MAKE BLANK"},null,null,{"$f":"IF(IP$78=\"NO\",\"MAKE BLANK\",IF(INDEX(All_Hazards_and_Controls,$BW46,IP$79)=0,\"\",INDEX(All_Hazards_and_Controls,$BW46,IP$79)))","v":"MAKE BLANK"},null,null,{"$f":"IF(IS$78=\"NO\",\"MAKE BLANK\",IF(INDEX(All_Hazards_and_Controls,$BW46,IS$79)=0,\"\",INDEX(All_Hazards_and_Controls,$BW46,IS$79)))","v":"MAKE BLANK"},null,null,{"$f":"IF(IV$78=\"NO\",\"MAKE BLANK\",IF(INDEX(All_Hazards_and_Controls,$BW46,IV$79)=0,\"\",INDEX(All_Hazards_and_Controls,$BW46,IV$79)))","v":"MAKE BLANK"},null,null,{"$f":"IF(IY$78=\"NO\",\"MAKE BLANK\",IF(INDEX(All_Hazards_and_Controls,$BW46,IY$79)=0,\"\",INDEX(All_Hazards_and_Controls,$BW46,IY$79)))","v":"MAKE BLANK"},null,null,{"$f":"IF(JB$78=\"NO\",\"MAKE BLANK\",IF(INDEX(All_Hazards_and_Controls,$BW46,JB$79)=0,\"\",INDEX(All_Hazards_and_Controls,$BW46,JB$79)))","v":"MAKE BLANK"},null,null,{"$f":"IF(JE$78=\"NO\",\"MAKE BLANK\",IF(INDEX(All_Hazards_and_Controls,$BW46,JE$79)=0,\"\",INDEX(All_Hazards_and_Controls,$BW46,JE$79)))","v":"MAKE BLANK"},null,null,{"$f":"IF(JH$78=\"NO\",\"MAKE BLANK\",IF(INDEX(All_Hazards_and_Controls,$BW46,JH$79)=0,\"\",INDEX(All_Hazards_and_Controls,$BW46,JH$79)))","v":"MAKE BLANK"},null,null,{"$f":"IF(JK$78=\"NO\",\"MAKE BLANK\",IF(INDEX(All_Hazards_and_Controls,$BW46,JK$79)=0,\"\",INDEX(All_Hazards_and_Controls,$BW46,JK$79)))","v":"MAKE BLANK"},null,null,{"$f":"IF(JN$78=\"NO\",\"MAKE BLANK\",IF(INDEX(All_Hazards_and_Controls,$BW46,JN$79)=0,\"\",INDEX(All_Hazards_and_Controls,$BW46,JN$79)))","v":"MAKE BLANK"},null,null,{"$f":"IF(JQ$78=\"NO\",\"MAKE BLANK\",IF(INDEX(All_Hazards_and_Controls,$BW46,JQ$79)=0,\"\",INDEX(All_Hazards_and_Controls,$BW46,JQ$79)))","v":"MAKE BLANK"},null,null,{"$f":"IF(JT$78=\"NO\",\"MAKE BLANK\",IF(INDEX(All_Hazards_and_Controls,$BW46,JT$79)=0,\"\",INDEX(All_Hazards_and_Controls,$BW46,JT$79)))","v":"MAKE BLANK"},null,null,{"$f":"IF(JW$78=\"NO\",\"MAKE BLANK\",IF(INDEX(All_Hazards_and_Controls,$BW46,JW$79)=0,\"\",INDEX(All_Hazards_and_Controls,$BW46,JW$79)))","v":"MAKE BLANK"},null,null,{"$f":"IF(JZ$78=\"NO\",\"MAKE BLANK\",IF(INDEX(All_Hazards_and_Controls,$BW46,JZ$79)=0,\"\",INDEX(All_Hazards_and_Controls,$BW46,JZ$79)))","v":"MAKE BLANK"},null,null,{"$f":"IF(KC$78=\"NO\",\"MAKE BLANK\",IF(INDEX(All_Hazards_and_Controls,$BW46,KC$79)=0,\"\",INDEX(All_Hazards_and_Controls,$BW46,KC$79)))","v":"MAKE BLANK"},null,null,{"$f":"IF(KF$78=\"NO\",\"MAKE BLANK\",IF(INDEX(All_Hazards_and_Controls,$BW46,KF$79)=0,\"\",INDEX(All_Hazards_and_Controls,$BW46,KF$79)))","v":"MAKE BLANK"},null,null,{"$f":"IF(KI$78=\"NO\",\"MAKE BLANK\",IF(INDEX(All_Hazards_and_Controls,$BW46,KI$79)=0,\"\",INDEX(All_Hazards_and_Controls,$BW46,KI$79)))","v":"MAKE BLANK"},null,null,{"$f":"IF(KL$78=\"NO\",\"MAKE BLANK\",IF(INDEX(All_Hazards_and_Controls,$BW46,KL$79)=0,\"\",INDEX(All_Hazards_and_Controls,$BW46,KL$79)))","v":"MAKE BLANK"},null,null,{"$f":"IF(KO$78=\"NO\",\"MAKE BLANK\",IF(INDEX(All_Hazards_and_Controls,$BW46,KO$79)=0,\"\",INDEX(All_Hazards_and_Controls,$BW46,KO$79)))","v":"MAKE BLANK"},null,null,{"$f":"IF(KR$78=\"NO\",\"MAKE BLANK\",IF(INDEX(All_Hazards_and_Controls,$BW46,KR$79)=0,\"\",INDEX(All_Hazards_and_Controls,$BW46,KR$79)))","v":"MAKE BLANK"},null,null,{"$f":"IF(KU$78=\"NO\",\"MAKE BLANK\",IF(INDEX(All_Hazards_and_Controls,$BW46,KU$79)=0,\"\",INDEX(All_Hazards_and_Controls,$BW46,KU$79)))","v":"MAKE BLANK"},null,null,{"$f":"IF(KX$78=\"NO\",\"MAKE BLANK\",IF(INDEX(All_Hazards_and_Controls,$BW46,KX$79)=0,\"\",INDEX(All_Hazards_and_Controls,$BW46,KX$79)))","v":"MAKE BLANK"},null,null,{"$f":"IF(LA$78=\"NO\",\"MAKE BLANK\",IF(INDEX(All_Hazards_and_Controls,$BW46,LA$79)=0,\"\",INDEX(All_Hazards_and_Controls,$BW46,LA$79)))","v":"MAKE BLANK"},null,null,{"$f":"IF(LD$78=\"NO\",\"MAKE BLANK\",IF(INDEX(All_Hazards_and_Controls,$BW46,LD$79)=0,\"\",INDEX(All_Hazards_and_Controls,$BW46,LD$79)))","v":"MAKE BLANK"},null,null,{"$f":"IF(LG$78=\"NO\",\"MAKE BLANK\",IF(INDEX(All_Hazards_and_Controls,$BW46,LG$79)=0,\"\",INDEX(All_Hazards_and_Controls,$BW46,LG$79)))","v":"MAKE BLANK"},null,null,{"$f":"IF(LJ$78=\"NO\",\"MAKE BLANK\",IF(INDEX(All_Hazards_and_Controls,$BW46,LJ$79)=0,\"\",INDEX(All_Hazards_and_Controls,$BW46,LJ$79)))","v":"MAKE BLANK"},null,null,{"$f":"IF(LM$78=\"NO\",\"MAKE BLANK\",IF(INDEX(All_Hazards_and_Controls,$BW46,LM$79)=0,\"\",INDEX(All_Hazards_and_Controls,$BW46,LM$79)))","v":"MAKE BLANK"},null,null,{"$f":"IF(LP$78=\"NO\",\"MAKE BLANK\",IF(INDEX(All_Hazards_and_Controls,$BW46,LP$79)=0,\"\",INDEX(All_Hazards_and_Controls,$BW46,LP$79)))","v":"MAKE BLANK"},null,null,{"$f":"IF(LS$78=\"NO\",\"MAKE BLANK\",IF(INDEX(All_Hazards_and_Controls,$BW46,LS$79)=0,\"\",INDEX(All_Hazards_and_Controls,$BW46,LS$79)))","v":"MAKE BLANK"},null,null,{"$f":"IF(LV$78=\"NO\",\"MAKE BLANK\",IF(INDEX(All_Hazards_and_Controls,$BW46,LV$79)=0,\"\",INDEX(All_Hazards_and_Controls,$BW46,LV$79)))","v":"MAKE BLANK"},null,null,{"$f":"IF(LY$78=\"NO\",\"MAKE BLANK\",IF(INDEX(All_Hazards_and_Controls,$BW46,LY$79)=0,\"\",INDEX(All_Hazards_and_Controls,$BW46,LY$79)))","v":"MAKE BLANK"},null,null,{"$f":"IF(MB$78=\"NO\",\"MAKE BLANK\",IF(INDEX(All_Hazards_and_Controls,$BW46,MB$79)=0,\"\",INDEX(All_Hazards_and_Controls,$BW46,MB$79)))","v":"MAKE BLANK"},null,null,{"$f":"IF(ME$78=\"NO\",\"MAKE BLANK\",IF(INDEX(All_Hazards_and_Controls,$BW46,ME$79)=0,\"\",INDEX(All_Hazards_and_Controls,$BW46,ME$79)))","v":"MAKE BLANK"},null,null,{"$f":"IF(MH$78=\"NO\",\"MAKE BLANK\",IF(INDEX(All_Hazards_and_Controls,$BW46,MH$79)=0,\"\",INDEX(All_Hazards_and_Controls,$BW46,MH$79)))","v":"MAKE BLANK"},null,null,{"$f":"IF(MK$78=\"NO\",\"MAKE BLANK\",IF(INDEX(All_Hazards_and_Controls,$BW46,MK$79)=0,\"\",INDEX(All_Hazards_and_Controls,$BW46,MK$79)))","v":"MAKE BLANK"},null,null,{"$f":"IF(MN$78=\"NO\",\"MAKE BLANK\",IF(INDEX(All_Hazards_and_Controls,$BW46,MN$79)=0,\"\",INDEX(All_Hazards_and_Controls,$BW46,MN$79)))","v":"MAKE BLANK"},null,null,{"$f":"IF(MQ$78=\"NO\",\"MAKE BLANK\",IF(INDEX(All_Hazards_and_Controls,$BW46,MQ$79)=0,\"\",INDEX(All_Hazards_and_Controls,$BW46,MQ$79)))","v":"MAKE BLANK"},null,null,{"$f":"IF(MT$78=\"NO\",\"MAKE BLANK\",IF(INDEX(All_Hazards_and_Controls,$BW46,MT$79)=0,\"\",INDEX(All_Hazards_and_Controls,$BW46,MT$79)))","v":"MAKE BLANK"}]
[null,null,null,null,null,null,null,null,null,null,null,null,null,null,null,null,null,{"$f":"IF(Number_environmental_pages=0,\"MAKE BLANK\",IF(Q40>Total_plan_no_of_Envir_Aspects,\"MAKE BLANK\",\"Method to Achieve\"))","v":"MAKE BLANK"},{"$f":"IF(Number_environmental_pages=0,\"MAKE BLANK\",IF(Q40>Total_plan_no_of_Envir_Aspects,\"MAKE BLANK\",VLOOKUP(Q40,'4'!$B$116:$Z$136,25,FALSE)))","v":"MAKE BLANK"},null,null,{"$f":"IF(Number_environmental_pages<2,\"MAKE BLANK\",IF(U40>Total_plan_no_of_Envir_Aspects,\"MAKE BLANK\",\"Method to Achieve\"))","v":"MAKE BLANK"},{"$f":"IF(Number_environmental_pages<2,\"MAKE BLANK\",IF(U40>Total_plan_no_of_Envir_Aspects,\"MAKE BLANK\",VLOOKUP(U40,'4'!$B$116:$Z$136,25,FALSE)))","v":"MAKE BLANK"},null,null,{"$f":"IF(Number_environmental_pages<3,\"MAKE BLANK\",IF(Y40>Total_plan_no_of_Envir_Aspects,\"MAKE BLANK\",\"Method to Achieve\"))","v":"MAKE BLANK"},{"$f":"IF(Number_environmental_pages<3,\"MAKE BLANK\",IF(Y40>Total_plan_no_of_Envir_Aspects,\"MAKE BLANK\",VLOOKUP(Y40,'4'!$B$116:$Z$136,25,FALSE)))","v":"MAKE BLANK"},null,null,null,null,null,null,null,null,null,null,null,null,"Toe guards",null,null,null,"Fire extinguisher",null,null,null,null,"Tools",null,null,null,null,"Midrails",null,null,null,null,null,null,null,null,null,null,null,null,null,null,null,null,null,null,null,null,44,{"$f":"IF(BX$78=\"NO\",\"MAKE BLANK\",IF(INDEX(All_Hazards_and_Controls,$BW47,BX$79)=0,\"\",INDEX(All_Hazards_and_Controls,$BW47,BX$79)))","v":"MAKE BLANK"},null,null,{"$f":"IF(CA$78=\"NO\",\"MAKE BLANK\",IF(INDEX(All_Hazards_and_Controls,$BW47,CA$79)=0,\"\",INDEX(All_Hazards_and_Controls,$BW47,CA$79)))","v":"MAKE BLANK"},null,null,{"$f":"IF(CD$78=\"NO\",\"MAKE BLANK\",IF(INDEX(All_Hazards_and_Controls,$BW47,CD$79)=0,\"\",INDEX(All_Hazards_and_Controls,$BW47,CD$79)))","v":"MAKE BLANK"},null,null,{"$f":"IF(CG$78=\"NO\",\"MAKE BLANK\",IF(INDEX(All_Hazards_and_Controls,$BW47,CG$79)=0,\"\",INDEX(All_Hazards_and_Controls,$BW47,CG$79)))","v":"MAKE BLANK"},null,null,{"$f":"IF(CJ$78=\"NO\",\"MAKE BLANK\",IF(INDEX(All_Hazards_and_Controls,$BW47,CJ$79)=0,\"\",INDEX(All_Hazards_and_Controls,$BW47,CJ$79)))","v":"MAKE BLANK"},null,null,{"$f":"IF(CM$78=\"NO\",\"MAKE BLANK\",IF(INDEX(All_Hazards_and_Controls,$BW47,CM$79)=0,\"\",INDEX(All_Hazards_and_Controls,$BW47,CM$79)))","v":"MAKE BLANK"},null,null,{"$f":"IF(CP$78=\"NO\",\"MAKE BLANK\",IF(INDEX(All_Hazards_and_Controls,$BW47,CP$79)=0,\"\",INDEX(All_Hazards_and_Controls,$BW47,CP$79)))","v":"MAKE BLANK"},null,null,{"$f":"IF(CS$78=\"NO\",\"MAKE BLANK\",IF(INDEX(All_Hazards_and_Controls,$BW47,CS$79)=0,\"\",INDEX(All_Hazards_and_Controls,$BW47,CS$79)))","v":"MAKE BLANK"},null,null,{"$f":"IF(CV$78=\"NO\",\"MAKE BLANK\",IF(INDEX(All_Hazards_and_Controls,$BW47,CV$79)=0,\"\",INDEX(All_Hazards_and_Controls,$BW47,CV$79)))","v":"MAKE BLANK"},null,null,{"$f":"IF(CY$78=\"NO\",\"MAKE BLANK\",IF(INDEX(All_Hazards_and_Controls,$BW47,CY$79)=0,\"\",INDEX(All_Hazards_and_Controls,$BW47,CY$79)))","v":"MAKE BLANK"},null,null,{"$f":"IF(DB$78=\"NO\",\"MAKE BLANK\",IF(INDEX(All_Hazards_and_Controls,$BW47,DB$79)=0,\"\",INDEX(All_Hazards_and_Controls,$BW47,DB$79)))","v":"MAKE BLANK"},null,null,{"$f":"IF(DE$78=\"NO\",\"MAKE BLANK\",IF(INDEX(All_Hazards_and_Controls,$BW47,DE$79)=0,\"\",INDEX(All_Hazards_and_Controls,$BW47,DE$79)))","v":"MAKE BLANK"},null,null,{"$f":"IF(DH$78=\"NO\",\"MAKE BLANK\",IF(INDEX(All_Hazards_and_Controls,$BW47,DH$79)=0,\"\",INDEX(All_Hazards_and_Controls,$BW47,DH$79)))","v":"MAKE BLANK"},null,null,{"$f":"IF(DK$78=\"NO\",\"MAKE BLANK\",IF(INDEX(All_Hazards_and_Controls,$BW47,DK$79)=0,\"\",INDEX(All_Hazards_and_Controls,$BW47,DK$79)))","v":"MAKE BLANK"},null,null,{"$f":"IF(DN$78=\"NO\",\"MAKE BLANK\",IF(INDEX(All_Hazards_and_Controls,$BW47,DN$79)=0,\"\",INDEX(All_Hazards_and_Controls,$BW47,DN$79)))","v":"MAKE BLANK"},null,null,{"$f":"IF(DQ$78=\"NO\",\"MAKE BLANK\",IF(INDEX(All_Hazards_and_Controls,$BW47,DQ$79)=0,\"\",INDEX(All_Hazards_and_Controls,$BW47,DQ$79)))","v":"MAKE BLANK"},null,null,{"$f":"IF(DT$78=\"NO\",\"MAKE BLANK\",IF(INDEX(All_Hazards_and_Controls,$BW47,DT$79)=0,\"\",INDEX(All_Hazards_and_Controls,$BW47,DT$79)))","v":"MAKE BLANK"},null,null,{"$f":"IF(DW$78=\"NO\",\"MAKE BLANK\",IF(INDEX(All_Hazards_and_Controls,$BW47,DW$79)=0,\"\",INDEX(All_Hazards_and_Controls,$BW47,DW$79)))","v":"MAKE BLANK"},null,null,{"$f":"IF(DZ$78=\"NO\",\"MAKE BLANK\",IF(INDEX(All_Hazards_and_Controls,$BW47,DZ$79)=0,\"\",INDEX(All_Hazards_and_Controls,$BW47,DZ$79)))","v":"MAKE BLANK"},null,null,{"$f":"IF(EC$78=\"NO\",\"MAKE BLANK\",IF(INDEX(All_Hazards_and_Controls,$BW47,EC$79)=0,\"\",INDEX(All_Hazards_and_Controls,$BW47,EC$79)))","v":"MAKE BLANK"},null,null,{"$f":"IF(EF$78=\"NO\",\"MAKE BLANK\",IF(INDEX(All_Hazards_and_Controls,$BW47,EF$79)=0,\"\",INDEX(All_Hazards_and_Controls,$BW47,EF$79)))","v":"MAKE BLANK"},null,null,{"$f":"IF(EI$78=\"NO\",\"MAKE BLANK\",IF(INDEX(All_Hazards_and_Controls,$BW47,EI$79)=0,\"\",INDEX(All_Hazards_and_Controls,$BW47,EI$79)))","v":"MAKE BLANK"},null,null,{"$f":"IF(EL$78=\"NO\",\"MAKE BLANK\",IF(INDEX(All_Hazards_and_Controls,$BW47,EL$79)=0,\"\",INDEX(All_Hazards_and_Controls,$BW47,EL$79)))","v":"MAKE BLANK"},null,null,{"$f":"IF(EO$78=\"NO\",\"MAKE BLANK\",IF(INDEX(All_Hazards_and_Controls,$BW47,EO$79)=0,\"\",INDEX(All_Hazards_and_Controls,$BW47,EO$79)))","v":"MAKE BLANK"},null,null,{"$f":"IF(ER$78=\"NO\",\"MAKE BLANK\",IF(INDEX(All_Hazards_and_Controls,$BW47,ER$79)=0,\"\",INDEX(All_Hazards_and_Controls,$BW47,ER$79)))","v":"MAKE BLANK"},null,null,{"$f":"IF(EU$78=\"NO\",\"MAKE BLANK\",IF(INDEX(All_Hazards_and_Controls,$BW47,EU$79)=0,\"\",INDEX(All_Hazards_and_Controls,$BW47,EU$79)))","v":"MAKE BLANK"},null,null,{"$f":"IF(EX$78=\"NO\",\"MAKE BLANK\",IF(INDEX(All_Hazards_and_Controls,$BW47,EX$79)=0,\"\",INDEX(All_Hazards_and_Controls,$BW47,EX$79)))","v":"MAKE BLANK"},null,null,{"$f":"IF(FA$78=\"NO\",\"MAKE BLANK\",IF(INDEX(All_Hazards_and_Controls,$BW47,FA$79)=0,\"\",INDEX(All_Hazards_and_Controls,$BW47,FA$79)))","v":"MAKE BLANK"},null,null,{"$f":"IF(FD$78=\"NO\",\"MAKE BLANK\",IF(INDEX(All_Hazards_and_Controls,$BW47,FD$79)=0,\"\",INDEX(All_Hazards_and_Controls,$BW47,FD$79)))","v":"MAKE BLANK"},null,null,{"$f":"IF(FG$78=\"NO\",\"MAKE BLANK\",IF(INDEX(All_Hazards_and_Controls,$BW47,FG$79)=0,\"\",INDEX(All_Hazards_and_Controls,$BW47,FG$79)))","v":"MAKE BLANK"},null,null,{"$f":"IF(FJ$78=\"NO\",\"MAKE BLANK\",IF(INDEX(All_Hazards_and_Controls,$BW47,FJ$79)=0,\"\",INDEX(All_Hazards_and_Controls,$BW47,FJ$79)))","v":"MAKE BLANK"},null,null,{"$f":"IF(FM$78=\"NO\",\"MAKE BLANK\",IF(INDEX(All_Hazards_and_Controls,$BW47,FM$79)=0,\"\",INDEX(All_Hazards_and_Controls,$BW47,FM$79)))","v":"MAKE BLANK"},null,null,{"$f":"IF(FP$78=\"NO\",\"MAKE BLANK\",IF(INDEX(All_Hazards_and_Controls,$BW47,FP$79)=0,\"\",INDEX(All_Hazards_and_Controls,$BW47,FP$79)))","v":"MAKE BLANK"},null,null,{"$f":"IF(FS$78=\"NO\",\"MAKE BLANK\",IF(INDEX(All_Hazards_and_Controls,$BW47,FS$79)=0,\"\",INDEX(All_Hazards_and_Controls,$BW47,FS$79)))","v":"MAKE BLANK"},null,null,{"$f":"IF(FV$78=\"NO\",\"MAKE BLANK\",IF(INDEX(All_Hazards_and_Controls,$BW47,FV$79)=0,\"\",INDEX(All_Hazards_and_Controls,$BW47,FV$79)))","v":"MAKE BLANK"},null,null,{"$f":"IF(FY$78=\"NO\",\"MAKE BLANK\",IF(INDEX(All_Hazards_and_Controls,$BW47,FY$79)=0,\"\",INDEX(All_Hazards_and_Controls,$BW47,FY$79)))","v":"MAKE BLANK"},null,null,{"$f":"IF(GB$78=\"NO\",\"MAKE BLANK\",IF(INDEX(All_Hazards_and_Controls,$BW47,GB$79)=0,\"\",INDEX(All_Hazards_and_Controls,$BW47,GB$79)))","v":"MAKE BLANK"},null,null,{"$f":"IF(GE$78=\"NO\",\"MAKE BLANK\",IF(INDEX(All_Hazards_and_Controls,$BW47,GE$79)=0,\"\",INDEX(All_Hazards_and_Controls,$BW47,GE$79)))","v":"MAKE BLANK"},null,null,{"$f":"IF(GH$78=\"NO\",\"MAKE BLANK\",IF(INDEX(All_Hazards_and_Controls,$BW47,GH$79)=0,\"\",INDEX(All_Hazards_and_Controls,$BW47,GH$79)))","v":"MAKE BLANK"},null,null,{"$f":"IF(GK$78=\"NO\",\"MAKE BLANK\",IF(INDEX(All_Hazards_and_Controls,$BW47,GK$79)=0,\"\",INDEX(All_Hazards_and_Controls,$BW47,GK$79)))","v":"MAKE BLANK"},null,null,{"$f":"IF(GN$78=\"NO\",\"MAKE BLANK\",IF(INDEX(All_Hazards_and_Controls,$BW47,GN$79)=0,\"\",INDEX(All_Hazards_and_Controls,$BW47,GN$79)))","v":"MAKE BLANK"},null,null,{"$f":"IF(GQ$78=\"NO\",\"MAKE BLANK\",IF(INDEX(All_Hazards_and_Controls,$BW47,GQ$79)=0,\"\",INDEX(All_Hazards_and_Controls,$BW47,GQ$79)))","v":"MAKE BLANK"},null,null,{"$f":"IF(GT$78=\"NO\",\"MAKE BLANK\",IF(INDEX(All_Hazards_and_Controls,$BW47,GT$79)=0,\"\",INDEX(All_Hazards_and_Controls,$BW47,GT$79)))","v":"MAKE BLANK"},null,null,{"$f":"IF(GW$78=\"NO\",\"MAKE BLANK\",IF(INDEX(All_Hazards_and_Controls,$BW47,GW$79)=0,\"\",INDEX(All_Hazards_and_Controls,$BW47,GW$79)))","v":"MAKE BLANK"},null,null,{"$f":"IF(GZ$78=\"NO\",\"MAKE BLANK\",IF(INDEX(All_Hazards_and_Controls,$BW47,GZ$79)=0,\"\",INDEX(All_Hazards_and_Controls,$BW47,GZ$79)))","v":"MAKE BLANK"},null,null,{"$f":"IF(HC$78=\"NO\",\"MAKE BLANK\",IF(INDEX(All_Hazards_and_Controls,$BW47,HC$79)=0,\"\",INDEX(All_Hazards_and_Controls,$BW47,HC$79)))","v":"MAKE BLANK"},null,null,{"$f":"IF(HF$78=\"NO\",\"MAKE BLANK\",IF(INDEX(All_Hazards_and_Controls,$BW47,HF$79)=0,\"\",INDEX(All_Hazards_and_Controls,$BW47,HF$79)))","v":"MAKE BLANK"},null,null,{"$f":"IF(HI$78=\"NO\",\"MAKE BLANK\",IF(INDEX(All_Hazards_and_Controls,$BW47,HI$79)=0,\"\",INDEX(All_Hazards_and_Controls,$BW47,HI$79)))","v":"MAKE BLANK"},null,null,{"$f":"IF(HL$78=\"NO\",\"MAKE BLANK\",IF(INDEX(All_Hazards_and_Controls,$BW47,HL$79)=0,\"\",INDEX(All_Hazards_and_Controls,$BW47,HL$79)))","v":"MAKE BLANK"},null,null,{"$f":"IF(HO$78=\"NO\",\"MAKE BLANK\",IF(INDEX(All_Hazards_and_Controls,$BW47,HO$79)=0,\"\",INDEX(All_Hazards_and_Controls,$BW47,HO$79)))","v":"MAKE BLANK"},null,null,{"$f":"IF(HR$78=\"NO\",\"MAKE BLANK\",IF(INDEX(All_Hazards_and_Controls,$BW47,HR$79)=0,\"\",INDEX(All_Hazards_and_Controls,$BW47,HR$79)))","v":"MAKE BLANK"},null,null,{"$f":"IF(HU$78=\"NO\",\"MAKE BLANK\",IF(INDEX(All_Hazards_and_Controls,$BW47,HU$79)=0,\"\",INDEX(All_Hazards_and_Controls,$BW47,HU$79)))","v":"MAKE BLANK"},null,null,{"$f":"IF(HX$78=\"NO\",\"MAKE BLANK\",IF(INDEX(All_Hazards_and_Controls,$BW47,HX$79)=0,\"\",INDEX(All_Hazards_and_Controls,$BW47,HX$79)))","v":"MAKE BLANK"},null,null,{"$f":"IF(IA$78=\"NO\",\"MAKE BLANK\",IF(INDEX(All_Hazards_and_Controls,$BW47,IA$79)=0,\"\",INDEX(All_Hazards_and_Controls,$BW47,IA$79)))","v":"MAKE BLANK"},null,null,{"$f":"IF(ID$78=\"NO\",\"MAKE BLANK\",IF(INDEX(All_Hazards_and_Controls,$BW47,ID$79)=0,\"\",INDEX(All_Hazards_and_Controls,$BW47,ID$79)))","v":"MAKE BLANK"},null,null,{"$f":"IF(IG$78=\"NO\",\"MAKE BLANK\",IF(INDEX(All_Hazards_and_Controls,$BW47,IG$79)=0,\"\",INDEX(All_Hazards_and_Controls,$BW47,IG$79)))","v":"MAKE BLANK"},null,null,{"$f":"IF(IJ$78=\"NO\",\"MAKE BLANK\",IF(INDEX(All_Hazards_and_Controls,$BW47,IJ$79)=0,\"\",INDEX(All_Hazards_and_Controls,$BW47,IJ$79)))","v":"MAKE BLANK"},null,null,{"$f":"IF(IM$78=\"NO\",\"MAKE BLANK\",IF(INDEX(All_Hazards_and_Controls,$BW47,IM$79)=0,\"\",INDEX(All_Hazards_and_Controls,$BW47,IM$79)))","v":"MAKE BLANK"},null,null,{"$f":"IF(IP$78=\"NO\",\"MAKE BLANK\",IF(INDEX(All_Hazards_and_Controls,$BW47,IP$79)=0,\"\",INDEX(All_Hazards_and_Controls,$BW47,IP$79)))","v":"MAKE BLANK"},null,null,{"$f":"IF(IS$78=\"NO\",\"MAKE BLANK\",IF(INDEX(All_Hazards_and_Controls,$BW47,IS$79)=0,\"\",INDEX(All_Hazards_and_Controls,$BW47,IS$79)))","v":"MAKE BLANK"},null,null,{"$f":"IF(IV$78=\"NO\",\"MAKE BLANK\",IF(INDEX(All_Hazards_and_Controls,$BW47,IV$79)=0,\"\",INDEX(All_Hazards_and_Controls,$BW47,IV$79)))","v":"MAKE BLANK"},null,null,{"$f":"IF(IY$78=\"NO\",\"MAKE BLANK\",IF(INDEX(All_Hazards_and_Controls,$BW47,IY$79)=0,\"\",INDEX(All_Hazards_and_Controls,$BW47,IY$79)))","v":"MAKE BLANK"},null,null,{"$f":"IF(JB$78=\"NO\",\"MAKE BLANK\",IF(INDEX(All_Hazards_and_Controls,$BW47,JB$79)=0,\"\",INDEX(All_Hazards_and_Controls,$BW47,JB$79)))","v":"MAKE BLANK"},null,null,{"$f":"IF(JE$78=\"NO\",\"MAKE BLANK\",IF(INDEX(All_Hazards_and_Controls,$BW47,JE$79)=0,\"\",INDEX(All_Hazards_and_Controls,$BW47,JE$79)))","v":"MAKE BLANK"},null,null,{"$f":"IF(JH$78=\"NO\",\"MAKE BLANK\",IF(INDEX(All_Hazards_and_Controls,$BW47,JH$79)=0,\"\",INDEX(All_Hazards_and_Controls,$BW47,JH$79)))","v":"MAKE BLANK"},null,null,{"$f":"IF(JK$78=\"NO\",\"MAKE BLANK\",IF(INDEX(All_Hazards_and_Controls,$BW47,JK$79)=0,\"\",INDEX(All_Hazards_and_Controls,$BW47,JK$79)))","v":"MAKE BLANK"},null,null,{"$f":"IF(JN$78=\"NO\",\"MAKE BLANK\",IF(INDEX(All_Hazards_and_Controls,$BW47,JN$79)=0,\"\",INDEX(All_Hazards_and_Controls,$BW47,JN$79)))","v":"MAKE BLANK"},null,null,{"$f":"IF(JQ$78=\"NO\",\"MAKE BLANK\",IF(INDEX(All_Hazards_and_Controls,$BW47,JQ$79)=0,\"\",INDEX(All_Hazards_and_Controls,$BW47,JQ$79)))","v":"MAKE BLANK"},null,null,{"$f":"IF(JT$78=\"NO\",\"MAKE BLANK\",IF(INDEX(All_Hazards_and_Controls,$BW47,JT$79)=0,\"\",INDEX(All_Hazards_and_Controls,$BW47,JT$79)))","v":"MAKE BLANK"},null,null,{"$f":"IF(JW$78=\"NO\",\"MAKE BLANK\",IF(INDEX(All_Hazards_and_Controls,$BW47,JW$79)=0,\"\",INDEX(All_Hazards_and_Controls,$BW47,JW$79)))","v":"MAKE BLANK"},null,null,{"$f":"IF(JZ$78=\"NO\",\"MAKE BLANK\",IF(INDEX(All_Hazards_and_Controls,$BW47,JZ$79)=0,\"\",INDEX(All_Hazards_and_Controls,$BW47,JZ$79)))","v":"MAKE BLANK"},null,null,{"$f":"IF(KC$78=\"NO\",\"MAKE BLANK\",IF(INDEX(All_Hazards_and_Controls,$BW47,KC$79)=0,\"\",INDEX(All_Hazards_and_Controls,$BW47,KC$79)))","v":"MAKE BLANK"},null,null,{"$f":"IF(KF$78=\"NO\",\"MAKE BLANK\",IF(INDEX(All_Hazards_and_Controls,$BW47,KF$79)=0,\"\",INDEX(All_Hazards_and_Controls,$BW47,KF$79)))","v":"MAKE BLANK"},null,null,{"$f":"IF(KI$78=\"NO\",\"MAKE BLANK\",IF(INDEX(All_Hazards_and_Controls,$BW47,KI$79)=0,\"\",INDEX(All_Hazards_and_Controls,$BW47,KI$79)))","v":"MAKE BLANK"},null,null,{"$f":"IF(KL$78=\"NO\",\"MAKE BLANK\",IF(INDEX(All_Hazards_and_Controls,$BW47,KL$79)=0,\"\",INDEX(All_Hazards_and_Controls,$BW47,KL$79)))","v":"MAKE BLANK"},null,null,{"$f":"IF(KO$78=\"NO\",\"MAKE BLANK\",IF(INDEX(All_Hazards_and_Controls,$BW47,KO$79)=0,\"\",INDEX(All_Hazards_and_Controls,$BW47,KO$79)))","v":"MAKE BLANK"},null,null,{"$f":"IF(KR$78=\"NO\",\"MAKE BLANK\",IF(INDEX(All_Hazards_and_Controls,$BW47,KR$79)=0,\"\",INDEX(All_Hazards_and_Controls,$BW47,KR$79)))","v":"MAKE BLANK"},null,null,{"$f":"IF(KU$78=\"NO\",\"MAKE BLANK\",IF(INDEX(All_Hazards_and_Controls,$BW47,KU$79)=0,\"\",INDEX(All_Hazards_and_Controls,$BW47,KU$79)))","v":"MAKE BLANK"},null,null,{"$f":"IF(KX$78=\"NO\",\"MAKE BLANK\",IF(INDEX(All_Hazards_and_Controls,$BW47,KX$79)=0,\"\",INDEX(All_Hazards_and_Controls,$BW47,KX$79)))","v":"MAKE BLANK"},null,null,{"$f":"IF(LA$78=\"NO\",\"MAKE BLANK\",IF(INDEX(All_Hazards_and_Controls,$BW47,LA$79)=0,\"\",INDEX(All_Hazards_and_Controls,$BW47,LA$79)))","v":"MAKE BLANK"},null,null,{"$f":"IF(LD$78=\"NO\",\"MAKE BLANK\",IF(INDEX(All_Hazards_and_Controls,$BW47,LD$79)=0,\"\",INDEX(All_Hazards_and_Controls,$BW47,LD$79)))","v":"MAKE BLANK"},null,null,{"$f":"IF(LG$78=\"NO\",\"MAKE BLANK\",IF(INDEX(All_Hazards_and_Controls,$BW47,LG$79)=0,\"\",INDEX(All_Hazards_and_Controls,$BW47,LG$79)))","v":"MAKE BLANK"},null,null,{"$f":"IF(LJ$78=\"NO\",\"MAKE BLANK\",IF(INDEX(All_Hazards_and_Controls,$BW47,LJ$79)=0,\"\",INDEX(All_Hazards_and_Controls,$BW47,LJ$79)))","v":"MAKE BLANK"},null,null,{"$f":"IF(LM$78=\"NO\",\"MAKE BLANK\",IF(INDEX(All_Hazards_and_Controls,$BW47,LM$79)=0,\"\",INDEX(All_Hazards_and_Controls,$BW47,LM$79)))","v":"MAKE BLANK"},null,null,{"$f":"IF(LP$78=\"NO\",\"MAKE BLANK\",IF(INDEX(All_Hazards_and_Controls,$BW47,LP$79)=0,\"\",INDEX(All_Hazards_and_Controls,$BW47,LP$79)))","v":"MAKE BLANK"},null,null,{"$f":"IF(LS$78=\"NO\",\"MAKE BLANK\",IF(INDEX(All_Hazards_and_Controls,$BW47,LS$79)=0,\"\",INDEX(All_Hazards_and_Controls,$BW47,LS$79)))","v":"MAKE BLANK"},null,null,{"$f":"IF(LV$78=\"NO\",\"MAKE BLANK\",IF(INDEX(All_Hazards_and_Controls,$BW47,LV$79)=0,\"\",INDEX(All_Hazards_and_Controls,$BW47,LV$79)))","v":"MAKE BLANK"},null,null,{"$f":"IF(LY$78=\"NO\",\"MAKE BLANK\",IF(INDEX(All_Hazards_and_Controls,$BW47,LY$79)=0,\"\",INDEX(All_Hazards_and_Controls,$BW47,LY$79)))","v":"MAKE BLANK"},null,null,{"$f":"IF(MB$78=\"NO\",\"MAKE BLANK\",IF(INDEX(All_Hazards_and_Controls,$BW47,MB$79)=0,\"\",INDEX(All_Hazards_and_Controls,$BW47,MB$79)))","v":"MAKE BLANK"},null,null,{"$f":"IF(ME$78=\"NO\",\"MAKE BLANK\",IF(INDEX(All_Hazards_and_Controls,$BW47,ME$79)=0,\"\",INDEX(All_Hazards_and_Controls,$BW47,ME$79)))","v":"MAKE BLANK"},null,null,{"$f":"IF(MH$78=\"NO\",\"MAKE BLANK\",IF(INDEX(All_Hazards_and_Controls,$BW47,MH$79)=0,\"\",INDEX(All_Hazards_and_Controls,$BW47,MH$79)))","v":"MAKE BLANK"},null,null,{"$f":"IF(MK$78=\"NO\",\"MAKE BLANK\",IF(INDEX(All_Hazards_and_Controls,$BW47,MK$79)=0,\"\",INDEX(All_Hazards_and_Controls,$BW47,MK$79)))","v":"MAKE BLANK"},null,null,{"$f":"IF(MN$78=\"NO\",\"MAKE BLANK\",IF(INDEX(All_Hazards_and_Controls,$BW47,MN$79)=0,\"\",INDEX(All_Hazards_and_Controls,$BW47,MN$79)))","v":"MAKE BLANK"},null,null,{"$f":"IF(MQ$78=\"NO\",\"MAKE BLANK\",IF(INDEX(All_Hazards_and_Controls,$BW47,MQ$79)=0,\"\",INDEX(All_Hazards_and_Controls,$BW47,MQ$79)))","v":"MAKE BLANK"},null,null,{"$f":"IF(MT$78=\"NO\",\"MAKE BLANK\",IF(INDEX(All_Hazards_and_Controls,$BW47,MT$79)=0,\"\",INDEX(All_Hazards_and_Controls,$BW47,MT$79)))","v":"MAKE BLANK"}]
[null,null,null,null,null,null,null,null,null,null,null,null,null,null,null,null,null,null,null,null,null,null,null,null,null,null,null,null,null,null,null,null,null,null,null,null,null,null,null,null,null,null,null,"Trained fire watch",null,null,null,null,"Proper Tool Used",null,null,null,null,"Toeboards"]
[null,null,null,null,null,null,null,null,null,null,null,null,null,null,null,null,null,null,null,null,null,null,null,null,null,null,null,null,null,null,null,null,null,null,null,null,null,null,null,null,null,null,null,"Fire blanket",null,null,null,null,"Tool Used Properly",null,null,null,null,"Scaffold tags",null,null,null,null,null,null,null,null,null,null,null,null,null,null,null,null,null,null,null,null,51,{"$f":"IF(BX$78=\"NO\",\"MAKE BLANK\",IF(INDEX(All_Hazards_and_Controls,$BW49,BX$79)=0,\"\",INDEX(All_Hazards_and_Controls,$BW49,BX$79)))","v":"MAKE BLANK"},"MAKE BLANK","MAKE BLANK","MAKE BLANK","MAKE BLANK","MAKE BLANK","MAKE BLANK","MAKE BLANK","MAKE BLANK","MAKE BLANK","MAKE BLANK","MAKE BLANK","MAKE BLANK","MAKE BLANK","MAKE BLANK","MAKE BLANK",{"$f":"IF(CN$78=\"NO\",\"MAKE BLANK\",IF(INDEX(All_Hazards_and_Controls,$BW49,CN$79)=0,\"\",INDEX(All_Hazards_and_Controls,$BW49,CN$79)))","v":"MAKE BLANK"},"MAKE BLANK","MAKE BLANK","MAKE BLANK","MAKE BLANK","MAKE BLANK","MAKE BLANK","MAKE BLANK","MAKE BLANK","MAKE BLANK","MAKE BLANK","MAKE BLANK","MAKE BLANK","MAKE BLANK","MAKE BLANK","MAKE BLANK","MAKE BLANK","MAKE BLANK","MAKE BLANK","MAKE BLANK","MAKE BLANK","MAKE BLANK","MAKE BLANK","MAKE BLANK","MAKE BLANK","MAKE BLANK","MAKE BLANK","MAKE BLANK","MAKE BLANK","MAKE BLANK","MAKE BLANK","MAKE BLANK","MAKE BLANK","MAKE BLANK","MAKE BLANK","MAKE BLANK","MAKE BLANK","MAKE BLANK","MAKE BLANK","MAKE BLANK","MAKE BLANK","MAKE BLANK","MAKE BLANK","MAKE BLANK","MAKE BLANK","MAKE BLANK","MAKE BLANK","MAKE BLANK","MAKE BLANK","MAKE BLANK","MAKE BLANK","MAKE BLANK","MAKE BLANK","MAKE BLANK","MAKE BLANK","MAKE BLANK","MAKE BLANK","MAKE BLANK","MAKE BLANK","MAKE BLANK","MAKE BLANK","MAKE BLANK","MAKE BLANK","MAKE BLANK",{"$f":"IF(EZ$78=\"NO\",\"MAKE BLANK\",IF(INDEX(All_Hazards_and_Controls,$BW49,EZ$79)=0,\"\",INDEX(All_Hazards_and_Controls,$BW49,EZ$79)))","v":"MAKE BLANK"},"MAKE BLANK","MAKE BLANK","MAKE BLANK","MAKE BLANK","MAKE BLANK","MAKE BLANK","MAKE BLANK","MAKE BLANK","MAKE BLANK","MAKE BLANK","MAKE BLANK","MAKE BLANK","MAKE BLANK","MAKE BLANK","MAKE BLANK",{"$f":"IF(FP$78=\"NO\",\"MAKE BLANK\",IF(INDEX(All_Hazards_and_Controls,$BW49,FP$79)=0,\"\",INDEX(All_Hazards_and_Controls,$BW49,FP$79)))","v":"MAKE BLANK"},"MAKE BLANK","MAKE BLANK","MAKE BLANK","MAKE BLANK","MAKE BLANK","MAKE BLANK","MAKE BLANK","MAKE BLANK","MAKE BLANK","MAKE BLANK","MAKE BLANK","MAKE BLANK","MAKE BLANK","MAKE BLANK","MAKE BLANK","MAKE BLANK","MAKE BLANK","MAKE BLANK","MAKE BLANK","MAKE BLANK","MAKE BLANK","MAKE BLANK","MAKE BLANK","MAKE BLANK","MAKE BLANK","MAKE BLANK","MAKE BLANK","MAKE BLANK","MAKE BLANK","MAKE BLANK","MAKE BLANK","MAKE BLANK","MAKE BLANK","MAKE BLANK","MAKE BLANK","MAKE BLANK","MAKE BLANK","MAKE BLANK","MAKE BLANK","MAKE BLANK","MAKE BLANK","MAKE BLANK","MAKE BLANK","MAKE BLANK","MAKE BLANK","MAKE BLANK","MAKE BLANK","MAKE BLANK","MAKE BLANK","MAKE BLANK","MAKE BLANK","MAKE BLANK","MAKE BLANK","MAKE BLANK","MAKE BLANK","MAKE BLANK","MAKE BLANK","MAKE BLANK","MAKE BLANK","MAKE BLANK","MAKE BLANK","MAKE BLANK","MAKE BLANK",{"$f":"IF(IB$78=\"NO\",\"MAKE BLANK\",IF(INDEX(All_Hazards_and_Controls,$BW49,IB$79)=0,\"\",INDEX(All_Hazards_and_Controls,$BW49,IB$79)))","v":"MAKE BLANK"},"MAKE BLANK","MAKE BLANK","MAKE BLANK","MAKE BLANK","MAKE BLANK","MAKE BLANK","MAKE BLANK","MAKE BLANK","MAKE BLANK","MAKE BLANK","MAKE BLANK","MAKE BLANK","MAKE BLANK","MAKE BLANK","MAKE BLANK","MAKE BLANK","MAKE BLANK","MAKE BLANK","MAKE BLANK","MAKE BLANK","MAKE BLANK","MAKE BLANK","MAKE BLANK","MAKE BLANK","MAKE BLANK","MAKE BLANK","MAKE BLANK","MAKE BLANK","MAKE BLANK","MAKE BLANK","MAKE BLANK","MAKE BLANK","MAKE BLANK","MAKE BLANK","MAKE BLANK","MAKE BLANK","MAKE BLANK","MAKE BLANK","MAKE BLANK","MAKE BLANK","MAKE BLANK","MAKE BLANK","MAKE BLANK",{"$f":"IF(JT$78=\"NO\",\"MAKE BLANK\",IF(INDEX(All_Hazards_and_Controls,$BW49,JT$79)=0,\"\",INDEX(All_Hazards_and_Controls,$BW49,JT$79)))","v":"MAKE BLANK"},"MAKE BLANK","MAKE BLANK","MAKE BLANK","MAKE BLANK","MAKE BLANK","MAKE BLANK","MAKE BLANK","MAKE BLANK","MAKE BLANK","MAKE BLANK","MAKE BLANK","MAKE BLANK","MAKE BLANK","MAKE BLANK","MAKE BLANK","MAKE BLANK","MAKE BLANK","MAKE BLANK","MAKE BLANK","MAKE BLANK","MAKE BLANK","MAKE BLANK","MAKE BLANK","MAKE BLANK","MAKE BLANK","MAKE BLANK","MAKE BLANK","MAKE BLANK","MAKE BLANK","MAKE BLANK","MAKE BLANK","MAKE BLANK","MAKE BLANK","MAKE BLANK","MAKE BLANK","MAKE BLANK","MAKE BLANK","MAKE BLANK","MAKE BLANK","MAKE BLANK","MAKE BLANK","MAKE BLANK","MAKE BLANK","MAKE BLANK","MAKE BLANK","MAKE BLANK","MAKE BLANK","MAKE BLANK","MAKE BLANK","MAKE BLANK","MAKE BLANK","MAKE BLANK","MAKE BLANK","MAKE BLANK","MAKE BLANK","MAKE BLANK","MAKE BLANK","MAKE BLANK","MAKE BLANK","MAKE BLANK","MAKE BLANK","MAKE BLANK","MAKE BLANK",{"$f":"IF(MF$78=\"NO\",\"MAKE BLANK\",IF(INDEX(All_Hazards_and_Controls,$BW49,MF$79)=0,\"\",INDEX(All_Hazards_and_Controls,$BW49,MF$79)))","v":"MAKE BLANK"},"MAKE BLANK","MAKE BLANK","MAKE BLANK","MAKE BLANK","MAKE BLANK","MAKE BLANK","MAKE BLANK","MAKE BLANK","MAKE BLANK",{"$f":"IF(MP$78=\"NO\",\"MAKE BLANK\",IF(INDEX(All_Hazards_and_Controls,$BW49,MP$79)=0,\"\",INDEX(All_Hazards_and_Controls,$BW49,MP$79)))","v":"MAKE BLANK"},"MAKE BLANK","MAKE BLANK","MAKE BLANK","MAKE BLANK","MAKE BLANK","MAKE BLANK"]
[null,null,null,null,null,null,null,null,null,null,null,null,null,null,null,null,null,null,null,null,null,null,null,null,null,null,null,null,null,null,null,null,null,null,null,null,null,null,null,null,null,null,null,null,null,null,null,null,null,null,null,null,null,null,null,null,null,null,null,null,null,null,null,null,null,null,null,null,null,null,null,null,null,null,52,"MAKE BLANK","MAKE BLANK","MAKE BLANK",{"$f":"IF(CA$78=\"NO\",\"MAKE BLANK\",IF(INDEX(All_Hazards_and_Controls,$BW50,CA$79)=0,\"\",INDEX(All_Hazards_and_Controls,$BW50,CA$79)))","v":"MAKE BLANK"},"MAKE BLANK","MAKE BLANK","MAKE BLANK","MAKE BLANK","MAKE BLANK","MAKE BLANK","MAKE BLANK","MAKE BLANK","MAKE BLANK","MAKE BLANK","MAKE BLANK","MAKE BLANK","MAKE BLANK","MAKE BLANK","MAKE BLANK","MAKE BLANK","MAKE BLANK","MAKE BLANK","MAKE BLANK","MAKE BLANK","MAKE BLANK","MAKE BLANK","MAKE BLANK","MAKE BLANK","MAKE BLANK","MAKE BLANK","MAKE BLANK","MAKE BLANK","MAKE BLANK","MAKE BLANK","MAKE BLANK","MAKE BLANK","MAKE BLANK","MAKE BLANK","MAKE BLANK","MAKE BLANK","MAKE BLANK","MAKE BLANK","MAKE BLANK","MAKE BLANK","MAKE BLANK","MAKE BLANK","MAKE BLANK","MAKE BLANK","MAKE BLANK","MAKE BLANK","MAKE BLANK","MAKE BLANK","MAKE BLANK","MAKE BLANK","MAKE BLANK","MAKE BLANK","MAKE BLANK","MAKE BLANK","MAKE BLANK","MAKE BLANK","MAKE BLANK","MAKE BLANK","MAKE BLANK","MAKE BLANK","MAKE BLANK","MAKE BLANK","MAKE BLANK","MAKE BLANK","MAKE BLANK","MAKE BLANK","MAKE BLANK","MAKE BLANK","MAKE BLANK","MAKE BLANK","MAKE BLANK","MAKE BLANK","MAKE BLANK","MAKE BLANK","MAKE BLANK","MAKE BLANK","MAKE BLANK","MAKE BLANK","MAKE BLANK","MAKE BLANK","MAKE BLANK","MAKE BLANK","MAKE BLANK","MAKE BLANK","MAKE BLANK","MAKE BLANK","MAKE BLANK","MAKE BLANK","MAKE BLANK","MAKE BLANK","MAKE BLANK","MAKE BLANK","MAKE BLANK","MAKE BLANK","MAKE BLANK","MAKE BLANK","MAKE BLANK","MAKE BLANK","MAKE BLANK","MAKE BLANK","MAKE BLANK","MAKE BLANK","MAKE BLANK","MAKE BLANK","MAKE BLANK","MAKE BLANK","MAKE BLANK","MAKE BLANK","MAKE BLANK","MAKE BLANK","MAKE BLANK","MAKE BLANK","MAKE BLANK","MAKE BLANK","MAKE BLANK","MAKE BLANK","MAKE BLANK","MAKE BLANK","MAKE BLANK","MAKE BLANK","MAKE BLANK","MAKE BLANK","MAKE BLANK","MAKE BLANK","MAKE BLANK","MAKE BLANK","MAKE BLANK","MAKE BLANK","MAKE BLANK","MAKE BLANK","MAKE BLANK","MAKE BLANK","MAKE BLANK","MAKE BLANK","MAKE BLANK","MAKE BLANK","MAKE BLANK","MAKE BLANK","MAKE BLANK","MAKE BLANK","MAKE BLANK","MAKE BLANK","MAKE BLANK","MAKE BLANK","MAKE BLANK","MAKE BLANK","MAKE BLANK","MAKE BLANK","MAKE BLANK","MAKE BLANK","MAKE BLANK","MAKE BLANK","MAKE BLANK","MAKE BLANK","MAKE BLANK","MAKE BLANK","MAKE BLANK","MAKE BLANK","MAKE BLANK","MAKE BLANK","MAKE BLANK","MAKE BLANK","MAKE BLANK","MAKE BLANK","MAKE BLANK","MAKE BLANK","MAKE BLANK","MAKE BLANK","MAKE BLANK","MAKE BLANK","MAKE BLANK","MAKE BLANK","MAKE BLANK","MAKE BLANK","MAKE BLANK","MAKE BLANK","MAKE BLANK","MAKE BLANK","MAKE BLANK","MAKE BLANK","MAKE BLANK","MAKE BLANK","MAKE BLANK","MAKE BLANK","MAKE BLANK","MAKE BLANK","MAKE BLANK","MAKE BLANK","MAKE BLANK","MAKE BLANK","MAKE BLANK","MAKE BLANK","MAKE BLANK","MAKE BLANK","MAKE BLANK","MAKE BLANK","MAKE BLANK","MAKE BLANK","MAKE BLANK","MAKE BLANK","MAKE BLANK","MAKE BLANK","MAKE BLANK","MAKE BLANK","MAKE BLANK","MAKE BLANK","MAKE BLANK","MAKE BLANK","MAKE BLANK","MAKE BLANK","MAKE BLANK","MAKE BLANK","MAKE BLANK","MAKE BLANK","MAKE BLANK","MAKE BLANK","MAKE BLANK","MAKE BLANK","MAKE BLANK","MAKE BLANK","MAKE BLANK","MAKE BLANK","MAKE BLANK","MAKE BLANK","MAKE BLANK","MAKE BLANK","MAKE BLANK","MAKE BLANK","MAKE BLANK","MAKE BLANK","MAKE BLANK","MAKE BLANK","MAKE BLANK","MAKE BLANK","MAKE BLANK","MAKE BLANK","MAKE BLANK","MAKE BLANK","MAKE BLANK","MAKE BLANK","MAKE BLANK","MAKE BLANK","MAKE BLANK","MAKE BLANK","MAKE BLANK","MAKE BLANK","MAKE BLANK","MAKE BLANK","MAKE BLANK","MAKE BLANK","MAKE BLANK","MAKE BLANK","MAKE BLANK","MAKE BLANK","MAKE BLANK","MAKE BLANK","MAKE BLANK","MAKE BLANK","MAKE BLANK","MAKE BLANK","MAKE BLANK","MAKE BLANK","MAKE BLANK","MAKE BLANK","MAKE BLANK","MAKE BLANK","MAKE BLANK","MAKE BLANK","MAKE BLANK","MAKE BLANK","MAKE BLANK","MAKE BLANK","MAKE BLANK","MAKE BLANK","MAKE BLANK","MAKE BLANK","MAKE BLANK","MAKE BLANK","MAKE BLANK","MAKE BLANK","MAKE BLANK"]
[{"$f":"CONCATENATE(IF(Business_Name=\"Skanska\",\"Skanska \",\"\"),\"Construction Work Plan Tool, \",Tool_Revision)","v":"Construction Work Plan Tool, Rev 15"},null,null,null,{"$f":"CONCATENATE(\"Page 1 of \",Number_of_pages_printed_plan)","v":"Page 1 of 8"},{"$f":"$A$51","v":"Construction Work Plan Tool, Rev 15"},{"$f":"CONCATENATE(\"Page 2 of \",Number_of_pages_printed_plan)","v":"Page 2 of 8"},{"$f":"$A$51","v":"Construction Work Plan Tool, Rev 15"},null,null,{"$f":"CONCATENATE(\"Page 3 of \",Number_of_pages_printed_plan)","v":"Page 3 of 8"},{"$f":"$A$51","v":"Construction Work Plan Tool, Rev 15"},null,null,null,{"$f":"CONCATENATE(\"Page 4 of \",Number_of_pages_printed_plan)","v":"Page 4 of 8"},null,{"$f":"IF(Number_environmental_pages=0,\"MAKE BLANK\",$A$51)","v":"MAKE BLANK"},null,{"$f":"IF(Number_environmental_pages=0,\"MAKE BLANK\",CONCATENATE(\"Page 5 of \",Number_of_pages_printed_plan))","v":"MAKE BLANK"},null,{"$f":"IF(Number_environmental_pages<2,\"MAKE BLANK\",$A$51)","v":"MAKE BLANK"},null,{"$f":"IF(Number_environmental_pages<2,\"MAKE BLANK\",CONCATENATE(\"Page 6 of \",Number_of_pages_printed_plan))","v":"MAKE BLANK"},null,{"$f":"IF(Number_environmental_pages<3,\"MAKE BLANK\",$A$51)","v":"MAKE BLANK"},null,{"$f":"IF(Number_environmental_pages<3,\"MAKE BLANK\",CONCATENATE(\"Page 7 of \",Number_of_pages_printed_plan))","v":"MAKE BLANK"},{"$f":"$A$51","v":"Construction Work Plan Tool, Rev 15"},null,null,null,null,null,null,null,null,null,{"$f":"CONCATENATE(\"Page \",UC_Page_No,\" of \",Number_of_pages_printed_plan)","v":"Page 5 of 8"},null,null,null,{"$f":"$A$51","v":"Construction Work Plan Tool, Rev 15"},null,null,null,null,null,null,null,null,null,{"$f":"CONCATENATE(\"Page \",UC_Page_No+1,\" of \",Number_of_pages_printed_plan)","v":"Page 6 of 8"},null,null,null,{"$f":"$A$51","v":"Construction Work Plan Tool, Rev 15"},null,null,null,null,null,null,null,null,null,null,{"$f":"CONCATENATE(\"Page \",UC_Page_No+2,\" of \",Number_of_pages_printed_plan)","v":"Page 7 of 8"},null,null,null,{"$f":"$A$51","v":"Construction Work Plan Tool, Rev 15"},null,{"$f":"CONCATENATE(\"Page \",LL_Page_No,\" of \",Number_of_pages_printed_plan)","v":"Page 8 of 8"},null,{"$f":"IF(BX$78=\"NO\",\"MAKE BLANK\",$A$51)","v":"MAKE BLANK"},null,{"$f":"IF(BX$78=\"NO\",\"MAKE BLANK\",CONCATENATE(\"Page \",LL_Page_No+BX77,\" of\", Number_of_pages_printed_plan))","v":"MAKE BLANK"},{"$f":"IF(CA$78=\"NO\",\"MAKE BLANK\",$A$51)","v":"MAKE BLANK"},null,{"$f":"IF(CA$78=\"NO\",\"MAKE BLANK\",CONCATENATE(\"Page \",LL_Page_No+CA77,\" of\", Number_of_pages_printed_plan))","v":"MAKE BLANK"},{"$f":"IF(CD$78=\"NO\",\"MAKE BLANK\",$A$51)","v":"MAKE BLANK"},null,{"$f":"IF(CD$78=\"NO\",\"MAKE BLANK\",CONCATENATE(\"Page \",LL_Page_No+CD77,\" of\", Number_of_pages_printed_plan))","v":"MAKE BLANK"},{"$f":"IF(CG$78=\"NO\",\"MAKE BLANK\",$A$51)","v":"MAKE BLANK"},null,{"$f":"IF(CG$78=\"NO\",\"MAKE BLANK\",CONCATENATE(\"Page \",LL_Page_No+CG77,\" of\", Number_of_pages_printed_plan))","v":"MAKE BLANK"},{"$f":"IF(CJ$78=\"NO\",\"MAKE BLANK\",$A$51)","v":"MAKE BLANK"},null,{"$f":"IF(CJ$78=\"NO\",\"MAKE BLANK\",CONCATENATE(\"Page \",LL_Page_No+CJ77,\" of\", Number_of_pages_printed_plan))","v":"MAKE BLANK"},{"$f":"IF(CM$78=\"NO\",\"MAKE BLANK\",$A$51)","v":"MAKE BLANK"},null,{"$f":"IF(CM$78=\"NO\",\"MAKE BLANK\",CONCATENATE(\"Page \",LL_Page_No+CM77,\" of\", Number_of_pages_printed_plan))","v":"MAKE BLANK"},{"$f":"IF(CP$78=\"NO\",\"MAKE BLANK\",$A$51)","v":"MAKE BLANK"},null,{"$f":"IF(CP$78=\"NO\",\"MAKE BLANK\",CONCATENATE(\"Page \",LL_Page_No+CP77,\" of\", Number_of_pages_printed_plan))","v":"MAKE BLANK"},{"$f":"IF(CS$78=\"NO\",\"MAKE BLANK\",$A$51)","v":"MAKE BLANK"},null,{"$f":"IF(CS$78=\"NO\",\"MAKE BLANK\",CONCATENATE(\"Page \",LL_Page_No+CS77,\" of\", Number_of_pages_printed_plan))","v":"MAKE BLANK"},{"$f":"IF(CV$78=\"NO\",\"MAKE BLANK\",$A$51)","v":"MAKE BLANK"},null,{"$f":"IF(CV$78=\"NO\",\"MAKE BLANK\",CONCATENATE(\"Page \",LL_Page_No+CV77,\" of\", Number_of_pages_printed_plan))","v":"MAKE BLANK"},{"$f":"IF(CY$78=\"NO\",\"MAKE BLANK\",$A$51)","v":"MAKE BLANK"},null,{"$f":"IF(CY$78=\"NO\",\"MAKE BLANK\",CONCATENATE(\"Page \",LL_Page_No+CY77,\" of\", Number_of_pages_printed_plan))","v":"MAKE BLANK"},{"$f":"IF(DB$78=\"NO\",\"MAKE BLANK\",$A$51)","v":"MAKE BLANK"},null,{"$f":"IF(DB$78=\"NO\",\"MAKE BLANK\",CONCATENATE(\"Page \",LL_Page_No+DB77,\" of\", Number_of_pages_printed_plan))","v":"MAKE BLANK"},{"$f":"IF(DE$78=\"NO\",\"MAKE BLANK\",$A$51)","v":"MAKE BLANK"},null,{"$f":"IF(DE$78=\"NO\",\"MAKE BLANK\",CONCATENATE(\"Page \",LL_Page_No+DE77,\" of\", Number_of_pages_printed_plan))","v":"MAKE BLANK"},{"$f":"IF(DH$78=\"NO\",\"MAKE BLANK\",$A$51)","v":"MAKE BLANK"},null,{"$f":"IF(DH$78=\"NO\",\"MAKE BLANK\",CONCATENATE(\"Page \",LL_Page_No+DH77,\" of\", Number_of_pages_printed_plan))","v":"MAKE BLANK"},{"$f":"IF(DK$78=\"NO\",\"MAKE BLANK\",$A$51)","v":"MAKE BLANK"},null,{"$f":"IF(DK$78=\"NO\",\"MAKE BLANK\",CONCATENATE(\"Page \",LL_Page_No+DK77,\" of\", Number_of_pages_printed_plan))","v":"MAKE BLANK"},{"$f":"IF(DN$78=\"NO\",\"MAKE BLANK\",$A$51)","v":"MAKE BLANK"},null,{"$f":"IF(DN$78=\"NO\",\"MAKE BLANK\",CONCATENATE(\"Page \",LL_Page_No+DN77,\" of\", Number_of_pages_printed_plan))","v":"MAKE BLANK"},{"$f":"IF(DQ$78=\"NO\",\"MAKE BLANK\",$A$51)","v":"MAKE BLANK"},null,{"$f":"IF(DQ$78=\"NO\",\"MAKE BLANK\",CONCATENATE(\"Page \",LL_Page_No+DQ77,\" of\", Number_of_pages_printed_plan))","v":"MAKE BLANK"},{"$f":"IF(DT$78=\"NO\",\"MAKE BLANK\",$A$51)","v":"MAKE BLANK"},null,{"$f":"IF(DT$78=\"NO\",\"MAKE BLANK\",CONCATENATE(\"Page \",LL_Page_No+DT77,\" of\", Number_of_pages_printed_plan))","v":"MAKE BLANK"},{"$f":"IF(DW$78=\"NO\",\"MAKE BLANK\",$A$51)","v":"MAKE BLANK"},null,{"$f":"IF(DW$78=\"NO\",\"MAKE BLANK\",CONCATENATE(\"Page \",LL_Page_No+DW77,\" of\", Number_of_pages_printed_plan))","v":"MAKE BLANK"},{"$f":"IF(DZ$78=\"NO\",\"MAKE BLANK\",$A$51)","v":"MAKE BLANK"},null,{"$f":"IF(DZ$78=\"NO\",\"MAKE BLANK\",CONCATENATE(\"Page \",LL_Page_No+DZ77,\" of\", Number_of_pages_printed_plan))","v":"MAKE BLANK"},{"$f":"IF(EC$78=\"NO\",\"MAKE BLANK\",$A$51)","v":"MAKE BLANK"},null,{"$f":"IF(EC$78=\"NO\",\"MAKE BLANK\",CONCATENATE(\"Page \",LL_Page_No+EC77,\" of\", Number_of_pages_printed_plan))","v":"MAKE BLANK"},{"$f":"IF(EF$78=\"NO\",\"MAKE BLANK\",$A$51)","v":"MAKE BLANK"},null,{"$f":"IF(EF$78=\"NO\",\"MAKE BLANK\",CONCATENATE(\"Page \",LL_Page_No+EF77,\" of\", Number_of_pages_printed_plan))","v":"MAKE BLANK"},{"$f":"IF(EI$78=\"NO\",\"MAKE BLANK\",$A$51)","v":"MAKE BLANK"},null,{"$f":"IF(EI$78=\"NO\",\"MAKE BLANK\",CONCATENATE(\"Page \",LL_Page_No+EI77,\" of\", Number_of_pages_printed_plan))","v":"MAKE BLANK"},{"$f":"IF(EL$78=\"NO\",\"MAKE BLANK\",$A$51)","v":"MAKE BLANK"},null,{"$f":"IF(EL$78=\"NO\",\"MAKE BLANK\",CONCATENATE(\"Page \",LL_Page_No+EL77,\" of\", Number_of_pages_printed_plan))","v":"MAKE BLANK"},{"$f":"IF(EO$78=\"NO\",\"MAKE BLANK\",$A$51)","v":"MAKE BLANK"},null,{"$f":"IF(EO$78=\"NO\",\"MAKE BLANK\",CONCATENATE(\"Page \",LL_Page_No+EO77,\" of\", Number_of_pages_printed_plan))","v":"MAKE BLANK"},{"$f":"IF(ER$78=\"NO\",\"MAKE BLANK\",$A$51)","v":"MAKE BLANK"},null,{"$f":"IF(ER$78=\"NO\",\"MAKE BLANK\",CONCATENATE(\"Page \",LL_Page_No+ER77,\" of\", Number_of_pages_printed_plan))","v":"MAKE BLANK"},{"$f":"IF(EU$78=\"NO\",\"MAKE BLANK\",$A$51)","v":"MAKE BLANK"},null,{"$f":"IF(EU$78=\"NO\",\"MAKE BLANK\",CONCATENATE(\"Page \",LL_Page_No+EU77,\" of\", Number_of_pages_printed_plan))","v":"MAKE BLANK"},{"$f":"IF(EX$78=\"NO\",\"MAKE BLANK\",$A$51)","v":"MAKE BLANK"},null,{"$f":"IF(EX$78=\"NO\",\"MAKE BLANK\",CONCATENATE(\"Page \",LL_Page_No+EX77,\" of\", Number_of_pages_printed_plan))","v":"MAKE BLANK"},{"$f":"IF(FA$78=\"NO\",\"MAKE BLANK\",$A$51)","v":"MAKE BLANK"},null,{"$f":"IF(FA$78=\"NO\",\"MAKE BLANK\",CONCATENATE(\"Page \",LL_Page_No+FA77,\" of\", Number_of_pages_printed_plan))","v":"MAKE BLANK"},{"$f":"IF(FD$78=\"NO\",\"MAKE BLANK\",$A$51)","v":"MAKE BLANK"},null,{"$f":"IF(FD$78=\"NO\",\"MAKE BLANK\",CONCATENATE(\"Page \",LL_Page_No+FD77,\" of\", Number_of_pages_printed_plan))","v":"MAKE BLANK"},{"$f":"IF(FG$78=\"NO\",\"MAKE BLANK\",$A$51)","v":"MAKE BLANK"},null,{"$f":"IF(FG$78=\"NO\",\"MAKE BLANK\",CONCATENATE(\"Page \",LL_Page_No+FG77,\" of\", Number_of_pages_printed_plan))","v":"MAKE BLANK"},{"$f":"IF(FJ$78=\"NO\",\"MAKE BLANK\",$A$51)","v":"MAKE BLANK"},null,{"$f":"IF(FJ$78=\"NO\",\"MAKE BLANK\",CONCATENATE(\"Page \",LL_Page_No+FJ77,\" of\", Number_of_pages_printed_plan))","v":"MAKE BLANK"},{"$f":"IF(FM$78=\"NO\",\"MAKE BLANK\",$A$51)","v":"MAKE BLANK"},null,{"$f":"IF(FM$78=\"NO\",\"MAKE BLANK\",CONCATENATE(\"Page \",LL_Page_No+FM77,\" of\", Number_of_pages_printed_plan))","v":"MAKE BLANK"},{"$f":"IF(FP$78=\"NO\",\"MAKE BLANK\",$A$51)","v":"MAKE BLANK"},null,{"$f":"IF(FP$78=\"NO\",\"MAKE BLANK\",CONCATENATE(\"Page \",LL_Page_No+FP77,\" of\", Number_of_pages_printed_plan))","v":"MAKE BLANK"},{"$f":"IF(FS$78=\"NO\",\"MAKE BLANK\",$A$51)","v":"MAKE BLANK"},null,{"$f":"IF(FS$78=\"NO\",\"MAKE BLANK\",CONCATENATE(\"Page \",LL_Page_No+FS77,\" of\", Number_of_pages_printed_plan))","v":"MAKE BLANK"},{"$f":"IF(FV$78=\"NO\",\"MAKE BLANK\",$A$51)","v":"MAKE BLANK"},null,{"$f":"IF(FV$78=\"NO\",\"MAKE BLANK\",CONCATENATE(\"Page \",LL_Page_No+FV77,\" of\", Number_of_pages_printed_plan))","v":"MAKE BLANK"},{"$f":"IF(FY$78=\"NO\",\"MAKE BLANK\",$A$51)","v":"MAKE BLANK"},null,{"$f":"IF(FY$78=\"NO\",\"MAKE BLANK\",CONCATENATE(\"Page \",LL_Page_No+FY77,\" of\", Number_of_pages_printed_plan))","v":"MAKE BLANK"},{"$f":"IF(GB$78=\"NO\",\"MAKE BLANK\",$A$51)","v":"MAKE BLANK"},null,{"$f":"IF(GB$78=\"NO\",\"MAKE BLANK\",CONCATENATE(\"Page \",LL_Page_No+GB77,\" of\", Number_of_pages_printed_plan))","v":"MAKE BLANK"},{"$f":"IF(GE$78=\"NO\",\"MAKE BLANK\",$A$51)","v":"MAKE BLANK"},null,{"$f":"IF(GE$78=\"NO\",\"MAKE BLANK\",CONCATENATE(\"Page \",LL_Page_No+GE77,\" of\", Number_of_pages_printed_plan))","v":"MAKE BLANK"},{"$f":"IF(GH$78=\"NO\",\"MAKE BLANK\",$A$51)","v":"MAKE BLANK"},null,{"$f":"IF(GH$78=\"NO\",\"MAKE BLANK\",CONCATENATE(\"Page \",LL_Page_No+GH77,\" of\", Number_of_pages_printed_plan))","v":"MAKE BLANK"},{"$f":"IF(GK$78=\"NO\",\"MAKE BLANK\",$A$51)","v":"MAKE BLANK"},null,{"$f":"IF(GK$78=\"NO\",\"MAKE BLANK\",CONCATENATE(\"Page \",LL_Page_No+GK77,\" of\", Number_of_pages_printed_plan))","v":"MAKE BLANK"},{"$f":"IF(GN$78=\"NO\",\"MAKE BLANK\",$A$51)","v":"MAKE BLANK"},null,{"$f":"IF(GN$78=\"NO\",\"MAKE BLANK\",CONCATENATE(\"Page \",LL_Page_No+GN77,\" of\", Number_of_pages_printed_plan))","v":"MAKE BLANK"},{"$f":"IF(GQ$78=\"NO\",\"MAKE BLANK\",$A$51)","v":"MAKE BLANK"},null,{"$f":"IF(GQ$78=\"NO\",\"MAKE BLANK\",CONCATENATE(\"Page \",LL_Page_No+GQ77,\" of\", Number_of_pages_printed_plan))","v":"MAKE BLANK"},{"$f":"IF(GT$78=\"NO\",\"MAKE BLANK\",$A$51)","v":"MAKE BLANK"},null,{"$f":"IF(GT$78=\"NO\",\"MAKE BLANK\",CONCATENATE(\"Page \",LL_Page_No+GT77,\" of\", Number_of_pages_printed_plan))","v":"MAKE BLANK"},{"$f":"IF(GW$78=\"NO\",\"MAKE BLANK\",$A$51)","v":"MAKE BLANK"},null,{"$f":"IF(GW$78=\"NO\",\"MAKE BLANK\",CONCATENATE(\"Page \",LL_Page_No+GW77,\" of\", Number_of_pages_printed_plan))","v":"MAKE BLANK"},{"$f":"IF(GZ$78=\"NO\",\"MAKE BLANK\",$A$51)","v":"MAKE BLANK"},null,{"$f":"IF(GZ$78=\"NO\",\"MAKE BLANK\",CONCATENATE(\"Page \",LL_Page_No+GZ77,\" of\", Number_of_pages_printed_plan))","v":"MAKE BLANK"},{"$f":"IF(HC$78=\"NO\",\"MAKE BLANK\",$A$51)","v":"MAKE BLANK"},null,{"$f":"IF(HC$78=\"NO\",\"MAKE BLANK\",CONCATENATE(\"Page \",LL_Page_No+HC77,\" of\", Number_of_pages_printed_plan))","v":"MAKE BLANK"},{"$f":"IF(HF$78=\"NO\",\"MAKE BLANK\",$A$51)","v":"MAKE BLANK"},null,{"$f":"IF(HF$78=\"NO\",\"MAKE BLANK\",CONCATENATE(\"Page \",LL_Page_No+HF77,\" of\", Number_of_pages_printed_plan))","v":"MAKE BLANK"},{"$f":"IF(HI$78=\"NO\",\"MAKE BLANK\",$A$51)","v":"MAKE BLANK"},null,{"$f":"IF(HI$78=\"NO\",\"MAKE BLANK\",CONCATENATE(\"Page \",LL_Page_No+HI77,\" of\", Number_of_pages_printed_plan))","v":"MAKE BLANK"},{"$f":"IF(HL$78=\"NO\",\"MAKE BLANK\",$A$51)","v":"MAKE BLANK"},null,{"$f":"IF(HL$78=\"NO\",\"MAKE BLANK\",CONCATENATE(\"Page \",LL_Page_No+HL77,\" of\", Number_of_pages_printed_plan))","v":"MAKE BLANK"},{"$f":"IF(HO$78=\"NO\",\"MAKE BLANK\",$A$51)","v":"MAKE BLANK"},null,{"$f":"IF(HO$78=\"NO\",\"MAKE BLANK\",CONCATENATE(\"Page \",LL_Page_No+HO77,\" of\", Number_of_pages_printed_plan))","v":"MAKE BLANK"},{"$f":"IF(HR$78=\"NO\",\"MAKE BLANK\",$A$51)","v":"MAKE BLANK"},null,{"$f":"IF(HR$78=\"NO\",\"MAKE BLANK\",CONCATENATE(\"Page \",LL_Page_No+HR77,\" of\", Number_of_pages_printed_plan))","v":"MAKE BLANK"},{"$f":"IF(HU$78=\"NO\",\"MAKE BLANK\",$A$51)","v":"MAKE BLANK"},null,{"$f":"IF(HU$78=\"NO\",\"MAKE BLANK\",CONCATENATE(\"Page \",LL_Page_No+HU77,\" of\", Number_of_pages_printed_plan))","v":"MAKE BLANK"},{"$f":"IF(HX$78=\"NO\",\"MAKE BLANK\",$A$51)","v":"MAKE BLANK"},null,{"$f":"IF(HX$78=\"NO\",\"MAKE BLANK\",CONCATENATE(\"Page \",LL_Page_No+HX77,\" of\", Number_of_pages_printed_plan))","v":"MAKE BLANK"},{"$f":"IF(IA$78=\"NO\",\"MAKE BLANK\",$A$51)","v":"MAKE BLANK"},null,{"$f":"IF(IA$78=\"NO\",\"MAKE BLANK\",CONCATENATE(\"Page \",LL_Page_No+IA77,\" of\", Number_of_pages_printed_plan))","v":"MAKE BLANK"},{"$f":"IF(ID$78=\"NO\",\"MAKE BLANK\",$A$51)","v":"MAKE BLANK"},null,{"$f":"IF(ID$78=\"NO\",\"MAKE BLANK\",CONCATENATE(\"Page \",LL_Page_No+ID77,\" of\", Number_of_pages_printed_plan))","v":"MAKE BLANK"},{"$f":"IF(IG$78=\"NO\",\"MAKE BLANK\",$A$51)","v":"MAKE BLANK"},null,{"$f":"IF(IG$78=\"NO\",\"MAKE BLANK\",CONCATENATE(\"Page \",LL_Page_No+IG77,\" of\", Number_of_pages_printed_plan))","v":"MAKE BLANK"},{"$f":"IF(IJ$78=\"NO\",\"MAKE BLANK\",$A$51)","v":"MAKE BLANK"},null,{"$f":"IF(IJ$78=\"NO\",\"MAKE BLANK\",CONCATENATE(\"Page \",LL_Page_No+IJ77,\" of\", Number_of_pages_printed_plan))","v":"MAKE BLANK"},{"$f":"IF(IM$78=\"NO\",\"MAKE BLANK\",$A$51)","v":"MAKE BLANK"},null,{"$f":"IF(IM$78=\"NO\",\"MAKE BLANK\",CONCATENATE(\"Page \",LL_Page_No+IM77,\" of\", Number_of_pages_printed_plan))","v":"MAKE BLANK"},{"$f":"IF(IP$78=\"NO\",\"MAKE BLANK\",$A$51)","v":"MAKE BLANK"},null,{"$f":"IF(IP$78=\"NO\",\"MAKE BLANK\",CONCATENATE(\"Page \",LL_Page_No+IP77,\" of\", Number_of_pages_printed_plan))","v":"MAKE BLANK"},{"$f":"IF(IS$78=\"NO\",\"MAKE BLANK\",$A$51)","v":"MAKE BLANK"},null,{"$f":"IF(IS$78=\"NO\",\"MAKE BLANK\",CONCATENATE(\"Page \",LL_Page_No+IS77,\" of\", Number_of_pages_printed_plan))","v":"MAKE BLANK"},{"$f":"IF(IV$78=\"NO\",\"MAKE BLANK\",$A$51)","v":"MAKE BLANK"},null,{"$f":"IF(IV$78=\"NO\",\"MAKE BLANK\",CONCATENATE(\"Page \",LL_Page_No+IV77,\" of\", Number_of_pages_printed_plan))","v":"MAKE BLANK"},{"$f":"IF(IY$78=\"NO\",\"MAKE BLANK\",$A$51)","v":"MAKE BLANK"},null,{"$f":"IF(IY$78=\"NO\",\"MAKE BLANK\",CONCATENATE(\"Page \",LL_Page_No+IY77,\" of\", Number_of_pages_printed_plan))","v":"MAKE BLANK"},{"$f":"IF(JB$78=\"NO\",\"MAKE BLANK\",$A$51)","v":"MAKE BLANK"},null,{"$f":"IF(JB$78=\"NO\",\"MAKE BLANK\",CONCATENATE(\"Page \",LL_Page_No+JB77,\" of\", Number_of_pages_printed_plan))","v":"MAKE BLANK"},{"$f":"IF(JE$78=\"NO\",\"MAKE BLANK\",$A$51)","v":"MAKE BLANK"},null,{"$f":"IF(JE$78=\"NO\",\"MAKE BLANK\",CONCATENATE(\"Page \",LL_Page_No+JE77,\" of\", Number_of_pages_printed_plan))","v":"MAKE BLANK"},{"$f":"IF(JH$78=\"NO\",\"MAKE BLANK\",$A$51)","v":"MAKE BLANK"},null,{"$f":"IF(JH$78=\"NO\",\"MAKE BLANK\",CONCATENATE(\"Page \",LL_Page_No+JH77,\" of\", Number_of_pages_printed_plan))","v":"MAKE BLANK"},{"$f":"IF(JK$78=\"NO\",\"MAKE BLANK\",$A$51)","v":"MAKE BLANK"},null,{"$f":"IF(JK$78=\"NO\",\"MAKE BLANK\",CONCATENATE(\"Page \",LL_Page_No+JK77,\" of\", Number_of_pages_printed_plan))","v":"MAKE BLANK"},{"$f":"IF(JN$78=\"NO\",\"MAKE BLANK\",$A$51)","v":"MAKE BLANK"},null,{"$f":"IF(JN$78=\"NO\",\"MAKE BLANK\",CONCATENATE(\"Page \",LL_Page_No+JN77,\" of\", Number_of_pages_printed_plan))","v":"MAKE BLANK"},{"$f":"IF(JQ$78=\"NO\",\"MAKE BLANK\",$A$51)","v":"MAKE BLANK"},null,{"$f":"IF(JQ$78=\"NO\",\"MAKE BLANK\",CONCATENATE(\"Page \",LL_Page_No+JQ77,\" of\", Number_of_pages_printed_plan))","v":"MAKE BLANK"},{"$f":"IF(JT$78=\"NO\",\"MAKE BLANK\",$A$51)","v":"MAKE BLANK"},null,{"$f":"IF(JT$78=\"NO\",\"MAKE BLANK\",CONCATENATE(\"Page \",LL_Page_No+JT77,\" of\", Number_of_pages_printed_plan))","v":"MAKE BLANK"},{"$f":"IF(JW$78=\"NO\",\"MAKE BLANK\",$A$51)","v":"MAKE BLANK"},null,{"$f":"IF(JW$78=\"NO\",\"MAKE BLANK\",CONCATENATE(\"Page \",LL_Page_No+JW77,\" of\", Number_of_pages_printed_plan))","v":"MAKE BLANK"},{"$f":"IF(JZ$78=\"NO\",\"MAKE BLANK\",$A$51)","v":"MAKE BLANK"},null,{"$f":"IF(JZ$78=\"NO\",\"MAKE BLANK\",CONCATENATE(\"Page \",LL_Page_No+JZ77,\" of\", Number_of_pages_printed_plan))","v":"MAKE BLANK"},{"$f":"IF(KC$78=\"NO\",\"MAKE BLANK\",$A$51)","v":"MAKE BLANK"},null,{"$f":"IF(KC$78=\"NO\",\"MAKE BLANK\",CONCATENATE(\"Page \",LL_Page_No+KC77,\" of\", Number_of_pages_printed_plan))","v":"MAKE BLANK"},{"$f":"IF(KF$78=\"NO\",\"MAKE BLANK\",$A$51)","v":"MAKE BLANK"},null,{"$f":"IF(KF$78=\"NO\",\"MAKE BLANK\",CONCATENATE(\"Page \",LL_Page_No+KF77,\" of\", Number_of_pages_printed_plan))","v":"MAKE BLANK"},{"$f":"IF(KI$78=\"NO\",\"MAKE BLANK\",$A$51)","v":"MAKE BLANK"},null,{"$f":"IF(KI$78=\"NO\",\"MAKE BLANK\",CONCATENATE(\"Page \",LL_Page_No+KI77,\" of\", Number_of_pages_printed_plan))","v":"MAKE BLANK"},{"$f":"IF(KL$78=\"NO\",\"MAKE BLANK\",$A$51)","v":"MAKE BLANK"},null,{"$f":"IF(KL$78=\"NO\",\"MAKE BLANK\",CONCATENATE(\"Page \",LL_Page_No+KL77,\" of\", Number_of_pages_printed_plan))","v":"MAKE BLANK"},{"$f":"IF(KO$78=\"NO\",\"MAKE BLANK\",$A$51)","v":"MAKE BLANK"},null,{"$f":"IF(KO$78=\"NO\",\"MAKE BLANK\",CONCATENATE(\"Page \",LL_Page_No+KO77,\" of\", Number_of_pages_printed_plan))","v":"MAKE BLANK"},{"$f":"IF(KR$78=\"NO\",\"MAKE BLANK\",$A$51)","v":"MAKE BLANK"},null,{"$f":"IF(KR$78=\"NO\",\"MAKE BLANK\",CONCATENATE(\"Page \",LL_Page_No+KR77,\" of\", Number_of_pages_printed_plan))","v":"MAKE BLANK"},{"$f":"IF(KU$78=\"NO\",\"MAKE BLANK\",$A$51)","v":"MAKE BLANK"},null,{"$f":"IF(KU$78=\"NO\",\"MAKE BLANK\",CONCATENATE(\"Page \",LL_Page_No+KU77,\" of\", Number_of_pages_printed_plan))","v":"MAKE BLANK"},{"$f":"IF(KX$78=\"NO\",\"MAKE BLANK\",$A$51)","v":"MAKE BLANK"},null,{"$f":"IF(KX$78=\"NO\",\"MAKE BLANK\",CONCATENATE(\"Page \",LL_Page_No+KX77,\" of\", Number_of_pages_printed_plan))","v":"MAKE BLANK"},{"$f":"IF(LA$78=\"NO\",\"MAKE BLANK\",$A$51)","v":"MAKE BLANK"},null,{"$f":"IF(LA$78=\"NO\",\"MAKE BLANK\",CONCATENATE(\"Page \",LL_Page_No+LA77,\" of\", Number_of_pages_printed_plan))","v":"MAKE BLANK"},{"$f":"IF(LD$78=\"NO\",\"MAKE BLANK\",$A$51)","v":"MAKE BLANK"},null,{"$f":"IF(LD$78=\"NO\",\"MAKE BLANK\",CONCATENATE(\"Page \",LL_Page_No+LD77,\" of\", Number_of_pages_printed_plan))","v":"MAKE BLANK"},{"$f":"IF(LG$78=\"NO\",\"MAKE BLANK\",$A$51)","v":"MAKE BLANK"},null,{"$f":"IF(LG$78=\"NO\",\"MAKE BLANK\",CONCATENATE(\"Page \",LL_Page_No+LG77,\" of\", Number_of_pages_printed_plan))","v":"MAKE BLANK"},{"$f":"IF(LJ$78=\"NO\",\"MAKE BLANK\",$A$51)","v":"MAKE BLANK"},null,{"$f":"IF(LJ$78=\"NO\",\"MAKE BLANK\",CONCATENATE(\"Page \",LL_Page_No+LJ77,\" of\", Number_of_pages_printed_plan))","v":"MAKE BLANK"},{"$f":"IF(LM$78=\"NO\",\"MAKE BLANK\",$A$51)","v":"MAKE BLANK"},null,{"$f":"IF(LM$78=\"NO\",\"MAKE BLANK\",CONCATENATE(\"Page \",LL_Page_No+LM77,\" of\", Number_of_pages_printed_plan))","v":"MAKE BLANK"},{"$f":"IF(LP$78=\"NO\",\"MAKE BLANK\",$A$51)","v":"MAKE BLANK"},null,{"$f":"IF(LP$78=\"NO\",\"MAKE BLANK\",CONCATENATE(\"Page \",LL_Page_No+LP77,\" of\", Number_of_pages_printed_plan))","v":"MAKE BLANK"},{"$f":"IF(LS$78=\"NO\",\"MAKE BLANK\",$A$51)","v":"MAKE BLANK"},null,{"$f":"IF(LS$78=\"NO\",\"MAKE BLANK\",CONCATENATE(\"Page \",LL_Page_No+LS77,\" of\", Number_of_pages_printed_plan))","v":"MAKE BLANK"},{"$f":"IF(LV$78=\"NO\",\"MAKE BLANK\",$A$51)","v":"MAKE BLANK"},null,{"$f":"IF(LV$78=\"NO\",\"MAKE BLANK\",CONCATENATE(\"Page \",LL_Page_No+LV77,\" of\", Number_of_pages_printed_plan))","v":"MAKE BLANK"},{"$f":"IF(LY$78=\"NO\",\"MAKE BLANK\",$A$51)","v":"MAKE BLANK"},null,{"$f":"IF(LY$78=\"NO\",\"MAKE BLANK\",CONCATENATE(\"Page \",LL_Page_No+LY77,\" of\", Number_of_pages_printed_plan))","v":"MAKE BLANK"},{"$f":"IF(MB$78=\"NO\",\"MAKE BLANK\",$A$51)","v":"MAKE BLANK"},null,{"$f":"IF(MB$78=\"NO\",\"MAKE BLANK\",CONCATENATE(\"Page \",LL_Page_No+MB77,\" of\", Number_of_pages_printed_plan))","v":"MAKE BLANK"},{"$f":"IF(ME$78=\"NO\",\"MAKE BLANK\",$A$51)","v":"MAKE BLANK"},null,{"$f":"IF(ME$78=\"NO\",\"MAKE BLANK\",CONCATENATE(\"Page \",LL_Page_No+ME77,\" of\", Number_of_pages_printed_plan))","v":"MAKE BLANK"},{"$f":"IF(MH$78=\"NO\",\"MAKE BLANK\",$A$51)","v":"MAKE BLANK"},null,{"$f":"IF(MH$78=\"NO\",\"MAKE BLANK\",CONCATENATE(\"Page \",LL_Page_No+MH77,\" of\", Number_of_pages_printed_plan))","v":"MAKE BLANK"},{"$f":"IF(MK$78=\"NO\",\"MAKE BLANK\",$A$51)","v":"MAKE BLANK"},null,{"$f":"IF(MK$78=\"NO\",\"MAKE BLANK\",CONCATENATE(\"Page \",LL_Page_No+MK77,\" of\", Number_of_pages_printed_plan))","v":"MAKE BLANK"},{"$f":"IF(MN$78=\"NO\",\"MAKE BLANK\",$A$51)","v":"MAKE BLANK"},null,{"$f":"IF(MN$78=\"NO\",\"MAKE BLANK\",CONCATENATE(\"Page \",LL_Page_No+MN77,\" of\", Number_of_pages_printed_plan))","v":"MAKE BLANK"},{"$f":"IF(MQ$78=\"NO\",\"MAKE BLANK\",$A$51)","v":"MAKE BLANK"},null,{"$f":"IF(MQ$78=\"NO\",\"MAKE BLANK\",CONCATENATE(\"Page \",LL_Page_No+MQ77,\" of\", Number_of_pages_printed_plan))","v":"MAKE BLANK"},{"$f":"IF(MT$78=\"NO\",\"MAKE BLANK\",$A$51)","v":"MAKE BLANK"},null,{"$f":"IF(MT$78=\"NO\",\"MAKE BLANK\",CONCATENATE(\"Page \",LL_Page_No+MT77,\" of\", Number_of_pages_printed_plan))","v":"MAKE BLANK"}]
["Scroll RIGHT to view the pages of the plan ggg",null,null,null,null,"Scroll RIGHT to view the pages of the plan ggg"]
[]
[]
[]
[]
[]
[]
[]
[]
[]
[]
[]
[]
[]
[]
[]
[]
[]
[]
[]
[]
[]
[]
[]
["Hide Rows"]
[null,"Foreman",{"$f":"IF(Foreman_1=0,\"\",Foreman_1)","v":""},null,"-----------------------------------------------------------------------------------------","-----------------------------------------------------------------------------------------","-----------------------------------------------------------------------------------------",null,null,"-----------------------------------------------------------------------------------------","-----------------------------------------------------------------------------------------","-----------------------------------------------------------------------------------------","-----------------------------------------------------------------------------------------",null,"-----------------------------------------------------------------------------------------","1-100",null,null,"-----------------------------------------------------------------------------------------","-----------------------------------------------------------------------------------------",null,null,"-----------------------------------------------------------------------------------------","-----------------------------------------------------------------------------------------",null,null,"-----------------------------------------------------------------------------------------","-----------------------------------------------------------------------------------------",null,null,null,null,null,null,null,"First unforeseen page number:",null,null,null,null,null,{"$f":"IF(Number_environmental_pages=3,\"8\",IF(Number_environmental_pages=2,\"7\",IF(Number_environmental_pages=1,\"6\",\"5\")))","v":"5"},null,null,null,null,null,null,null,null,null,null,null,null,null,null,null,null,null,null,null,null,null,null,null,null,null,null,null,null,null,null,"Lessons Learned page no:",{"$f":"IF(Number_environmental_pages=3,\"11\",IF(Number_environmental_pages=2,\"10\",IF(Number_environmental_pages=1,\"9\",\"8\")))","v":"8"},0,{"$f":"BW77+1","v":1},"-----------------------------------------------------------------------------------------","-----------------------------------------------------------------------------------------",{"$f":"BX77+1","v":2},"-----------------------------------------------------------------------------------------","-----------------------------------------------------------------------------------------",{"$f":"CA77+1","v":3},"-----------------------------------------------------------------------------------------","-----------------------------------------------------------------------------------------",{"$f":"CD77+1","v":4},null,null,{"$f":"CG77+1","v":5},null,null,{"$f":"CJ77+1","v":6},null,null,{"$f":"CM77+1","v":7},null,null,{"$f":"CP77+1","v":8},null,null,{"$f":"CS77+1","v":9},null,null,{"$f":"CV77+1","v":10},null,null,{"$f":"CY77+1","v":11},null,null,{"$f":"DB77+1","v":12},null,null,{"$f":"DE77+1","v":13},null,null,{"$f":"DH77+1","v":14},null,null,{"$f":"DK77+1","v":15},null,null,{"$f":"DN77+1","v":16},null,null,{"$f":"DQ77+1","v":17},null,null,{"$f":"DT77+1","v":18},null,null,{"$f":"DW77+1","v":19},null,null,{"$f":"DZ77+1","v":20},null,null,{"$f":"EC77+1","v":21},null,null,{"$f":"EF77+1","v":22},null,null,{"$f":"EI77+1","v":23},null,null,{"$f":"EL77+1","v":24},null,null,{"$f":"EO77+1","v":25},null,null,{"$f":"ER77+1","v":26},null,null,{"$f":"EU77+1","v":27},null,null,{"$f":"EX77+1","v":28},null,null,{"$f":"FA77+1","v":29},null,null,{"$f":"FD77+1","v":30},null,null,{"$f":"FG77+1","v":31},null,null,{"$f":"FJ77+1","v":32},null,null,{"$f":"FM77+1","v":33},null,null,{"$f":"FP77+1","v":34},null,null,{"$f":"FS77+1","v":35},null,null,{"$f":"FV77+1","v":36},null,null,{"$f":"FY77+1","v":37},null,null,{"$f":"GB77+1","v":38},null,null,{"$f":"GE77+1","v":39},null,null,{"$f":"GH77+1","v":40},null,null,{"$f":"GK77+1","v":41},null,null,{"$f":"GN77+1","v":42},null,null,{"$f":"GQ77+1","v":43},null,null,{"$f":"GT77+1","v":44},null,null,{"$f":"GW77+1","v":45},null,null,{"$f":"GZ77+1","v":46},null,null,{"$f":"HC77+1","v":47},null,null,{"$f":"HF77+1","v":48},null,null,{"$f":"HI77+1","v":49},null,null,{"$f":"HL77+1","v":50},null,null,{"$f":"HO77+1","v":51},null,null,{"$f":"HR77+1","v":52},null,null,{"$f":"HU77+1","v":53},null,null,{"$f":"HX77+1","v":54},null,null,{"$f":"IA77+1","v":55},null,null,{"$f":"ID77+1","v":56},null,null,{"$f":"IG77+1","v":57},null,null,{"$f":"IJ77+1","v":58},null,null,{"$f":"IM77+1","v":59},null,null,{"$f":"IP77+1","v":60},null,null,{"$f":"IS77+1","v":61},null,null,{"$f":"IV77+1","v":62},null,null,{"$f":"IY77+1","v":63},null,null,{"$f":"JB77+1","v":64},null,null,{"$f":"JE77+1","v":65},null,null,{"$f":"JH77+1","v":66},null,null,{"$f":"JK77+1","v":67},null,null,{"$f":"JN77+1","v":68},null,null,{"$f":"JQ77+1","v":69},null,null,{"$f":"JT77+1","v":70},null,null,{"$f":"JW77+1","v":71},null,null,{"$f":"JZ77+1","v":72},null,null,{"$f":"KC77+1","v":73},null,null,{"$f":"KF77+1","v":74},null,null,{"$f":"KI77+1","v":75},null,null,{"$f":"KL77+1","v":76},null,null,{"$f":"KO77+1","v":77},null,null,{"$f":"KR77+1","v":78},null,null,{"$f":"KU77+1","v":79},null,null,{"$f":"KX77+1","v":80},null,null,{"$f":"LA77+1","v":81},null,null,{"$f":"LD77+1","v":82},null,null,{"$f":"LG77+1","v":83},null,null,{"$f":"LJ77+1","v":84},null,null,{"$f":"LM77+1","v":85},null,null,{"$f":"LP77+1","v":86},null,null,{"$f":"LS77+1","v":87},null,null,{"$f":"LV77+1","v":88},null,null,{"$f":"LY77+1","v":89},null,null,{"$f":"MB77+1","v":90},null,null,{"$f":"ME77+1","v":91},null,null,{"$f":"MH77+1","v":92},null,null,{"$f":"MK77+1","v":93},null,null,{"$f":"MN77+1","v":94},null,null,{"$f":"MQ77+1","v":95}]
[null,null,{"$f":"IF(Foreman_2=0,\"\",Foreman_2)","v":""},null,null,null,null,null,null,null,null,null,null,null,null,"is there a hazard/control",null,null,null,null,null,null,null,null,null,null,null,null,null,null,null,null,null,null,null,null,null,null,null,null,null,null,null,null,null,null,null,null,null,null,null,null,null,null,null,null,null,null,null,null,null,null,null,null,null,null,null,null,null,null,null,null,null,null,null,{"$f":"IF(BX77>Total_plan_no_of_hazards,\"NO\",\"YES\")","v":"NO"},{"$f":"BX78","v":"NO"},{"$f":"BX78","v":"NO"},{"$f":"IF(CA77>Total_plan_no_of_hazards,\"NO\",\"YES\")","v":"NO"},{"$f":"CA78","v":"NO"},{"$f":"CA78","v":"NO"},{"$f":"IF(CD77>Total_plan_no_of_hazards,\"NO\",\"YES\")","v":"NO"},{"$f":"CD78","v":"NO"},{"$f":"CD78","v":"NO"},{"$f":"IF(CG77>Total_plan_no_of_hazards,\"NO\",\"YES\")","v":"NO"},{"$f":"CG78","v":"NO"},{"$f":"CG78","v":"NO"},{"$f":"IF(CJ77>Total_plan_no_of_hazards,\"NO\",\"YES\")","v":"NO"},{"$f":"CJ78","v":"NO"},{"$f":"CJ78","v":"NO"},{"$f":"IF(CM77>Total_plan_no_of_hazards,\"NO\",\"YES\")","v":"NO"},{"$f":"CM78","v":"NO"},{"$f":"CM78","v":"NO"},{"$f":"IF(CP77>Total_plan_no_of_hazards,\"NO\",\"YES\")","v":"NO"},{"$f":"CP78","v":"NO"},{"$f":"CP78","v":"NO"},{"$f":"IF(CS77>Total_plan_no_of_hazards,\"NO\",\"YES\")","v":"NO"},{"$f":"CS78","v":"NO"},{"$f":"CS78","v":"NO"},{"$f":"IF(CV77>Total_plan_no_of_hazards,\"NO\",\"YES\")","v":"NO"},{"$f":"CV78","v":"NO"},{"$f":"CV78","v":"NO"},{"$f":"IF(CY77>Total_plan_no_of_hazards,\"NO\",\"YES\")","v":"NO"},{"$f":"CY78","v":"NO"},{"$f":"CY78","v":"NO"},{"$f":"IF(DB77>Total_plan_no_of_hazards,\"NO\",\"YES\")","v":"NO"},{"$f":"DB78","v":"NO"},{"$f":"DB78","v":"NO"},{"$f":"IF(DE77>Total_plan_no_of_hazards,\"NO\",\"YES\")","v":"NO"},{"$f":"DE78","v":"NO"},{"$f":"DE78","v":"NO"},{"$f":"IF(DH77>Total_plan_no_of_hazards,\"NO\",\"YES\")","v":"NO"},{"$f":"DH78","v":"NO"},{"$f":"DH78","v":"NO"},{"$f":"IF(DK77>Total_plan_no_of_hazards,\"NO\",\"YES\")","v":"NO"},{"$f":"DK78","v":"NO"},{"$f":"DK78","v":"NO"},{"$f":"IF(DN77>Total_plan_no_of_hazards,\"NO\",\"YES\")","v":"NO"},{"$f":"DN78","v":"NO"},{"$f":"DN78","v":"NO"},{"$f":"IF(DQ77>Total_plan_no_of_hazards,\"NO\",\"YES\")","v":"NO"},{"$f":"DQ78","v":"NO"},{"$f":"DQ78","v":"NO"},{"$f":"IF(DT77>Total_plan_no_of_hazards,\"NO\",\"YES\")","v":"NO"},{"$f":"DT78","v":"NO"},{"$f":"DT78","v":"NO"},{"$f":"IF(DW77>Total_plan_no_of_hazards,\"NO\",\"YES\")","v":"NO"},{"$f":"DW78","v":"NO"},{"$f":"DW78","v":"NO"},{"$f":"IF(DZ77>Total_plan_no_of_hazards,\"NO\",\"YES\")","v":"NO"},{"$f":"DZ78","v":"NO"},{"$f":"DZ78","v":"NO"},{"$f":"IF(EC77>Total_plan_no_of_hazards,\"NO\",\"YES\")","v":"NO"},{"$f":"EC78","v":"NO"},{"$f":"EC78","v":"NO"},{"$f":"IF(EF77>Total_plan_no_of_hazards,\"NO\",\"YES\")","v":"NO"},{"$f":"EF78","v":"NO"},{"$f":"EF78","v":"NO"},{"$f":"IF(EI77>Total_plan_no_of_hazards,\"NO\",\"YES\")","v":"NO"},{"$f":"EI78","v":"NO"},{"$f":"EI78","v":"NO"},{"$f":"IF(EL77>Total_plan_no_of_hazards,\"NO\",\"YES\")","v":"NO"},{"$f":"EL78","v":"NO"},{"$f":"EL78","v":"NO"},{"$f":"IF(EO77>Total_plan_no_of_hazards,\"NO\",\"YES\")","v":"NO"},{"$f":"EO78","v":"NO"},{"$f":"EO78","v":"NO"},{"$f":"IF(ER77>Total_plan_no_of_hazards,\"NO\",\"YES\")","v":"NO"},{"$f":"ER78","v":"NO"},{"$f":"ER78","v":"NO"},{"$f":"IF(EU77>Total_plan_no_of_hazards,\"NO\",\"YES\")","v":"NO"},{"$f":"EU78","v":"NO"},{"$f":"EU78","v":"NO"},{"$f":"IF(EX77>Total_plan_no_of_hazards,\"NO\",\"YES\")","v":"NO"},{"$f":"EX78","v":"NO"},{"$f":"EX78","v":"NO"},{"$f":"IF(FA77>Total_plan_no_of_hazards,\"NO\",\"YES\")","v":"NO"},{"$f":"FA78","v":"NO"},{"$f":"FA78","v":"NO"},{"$f":"IF(FD77>Total_plan_no_of_hazards,\"NO\",\"YES\")","v":"NO"},{"$f":"FD78","v":"NO"},{"$f":"FD78","v":"NO"},{"$f":"IF(FG77>Total_plan_no_of_hazards,\"NO\",\"YES\")","v":"NO"},{"$f":"FG78","v":"NO"},{"$f":"FG78","v":"NO"},{"$f":"IF(FJ77>Total_plan_no_of_hazards,\"NO\",\"YES\")","v":"NO"},{"$f":"FJ78","v":"NO"},{"$f":"FJ78","v":"NO"},{"$f":"IF(FM77>Total_plan_no_of_hazards,\"NO\",\"YES\")","v":"NO"},{"$f":"FM78","v":"NO"},{"$f":"FM78","v":"NO"},{"$f":"IF(FP77>Total_plan_no_of_hazards,\"NO\",\"YES\")","v":"NO"},{"$f":"FP78","v":"NO"},{"$f":"FP78","v":"NO"},{"$f":"IF(FS77>Total_plan_no_of_hazards,\"NO\",\"YES\")","v":"NO"},{"$f":"FS78","v":"NO"},{"$f":"FS78","v":"NO"},{"$f":"IF(FV77>Total_plan_no_of_hazards,\"NO\",\"YES\")","v":"NO"},{"$f":"FV78","v":"NO"},{"$f":"FV78","v":"NO"},{"$f":"IF(FY77>Total_plan_no_of_hazards,\"NO\",\"YES\")","v":"NO"},{"$f":"FY78","v":"NO"},{"$f":"FY78","v":"NO"},{"$f":"IF(GB77>Total_plan_no_of_hazards,\"NO\",\"YES\")","v":"NO"},{"$f":"GB78","v":"NO"},{"$f":"GB78","v":"NO"},{"$f":"IF(GE77>Total_plan_no_of_hazards,\"NO\",\"YES\")","v":"NO"},{"$f":"GE78","v":"NO"},{"$f":"GE78","v":"NO"},{"$f":"IF(GH77>Total_plan_no_of_hazards,\"NO\",\"YES\")","v":"NO"},{"$f":"GH78","v":"NO"},{"$f":"GH78","v":"NO"},{"$f":"IF(GK77>Total_plan_no_of_hazards,\"NO\",\"YES\")","v":"NO"},{"$f":"GK78","v":"NO"},{"$f":"GK78","v":"NO"},{"$f":"IF(GN77>Total_plan_no_of_hazards,\"NO\",\"YES\")","v":"NO"},{"$f":"GN78","v":"NO"},{"$f":"GN78","v":"NO"},{"$f":"IF(GQ77>Total_plan_no_of_hazards,\"NO\",\"YES\")","v":"NO"},{"$f":"GQ78","v":"NO"},{"$f":"GQ78","v":"NO"},{"$f":"IF(GT77>Total_plan_no_of_hazards,\"NO\",\"YES\")","v":"NO"},{"$f":"GT78","v":"NO"},{"$f":"GT78","v":"NO"},{"$f":"IF(GW77>Total_plan_no_of_hazards,\"NO\",\"YES\")","v":"NO"},{"$f":"GW78","v":"NO"},{"$f":"GW78","v":"NO"},{"$f":"IF(GZ77>Total_plan_no_of_hazards,\"NO\",\"YES\")","v":"NO"},{"$f":"GZ78","v":"NO"},{"$f":"GZ78","v":"NO"},{"$f":"IF(HC77>Total_plan_no_of_hazards,\"NO\",\"YES\")","v":"NO"},{"$f":"HC78","v":"NO"},{"$f":"HC78","v":"NO"},{"$f":"IF(HF77>Total_plan_no_of_hazards,\"NO\",\"YES\")","v":"NO"},{"$f":"HF78","v":"NO"},{"$f":"HF78","v":"NO"},{"$f":"IF(HI77>Total_plan_no_of_hazards,\"NO\",\"YES\")","v":"NO"},{"$f":"HI78","v":"NO"},{"$f":"HI78","v":"NO"},{"$f":"IF(HL77>Total_plan_no_of_hazards,\"NO\",\"YES\")","v":"NO"},{"$f":"HL78","v":"NO"},{"$f":"HL78","v":"NO"},{"$f":"IF(HO77>Total_plan_no_of_hazards,\"NO\",\"YES\")","v":"NO"},{"$f":"HO78","v":"NO"},{"$f":"HO78","v":"NO"},{"$f":"IF(HR77>Total_plan_no_of_hazards,\"NO\",\"YES\")","v":"NO"},{"$f":"HR78","v":"NO"},{"$f":"HR78","v":"NO"},{"$f":"IF(HU77>Total_plan_no_of_hazards,\"NO\",\"YES\")","v":"NO"},{"$f":"HU78","v":"NO"},{"$f":"HU78","v":"NO"},{"$f":"IF(HX77>Total_plan_no_of_hazards,\"NO\",\"YES\")","v":"NO"},{"$f":"HX78","v":"NO"},{"$f":"HX78","v":"NO"},{"$f":"IF(IA77>Total_plan_no_of_hazards,\"NO\",\"YES\")","v":"NO"},{"$f":"IA78","v":"NO"},{"$f":"IA78","v":"NO"},{"$f":"IF(ID77>Total_plan_no_of_hazards,\"NO\",\"YES\")","v":"NO"},{"$f":"ID78","v":"NO"},{"$f":"ID78","v":"NO"},{"$f":"IF(IG77>Total_plan_no_of_hazards,\"NO\",\"YES\")","v":"NO"},{"$f":"IG78","v":"NO"},{"$f":"IG78","v":"NO"},{"$f":"IF(IJ77>Total_plan_no_of_hazards,\"NO\",\"YES\")","v":"NO"},{"$f":"IJ78","v":"NO"},{"$f":"IJ78","v":"NO"},{"$f":"IF(IM77>Total_plan_no_of_hazards,\"NO\",\"YES\")","v":"NO"},{"$f":"IM78","v":"NO"},{"$f":"IM78","v":"NO"},{"$f":"IF(IP77>Total_plan_no_of_hazards,\"NO\",\"YES\")","v":"NO"},{"$f":"IP78","v":"NO"},{"$f":"IP78","v":"NO"},{"$f":"IF(IS77>Total_plan_no_of_hazards,\"NO\",\"YES\")","v":"NO"},{"$f":"IS78","v":"NO"},{"$f":"IS78","v":"NO"},{"$f":"IF(IV77>Total_plan_no_of_hazards,\"NO\",\"YES\")","v":"NO"},{"$f":"IV78","v":"NO"},{"$f":"IV78","v":"NO"},{"$f":"IF(IY77>Total_plan_no_of_hazards,\"NO\",\"YES\")","v":"NO"},{"$f":"IY78","v":"NO"},{"$f":"IY78","v":"NO"},{"$f":"IF(JB77>Total_plan_no_of_hazards,\"NO\",\"YES\")","v":"NO"},{"$f":"JB78","v":"NO"},{"$f":"JB78","v":"NO"},{"$f":"IF(JE77>Total_plan_no_of_hazards,\"NO\",\"YES\")","v":"NO"},{"$f":"JE78","v":"NO"},{"$f":"JE78","v":"NO"},{"$f":"IF(JH77>Total_plan_no_of_hazards,\"NO\",\"YES\")","v":"NO"},{"$f":"JH78","v":"NO"},{"$f":"JH78","v":"NO"},{"$f":"IF(JK77>Total_plan_no_of_hazards,\"NO\",\"YES\")","v":"NO"},{"$f":"JK78","v":"NO"},{"$f":"JK78","v":"NO"},{"$f":"IF(JN77>Total_plan_no_of_hazards,\"NO\",\"YES\")","v":"NO"},{"$f":"JN78","v":"NO"},{"$f":"JN78","v":"NO"},{"$f":"IF(JQ77>Total_plan_no_of_hazards,\"NO\",\"YES\")","v":"NO"},{"$f":"JQ78","v":"NO"},{"$f":"JQ78","v":"NO"},{"$f":"IF(JT77>Total_plan_no_of_hazards,\"NO\",\"YES\")","v":"NO"},{"$f":"JT78","v":"NO"},{"$f":"JT78","v":"NO"},{"$f":"IF(JW77>Total_plan_no_of_hazards,\"NO\",\"YES\")","v":"NO"},{"$f":"JW78","v":"NO"},{"$f":"JW78","v":"NO"},{"$f":"IF(JZ77>Total_plan_no_of_hazards,\"NO\",\"YES\")","v":"NO"},{"$f":"JZ78","v":"NO"},{"$f":"JZ78","v":"NO"},{"$f":"IF(KC77>Total_plan_no_of_hazards,\"NO\",\"YES\")","v":"NO"},{"$f":"KC78","v":"NO"},{"$f":"KC78","v":"NO"},{"$f":"IF(KF77>Total_plan_no_of_hazards,\"NO\",\"YES\")","v":"NO"},{"$f":"KF78","v":"NO"},{"$f":"KF78","v":"NO"},{"$f":"IF(KI77>Total_plan_no_of_hazards,\"NO\",\"YES\")","v":"NO"},{"$f":"KI78","v":"NO"},{"$f":"KI78","v":"NO"},{"$f":"IF(KL77>Total_plan_no_of_hazards,\"NO\",\"YES\")","v":"NO"},{"$f":"KL78","v":"NO"},{"$f":"KL78","v":"NO"},{"$f":"IF(KO77>Total_plan_no_of_hazards,\"NO\",\"YES\")","v":"NO"},{"$f":"KO78","v":"NO"},{"$f":"KO78","v":"NO"},{"$f":"IF(KR77>Total_plan_no_of_hazards,\"NO\",\"YES\")","v":"NO"},{"$f":"KR78","v":"NO"},{"$f":"KR78","v":"NO"},{"$f":"IF(KU77>Total_plan_no_of_hazards,\"NO\",\"YES\")","v":"NO"},{"$f":"KU78","v":"NO"},{"$f":"KU78","v":"NO"},{"$f":"IF(KX77>Total_plan_no_of_hazards,\"NO\",\"YES\")","v":"NO"},{"$f":"KX78","v":"NO"},{"$f":"KX78","v":"NO"},{"$f":"IF(LA77>Total_plan_no_of_hazards,\"NO\",\"YES\")","v":"NO"},{"$f":"LA78","v":"NO"},{"$f":"LA78","v":"NO"},{"$f":"IF(LD77>Total_plan_no_of_hazards,\"NO\",\"YES\")","v":"NO"},{"$f":"LD78","v":"NO"},{"$f":"LD78","v":"NO"},{"$f":"IF(LG77>Total_plan_no_of_hazards,\"NO\",\"YES\")","v":"NO"},{"$f":"LG78","v":"NO"},{"$f":"LG78","v":"NO"},{"$f":"IF(LJ77>Total_plan_no_of_hazards,\"NO\",\"YES\")","v":"NO"},{"$f":"LJ78","v":"NO"},{"$f":"LJ78","v":"NO"},{"$f":"IF(LM77>Total_plan_no_of_hazards,\"NO\",\"YES\")","v":"NO"},{"$f":"LM78","v":"NO"},{"$f":"LM78","v":"NO"},{"$f":"IF(LP77>Total_plan_no_of_hazards,\"NO\",\"YES\")","v":"NO"},{"$f":"LP78","v":"NO"},{"$f":"LP78","v":"NO"},{"$f":"IF(LS77>Total_plan_no_of_hazards,\"NO\",\"YES\")","v":"NO"},{"$f":"LS78","v":"NO"},{"$f":"LS78","v":"NO"},{"$f":"IF(LV77>Total_plan_no_of_hazards,\"NO\",\"YES\")","v":"NO"},{"$f":"LV78","v":"NO"},{"$f":"LV78","v":"NO"},{"$f":"IF(LY77>Total_plan_no_of_hazards,\"NO\",\"YES\")","v":"NO"},{"$f":"LY78","v":"NO"},{"$f":"LY78","v":"NO"},{"$f":"IF(MB77>Total_plan_no_of_hazards,\"NO\",\"YES\")","v":"NO"},{"$f":"MB78","v":"NO"},{"$f":"MB78","v":"NO"},{"$f":"IF(ME77>Total_plan_no_of_hazards,\"NO\",\"YES\")","v":"NO"},{"$f":"ME78","v":"NO"},{"$f":"ME78","v":"NO"},{"$f":"IF(MH77>Total_plan_no_of_hazards,\"NO\",\"YES\")","v":"NO"},{"$f":"MH78","v":"NO"},{"$f":"MH78","v":"NO"},{"$f":"IF(MK77>Total_plan_no_of_hazards,\"NO\",\"YES\")","v":"NO"},{"$f":"MK78","v":"NO"},{"$f":"MK78","v":"NO"},{"$f":"IF(MN77>Total_plan_no_of_hazards,\"NO\",\"YES\")","v":"NO"},{"$f":"MN78","v":"NO"},{"$f":"MN78","v":"NO"},{"$f":"IF(MQ77>Total_plan_no_of_hazards,\"NO\",\"YES\")","v":"NO"},{"$f":"MQ78","v":"NO"},{"$f":"MQ78","v":"NO"},{"$f":"IF(MT77>Total_plan_no_of_hazards,\"NO\",\"YES\")","v":"NO"},{"$f":"MT78","v":"NO"},{"$f":"MT78","v":"NO"}]
[null,null,{"$f":"IF(Foreman_3=0,\"\",Foreman_3)","v":""},null,null,null,null,null,null,null,null,null,null,null,null,"plan number",null,null,null,null,null,null,null,null,null,null,null,null,null,null,null,null,null,null,null,null,null,null,null,null,null,null,null,null,null,null,null,null,null,null,null,null,null,null,null,null,null,null,null,null,null,null,null,null,null,null,null,null,null,null,null,null,null,null,null,{"$f":"IF(BX77>Total_plan_no_of_hazards,0,VLOOKUP(BX77,'4'!$B$14:$C$113,2,FALSE))","v":0},{"$f":"BX79+1","v":1},{"$f":"BY79+1","v":2},{"$f":"IF(CA77>Total_plan_no_of_hazards,0,VLOOKUP(CA77,'4'!$B$14:$C$113,2,FALSE))","v":0},{"$f":"CA79+1","v":1},{"$f":"CB79+1","v":2},{"$f":"IF(CD77>'4'!$B$139,0,VLOOKUP(CD77,'4'!$B$14:$C$113,2,FALSE))","v":0},{"$f":"CD79+1","v":1},{"$f":"CE79+1","v":2},{"$f":"IF(CG77>'4'!$B$139,0,VLOOKUP(CG77,'4'!$B$14:$C$113,2,FALSE))","v":0},{"$f":"CG79+1","v":1},{"$f":"CH79+1","v":2},{"$f":"IF(CJ77>'4'!$B$139,0,VLOOKUP(CJ77,'4'!$B$14:$C$113,2,FALSE))","v":0},{"$f":"CJ79+1","v":1},{"$f":"CK79+1","v":2},{"$f":"IF(CM77>'4'!$B$139,0,VLOOKUP(CM77,'4'!$B$14:$C$113,2,FALSE))","v":0},{"$f":"CM79+1","v":1},{"$f":"CN79+1","v":2},{"$f":"IF(CP77>'4'!$B$139,0,VLOOKUP(CP77,'4'!$B$14:$C$113,2,FALSE))","v":0},{"$f":"CP79+1","v":1},{"$f":"CQ79+1","v":2},{"$f":"IF(CS77>'4'!$B$139,0,VLOOKUP(CS77,'4'!$B$14:$C$113,2,FALSE))","v":0},{"$f":"CS79+1","v":1},{"$f":"CT79+1","v":2},{"$f":"IF(CV77>'4'!$B$139,0,VLOOKUP(CV77,'4'!$B$14:$C$113,2,FALSE))","v":0},{"$f":"CV79+1","v":1},{"$f":"CW79+1","v":2},{"$f":"IF(CY77>'4'!$B$139,0,VLOOKUP(CY77,'4'!$B$14:$C$113,2,FALSE))","v":0},{"$f":"CY79+1","v":1},{"$f":"CZ79+1","v":2},{"$f":"IF(DB77>'4'!$B$139,0,VLOOKUP(DB77,'4'!$B$14:$C$113,2,FALSE))","v":0},{"$f":"DB79+1","v":1},{"$f":"DC79+1","v":2},{"$f":"IF(DE77>'4'!$B$139,0,VLOOKUP(DE77,'4'!$B$14:$C$113,2,FALSE))","v":0},{"$f":"DE79+1","v":1},{"$f":"DF79+1","v":2},{"$f":"IF(DH77>'4'!$B$139,0,VLOOKUP(DH77,'4'!$B$14:$C$113,2,FALSE))","v":0},{"$f":"DH79+1","v":1},{"$f":"DI79+1","v":2},{"$f":"IF(DK77>'4'!$B$139,0,VLOOKUP(DK77,'4'!$B$14:$C$113,2,FALSE))","v":0},{"$f":"DK79+1","v":1},{"$f":"DL79+1","v":2},{"$f":"IF(DN77>'4'!$B$139,0,VLOOKUP(DN77,'4'!$B$14:$C$113,2,FALSE))","v":0},{"$f":"DN79+1","v":1},{"$f":"DO79+1","v":2},{"$f":"IF(DQ77>'4'!$B$139,0,VLOOKUP(DQ77,'4'!$B$14:$C$113,2,FALSE))","v":0},{"$f":"DQ79+1","v":1},{"$f":"DR79+1","v":2},{"$f":"IF(DT77>'4'!$B$139,0,VLOOKUP(DT77,'4'!$B$14:$C$113,2,FALSE))","v":0},{"$f":"DT79+1","v":1},{"$f":"DU79+1","v":2},{"$f":"IF(DW77>'4'!$B$139,0,VLOOKUP(DW77,'4'!$B$14:$C$113,2,FALSE))","v":0},{"$f":"DW79+1","v":1},{"$f":"DX79+1","v":2},{"$f":"IF(DZ77>'4'!$B$139,0,VLOOKUP(DZ77,'4'!$B$14:$C$113,2,FALSE))","v":0},{"$f":"DZ79+1","v":1},{"$f":"EA79+1","v":2},{"$f":"IF(EC77>'4'!$B$139,0,VLOOKUP(EC77,'4'!$B$14:$C$113,2,FALSE))","v":0},{"$f":"EC79+1","v":1},{"$f":"ED79+1","v":2},{"$f":"IF(EF77>'4'!$B$139,0,VLOOKUP(EF77,'4'!$B$14:$C$113,2,FALSE))","v":0},{"$f":"EF79+1","v":1},{"$f":"EG79+1","v":2},{"$f":"IF(EI77>'4'!$B$139,0,VLOOKUP(EI77,'4'!$B$14:$C$113,2,FALSE))","v":0},{"$f":"EI79+1","v":1},{"$f":"EJ79+1","v":2},{"$f":"IF(EL77>'4'!$B$139,0,VLOOKUP(EL77,'4'!$B$14:$C$113,2,FALSE))","v":0},{"$f":"EL79+1","v":1},{"$f":"EM79+1","v":2},{"$f":"IF(EO77>'4'!$B$139,0,VLOOKUP(EO77,'4'!$B$14:$C$113,2,FALSE))","v":0},{"$f":"EO79+1","v":1},{"$f":"EP79+1","v":2},{"$f":"IF(ER77>'4'!$B$139,0,VLOOKUP(ER77,'4'!$B$14:$C$113,2,FALSE))","v":0},{"$f":"ER79+1","v":1},{"$f":"ES79+1","v":2},{"$f":"IF(EU77>'4'!$B$139,0,VLOOKUP(EU77,'4'!$B$14:$C$113,2,FALSE))","v":0},{"$f":"EU79+1","v":1},{"$f":"EV79+1","v":2},{"$f":"IF(EX77>'4'!$B$139,0,VLOOKUP(EX77,'4'!$B$14:$C$113,2,FALSE))","v":0},{"$f":"EX79+1","v":1},{"$f":"EY79+1","v":2},{"$f":"IF(FA77>'4'!$B$139,0,VLOOKUP(FA77,'4'!$B$14:$C$113,2,FALSE))","v":0},{"$f":"FA79+1","v":1},{"$f":"FB79+1","v":2},{"$f":"IF(FD77>'4'!$B$139,0,VLOOKUP(FD77,'4'!$B$14:$C$113,2,FALSE))","v":0},{"$f":"FD79+1","v":1},{"$f":"FE79+1","v":2},{"$f":"IF(FG77>'4'!$B$139,0,VLOOKUP(FG77,'4'!$B$14:$C$113,2,FALSE))","v":0},{"$f":"FG79+1","v":1},{"$f":"FH79+1","v":2},{"$f":"IF(FJ77>'4'!$B$139,0,VLOOKUP(FJ77,'4'!$B$14:$C$113,2,FALSE))","v":0},{"$f":"FJ79+1","v":1},{"$f":"FK79+1","v":2},{"$f":"IF(FM77>'4'!$B$139,0,VLOOKUP(FM77,'4'!$B$14:$C$113,2,FALSE))","v":0},{"$f":"FM79+1","v":1},{"$f":"FN79+1","v":2},{"$f":"IF(FP77>'4'!$B$139,0,VLOOKUP(FP77,'4'!$B$14:$C$113,2,FALSE))","v":0},{"$f":"FP79+1","v":1},{"$f":"FQ79+1","v":2},{"$f":"IF(FS77>'4'!$B$139,0,VLOOKUP(FS77,'4'!$B$14:$C$113,2,FALSE))","v":0},{"$f":"FS79+1","v":1},{"$f":"FT79+1","v":2},{"$f":"IF(FV77>'4'!$B$139,0,VLOOKUP(FV77,'4'!$B$14:$C$113,2,FALSE))","v":0},{"$f":"FV79+1","v":1},{"$f":"FW79+1","v":2},{"$f":"IF(FY77>'4'!$B$139,0,VLOOKUP(FY77,'4'!$B$14:$C$113,2,FALSE))","v":0},{"$f":"FY79+1","v":1},{"$f":"FZ79+1","v":2},{"$f":"IF(GB77>'4'!$B$139,0,VLOOKUP(GB77,'4'!$B$14:$C$113,2,FALSE))","v":0},{"$f":"GB79+1","v":1},{"$f":"GC79+1","v":2},{"$f":"IF(GE77>'4'!$B$139,0,VLOOKUP(GE77,'4'!$B$14:$C$113,2,FALSE))","v":0},{"$f":"GE79+1","v":1},{"$f":"GF79+1","v":2},{"$f":"IF(GH77>'4'!$B$139,0,VLOOKUP(GH77,'4'!$B$14:$C$113,2,FALSE))","v":0},{"$f":"GH79+1","v":1},{"$f":"GI79+1","v":2},{"$f":"IF(GK77>'4'!$B$139,0,VLOOKUP(GK77,'4'!$B$14:$C$113,2,FALSE))","v":0},{"$f":"GK79+1","v":1},{"$f":"GL79+1","v":2},{"$f":"IF(GN77>'4'!$B$139,0,VLOOKUP(GN77,'4'!$B$14:$C$113,2,FALSE))","v":0},{"$f":"GN79+1","v":1},{"$f":"GO79+1","v":2},{"$f":"IF(GQ77>'4'!$B$139,0,VLOOKUP(GQ77,'4'!$B$14:$C$113,2,FALSE))","v":0},{"$f":"GQ79+1","v":1},{"$f":"GR79+1","v":2},{"$f":"IF(GT77>'4'!$B$139,0,VLOOKUP(GT77,'4'!$B$14:$C$113,2,FALSE))","v":0},{"$f":"GT79+1","v":1},{"$f":"GU79+1","v":2},{"$f":"IF(GW77>'4'!$B$139,0,VLOOKUP(GW77,'4'!$B$14:$C$113,2,FALSE))","v":0},{"$f":"GW79+1","v":1},{"$f":"GX79+1","v":2},{"$f":"IF(GZ77>'4'!$B$139,0,VLOOKUP(GZ77,'4'!$B$14:$C$113,2,FALSE))","v":0},{"$f":"GZ79+1","v":1},{"$f":"HA79+1","v":2},{"$f":"IF(HC77>'4'!$B$139,0,VLOOKUP(HC77,'4'!$B$14:$C$113,2,FALSE))","v":0},{"$f":"HC79+1","v":1},{"$f":"HD79+1","v":2},{"$f":"IF(HF77>'4'!$B$139,0,VLOOKUP(HF77,'4'!$B$14:$C$113,2,FALSE))","v":0},{"$f":"HF79+1","v":1},{"$f":"HG79+1","v":2},{"$f":"IF(HI77>'4'!$B$139,0,VLOOKUP(HI77,'4'!$B$14:$C$113,2,FALSE))","v":0},{"$f":"HI79+1","v":1},{"$f":"HJ79+1","v":2},{"$f":"IF(HL77>'4'!$B$139,0,VLOOKUP(HL77,'4'!$B$14:$C$113,2,FALSE))","v":0},{"$f":"HL79+1","v":1},{"$f":"HM79+1","v":2},{"$f":"IF(HO77>'4'!$B$139,0,VLOOKUP(HO77,'4'!$B$14:$C$113,2,FALSE))","v":0},{"$f":"HO79+1","v":1},{"$f":"HP79+1","v":2},{"$f":"IF(HR77>'4'!$B$139,0,VLOOKUP(HR77,'4'!$B$14:$C$113,2,FALSE))","v":0},{"$f":"HR79+1","v":1},{"$f":"HS79+1","v":2},{"$f":"IF(HU77>'4'!$B$139,0,VLOOKUP(HU77,'4'!$B$14:$C$113,2,FALSE))","v":0},{"$f":"HU79+1","v":1},{"$f":"HV79+1","v":2},{"$f":"IF(HX77>'4'!$B$139,0,VLOOKUP(HX77,'4'!$B$14:$C$113,2,FALSE))","v":0},{"$f":"HX79+1","v":1},{"$f":"HY79+1","v":2},{"$f":"IF(IA77>'4'!$B$139,0,VLOOKUP(IA77,'4'!$B$14:$C$113,2,FALSE))","v":0},{"$f":"IA79+1","v":1},{"$f":"IB79+1","v":2},{"$f":"IF(ID77>'4'!$B$139,0,VLOOKUP(ID77,'4'!$B$14:$C$113,2,FALSE))","v":0},{"$f":"ID79+1","v":1},{"$f":"IE79+1","v":2},{"$f":"IF(IG77>'4'!$B$139,0,VLOOKUP(IG77,'4'!$B$14:$C$113,2,FALSE))","v":0},{"$f":"IG79+1","v":1},{"$f":"IH79+1","v":2},{"$f":"IF(IJ77>'4'!$B$139,0,VLOOKUP(IJ77,'4'!$B$14:$C$113,2,FALSE))","v":0},{"$f":"IJ79+1","v":1},{"$f":"IK79+1","v":2},{"$f":"IF(IM77>'4'!$B$139,0,VLOOKUP(IM77,'4'!$B$14:$C$113,2,FALSE))","v":0},{"$f":"IM79+1","v":1},{"$f":"IN79+1","v":2},{"$f":"IF(IP77>'4'!$B$139,0,VLOOKUP(IP77,'4'!$B$14:$C$113,2,FALSE))","v":0},{"$f":"IP79+1","v":1},{"$f":"IQ79+1","v":2},{"$f":"IF(IS77>'4'!$B$139,0,VLOOKUP(IS77,'4'!$B$14:$C$113,2,FALSE))","v":0},{"$f":"IS79+1","v":1},{"$f":"IT79+1","v":2},{"$f":"IF(IV77>'4'!$B$139,0,VLOOKUP(IV77,'4'!$B$14:$C$113,2,FALSE))","v":0},{"$f":"IV79+1","v":1},{"$f":"IW79+1","v":2},{"$f":"IF(IY77>'4'!$B$139,0,VLOOKUP(IY77,'4'!$B$14:$C$113,2,FALSE))","v":0},{"$f":"IY79+1","v":1},{"$f":"IZ79+1","v":2},{"$f":"IF(JB77>'4'!$B$139,0,VLOOKUP(JB77,'4'!$B$14:$C$113,2,FALSE))","v":0},{"$f":"JB79+1","v":1},{"$f":"JC79+1","v":2},{"$f":"IF(JE77>'4'!$B$139,0,VLOOKUP(JE77,'4'!$B$14:$C$113,2,FALSE))","v":0},{"$f":"JE79+1","v":1},{"$f":"JF79+1","v":2},{"$f":"IF(JH77>'4'!$B$139,0,VLOOKUP(JH77,'4'!$B$14:$C$113,2,FALSE))","v":0},{"$f":"JH79+1","v":1},{"$f":"JI79+1","v":2},{"$f":"IF(JK77>'4'!$B$139,0,VLOOKUP(JK77,'4'!$B$14:$C$113,2,FALSE))","v":0},{"$f":"JK79+1","v":1},{"$f":"JL79+1","v":2},{"$f":"IF(JN77>'4'!$B$139,0,VLOOKUP(JN77,'4'!$B$14:$C$113,2,FALSE))","v":0},{"$f":"JN79+1","v":1},{"$f":"JO79+1","v":2},{"$f":"IF(JQ77>'4'!$B$139,0,VLOOKUP(JQ77,'4'!$B$14:$C$113,2,FALSE))","v":0},{"$f":"JQ79+1","v":1},{"$f":"JR79+1","v":2},{"$f":"IF(JT77>'4'!$B$139,0,VLOOKUP(JT77,'4'!$B$14:$C$113,2,FALSE))","v":0},{"$f":"JT79+1","v":1},{"$f":"JU79+1","v":2},{"$f":"IF(JW77>'4'!$B$139,0,VLOOKUP(JW77,'4'!$B$14:$C$113,2,FALSE))","v":0},{"$f":"JW79+1","v":1},{"$f":"JX79+1","v":2},{"$f":"IF(JZ77>'4'!$B$139,0,VLOOKUP(JZ77,'4'!$B$14:$C$113,2,FALSE))","v":0},{"$f":"JZ79+1","v":1},{"$f":"KA79+1","v":2},{"$f":"IF(KC77>'4'!$B$139,0,VLOOKUP(KC77,'4'!$B$14:$C$113,2,FALSE))","v":0},{"$f":"KC79+1","v":1},{"$f":"KD79+1","v":2},{"$f":"IF(KF77>'4'!$B$139,0,VLOOKUP(KF77,'4'!$B$14:$C$113,2,FALSE))","v":0},{"$f":"KF79+1","v":1},{"$f":"KG79+1","v":2},{"$f":"IF(KI77>'4'!$B$139,0,VLOOKUP(KI77,'4'!$B$14:$C$113,2,FALSE))","v":0},{"$f":"KI79+1","v":1},{"$f":"KJ79+1","v":2},{"$f":"IF(KL77>'4'!$B$139,0,VLOOKUP(KL77,'4'!$B$14:$C$113,2,FALSE))","v":0},{"$f":"KL79+1","v":1},{"$f":"KM79+1","v":2},{"$f":"IF(KO77>'4'!$B$139,0,VLOOKUP(KO77,'4'!$B$14:$C$113,2,FALSE))","v":0},{"$f":"KO79+1","v":1},{"$f":"KP79+1","v":2},{"$f":"IF(KR77>'4'!$B$139,0,VLOOKUP(KR77,'4'!$B$14:$C$113,2,FALSE))","v":0},{"$f":"KR79+1","v":1},{"$f":"KS79+1","v":2},{"$f":"IF(KU77>'4'!$B$139,0,VLOOKUP(KU77,'4'!$B$14:$C$113,2,FALSE))","v":0},{"$f":"KU79+1","v":1},{"$f":"KV79+1","v":2},{"$f":"IF(KX77>'4'!$B$139,0,VLOOKUP(KX77,'4'!$B$14:$C$113,2,FALSE))","v":0},{"$f":"KX79+1","v":1},{"$f":"KY79+1","v":2},{"$f":"IF(LA77>'4'!$B$139,0,VLOOKUP(LA77,'4'!$B$14:$C$113,2,FALSE))","v":0},{"$f":"LA79+1","v":1},{"$f":"LB79+1","v":2},{"$f":"IF(LD77>'4'!$B$139,0,VLOOKUP(LD77,'4'!$B$14:$C$113,2,FALSE))","v":0},{"$f":"LD79+1","v":1},{"$f":"LE79+1","v":2},{"$f":"IF(LG77>'4'!$B$139,0,VLOOKUP(LG77,'4'!$B$14:$C$113,2,FALSE))","v":0},{"$f":"LG79+1","v":1},{"$f":"LH79+1","v":2},{"$f":"IF(LJ77>'4'!$B$139,0,VLOOKUP(LJ77,'4'!$B$14:$C$113,2,FALSE))","v":0},{"$f":"LJ79+1","v":1},{"$f":"LK79+1","v":2},{"$f":"IF(LM77>'4'!$B$139,0,VLOOKUP(LM77,'4'!$B$14:$C$113,2,FALSE))","v":0},{"$f":"LM79+1","v":1},{"$f":"LN79+1","v":2},{"$f":"IF(LP77>'4'!$B$139,0,VLOOKUP(LP77,'4'!$B$14:$C$113,2,FALSE))","v":0},{"$f":"LP79+1","v":1},{"$f":"LQ79+1","v":2},{"$f":"IF(LS77>'4'!$B$139,0,VLOOKUP(LS77,'4'!$B$14:$C$113,2,FALSE))","v":0},{"$f":"LS79+1","v":1},{"$f":"LT79+1","v":2},{"$f":"IF(LV77>'4'!$B$139,0,VLOOKUP(LV77,'4'!$B$14:$C$113,2,FALSE))","v":0},{"$f":"LV79+1","v":1},{"$f":"LW79+1","v":2},{"$f":"IF(LY77>'4'!$B$139,0,VLOOKUP(LY77,'4'!$B$14:$C$113,2,FALSE))","v":0},{"$f":"LY79+1","v":1},{"$f":"LZ79+1","v":2},{"$f":"IF(MB77>'4'!$B$139,0,VLOOKUP(MB77,'4'!$B$14:$C$113,2,FALSE))","v":0},{"$f":"MB79+1","v":1},{"$f":"MC79+1","v":2},{"$f":"IF(ME77>'4'!$B$139,0,VLOOKUP(ME77,'4'!$B$14:$C$113,2,FALSE))","v":0},{"$f":"ME79+1","v":1},{"$f":"MF79+1","v":2},{"$f":"IF(MH77>'4'!$B$139,0,VLOOKUP(MH77,'4'!$B$14:$C$113,2,FALSE))","v":0},{"$f":"MH79+1","v":1},{"$f":"MI79+1","v":2},{"$f":"IF(MK77>'4'!$B$139,0,VLOOKUP(MK77,'4'!$B$14:$C$113,2,FALSE))","v":0},{"$f":"MK79+1","v":1},{"$f":"ML79+1","v":2},{"$f":"IF(MN77>'4'!$B$139,0,VLOOKUP(MN77,'4'!$B$14:$C$113,2,FALSE))","v":0},{"$f":"MN79+1","v":1},{"$f":"MO79+1","v":2},{"$f":"IF(MQ77>'4'!$B$139,0,VLOOKUP(MQ77,'4'!$B$14:$C$113,2,FALSE))","v":0},{"$f":"MQ79+1","v":1},{"$f":"MR79+1","v":2},{"$f":"IF(MT77>'4'!$B$139,0,VLOOKUP(MT77,'4'!$B$14:$C$113,2,FALSE))","v":0},{"$f":"MT79+1","v":1},{"$f":"MU79+1","v":2}]
[null,null,{"$f":"IF(Foreman_4=0,\"\",Foreman_4)","v":""},null,null,null,null,null,null,null,null,null,null,null,null,"residual risk",null,null,null,null,null,null,null,null,null,null,null,null,null,null,null,null,null,null,null,null,null,null,null,null,null,null,null,null,null,null,null,null,null,null,null,null,null,null,null,null,null,null,null,null,null,null,null,null,null,null,null,null,null,null,null,null,null,null,70,null,null,{"$f":"IF(BZ$78=\"NO\",\"\",IF(INDEX(All_Hazards_and_Controls,$BW50,BZ$79)=0,\"\",INDEX(All_Hazards_and_Controls,$BW50,BZ$79)))","v":""},null,null,{"$f":"IF(CC$78=\"NO\",\"\",IF(INDEX(All_Hazards_and_Controls,$BW50,CC$79)=0,\"\",INDEX(All_Hazards_and_Controls,$BW50,CC$79)))","v":""},null,null,{"$f":"IF(CF$78=\"NO\",\"\",IF(INDEX(All_Hazards_and_Controls,$BW50,CF$79)=0,\"\",INDEX(All_Hazards_and_Controls,$BW50,CF$79)))","v":""},null,null,{"$f":"IF(CI$78=\"NO\",\"\",IF(INDEX(All_Hazards_and_Controls,$BW50,CI$79)=0,\"\",INDEX(All_Hazards_and_Controls,$BW50,CI$79)))","v":""},null,null,{"$f":"IF(CL$78=\"NO\",\"\",IF(INDEX(All_Hazards_and_Controls,$BW50,CL$79)=0,\"\",INDEX(All_Hazards_and_Controls,$BW50,CL$79)))","v":""},null,null,{"$f":"IF(CO$78=\"NO\",\"\",IF(INDEX(All_Hazards_and_Controls,$BW50,CO$79)=0,\"\",INDEX(All_Hazards_and_Controls,$BW50,CO$79)))","v":""},null,null,{"$f":"IF(CR$78=\"NO\",\"\",IF(INDEX(All_Hazards_and_Controls,$BW50,CR$79)=0,\"\",INDEX(All_Hazards_and_Controls,$BW50,CR$79)))","v":""},null,null,{"$f":"IF(CU$78=\"NO\",\"\",IF(INDEX(All_Hazards_and_Controls,$BW50,CU$79)=0,\"\",INDEX(All_Hazards_and_Controls,$BW50,CU$79)))","v":""},null,null,{"$f":"IF(CX$78=\"NO\",\"\",IF(INDEX(All_Hazards_and_Controls,$BW50,CX$79)=0,\"\",INDEX(All_Hazards_and_Controls,$BW50,CX$79)))","v":""},null,null,{"$f":"IF(DA$78=\"NO\",\"\",IF(INDEX(All_Hazards_and_Controls,$BW50,DA$79)=0,\"\",INDEX(All_Hazards_and_Controls,$BW50,DA$79)))","v":""},null,null,{"$f":"IF(DD$78=\"NO\",\"\",IF(INDEX(All_Hazards_and_Controls,$BW50,DD$79)=0,\"\",INDEX(All_Hazards_and_Controls,$BW50,DD$79)))","v":""},null,null,{"$f":"IF(DG$78=\"NO\",\"\",IF(INDEX(All_Hazards_and_Controls,$BW50,DG$79)=0,\"\",INDEX(All_Hazards_and_Controls,$BW50,DG$79)))","v":""},null,null,{"$f":"IF(DJ$78=\"NO\",\"\",IF(INDEX(All_Hazards_and_Controls,$BW50,DJ$79)=0,\"\",INDEX(All_Hazards_and_Controls,$BW50,DJ$79)))","v":""},null,null,{"$f":"IF(DM$78=\"NO\",\"\",IF(INDEX(All_Hazards_and_Controls,$BW50,DM$79)=0,\"\",INDEX(All_Hazards_and_Controls,$BW50,DM$79)))","v":""},null,null,{"$f":"IF(DP$78=\"NO\",\"\",IF(INDEX(All_Hazards_and_Controls,$BW50,DP$79)=0,\"\",INDEX(All_Hazards_and_Controls,$BW50,DP$79)))","v":""},null,null,{"$f":"IF(DS$78=\"NO\",\"\",IF(INDEX(All_Hazards_and_Controls,$BW50,DS$79)=0,\"\",INDEX(All_Hazards_and_Controls,$BW50,DS$79)))","v":""},null,null,{"$f":"IF(DV$78=\"NO\",\"\",IF(INDEX(All_Hazards_and_Controls,$BW50,DV$79)=0,\"\",INDEX(All_Hazards_and_Controls,$BW50,DV$79)))","v":""},null,null,{"$f":"IF(DY$78=\"NO\",\"\",IF(INDEX(All_Hazards_and_Controls,$BW50,DY$79)=0,\"\",INDEX(All_Hazards_and_Controls,$BW50,DY$79)))","v":""},null,null,{"$f":"IF(EB$78=\"NO\",\"\",IF(INDEX(All_Hazards_and_Controls,$BW50,EB$79)=0,\"\",INDEX(All_Hazards_and_Controls,$BW50,EB$79)))","v":""},null,null,{"$f":"IF(EE$78=\"NO\",\"\",IF(INDEX(All_Hazards_and_Controls,$BW50,EE$79)=0,\"\",INDEX(All_Hazards_and_Controls,$BW50,EE$79)))","v":""},null,null,{"$f":"IF(EH$78=\"NO\",\"\",IF(INDEX(All_Hazards_and_Controls,$BW50,EH$79)=0,\"\",INDEX(All_Hazards_and_Controls,$BW50,EH$79)))","v":""},null,null,{"$f":"IF(EK$78=\"NO\",\"\",IF(INDEX(All_Hazards_and_Controls,$BW50,EK$79)=0,\"\",INDEX(All_Hazards_and_Controls,$BW50,EK$79)))","v":""},null,null,{"$f":"IF(EN$78=\"NO\",\"\",IF(INDEX(All_Hazards_and_Controls,$BW50,EN$79)=0,\"\",INDEX(All_Hazards_and_Controls,$BW50,EN$79)))","v":""},null,null,{"$f":"IF(EQ$78=\"NO\",\"\",IF(INDEX(All_Hazards_and_Controls,$BW50,EQ$79)=0,\"\",INDEX(All_Hazards_and_Controls,$BW50,EQ$79)))","v":""},null,null,{"$f":"IF(ET$78=\"NO\",\"\",IF(INDEX(All_Hazards_and_Controls,$BW50,ET$79)=0,\"\",INDEX(All_Hazards_and_Controls,$BW50,ET$79)))","v":""},null,null,{"$f":"IF(EW$78=\"NO\",\"\",IF(INDEX(All_Hazards_and_Controls,$BW50,EW$79)=0,\"\",INDEX(All_Hazards_and_Controls,$BW50,EW$79)))","v":""},null,null,{"$f":"IF(EZ$78=\"NO\",\"\",IF(INDEX(All_Hazards_and_Controls,$BW50,EZ$79)=0,\"\",INDEX(All_Hazards_and_Controls,$BW50,EZ$79)))","v":""},null,null,{"$f":"IF(FC$78=\"NO\",\"\",IF(INDEX(All_Hazards_and_Controls,$BW50,FC$79)=0,\"\",INDEX(All_Hazards_and_Controls,$BW50,FC$79)))","v":""},null,null,{"$f":"IF(FF$78=\"NO\",\"\",IF(INDEX(All_Hazards_and_Controls,$BW50,FF$79)=0,\"\",INDEX(All_Hazards_and_Controls,$BW50,FF$79)))","v":""},null,null,{"$f":"IF(FI$78=\"NO\",\"\",IF(INDEX(All_Hazards_and_Controls,$BW50,FI$79)=0,\"\",INDEX(All_Hazards_and_Controls,$BW50,FI$79)))","v":""},null,null,{"$f":"IF(FL$78=\"NO\",\"\",IF(INDEX(All_Hazards_and_Controls,$BW50,FL$79)=0,\"\",INDEX(All_Hazards_and_Controls,$BW50,FL$79)))","v":""},null,null,{"$f":"IF(FO$78=\"NO\",\"\",IF(INDEX(All_Hazards_and_Controls,$BW50,FO$79)=0,\"\",INDEX(All_Hazards_and_Controls,$BW50,FO$79)))","v":""},null,null,{"$f":"IF(FR$78=\"NO\",\"\",IF(INDEX(All_Hazards_and_Controls,$BW50,FR$79)=0,\"\",INDEX(All_Hazards_and_Controls,$BW50,FR$79)))","v":""},null,null,{"$f":"IF(FU$78=\"NO\",\"\",IF(INDEX(All_Hazards_and_Controls,$BW50,FU$79)=0,\"\",INDEX(All_Hazards_and_Controls,$BW50,FU$79)))","v":""},null,null,{"$f":"IF(FX$78=\"NO\",\"\",IF(INDEX(All_Hazards_and_Controls,$BW50,FX$79)=0,\"\",INDEX(All_Hazards_and_Controls,$BW50,FX$79)))","v":""},null,null,{"$f":"IF(GA$78=\"NO\",\"\",IF(INDEX(All_Hazards_and_Controls,$BW50,GA$79)=0,\"\",INDEX(All_Hazards_and_Controls,$BW50,GA$79)))","v":""},null,null,{"$f":"IF(GD$78=\"NO\",\"\",IF(INDEX(All_Hazards_and_Controls,$BW50,GD$79)=0,\"\",INDEX(All_Hazards_and_Controls,$BW50,GD$79)))","v":""},null,null,{"$f":"IF(GG$78=\"NO\",\"\",IF(INDEX(All_Hazards_and_Controls,$BW50,GG$79)=0,\"\",INDEX(All_Hazards_and_Controls,$BW50,GG$79)))","v":""},null,null,{"$f":"IF(GJ$78=\"NO\",\"\",IF(INDEX(All_Hazards_and_Controls,$BW50,GJ$79)=0,\"\",INDEX(All_Hazards_and_Controls,$BW50,GJ$79)))","v":""},null,null,{"$f":"IF(GM$78=\"NO\",\"\",IF(INDEX(All_Hazards_and_Controls,$BW50,GM$79)=0,\"\",INDEX(All_Hazards_and_Controls,$BW50,GM$79)))","v":""},null,null,{"$f":"IF(GP$78=\"NO\",\"\",IF(INDEX(All_Hazards_and_Controls,$BW50,GP$79)=0,\"\",INDEX(All_Hazards_and_Controls,$BW50,GP$79)))","v":""},null,null,{"$f":"IF(GS$78=\"NO\",\"\",IF(INDEX(All_Hazards_and_Controls,$BW50,GS$79)=0,\"\",INDEX(All_Hazards_and_Controls,$BW50,GS$79)))","v":""},null,null,{"$f":"IF(GV$78=\"NO\",\"\",IF(INDEX(All_Hazards_and_Controls,$BW50,GV$79)=0,\"\",INDEX(All_Hazards_and_Controls,$BW50,GV$79)))","v":""},null,null,{"$f":"IF(GY$78=\"NO\",\"\",IF(INDEX(All_Hazards_and_Controls,$BW50,GY$79)=0,\"\",INDEX(All_Hazards_and_Controls,$BW50,GY$79)))","v":""},null,null,{"$f":"IF(HB$78=\"NO\",\"\",IF(INDEX(All_Hazards_and_Controls,$BW50,HB$79)=0,\"\",INDEX(All_Hazards_and_Controls,$BW50,HB$79)))","v":""},null,null,{"$f":"IF(HE$78=\"NO\",\"\",IF(INDEX(All_Hazards_and_Controls,$BW50,HE$79)=0,\"\",INDEX(All_Hazards_and_Controls,$BW50,HE$79)))","v":""},null,null,{"$f":"IF(HH$78=\"NO\",\"\",IF(INDEX(All_Hazards_and_Controls,$BW50,HH$79)=0,\"\",INDEX(All_Hazards_and_Controls,$BW50,HH$79)))","v":""},null,null,{"$f":"IF(HK$78=\"NO\",\"\",IF(INDEX(All_Hazards_and_Controls,$BW50,HK$79)=0,\"\",INDEX(All_Hazards_and_Controls,$BW50,HK$79)))","v":""},null,null,{"$f":"IF(HN$78=\"NO\",\"\",IF(INDEX(All_Hazards_and_Controls,$BW50,HN$79)=0,\"\",INDEX(All_Hazards_and_Controls,$BW50,HN$79)))","v":""},null,null,{"$f":"IF(HQ$78=\"NO\",\"\",IF(INDEX(All_Hazards_and_Controls,$BW50,HQ$79)=0,\"\",INDEX(All_Hazards_and_Controls,$BW50,HQ$79)))","v":""},null,null,{"$f":"IF(HT$78=\"NO\",\"\",IF(INDEX(All_Hazards_and_Controls,$BW50,HT$79)=0,\"\",INDEX(All_Hazards_and_Controls,$BW50,HT$79)))","v":""},null,null,{"$f":"IF(HW$78=\"NO\",\"\",IF(INDEX(All_Hazards_and_Controls,$BW50,HW$79)=0,\"\",INDEX(All_Hazards_and_Controls,$BW50,HW$79)))","v":""},null,null,{"$f":"IF(HZ$78=\"NO\",\"\",IF(INDEX(All_Hazards_and_Controls,$BW50,HZ$79)=0,\"\",INDEX(All_Hazards_and_Controls,$BW50,HZ$79)))","v":""},null,null,{"$f":"IF(IC$78=\"NO\",\"\",IF(INDEX(All_Hazards_and_Controls,$BW50,IC$79)=0,\"\",INDEX(All_Hazards_and_Controls,$BW50,IC$79)))","v":""},null,null,{"$f":"IF(IF$78=\"NO\",\"\",IF(INDEX(All_Hazards_and_Controls,$BW50,IF$79)=0,\"\",INDEX(All_Hazards_and_Controls,$BW50,IF$79)))","v":""},null,null,{"$f":"IF(II$78=\"NO\",\"\",IF(INDEX(All_Hazards_and_Controls,$BW50,II$79)=0,\"\",INDEX(All_Hazards_and_Controls,$BW50,II$79)))","v":""},null,null,{"$f":"IF(IL$78=\"NO\",\"\",IF(INDEX(All_Hazards_and_Controls,$BW50,IL$79)=0,\"\",INDEX(All_Hazards_and_Controls,$BW50,IL$79)))","v":""},null,null,{"$f":"IF(IO$78=\"NO\",\"\",IF(INDEX(All_Hazards_and_Controls,$BW50,IO$79)=0,\"\",INDEX(All_Hazards_and_Controls,$BW50,IO$79)))","v":""},null,null,{"$f":"IF(IR$78=\"NO\",\"\",IF(INDEX(All_Hazards_and_Controls,$BW50,IR$79)=0,\"\",INDEX(All_Hazards_and_Controls,$BW50,IR$79)))","v":""},null,null,{"$f":"IF(IU$78=\"NO\",\"\",IF(INDEX(All_Hazards_and_Controls,$BW50,IU$79)=0,\"\",INDEX(All_Hazards_and_Controls,$BW50,IU$79)))","v":""},null,null,{"$f":"IF(IX$78=\"NO\",\"\",IF(INDEX(All_Hazards_and_Controls,$BW50,IX$79)=0,\"\",INDEX(All_Hazards_and_Controls,$BW50,IX$79)))","v":""},null,null,{"$f":"IF(JA$78=\"NO\",\"\",IF(INDEX(All_Hazards_and_Controls,$BW50,JA$79)=0,\"\",INDEX(All_Hazards_and_Controls,$BW50,JA$79)))","v":""},null,null,{"$f":"IF(JD$78=\"NO\",\"\",IF(INDEX(All_Hazards_and_Controls,$BW50,JD$79)=0,\"\",INDEX(All_Hazards_and_Controls,$BW50,JD$79)))","v":""},null,null,{"$f":"IF(JG$78=\"NO\",\"\",IF(INDEX(All_Hazards_and_Controls,$BW50,JG$79)=0,\"\",INDEX(All_Hazards_and_Controls,$BW50,JG$79)))","v":""},null,null,{"$f":"IF(JJ$78=\"NO\",\"\",IF(INDEX(All_Hazards_and_Controls,$BW50,JJ$79)=0,\"\",INDEX(All_Hazards_and_Controls,$BW50,JJ$79)))","v":""},null,null,{"$f":"IF(JM$78=\"NO\",\"\",IF(INDEX(All_Hazards_and_Controls,$BW50,JM$79)=0,\"\",INDEX(All_Hazards_and_Controls,$BW50,JM$79)))","v":""},null,null,{"$f":"IF(JP$78=\"NO\",\"\",IF(INDEX(All_Hazards_and_Controls,$BW50,JP$79)=0,\"\",INDEX(All_Hazards_and_Controls,$BW50,JP$79)))","v":""},null,null,{"$f":"IF(JS$78=\"NO\",\"\",IF(INDEX(All_Hazards_and_Controls,$BW50,JS$79)=0,\"\",INDEX(All_Hazards_and_Controls,$BW50,JS$79)))","v":""},null,null,{"$f":"IF(JV$78=\"NO\",\"\",IF(INDEX(All_Hazards_and_Controls,$BW50,JV$79)=0,\"\",INDEX(All_Hazards_and_Controls,$BW50,JV$79)))","v":""},null,null,{"$f":"IF(JY$78=\"NO\",\"\",IF(INDEX(All_Hazards_and_Controls,$BW50,JY$79)=0,\"\",INDEX(All_Hazards_and_Controls,$BW50,JY$79)))","v":""},null,null,{"$f":"IF(KB$78=\"NO\",\"\",IF(INDEX(All_Hazards_and_Controls,$BW50,KB$79)=0,\"\",INDEX(All_Hazards_and_Controls,$BW50,KB$79)))","v":""},null,null,{"$f":"IF(KE$78=\"NO\",\"\",IF(INDEX(All_Hazards_and_Controls,$BW50,KE$79)=0,\"\",INDEX(All_Hazards_and_Controls,$BW50,KE$79)))","v":""},null,null,{"$f":"IF(KH$78=\"NO\",\"\",IF(INDEX(All_Hazards_and_Controls,$BW50,KH$79)=0,\"\",INDEX(All_Hazards_and_Controls,$BW50,KH$79)))","v":""},null,null,{"$f":"IF(KK$78=\"NO\",\"\",IF(INDEX(All_Hazards_and_Controls,$BW50,KK$79)=0,\"\",INDEX(All_Hazards_and_Controls,$BW50,KK$79)))","v":""},null,null,{"$f":"IF(KN$78=\"NO\",\"\",IF(INDEX(All_Hazards_and_Controls,$BW50,KN$79)=0,\"\",INDEX(All_Hazards_and_Controls,$BW50,KN$79)))","v":""},null,null,{"$f":"IF(KQ$78=\"NO\",\"\",IF(INDEX(All_Hazards_and_Controls,$BW50,KQ$79)=0,\"\",INDEX(All_Hazards_and_Controls,$BW50,KQ$79)))","v":""},null,null,{"$f":"IF(KT$78=\"NO\",\"\",IF(INDEX(All_Hazards_and_Controls,$BW50,KT$79)=0,\"\",INDEX(All_Hazards_and_Controls,$BW50,KT$79)))","v":""},null,null,{"$f":"IF(KW$78=\"NO\",\"\",IF(INDEX(All_Hazards_and_Controls,$BW50,KW$79)=0,\"\",INDEX(All_Hazards_and_Controls,$BW50,KW$79)))","v":""},null,null,{"$f":"IF(KZ$78=\"NO\",\"\",IF(INDEX(All_Hazards_and_Controls,$BW50,KZ$79)=0,\"\",INDEX(All_Hazards_and_Controls,$BW50,KZ$79)))","v":""},null,null,{"$f":"IF(LC$78=\"NO\",\"\",IF(INDEX(All_Hazards_and_Controls,$BW50,LC$79)=0,\"\",INDEX(All_Hazards_and_Controls,$BW50,LC$79)))","v":""},null,null,{"$f":"IF(LF$78=\"NO\",\"\",IF(INDEX(All_Hazards_and_Controls,$BW50,LF$79)=0,\"\",INDEX(All_Hazards_and_Controls,$BW50,LF$79)))","v":""},null,null,{"$f":"IF(LI$78=\"NO\",\"\",IF(INDEX(All_Hazards_and_Controls,$BW50,LI$79)=0,\"\",INDEX(All_Hazards_and_Controls,$BW50,LI$79)))","v":""},null,null,{"$f":"IF(LL$78=\"NO\",\"\",IF(INDEX(All_Hazards_and_Controls,$BW50,LL$79)=0,\"\",INDEX(All_Hazards_and_Controls,$BW50,LL$79)))","v":""},null,null,{"$f":"IF(LO$78=\"NO\",\"\",IF(INDEX(All_Hazards_and_Controls,$BW50,LO$79)=0,\"\",INDEX(All_Hazards_and_Controls,$BW50,LO$79)))","v":""},null,null,{"$f":"IF(LR$78=\"NO\",\"\",IF(INDEX(All_Hazards_and_Controls,$BW50,LR$79)=0,\"\",INDEX(All_Hazards_and_Controls,$BW50,LR$79)))","v":""},null,null,{"$f":"IF(LU$78=\"NO\",\"\",IF(INDEX(All_Hazards_and_Controls,$BW50,LU$79)=0,\"\",INDEX(All_Hazards_and_Controls,$BW50,LU$79)))","v":""},null,null,{"$f":"IF(LX$78=\"NO\",\"\",IF(INDEX(All_Hazards_and_Controls,$BW50,LX$79)=0,\"\",INDEX(All_Hazards_and_Controls,$BW50,LX$79)))","v":""},null,null,{"$f":"IF(MA$78=\"NO\",\"\",IF(INDEX(All_Hazards_and_Controls,$BW50,MA$79)=0,\"\",INDEX(All_Hazards_and_Controls,$BW50,MA$79)))","v":""},null,null,{"$f":"IF(MD$78=\"NO\",\"\",IF(INDEX(All_Hazards_and_Controls,$BW50,MD$79)=0,\"\",INDEX(All_Hazards_and_Controls,$BW50,MD$79)))","v":""},null,null,{"$f":"IF(MG$78=\"NO\",\"\",IF(INDEX(All_Hazards_and_Controls,$BW50,MG$79)=0,\"\",INDEX(All_Hazards_and_Controls,$BW50,MG$79)))","v":""},null,null,{"$f":"IF(MJ$78=\"NO\",\"\",IF(INDEX(All_Hazards_and_Controls,$BW50,MJ$79)=0,\"\",INDEX(All_Hazards_and_Controls,$BW50,MJ$79)))","v":""},null,null,{"$f":"IF(MM$78=\"NO\",\"\",IF(INDEX(All_Hazards_and_Controls,$BW50,MM$79)=0,\"\",INDEX(All_Hazards_and_Controls,$BW50,MM$79)))","v":""},null,null,{"$f":"IF(MP$78=\"NO\",\"\",IF(INDEX(All_Hazards_and_Controls,$BW50,MP$79)=0,\"\",INDEX(All_Hazards_and_Controls,$BW50,MP$79)))","v":""},null,null,{"$f":"IF(MS$78=\"NO\",\"\",IF(INDEX(All_Hazards_and_Controls,$BW50,MS$79)=0,\"\",INDEX(All_Hazards_and_Controls,$BW50,MS$79)))","v":""},null,null,{"$f":"IF(MV$78=\"NO\",\"\",IF(INDEX(All_Hazards_and_Controls,$BW50,MV$79)=0,\"\",INDEX(All_Hazards_and_Controls,$BW50,MV$79)))","v":""}]
[null,null,{"$f":"IF(Foreman_5=0,\"\",Foreman_5)","v":""},null,null,null,null,null,null,null,null,"max residual risk",{"$f":"MAX(BX81:CM81)","v":0},null,null,"residual risk #",null,null,null,null,null,null,null,null,null,null,null,null,null,null,null,null,null,null,null,null,null,null,null,null,null,null,null,null,null,null,null,null,null,null,null,null,null,null,null,null,null,null,null,null,null,null,null,null,null,null,null,null,null,null,null,null,null,null,null,null,null,{"$f":"IF(BZ80=\"\",0,IF(BZ80=\"Low\",1,IF(BZ80=\"Moderate\",2,IF(BZ80=\"High\",3,IF(BZ80=\"Extreme\",4,\"ERROR\")))))","v":0},null,null,{"$f":"IF(CC80=\"\",0,IF(CC80=\"Low\",1,IF(CC80=\"Moderate\",2,IF(CC80=\"High\",3,IF(CC80=\"Extreme\",4,\"ERROR\")))))","v":0},null,null,{"$f":"IF(CF80=\"\",0,IF(CF80=\"Low\",1,IF(CF80=\"Moderate\",2,IF(CF80=\"High\",3,IF(CF80=\"Extreme\",4,\"ERROR\")))))","v":0},null,null,{"$f":"IF(CI80=\"\",0,IF(CI80=\"Low\",1,IF(CI80=\"Moderate\",2,IF(CI80=\"High\",3,IF(CI80=\"Extreme\",4,\"ERROR\")))))","v":0},null,null,{"$f":"IF(CL80=\"\",0,IF(CL80=\"Low\",1,IF(CL80=\"Moderate\",2,IF(CL80=\"High\",3,IF(CL80=\"Extreme\",4,\"ERROR\")))))","v":0},null,null,{"$f":"IF(CO80=\"\",0,IF(CO80=\"Low\",1,IF(CO80=\"Moderate\",2,IF(CO80=\"High\",3,IF(CO80=\"Extreme\",4,\"ERROR\")))))","v":0},null,null,{"$f":"IF(CR80=\"\",0,IF(CR80=\"Low\",1,IF(CR80=\"Moderate\",2,IF(CR80=\"High\",3,IF(CR80=\"Extreme\",4,\"ERROR\")))))","v":0},null,null,{"$f":"IF(CU80=\"\",0,IF(CU80=\"Low\",1,IF(CU80=\"Moderate\",2,IF(CU80=\"High\",3,IF(CU80=\"Extreme\",4,\"ERROR\")))))","v":0},null,null,{"$f":"IF(CX80=\"\",0,IF(CX80=\"Low\",1,IF(CX80=\"Moderate\",2,IF(CX80=\"High\",3,IF(CX80=\"Extreme\",4,\"ERROR\")))))","v":0},null,null,{"$f":"IF(DA80=\"\",0,IF(DA80=\"Low\",1,IF(DA80=\"Moderate\",2,IF(DA80=\"High\",3,IF(DA80=\"Extreme\",4,\"ERROR\")))))","v":0},null,null,{"$f":"IF(DD80=\"\",0,IF(DD80=\"Low\",1,IF(DD80=\"Moderate\",2,IF(DD80=\"High\",3,IF(DD80=\"Extreme\",4,\"ERROR\")))))","v":0},null,null,{"$f":"IF(DG80=\"\",0,IF(DG80=\"Low\",1,IF(DG80=\"Moderate\",2,IF(DG80=\"High\",3,IF(DG80=\"Extreme\",4,\"ERROR\")))))","v":0},null,null,{"$f":"IF(DJ80=\"\",0,IF(DJ80=\"Low\",1,IF(DJ80=\"Moderate\",2,IF(DJ80=\"High\",3,IF(DJ80=\"Extreme\",4,\"ERROR\")))))","v":0},null,null,{"$f":"IF(DM80=\"\",0,IF(DM80=\"Low\",1,IF(DM80=\"Moderate\",2,IF(DM80=\"High\",3,IF(DM80=\"Extreme\",4,\"ERROR\")))))","v":0},null,null,{"$f":"IF(DP80=\"\",0,IF(DP80=\"Low\",1,IF(DP80=\"Moderate\",2,IF(DP80=\"High\",3,IF(DP80=\"Extreme\",4,\"ERROR\")))))","v":0},null,null,{"$f":"IF(DS80=\"\",0,IF(DS80=\"Low\",1,IF(DS80=\"Moderate\",2,IF(DS80=\"High\",3,IF(DS80=\"Extreme\",4,\"ERROR\")))))","v":0},null,null,{"$f":"IF(DV80=\"\",0,IF(DV80=\"Low\",1,IF(DV80=\"Moderate\",2,IF(DV80=\"High\",3,IF(DV80=\"Extreme\",4,\"ERROR\")))))","v":0},null,null,{"$f":"IF(DY80=\"\",0,IF(DY80=\"Low\",1,IF(DY80=\"Moderate\",2,IF(DY80=\"High\",3,IF(DY80=\"Extreme\",4,\"ERROR\")))))","v":0},null,null,{"$f":"IF(EB80=\"\",0,IF(EB80=\"Low\",1,IF(EB80=\"Moderate\",2,IF(EB80=\"High\",3,IF(EB80=\"Extreme\",4,\"ERROR\")))))","v":0},null,null,{"$f":"IF(EE80=\"\",0,IF(EE80=\"Low\",1,IF(EE80=\"Moderate\",2,IF(EE80=\"High\",3,IF(EE80=\"Extreme\",4,\"ERROR\")))))","v":0},null,null,{"$f":"IF(EH80=\"\",0,IF(EH80=\"Low\",1,IF(EH80=\"Moderate\",2,IF(EH80=\"High\",3,IF(EH80=\"Extreme\",4,\"ERROR\")))))","v":0},null,null,{"$f":"IF(EK80=\"\",0,IF(EK80=\"Low\",1,IF(EK80=\"Moderate\",2,IF(EK80=\"High\",3,IF(EK80=\"Extreme\",4,\"ERROR\")))))","v":0},null,null,{"$f":"IF(EN80=\"\",0,IF(EN80=\"Low\",1,IF(EN80=\"Moderate\",2,IF(EN80=\"High\",3,IF(EN80=\"Extreme\",4,\"ERROR\")))))","v":0},null,null,{"$f":"IF(EQ80=\"\",0,IF(EQ80=\"Low\",1,IF(EQ80=\"Moderate\",2,IF(EQ80=\"High\",3,IF(EQ80=\"Extreme\",4,\"ERROR\")))))","v":0},null,null,{"$f":"IF(ET80=\"\",0,IF(ET80=\"Low\",1,IF(ET80=\"Moderate\",2,IF(ET80=\"High\",3,IF(ET80=\"Extreme\",4,\"ERROR\")))))","v":0},null,null,{"$f":"IF(EW80=\"\",0,IF(EW80=\"Low\",1,IF(EW80=\"Moderate\",2,IF(EW80=\"High\",3,IF(EW80=\"Extreme\",4,\"ERROR\")))))","v":0},null,null,{"$f":"IF(EZ80=\"\",0,IF(EZ80=\"Low\",1,IF(EZ80=\"Moderate\",2,IF(EZ80=\"High\",3,IF(EZ80=\"Extreme\",4,\"ERROR\")))))","v":0},null,null,{"$f":"IF(FC80=\"\",0,IF(FC80=\"Low\",1,IF(FC80=\"Moderate\",2,IF(FC80=\"High\",3,IF(FC80=\"Extreme\",4,\"ERROR\")))))","v":0},null,null,{"$f":"IF(FF80=\"\",0,IF(FF80=\"Low\",1,IF(FF80=\"Moderate\",2,IF(FF80=\"High\",3,IF(FF80=\"Extreme\",4,\"ERROR\")))))","v":0},null,null,{"$f":"IF(FI80=\"\",0,IF(FI80=\"Low\",1,IF(FI80=\"Moderate\",2,IF(FI80=\"High\",3,IF(FI80=\"Extreme\",4,\"ERROR\")))))","v":0},null,null,{"$f":"IF(FL80=\"\",0,IF(FL80=\"Low\",1,IF(FL80=\"Moderate\",2,IF(FL80=\"High\",3,IF(FL80=\"Extreme\",4,\"ERROR\")))))","v":0},null,null,{"$f":"IF(FO80=\"\",0,IF(FO80=\"Low\",1,IF(FO80=\"Moderate\",2,IF(FO80=\"High\",3,IF(FO80=\"Extreme\",4,\"ERROR\")))))","v":0},null,null,{"$f":"IF(FR80=\"\",0,IF(FR80=\"Low\",1,IF(FR80=\"Moderate\",2,IF(FR80=\"High\",3,IF(FR80=\"Extreme\",4,\"ERROR\")))))","v":0},null,null,{"$f":"IF(FU80=\"\",0,IF(FU80=\"Low\",1,IF(FU80=\"Moderate\",2,IF(FU80=\"High\",3,IF(FU80=\"Extreme\",4,\"ERROR\")))))","v":0},null,null,{"$f":"IF(FX80=\"\",0,IF(FX80=\"Low\",1,IF(FX80=\"Moderate\",2,IF(FX80=\"High\",3,IF(FX80=\"Extreme\",4,\"ERROR\")))))","v":0},null,null,{"$f":"IF(GA80=\"\",0,IF(GA80=\"Low\",1,IF(GA80=\"Moderate\",2,IF(GA80=\"High\",3,IF(GA80=\"Extreme\",4,\"ERROR\")))))","v":0},null,null,{"$f":"IF(GD80=\"\",0,IF(GD80=\"Low\",1,IF(GD80=\"Moderate\",2,IF(GD80=\"High\",3,IF(GD80=\"Extreme\",4,\"ERROR\")))))","v":0},null,null,{"$f":"IF(GG80=\"\",0,IF(GG80=\"Low\",1,IF(GG80=\"Moderate\",2,IF(GG80=\"High\",3,IF(GG80=\"Extreme\",4,\"ERROR\")))))","v":0},null,null,{"$f":"IF(GJ80=\"\",0,IF(GJ80=\"Low\",1,IF(GJ80=\"Moderate\",2,IF(GJ80=\"High\",3,IF(GJ80=\"Extreme\",4,\"ERROR\")))))","v":0},null,null,{"$f":"IF(GM80=\"\",0,IF(GM80=\"Low\",1,IF(GM80=\"Moderate\",2,IF(GM80=\"High\",3,IF(GM80=\"Extreme\",4,\"ERROR\")))))","v":0},null,null,{"$f":"IF(GP80=\"\",0,IF(GP80=\"Low\",1,IF(GP80=\"Moderate\",2,IF(GP80=\"High\",3,IF(GP80=\"Extreme\",4,\"ERROR\")))))","v":0},null,null,{"$f":"IF(GS80=\"\",0,IF(GS80=\"Low\",1,IF(GS80=\"Moderate\",2,IF(GS80=\"High\",3,IF(GS80=\"Extreme\",4,\"ERROR\")))))","v":0},null,null,{"$f":"IF(GV80=\"\",0,IF(GV80=\"Low\",1,IF(GV80=\"Moderate\",2,IF(GV80=\"High\",3,IF(GV80=\"Extreme\",4,\"ERROR\")))))","v":0},null,null,{"$f":"IF(GY80=\"\",0,IF(GY80=\"Low\",1,IF(GY80=\"Moderate\",2,IF(GY80=\"High\",3,IF(GY80=\"Extreme\",4,\"ERROR\")))))","v":0},null,null,{"$f":"IF(HB80=\"\",0,IF(HB80=\"Low\",1,IF(HB80=\"Moderate\",2,IF(HB80=\"High\",3,IF(HB80=\"Extreme\",4,\"ERROR\")))))","v":0},null,null,{"$f":"IF(HE80=\"\",0,IF(HE80=\"Low\",1,IF(HE80=\"Moderate\",2,IF(HE80=\"High\",3,IF(HE80=\"Extreme\",4,\"ERROR\")))))","v":0},null,null,{"$f":"IF(HH80=\"\",0,IF(HH80=\"Low\",1,IF(HH80=\"Moderate\",2,IF(HH80=\"High\",3,IF(HH80=\"Extreme\",4,\"ERROR\")))))","v":0},null,null,{"$f":"IF(HK80=\"\",0,IF(HK80=\"Low\",1,IF(HK80=\"Moderate\",2,IF(HK80=\"High\",3,IF(HK80=\"Extreme\",4,\"ERROR\")))))","v":0},null,null,{"$f":"IF(HN80=\"\",0,IF(HN80=\"Low\",1,IF(HN80=\"Moderate\",2,IF(HN80=\"High\",3,IF(HN80=\"Extreme\",4,\"ERROR\")))))","v":0},null,null,{"$f":"IF(HQ80=\"\",0,IF(HQ80=\"Low\",1,IF(HQ80=\"Moderate\",2,IF(HQ80=\"High\",3,IF(HQ80=\"Extreme\",4,\"ERROR\")))))","v":0},null,null,{"$f":"IF(HT80=\"\",0,IF(HT80=\"Low\",1,IF(HT80=\"Moderate\",2,IF(HT80=\"High\",3,IF(HT80=\"Extreme\",4,\"ERROR\")))))","v":0},null,null,{"$f":"IF(HW80=\"\",0,IF(HW80=\"Low\",1,IF(HW80=\"Moderate\",2,IF(HW80=\"High\",3,IF(HW80=\"Extreme\",4,\"ERROR\")))))","v":0},null,null,{"$f":"IF(HZ80=\"\",0,IF(HZ80=\"Low\",1,IF(HZ80=\"Moderate\",2,IF(HZ80=\"High\",3,IF(HZ80=\"Extreme\",4,\"ERROR\")))))","v":0},null,null,{"$f":"IF(IC80=\"\",0,IF(IC80=\"Low\",1,IF(IC80=\"Moderate\",2,IF(IC80=\"High\",3,IF(IC80=\"Extreme\",4,\"ERROR\")))))","v":0},null,null,{"$f":"IF(IF80=\"\",0,IF(IF80=\"Low\",1,IF(IF80=\"Moderate\",2,IF(IF80=\"High\",3,IF(IF80=\"Extreme\",4,\"ERROR\")))))","v":0},null,null,{"$f":"IF(II80=\"\",0,IF(II80=\"Low\",1,IF(II80=\"Moderate\",2,IF(II80=\"High\",3,IF(II80=\"Extreme\",4,\"ERROR\")))))","v":0},null,null,{"$f":"IF(IL80=\"\",0,IF(IL80=\"Low\",1,IF(IL80=\"Moderate\",2,IF(IL80=\"High\",3,IF(IL80=\"Extreme\",4,\"ERROR\")))))","v":0},null,null,{"$f":"IF(IO80=\"\",0,IF(IO80=\"Low\",1,IF(IO80=\"Moderate\",2,IF(IO80=\"High\",3,IF(IO80=\"Extreme\",4,\"ERROR\")))))","v":0},null,null,{"$f":"IF(IR80=\"\",0,IF(IR80=\"Low\",1,IF(IR80=\"Moderate\",2,IF(IR80=\"High\",3,IF(IR80=\"Extreme\",4,\"ERROR\")))))","v":0},null,null,{"$f":"IF(IU80=\"\",0,IF(IU80=\"Low\",1,IF(IU80=\"Moderate\",2,IF(IU80=\"High\",3,IF(IU80=\"Extreme\",4,\"ERROR\")))))","v":0},null,null,{"$f":"IF(IX80=\"\",0,IF(IX80=\"Low\",1,IF(IX80=\"Moderate\",2,IF(IX80=\"High\",3,IF(IX80=\"Extreme\",4,\"ERROR\")))))","v":0},null,null,{"$f":"IF(JA80=\"\",0,IF(JA80=\"Low\",1,IF(JA80=\"Moderate\",2,IF(JA80=\"High\",3,IF(JA80=\"Extreme\",4,\"ERROR\")))))","v":0},null,null,{"$f":"IF(JD80=\"\",0,IF(JD80=\"Low\",1,IF(JD80=\"Moderate\",2,IF(JD80=\"High\",3,IF(JD80=\"Extreme\",4,\"ERROR\")))))","v":0},null,null,{"$f":"IF(JG80=\"\",0,IF(JG80=\"Low\",1,IF(JG80=\"Moderate\",2,IF(JG80=\"High\",3,IF(JG80=\"Extreme\",4,\"ERROR\")))))","v":0},null,null,{"$f":"IF(JJ80=\"\",0,IF(JJ80=\"Low\",1,IF(JJ80=\"Moderate\",2,IF(JJ80=\"High\",3,IF(JJ80=\"Extreme\",4,\"ERROR\")))))","v":0},null,null,{"$f":"IF(JM80=\"\",0,IF(JM80=\"Low\",1,IF(JM80=\"Moderate\",2,IF(JM80=\"High\",3,IF(JM80=\"Extreme\",4,\"ERROR\")))))","v":0},null,null,{"$f":"IF(JP80=\"\",0,IF(JP80=\"Low\",1,IF(JP80=\"Moderate\",2,IF(JP80=\"High\",3,IF(JP80=\"Extreme\",4,\"ERROR\")))))","v":0},null,null,{"$f":"IF(JS80=\"\",0,IF(JS80=\"Low\",1,IF(JS80=\"Moderate\",2,IF(JS80=\"High\",3,IF(JS80=\"Extreme\",4,\"ERROR\")))))","v":0},null,null,{"$f":"IF(JV80=\"\",0,IF(JV80=\"Low\",1,IF(JV80=\"Moderate\",2,IF(JV80=\"High\",3,IF(JV80=\"Extreme\",4,\"ERROR\")))))","v":0},null,null,{"$f":"IF(JY80=\"\",0,IF(JY80=\"Low\",1,IF(JY80=\"Moderate\",2,IF(JY80=\"High\",3,IF(JY80=\"Extreme\",4,\"ERROR\")))))","v":0},null,null,{"$f":"IF(KB80=\"\",0,IF(KB80=\"Low\",1,IF(KB80=\"Moderate\",2,IF(KB80=\"High\",3,IF(KB80=\"Extreme\",4,\"ERROR\")))))","v":0},null,null,{"$f":"IF(KE80=\"\",0,IF(KE80=\"Low\",1,IF(KE80=\"Moderate\",2,IF(KE80=\"High\",3,IF(KE80=\"Extreme\",4,\"ERROR\")))))","v":0},null,null,{"$f":"IF(KH80=\"\",0,IF(KH80=\"Low\",1,IF(KH80=\"Moderate\",2,IF(KH80=\"High\",3,IF(KH80=\"Extreme\",4,\"ERROR\")))))","v":0},null,null,{"$f":"IF(KK80=\"\",0,IF(KK80=\"Low\",1,IF(KK80=\"Moderate\",2,IF(KK80=\"High\",3,IF(KK80=\"Extreme\",4,\"ERROR\")))))","v":0},null,null,{"$f":"IF(KN80=\"\",0,IF(KN80=\"Low\",1,IF(KN80=\"Moderate\",2,IF(KN80=\"High\",3,IF(KN80=\"Extreme\",4,\"ERROR\")))))","v":0},null,null,{"$f":"IF(KQ80=\"\",0,IF(KQ80=\"Low\",1,IF(KQ80=\"Moderate\",2,IF(KQ80=\"High\",3,IF(KQ80=\"Extreme\",4,\"ERROR\")))))","v":0},null,null,{"$f":"IF(KT80=\"\",0,IF(KT80=\"Low\",1,IF(KT80=\"Moderate\",2,IF(KT80=\"High\",3,IF(KT80=\"Extreme\",4,\"ERROR\")))))","v":0},null,null,{"$f":"IF(KW80=\"\",0,IF(KW80=\"Low\",1,IF(KW80=\"Moderate\",2,IF(KW80=\"High\",3,IF(KW80=\"Extreme\",4,\"ERROR\")))))","v":0},null,null,{"$f":"IF(KZ80=\"\",0,IF(KZ80=\"Low\",1,IF(KZ80=\"Moderate\",2,IF(KZ80=\"High\",3,IF(KZ80=\"Extreme\",4,\"ERROR\")))))","v":0},null,null,{"$f":"IF(LC80=\"\",0,IF(LC80=\"Low\",1,IF(LC80=\"Moderate\",2,IF(LC80=\"High\",3,IF(LC80=\"Extreme\",4,\"ERROR\")))))","v":0},null,null,{"$f":"IF(LF80=\"\",0,IF(LF80=\"Low\",1,IF(LF80=\"Moderate\",2,IF(LF80=\"High\",3,IF(LF80=\"Extreme\",4,\"ERROR\")))))","v":0},null,null,{"$f":"IF(LI80=\"\",0,IF(LI80=\"Low\",1,IF(LI80=\"Moderate\",2,IF(LI80=\"High\",3,IF(LI80=\"Extreme\",4,\"ERROR\")))))","v":0},null,null,{"$f":"IF(LL80=\"\",0,IF(LL80=\"Low\",1,IF(LL80=\"Moderate\",2,IF(LL80=\"High\",3,IF(LL80=\"Extreme\",4,\"ERROR\")))))","v":0},null,null,{"$f":"IF(LO80=\"\",0,IF(LO80=\"Low\",1,IF(LO80=\"Moderate\",2,IF(LO80=\"High\",3,IF(LO80=\"Extreme\",4,\"ERROR\")))))","v":0},null,null,{"$f":"IF(LR80=\"\",0,IF(LR80=\"Low\",1,IF(LR80=\"Moderate\",2,IF(LR80=\"High\",3,IF(LR80=\"Extreme\",4,\"ERROR\")))))","v":0},null,null,{"$f":"IF(LU80=\"\",0,IF(LU80=\"Low\",1,IF(LU80=\"Moderate\",2,IF(LU80=\"High\",3,IF(LU80=\"Extreme\",4,\"ERROR\")))))","v":0},null,null,{"$f":"IF(LX80=\"\",0,IF(LX80=\"Low\",1,IF(LX80=\"Moderate\",2,IF(LX80=\"High\",3,IF(LX80=\"Extreme\",4,\"ERROR\")))))","v":0},null,null,{"$f":"IF(MA80=\"\",0,IF(MA80=\"Low\",1,IF(MA80=\"Moderate\",2,IF(MA80=\"High\",3,IF(MA80=\"Extreme\",4,\"ERROR\")))))","v":0},null,null,{"$f":"IF(MD80=\"\",0,IF(MD80=\"Low\",1,IF(MD80=\"Moderate\",2,IF(MD80=\"High\",3,IF(MD80=\"Extreme\",4,\"ERROR\")))))","v":0},null,null,{"$f":"IF(MG80=\"\",0,IF(MG80=\"Low\",1,IF(MG80=\"Moderate\",2,IF(MG80=\"High\",3,IF(MG80=\"Extreme\",4,\"ERROR\")))))","v":0},null,null,{"$f":"IF(MJ80=\"\",0,IF(MJ80=\"Low\",1,IF(MJ80=\"Moderate\",2,IF(MJ80=\"High\",3,IF(MJ80=\"Extreme\",4,\"ERROR\")))))","v":0},null,null,{"$f":"IF(MM80=\"\",0,IF(MM80=\"Low\",1,IF(MM80=\"Moderate\",2,IF(MM80=\"High\",3,IF(MM80=\"Extreme\",4,\"ERROR\")))))","v":0},null,null,{"$f":"IF(MP80=\"\",0,IF(MP80=\"Low\",1,IF(MP80=\"Moderate\",2,IF(MP80=\"High\",3,IF(MP80=\"Extreme\",4,\"ERROR\")))))","v":0},null,null,{"$f":"IF(MS80=\"\",0,IF(MS80=\"Low\",1,IF(MS80=\"Moderate\",2,IF(MS80=\"High\",3,IF(MS80=\"Extreme\",4,\"ERROR\")))))","v":0},null,null,{"$f":"IF(MV80=\"\",0,IF(MV80=\"Low\",1,IF(MV80=\"Moderate\",2,IF(MV80=\"High\",3,IF(MV80=\"Extreme\",4,\"ERROR\")))))","v":0}]
[null,null,{"$f":"IF(Foreman_6=0,\"\",Foreman_6)","v":""},null,{"$f":"CONCATENATE(BX82,CA82,CD82,CG82,CJ82,CM82,CP82,CS82,CV82,CY82,DB82,DE82,DH82,DK82,DN82,DQ82,DT82,DW82,DZ82,EC82,EF82,EI82,EL82,EO82,ER82,EU82,EX82,FA82,FD82,FG82)","v":""},null,null,null,null,null,null,{"$f":"CONCATENATE(FJ82,FM82,FP82,FS82,FV82,FY82,GB82,GE82,GH82,GK82,GN82,GQ82,GT82,GW82,GZ82,HC82,HF82,HI82,HL82,HO82,HR82,HU82,HX82,IA82,ID82,IG82,IJ82,IM82,IP82,IS82)","v":""},{"$f":"CONCATENATE(IV82,IY82,JB82,JE82,JH82,JK82,JN82,JQ82,JT82,JW82,JZ82,KC82,KF82,KI82,KL82,KO82,KR82,KU82,KX82,LA82,LD82,LG82,LJ82,LM82,LP82,LS82,LV82,LY82,MB82,ME82)","v":""},{"$f":"CONCATENATE(MH82,MK82,MN82,MQ82,MT82)","v":""},null,"PPE",null,null,null,null,null,null,null,null,null,null,null,null,null,null,null,null,null,null,null,null,null,null,null,null,null,null,null,null,null,null,null,null,null,null,null,null,null,null,null,null,null,null,null,null,null,null,null,null,null,null,null,null,null,null,null,null,null,null,null,{"$f":"IF(BX78=\"YES\",CONCATENATE(BX46,\", \",\"\"),\"\")","v":""},null,null,{"$f":"IF(CA78=\"YES\",CONCATENATE(CA46,\", \",\"\"),\"\")","v":""},null,null,{"$f":"IF(CD78=\"YES\",CONCATENATE(CD46,\", \",\"\"),\"\")","v":""},null,null,{"$f":"IF(CG78=\"YES\",CONCATENATE(CG46,\", \",\"\"),\"\")","v":""},null,null,{"$f":"IF(CJ78=\"YES\",CONCATENATE(CJ46,\", \",\"\"),\"\")","v":""},null,null,{"$f":"IF(CM78=\"YES\",CONCATENATE(CM46,\", \",\"\"),\"\")","v":""},null,null,{"$f":"IF(CP78=\"YES\",CONCATENATE(CP46,\", \",\"\"),\"\")","v":""},null,null,{"$f":"IF(CS78=\"YES\",CONCATENATE(CS46,\", \",\"\"),\"\")","v":""},null,null,{"$f":"IF(CV78=\"YES\",CONCATENATE(CV46,\", \",\"\"),\"\")","v":""},null,null,{"$f":"IF(CY78=\"YES\",CONCATENATE(CY46,\", \",\"\"),\"\")","v":""},null,null,{"$f":"IF(DB78=\"YES\",CONCATENATE(DB46,\", \",\"\"),\"\")","v":""},null,null,{"$f":"IF(DE78=\"YES\",CONCATENATE(DE46,\", \",\"\"),\"\")","v":""},null,null,{"$f":"IF(DH78=\"YES\",CONCATENATE(DH46,\", \",\"\"),\"\")","v":""},null,null,{"$f":"IF(DK78=\"YES\",CONCATENATE(DK46,\", \",\"\"),\"\")","v":""},null,null,{"$f":"IF(DN78=\"YES\",CONCATENATE(DN46,\", \",\"\"),\"\")","v":""},null,null,{"$f":"IF(DQ78=\"YES\",CONCATENATE(DQ46,\", \",\"\"),\"\")","v":""},null,null,{"$f":"IF(DT78=\"YES\",CONCATENATE(DT46,\", \",\"\"),\"\")","v":""},null,null,{"$f":"IF(DW78=\"YES\",CONCATENATE(DW46,\", \",\"\"),\"\")","v":""},null,null,{"$f":"IF(DZ78=\"YES\",CONCATENATE(DZ46,\", \",\"\"),\"\")","v":""},null,null,{"$f":"IF(EC78=\"YES\",CONCATENATE(EC46,\", \",\"\"),\"\")","v":""},null,null,{"$f":"IF(EF78=\"YES\",CONCATENATE(EF46,\", \",\"\"),\"\")","v":""},null,null,{"$f":"IF(EI78=\"YES\",CONCATENATE(EI46,\", \",\"\"),\"\")","v":""},null,null,{"$f":"IF(EL78=\"YES\",CONCATENATE(EL46,\", \",\"\"),\"\")","v":""},null,null,{"$f":"IF(EO78=\"YES\",CONCATENATE(EO46,\", \",\"\"),\"\")","v":""},null,null,{"$f":"IF(ER78=\"YES\",CONCATENATE(ER46,\", \",\"\"),\"\")","v":""},null,null,{"$f":"IF(EU78=\"YES\",CONCATENATE(EU46,\", \",\"\"),\"\")","v":""},null,null,{"$f":"IF(EX78=\"YES\",CONCATENATE(EX46,\", \",\"\"),\"\")","v":""},null,null,{"$f":"IF(FA78=\"YES\",CONCATENATE(FA46,\", \",\"\"),\"\")","v":""},null,null,{"$f":"IF(FD78=\"YES\",CONCATENATE(FD46,\", \",\"\"),\"\")","v":""},null,null,{"$f":"IF(FG78=\"YES\",CONCATENATE(FG46,\", \",\"\"),\"\")","v":""},null,null,{"$f":"IF(FJ78=\"YES\",CONCATENATE(FJ46,\", \",\"\"),\"\")","v":""},null,null,{"$f":"IF(FM78=\"YES\",CONCATENATE(FM46,\", \",\"\"),\"\")","v":""},null,null,{"$f":"IF(FP78=\"YES\",CONCATENATE(FP46,\", \",\"\"),\"\")","v":""},null,null,{"$f":"IF(FS78=\"YES\",CONCATENATE(FS46,\", \",\"\"),\"\")","v":""},null,null,{"$f":"IF(FV78=\"YES\",CONCATENATE(FV46,\", \",\"\"),\"\")","v":""},null,null,{"$f":"IF(FY78=\"YES\",CONCATENATE(FY46,\", \",\"\"),\"\")","v":""},null,null,{"$f":"IF(GB78=\"YES\",CONCATENATE(GB46,\", \",\"\"),\"\")","v":""},null,null,{"$f":"IF(GE78=\"YES\",CONCATENATE(GE46,\", \",\"\"),\"\")","v":""},null,null,{"$f":"IF(GH78=\"YES\",CONCATENATE(GH46,\", \",\"\"),\"\")","v":""},null,null,{"$f":"IF(GK78=\"YES\",CONCATENATE(GK46,\", \",\"\"),\"\")","v":""},null,null,{"$f":"IF(GN78=\"YES\",CONCATENATE(GN46,\", \",\"\"),\"\")","v":""},null,null,{"$f":"IF(GQ78=\"YES\",CONCATENATE(GQ46,\", \",\"\"),\"\")","v":""},null,null,{"$f":"IF(GT78=\"YES\",CONCATENATE(GT46,\", \",\"\"),\"\")","v":""},null,null,{"$f":"IF(GW78=\"YES\",CONCATENATE(GW46,\", \",\"\"),\"\")","v":""},null,null,{"$f":"IF(GZ78=\"YES\",CONCATENATE(GZ46,\", \",\"\"),\"\")","v":""},null,null,{"$f":"IF(HC78=\"YES\",CONCATENATE(HC46,\", \",\"\"),\"\")","v":""},null,null,{"$f":"IF(HF78=\"YES\",CONCATENATE(HF46,\", \",\"\"),\"\")","v":""},null,null,{"$f":"IF(HI78=\"YES\",CONCATENATE(HI46,\", \",\"\"),\"\")","v":""},null,null,{"$f":"IF(HL78=\"YES\",CONCATENATE(HL46,\", \",\"\"),\"\")","v":""},null,null,{"$f":"IF(HO78=\"YES\",CONCATENATE(HO46,\", \",\"\"),\"\")","v":""},null,null,{"$f":"IF(HR78=\"YES\",CONCATENATE(HR46,\", \",\"\"),\"\")","v":""},null,null,{"$f":"IF(HU78=\"YES\",CONCATENATE(HU46,\", \",\"\"),\"\")","v":""},null,null,{"$f":"IF(HX78=\"YES\",CONCATENATE(HX46,\", \",\"\"),\"\")","v":""},null,null,{"$f":"IF(IA78=\"YES\",CONCATENATE(IA46,\", \",\"\"),\"\")","v":""},null,null,{"$f":"IF(ID78=\"YES\",CONCATENATE(ID46,\", \",\"\"),\"\")","v":""},null,null,{"$f":"IF(IG78=\"YES\",CONCATENATE(IG46,\", \",\"\"),\"\")","v":""},null,null,{"$f":"IF(IJ78=\"YES\",CONCATENATE(IJ46,\", \",\"\"),\"\")","v":""},null,null,{"$f":"IF(IM78=\"YES\",CONCATENATE(IM46,\", \",\"\"),\"\")","v":""},null,null,{"$f":"IF(IP78=\"YES\",CONCATENATE(IP46,\", \",\"\"),\"\")","v":""},null,null,{"$f":"IF(IS78=\"YES\",CONCATENATE(IS46,\", \",\"\"),\"\")","v":""},null,null,{"$f":"IF(IV78=\"YES\",CONCATENATE(IV46,\", \",\"\"),\"\")","v":""},null,null,{"$f":"IF(IY78=\"YES\",CONCATENATE(IY46,\", \",\"\"),\"\")","v":""},null,null,{"$f":"IF(JB78=\"YES\",CONCATENATE(JB46,\", \",\"\"),\"\")","v":""},null,null,{"$f":"IF(JE78=\"YES\",CONCATENATE(JE46,\", \",\"\"),\"\")","v":""},null,null,{"$f":"IF(JH78=\"YES\",CONCATENATE(JH46,\", \",\"\"),\"\")","v":""},null,null,{"$f":"IF(JK78=\"YES\",CONCATENATE(JK46,\", \",\"\"),\"\")","v":""},null,null,{"$f":"IF(JN78=\"YES\",CONCATENATE(JN46,\", \",\"\"),\"\")","v":""},null,null,{"$f":"IF(JQ78=\"YES\",CONCATENATE(JQ46,\", \",\"\"),\"\")","v":""},null,null,{"$f":"IF(JT78=\"YES\",CONCATENATE(JT46,\", \",\"\"),\"\")","v":""},null,null,{"$f":"IF(JW78=\"YES\",CONCATENATE(JW46,\", \",\"\"),\"\")","v":""},null,null,{"$f":"IF(JZ78=\"YES\",CONCATENATE(JZ46,\", \",\"\"),\"\")","v":""},null,null,{"$f":"IF(KC78=\"YES\",CONCATENATE(KC46,\", \",\"\"),\"\")","v":""},null,null,{"$f":"IF(KF78=\"YES\",CONCATENATE(KF46,\", \",\"\"),\"\")","v":""},null,null,{"$f":"IF(KI78=\"YES\",CONCATENATE(KI46,\", \",\"\"),\"\")","v":""},null,null,{"$f":"IF(KL78=\"YES\",CONCATENATE(KL46,\", \",\"\"),\"\")","v":""},null,null,{"$f":"IF(KO78=\"YES\",CONCATENATE(KO46,\", \",\"\"),\"\")","v":""},null,null,{"$f":"IF(KR78=\"YES\",CONCATENATE(KR46,\", \",\"\"),\"\")","v":""},null,null,{"$f":"IF(KU78=\"YES\",CONCATENATE(KU46,\", \",\"\"),\"\")","v":""},null,null,{"$f":"IF(KX78=\"YES\",CONCATENATE(KX46,\", \",\"\"),\"\")","v":""},null,null,{"$f":"IF(LA78=\"YES\",CONCATENATE(LA46,\", \",\"\"),\"\")","v":""},null,null,{"$f":"IF(LD78=\"YES\",CONCATENATE(LD46,\", \",\"\"),\"\")","v":""},null,null,{"$f":"IF(LG78=\"YES\",CONCATENATE(LG46,\", \",\"\"),\"\")","v":""},null,null,{"$f":"IF(LJ78=\"YES\",CONCATENATE(LJ46,\", \",\"\"),\"\")","v":""},null,null,{"$f":"IF(LM78=\"YES\",CONCATENATE(LM46,\", \",\"\"),\"\")","v":""},null,null,{"$f":"IF(LP78=\"YES\",CONCATENATE(LP46,\", \",\"\"),\"\")","v":""},null,null,{"$f":"IF(LS78=\"YES\",CONCATENATE(LS46,\", \",\"\"),\"\")","v":""},null,null,{"$f":"IF(LV78=\"YES\",CONCATENATE(LV46,\", \",\"\"),\"\")","v":""},null,null,{"$f":"IF(LY78=\"YES\",CONCATENATE(LY46,\", \",\"\"),\"\")","v":""},null,null,{"$f":"IF(MB78=\"YES\",CONCATENATE(MB46,\", \",\"\"),\"\")","v":""},null,null,{"$f":"IF(ME78=\"YES\",CONCATENATE(ME46,\", \",\"\"),\"\")","v":""},null,null,{"$f":"IF(MH78=\"YES\",CONCATENATE(MH46,\", \",\"\"),\"\")","v":""},null,null,{"$f":"IF(MK78=\"YES\",CONCATENATE(MK46,\", \",\"\"),\"\")","v":""},null,null,{"$f":"IF(MN78=\"YES\",CONCATENATE(MN46,\", \",\"\"),\"\")","v":""},null,null,{"$f":"IF(MQ78=\"YES\",CONCATENATE(MQ46,\", \",\"\"),\"\")","v":""},null,null,{"$f":"IF(MT78=\"YES\",CONCATENATE(MT46,\", \",\"\"),\"\")","v":""}]
[null,null,{"$f":"IF(Foreman_7=0,\"\",Foreman_7)","v":""}]
[null,null,{"$f":"IF(Foreman_8=0,\"\",Foreman_8)","v":""},null,"PPE",null,null,null,null,null,null,null,"page number calculation"]
[null,null,{"$f":"IF(Foreman_9=0,\"\",Foreman_9)","v":""},null,{"$f":"LEFT(CONCATENATE('1'!B21,\", \",E82,L82,M82,N82),LEN(CONCATENATE('1'!B21,\", \",E82,L82,M82,N82))-2)","v":"Hard Hat, Safety Glasses, Safety Toe Work Boots, Safety Vest, Task Appropriate Gloves"},null,null,null,null,null,null,null,{"$f":"Total_plan_no_of_hazards","v":0},"hazards on this plan"]
[null,null,{"$f":"IF(Foreman_10=0,\"\",Foreman_10)","v":""},null,null,null,null,null,null,null,null,null,{"$f":"ROUNDUP(Total_plan_no_of_hazards/1,0)","v":0},"pages of hazards"]
[null,null,{"$f":"IF(Foreman_11=0,\"\",Foreman_11)","v":""},null,null,null,null,null,null,null,null,null,{"$f":"IF(Total_plan_no_of_Envir_Aspects=0,0,IF(Total_plan_no_of_Envir_Aspects>8,3,IF(Total_plan_no_of_Envir_Aspects<5,1,2)))","v":0},"number of environmental pages"]
[null,null,{"$f":"IF(Foreman_12=0,\"\",Foreman_12)","v":""},null,null,null,null,null,null,null,null,null,0,"number of respiratory pages"]
[null,null,{"$f":"IF(Foreman_13=0,\"\",Foreman_13)","v":""},null,null,null,null,null,null,null,null,null,{"$f":"11+Total_Pages_of_Hazards","v":11},"number of pages to print"]
[null,null,{"$f":"IF(Foreman_14=0,\"\",Foreman_14)","v":""},null,null,null,null,null,null,null,null,null,{"$f":"8+M87+M86+M88","v":8},"number of pages on plan"]
[null,"Superintendent",{"$f":"IF(Superintendent_1=0,\"\",Superintendent_1)","v":""}]
[null,null,{"$f":"IF(Superintendent_2=0,\"\",Superintendent_2)","v":""}]
[null,null,{"$f":"IF(Superintendent_3=0,\"\",Superintendent_3)","v":""}]
[null,"EHS Professional",{"$f":"IF(EHS_Prof_1=0,\"\",EHS_Prof_1)","v":"Mike Ceglio"}]
[null,null,{"$f":"IF(EHS_Prof_2=0,\"\",EHS_Prof_2)","v":"Greg Masciotti"}]
[null,null,{"$f":"IF(EHS_Prof_3=0,\"\",EHS_Prof_3)","v":""}]

{"sheet":"Attach","index":8,"n_rows":56,"n_cols":24,"rows_kept":56,"cut":false,"hidden":false,"merged":[[4,20,48,21],[4,22,48,23],[4,4,48,5],[4,0,48,1],[4,2,48,3],[4,10,48,11],[4,12,48,13],[4,14,48,15],[4,16,48,17],[4,18,48,19],[0,6,0,7],[0,8,0,9],[50,0,51,1],[50,2,51,3],[0,2,0,5],[0,0,0,1],[4,6,48,7],[4,8,48,9]]}
["Insert or Paste illustrations as attachments on this page and more pages to the right.  ",null,"Go to 'File' > 'Print'. Set the Pages to print from 1 to the number of attachment pages included."]
[{"$f":"IF(Plan_Name=0,\"\",Plan_Name)","v":""},{"$f":"IF(Sequential_Number=\"\",\"\",Plan_Number)","v":""},{"$f":"IF(Plan_Name=0,\"\",Plan_Name)","v":""},{"$f":"IF(Sequential_Number=\"\",\"\",Plan_Number)","v":""},{"$f":"IF(Plan_Name=0,\"\",Plan_Name)","v":""},{"$f":"IF(Sequential_Number=\"\",\"\",Plan_Number)","v":""},{"$f":"IF(Plan_Name=0,\"\",Plan_Name)","v":""},{"$f":"IF(Sequential_Number=\"\",\"\",Plan_Number)","v":""},{"$f":"IF(Plan_Name=0,\"\",Plan_Name)","v":""},{"$f":"IF(Sequential_Number=\"\",\"\",Plan_Number)","v":""},{"$f":"IF(Plan_Name=0,\"\",Plan_Name)","v":""},{"$f":"IF(Sequential_Number=\"\",\"\",Plan_Number)","v":""},{"$f":"IF(Plan_Name=0,\"\",Plan_Name)","v":""},{"$f":"IF(Sequential_Number=\"\",\"\",Plan_Number)","v":""},{"$f":"IF(Plan_Name=0,\"\",Plan_Name)","v":""},{"$f":"IF(Sequential_Number=\"\",\"\",Plan_Number)","v":""},{"$f":"IF(Plan_Name=0,\"\",Plan_Name)","v":""},{"$f":"IF(Sequential_Number=\"\",\"\",Plan_Number)","v":""},{"$f":"IF(Plan_Name=0,\"\",Plan_Name)","v":""},{"$f":"IF(Sequential_Number=\"\",\"\",Plan_Number)","v":""},{"$f":"IF(Plan_Name=0,\"\",Plan_Name)","v":""},{"$f":"IF(Sequential_Number=\"\",\"\",Plan_Number)","v":""},{"$f":"IF(Plan_Name=0,\"\",Plan_Name)","v":""},{"$f":"IF(Sequential_Number=\"\",\"\",Plan_Number)","v":""}]
[]
["Attachments",null,"Attachments",null,"Attachments",null,"Attachments",null,"Attachments",null,"Attachments",null,"Attachments",null,"Attachments",null,"Attachments",null,"Attachments",null,"Attachments",null,"Attachments"]
["Paste Attachments Here\n \n \n \n \n \n \n \n \n ",null,"Paste Attachments Here\n \n \n \n \n \n \n \n \n ",null,"Paste Attachments Here\n \n \n \n \n \n \n \n \n ",null,"Paste Attachments Here\n \n \n \n \n \n \n \n \n ",null,"Paste Attachments Here\n \n \n \n \n \n \n \n \n ",null,"Paste Attachments Here\n \n \n \n \n \n \n \n \n ",null,"Paste Attachments Here\n \n \n \n \n \n \n \n \n ",null,"Paste Attachments Here\n \n \n \n \n \n \n \n \n ",null,"Paste Attachments Here\n \n \n \n \n \n \n \n \n ",null,"Paste Attachments Here\n \n \n \n \n \n \n \n \n ",null,"Paste Attachments Here\n \n \n \n \n \n \n \n \n ",null,"Paste Attachments Here\n \n \n \n \n \n \n \n \n "]
[]
[]
[]
[]
[]
[]
[]
[]
[]
[]
[]
[]
[]
[]
[]
[]
[]
[]
[]
[]
[]
[]
[]
[]
[]
[]
[]
[]
[]
[]
[]
[]
[]
[]
[]
[]
[]
[]
[]
[]
[]
[]
[]
[]
[{"$f":"Plan!$A$51","v":"Construction Work Plan Tool, Rev 15"},{"$f":"CONCATENATE(\"Attachment Page \",B56)","v":"Attachment Page 1"},{"$f":"Plan!$A$51","v":"Construction Work Plan Tool, Rev 15"},{"$f":"CONCATENATE(\"Attachment Page \",D56)","v":"Attachment Page 2"},{"$f":"Plan!$A$51","v":"Construction Work Plan Tool, Rev 15"},{"$f":"CONCATENATE(\"Attachment Page \",F56)","v":"Attachment Page 3"},{"$f":"Plan!$A$51","v":"Construction Work Plan Tool, Rev 15"},{"$f":"CONCATENATE(\"Attachment Page \",H56)","v":"Attachment Page 4"},{"$f":"Plan!$A$51","v":"Construction Work Plan Tool, Rev 15"},{"$f":"CONCATENATE(\"Attachment Page \",J56)","v":"Attachment Page 5"},{"$f":"Plan!$A$51","v":"Construction Work Plan Tool, Rev 15"},{"$f":"CONCATENATE(\"Attachment Page \",L56)","v":"Attachment Page 6"},{"$f":"Plan!$A$51","v":"Construction Work Plan Tool, Rev 15"},{"$f":"CONCATENATE(\"Attachment Page \",N56)","v":"Attachment Page 7"},{"$f":"Plan!$A$51","v":"Construction Work Plan Tool, Rev 15"},{"$f":"CONCATENATE(\"Attachment Page \",P56)","v":"Attachment Page 8"},{"$f":"Plan!$A$51","v":"Construction Work Plan Tool, Rev 15"},{"$f":"CONCATENATE(\"Attachment Page \",R56)","v":"Attachment Page 9"},{"$f":"Plan!$A$51","v":"Construction Work Plan Tool, Rev 15"},{"$f":"CONCATENATE(\"Attachment Page \",T56)","v":"Attachment Page 10"},{"$f":"Plan!$A$51","v":"Construction Work Plan Tool, Rev 15"},{"$f":"CONCATENATE(\"Attachment Page \",V56)","v":"Attachment Page 11"},{"$f":"Plan!$A$51","v":"Construction Work Plan Tool, Rev 15"},{"$f":"CONCATENATE(\"Attachment Page \",X56)","v":"Attachment Page 12"}]
["Scroll RIGHT to access more attachment pages ggg",null,"Scroll RIGHT to access more attachment pages ggg"]
[]
[]
[]
[]
["Page number:",1,null,{"$f":"B56+1","v":2},null,{"$f":"D56+1","v":3},null,{"$f":"F56+1","v":4},null,{"$f":"H56+1","v":5},null,{"$f":"J56+1","v":6},null,{"$f":"L56+1","v":7},null,{"$f":"N56+1","v":8},null,{"$f":"P56+1","v":9},null,{"$f":"R56+1","v":10},null,{"$f":"T56+1","v":11},null,{"$f":"V56+1","v":12}]

{"sheet":"5","index":9,"n_rows":383,"n_cols":44,"rows_kept":383,"cut":false,"hidden":false,"merged":[[309,14,309,29],[322,2,324,29],[330,9,330,29],[326,9,326,29],[328,9,328,29],[313,10,317,29],[266,14,266,18],[80,21,80,29],[86,24,86,30],[303,14,303,17],[298,14,298,29],[292,14,292,17],[281,24,281,27],[270,14,270,29],[264,14,264,29],[277,24,277,27],[281,14,281,17],[260,14,260,29],[234,2,238,12],[296,14,296,29],[294,14,294,29],[254,18,254,20],[275,24,275,27],[256,14,256,19],[358,10,360,28],[349,27,349,29],[347,9,347,29],[335,2,335,29],[343,9,343,14],[352,9,352,29],[342,2,342,14],[342,16,344,29],[348,9,349,20],[348,23,349,26],[340,9,340,14],[339,2,339,29],[262,14,262,29],[118,28,118,29],[128,23,128,27],[122,28,122,29],[275,28,275,29],[213,14,213,29],[258,14,258,29],[254,14,254,17],[187,12,187,28],[189,12,189,28],[191,12,191,28],[193,12,193,28],[234,14,234,17],[211,14,211,29],[118,15,118,19],[207,14,207,17],[203,14,203,17],[126,15,126,19],[132,23,132,27],[128,15,128,19],[281,28,281,29],[283,24,283,27],[165,5,165,10],[132,5,132,11],[25,27,25,29],[23,27,23,29],[27,27,27,29],[122,23,122,27],[116,28,116,29],[134,28,134,29],[200,2,201,17],[268,14,268,17],[250,14,250,17],[247,2,248,17],[205,14,205,29],[189,5,189,10],[124,20,124,21],[124,23,124,27],[134,23,134,27],[142,12,142,14],[228,2,232,12],[163,5,163,10],[120,12,120,13],[118,23,118,27],[29,27,29,29],[30,27,30,29],[32,27,32,29],[114,20,114,21],[0,0,0,1],[8,1,10,29],[12,27,12,29],[14,27,14,29],[13,27,13,29],[16,27,16,29],[21,27,21,29],[24,27,24,29],[114,28,114,29],[78,9,78,11],[80,9,80,19],[82,9,82,19],[58,12,58,18],[60,12,60,18],[56,12,56,18],[15,27,15,29],[17,27,17,29],[31,27,31,29],[18,27,18,29],[26,27,26,29],[64,12,64,18],[84,9,84,23],[86,9,86,23],[88,9,88,15],[90,9,94,27],[99,9,99,27],[101,9,101,27],[103,9,103,27],[37,2,39,28],[363,10,363,28],[191,5,191,10],[221,14,221,17],[228,14,228,17],[361,10,361,28],[223,5,223,11],[228,24,228,27],[219,14,219,18],[199,2,199,17],[215,14,215,29],[209,14,209,19],[234,28,234,29],[246,2,246,17],[240,14,241,29],[270,5,270,11],[252,14,252,29],[275,2,279,12],[307,14,307,29],[305,14,305,29],[281,2,285,12],[287,14,288,29],[275,14,275,17],[332,9,332,29],[193,5,193,10],[46,33,46,34],[228,28,228,29],[122,20,122,21],[122,15,122,19],[134,15,134,19],[130,23,130,27],[116,15,116,19],[170,12,170,14],[130,20,130,21],[130,28,130,29],[118,20,118,21],[126,20,126,21],[126,23,126,27],[137,20,137,21],[137,23,137,27],[134,20,134,21],[130,15,130,19],[217,14,217,29],[112,23,112,25],[112,15,112,17],[46,29,50,29],[50,2,50,28],[62,12,62,18],[68,12,68,18],[105,9,105,27],[107,9,107,27],[109,9,109,27],[130,5,130,11],[161,5,161,10],[116,20,116,21],[2,1,3,29],[29,3,29,15],[82,20,82,31],[116,23,116,27],[70,12,70,18],[46,2,49,28],[128,28,128,29],[126,28,126,29],[84,24,84,29],[22,27,22,29],[20,27,20,29],[19,27,19,29],[28,27,28,29],[40,1,40,29],[45,1,45,29],[41,29,43,29],[41,1,43,1],[41,2,44,28],[228,30,228,31],[181,2,181,11],[260,2,260,12],[135,38,136,39],[236,24,236,27],[230,24,230,27],[139,15,139,28],[137,15,137,19],[223,14,223,29],[234,24,234,27],[137,28,137,29],[147,12,147,28],[149,12,149,28],[151,12,151,28],[153,12,153,28],[155,12,155,28],[157,12,157,28],[159,12,159,28],[161,12,161,28],[163,12,163,28],[165,12,165,28],[275,30,275,31],[307,2,307,12],[337,9,337,24],[340,21,340,24],[340,17,340,20],[340,15,340,16],[344,14,344,15],[11,27,11,29],[4,1,5,29],[175,12,175,28],[177,12,177,28],[179,12,179,28],[181,12,181,28],[183,12,183,28],[185,12,185,28],[46,1,50,1],[132,15,132,19],[124,15,124,19],[132,20,132,21],[66,12,66,18],[72,12,72,18],[132,28,132,29],[128,20,128,21],[124,28,124,29]]}
[5,null," Lift Information"]
[]
[null,"A Lift Plan is required for all lifts.  This tab is designed to help users develop a Lift Plan based on the Skanska USA Crane Policy.\nAnswer the Yes/No questions to determine the Lift Classification. Read the blue-highlighted instructions below for further details."]
[]
[null,"Use TAB to navigate through the sheet.  Press F2 or double-click with a mouse to edit a box with existing text.  For multi-row boxes, use the down arrow key or a mouse click to go to a lower line in the box.  Press Alt / Enter to insert a \"carriage return\" to a new line."]
[]
[null,"Lift Classification",null,null,null,null,null,null,null,null,null,null,null,null,null,null,null,null,null,null,null,null,null,null,null,null,null,null,null,null,null,null,"Magnitude","Result"]
[]
[null,"When developing the appropriate Pick Plan and evaluating the weight of the object, capacity of the crane, and radius throughout the pick; a classification of the pick must be made. It is important to note that the \"capacity\" refers to the capacity listed on the load chart posted in the cab of the crane."]
[]
[]
[null,null,null,null,null,null,null,null,null,null,null,null,null,null,null,null,null,null,null,null,null,null,null,null,null,null,null,"Select"]
[null,null,"Does the item has a lead time of greater than 12 months?",null,null,null,null,null,null,null,null,null,null,null,null,null,null,{"$f":"IF(AB13=\"yes\",\"10% Safety Factor will be added to Net Load\",\"\")","v":""},null,null,null,null,null,null,null,null,null,"Yes / No",null,null,null,null,2,{"$f":"IF(AB13=\"Yes\",AG13,IF(AB13=\"No\",1,0))","v":0}]
[]
[null,null,"Is the item is worth more than $100,000?",null,null,null,null,null,null,null,null,null,null,null,null,null,null,{"$f":"IF(AND(AB15=\"yes\",R13=\"\"),\"10% Safety Factor will be added to Net Load\",\"\")","v":""},null,null,null,null,null,null,null,null,null,"Yes / No",null,null,null,null,2,{"$f":"IF(AB15=\"Yes\",AG15,IF(AB15=\"No\",1,0))","v":0}]
[]
[null,null,"Is the crane on a barge?",null,null,null,null,null,null,null,null,null,null,null,null,null,null,null,null,null,null,null,null,null,null,null,null,"Yes / No",null,null,null,null,2,{"$f":"IF(AB17=\"Yes\",AG17,IF(AB17=\"No\",1,0))","v":0}]
[]
[null,null,"Will more than 75% of the crane's capacity be utilized during the lift?",null,null,null,null,null,null,null,null,null,null,null,null,null,null,null,null,null,null,null,null,null,null,null,null,"Yes / No",null,null,null,null,3,{"$f":"IF(AB19=\"Yes\",AG19,IF(AB19=\"No\",1,0))","v":0}]
[]
[null,null,"Are you lifting a piece of equipment that requires an operator to operate while seated?",null,null,null,null,null,null,null,null,null,null,null,null,null,null,null,null,null,null,null,null,null,null,null,null,"Yes / No",null,null,null,null,3,{"$f":"IF(AB21=\"Yes\",AG21,IF(AB21=\"No\",1,0))","v":0}]
[]
[null,null,"At any time during the lift, could the load and rigging rotate and make contact with the boom?",null,null,null,null,null,null,null,null,null,null,null,null,null,null,null,null,null,null,null,null,null,null,null,null,"Yes / No",null,null,null,null,3,{"$f":"IF(AB23=\"Yes\",AG23,IF(AB23=\"No\",1,0))","v":0}]
[]
[null,null,"Will a jib, luffing jib or boom extension be used to perform the lift?",null,null,null,null,null,null,null,null,null,null,null,null,null,null,null,null,null,null,null,null,null,null,null,null,"Yes / No",null,null,null,null,3,{"$f":"IF(AB25=\"Yes\",AG25,IF(AB25=\"No\",1,0))","v":0}]
[]
[null,null,"Does the lift require more than one crane?",null,null,null,null,null,null,null,null,null,null,null,null,null,null,null,null,null,null,null,null,null,null,null,null,"Yes / No",null,null,null,null,3,{"$f":"IF(AB27=\"Yes\",AG27,IF(AB27=\"No\",1,0))","v":0}]
[null,null,null,null,null,null,null,null,null,null,null,null,null,null,null,null,null,null,null,null,null,null,null,null,null,null,null,null,null,null,null,null,null,null,"75% & PPL","Cap & PPL"]
[null,null,"Are personnel being lifted?",null,null,null,null,null,null,null,null,null,null,null,null,{"$f":"IF(Personnel_lift=\"yes\",\"Gross Load not to exceed 50% of Hoist Capacity\",\"\")","v":""},null,null,null,null,null,null,null,null,null,null,null,"Yes / No",null,null,null,null,4,{"$f":"IF(AB29=\"Yes\",AG29,IF(AB29=\"No\",1,0))","v":0},{"$f":"AND(AB$29=\"yes\",AB$19=\"yes\")","v":false},{"$f":"AND(AB$29=\"Yes\",OR(Y$231>0.5,AND(AB$27=\"Yes\",Y$278>0.5)))","v":false}]
[null,null,{"$f":"IF(AND(Personnel_lift=\"yes\",Assembly_disassembly=\"yes\"),\"E\",\"\")","v":""},{"$f":"IF(AND(Personnel_lift=\"yes\",Assembly_disassembly=\"yes\"),\"Two separate Lift Plans should be developed for this work.\",\"\")","v":""}]
[null,null,"Does this Lift Plan involve assembly/disassembly of a crane? (A/D)",null,null,null,null,null,null,null,null,null,null,null,null,null,null,{"$f":"IF(AB31=\"Yes\",\"Qualified Director Must be Assigned\",\"\")","v":""},null,null,null,null,null,null,null,null,null,"Yes / No",null,null,null,null,1,{"$f":"IF(AB31=\"Yes\",AG31,IF(AB31=\"No\",1,0))","v":0}]
[]
[null,null,"Will the crane, whether on rubber tires or crawlers pick-and-carry?",null,null,null,null,null,null,null,null,null,null,null,null,null,null,null,null,null,null,null,null,null,null,null,null,"Yes / No",null,null,null,null,1,{"$f":"IF(AB33=\"Yes\",AG33,IF(AB33=\"No\",1,0))","v":0}]
[null,null,"The Lift Plan printout currently does not cover both A/D and P&C.  Consider two separate Lift Plans for the work."]
[null,null,null,null,null,null,null,null,null,null,null,null,null,null,null,null,null,null,null,null,null,null,null,null,null,null,null,null,null,null,null,null,null,null,null,null,"Additional Notes"]
[null,null,null,null,null,null,null,null,null,null,null,null,null,null,null,null,null,null,null,null,null,null,null,null,null,null,null,null,null,null,null,null,null,"Blank",0,"Please answer the above questions either \"Yes\" or \"No\" before continuing below."]
[null,null,null,null,null,null,null,null,null,null,null,null,null,null,null,{"$f":"IF(AH46=0,\"\",\"''\"&AH47&\"''\")","v":""},null,null,null,null,null,null,null,null,null,null,null,null,null,null,null,null,null,"S",1,"This lift is classified as a Standard Lift. You are required to complete a lift plan for this activity. Fill out the Lift Information below, then proceed to the next tab labeled \"LP\" to print out the Lift Plan."]
[null,null,{"$f":"IF(AH46=0,AJ36,VLOOKUP(IF(AB33=\"yes\",AH45,VALUE(AH45)),AI36:AJ44,2,FALSE))","v":"Please answer the above questions either \"Yes\" or \"No\" before continuing below."},null,null,null,null,null,null,null,null,null,null,null,null,null,null,null,null,null,null,null,null,null,null,null,null,null,null,null,null,null,null,"S w/P&C","1pnc","This lift is classified as a Standard Lift. However, the crane will pick-and-carry. You are required to complete a lift plan for this activity. Fill out the Lift Information below, then proceed to the next tab labeled \"LP\" to print out the Lift Plan.","Crane Guidelines Section 14: \"At no time will it be allowed to pick a load with a crane, either rubber tire or crawler mounted, and walk with the load around the jobsite.  This practice will be deemed unsafe and strictly forbidden at each and every jobsite.  In the event that this practice is necessary to complete an operation and all other means have been exhausted the project team must request dispensation from the Skanska Safety Department as well as the Corporate Crane Coordinator.\""]
[null,null,null,null,null,null,null,null,null,null,null,null,null,null,null,null,null,null,null,null,null,null,null,null,null,null,null,null,null,null,null,null,null,"M",2,"This lift is classified as a Major Lift. You are required to complete a lift plan for this activity. Fill out the Lift Information below, then proceed to the next tab labeled \"LP\" to print out the Lift Plan."]
[null,null,null,null,null,null,null,null,null,null,null,null,null,null,null,null,null,null,null,null,null,null,null,null,null,null,null,null,null,null,null,null,null,"M w/P&C","2pnc","This lift is classified as a Major Lift. However, the crane will pick and carry. You are required to complete a lift plan for this activity. Fill out the Lift Information below, then proceed to the next tab labeled \"LP\" to print out the Lift Plan."]
[null,null,null,null,null,null,null,null,null,null,null,null,null,null,null,null,null,null,null,null,null,null,null,null,null,null,null,null,null,null,null,null,null,"C",3,"This lift is classified as a Critical Lift. You are required to complete a lift plan for this activity. Fill out the Lift Information below, then proceed to the next tab labeled \"LP\" to print out the Lift Plan."]
[null,null,{"$f":"IF(AH46=0,\"\",IF(Personnel_lift=\"yes\",AK43,IF(Pick_and_Carry=\"yes\",AK38,\"\")))","v":""},null,null,null,null,null,null,null,null,null,null,null,null,null,null,null,null,null,null,null,null,null,null,null,null,null,null,null,null,null,null,"C w/P&C","3pnc","This lift is classified as a Critical Lift. However, the crane will pick and carry. You are required to complete a lift plan for this activity. Fill out the Lift Information below, then proceed to the next tab labeled \"LP\" to print out the Lift Plan."]
[null,null,null,null,null,null,null,null,null,null,null,null,null,null,null,null,null,null,null,null,null,null,null,null,null,null,null,null,null,null,null,null,null,"PP",4,"This lift is classified as a Planned Personnel Lift. You are required to complete a lift plan for this activity. Fill out the Lift Information below, then proceed to the next tab labeled \"LP\" to print out the Lift Plan.  A Man Basket/Cage Inspection Checklist is also required for this Planned Personnel Lift and can be printed out from the PPL tab.","A Proof Test and Trial Lift shall be completed before any personnel are lifted.  The Trial Lift shall follow the path of the lift to be performed, from start point to end point and then back.  If at anytime the crane that is to perform the lift must change its location, the plan shall be revised, all signoffs must be re-obtained and a new Trial Lift shall be performed.  The Trial lift must be preformed immediately prior to each shift in which personnel will be hoisted.  Refer to Skanska Crane Policy, Hoisting Personnel Section."]
[null,null,null,null,null,null,null,null,null,null,null,null,null,null,null,null,null,null,null,null,null,null,null,null,null,null,null,null,null,null,null,null,null,"PP w/P&C","4pnc","This lift is classified as a Planned Personnel Lift. You are required to complete a lift plan for this activity. Fill out the Lift Information below, then proceed to the next tab labeled \"LP\" to print out the Lift Plan.  A Man Basket/Cage Inspection Checklist is also required for this Planned Personnel Lift and can be printed out from the PPL tab."]
[null,null,null,null,null,null,null,null,null,null,null,null,null,null,null,null,null,null,null,null,null,null,null,null,null,null,null,null,null,null,null,null,null,{"$f":"MAX(AH13,AH15,AH17,AH21,AH19,,AH25,AH23,AH27,AH29)&IF(AB33<>\"yes\",\"\",\"pnc\")","v":"0"},{"$f":"VALUE(LEFT(AH45,1))","v":0},"Pick Level"]
[null,null,null,null,null,null,null,null,null,null,null,null,null,null,null,null,null,null,null,null,null,null,null,null,null,null,null,null,null,null,null,null,null,{"$f":"AH13*AH15*AH17*AH21*AH19*AH25*AH23*AH27*AH29*AH31*AH33","v":0},null,"Filled Out Check"]
[null,null,{"$f":"IF(AH46=0,\"\",IF(AND(AB29=\"yes\",AB33=\"yes\"),AK38,\"\"))","v":""},null,null,null,null,null,null,null,null,null,null,null,null,null,null,null,null,null,null,null,null,null,null,null,null,null,null,null,null,null,null,{"$f":"AJ47&\" Lift Plan\"&IF(OR(AJ48=\"\",AB29=\"yes\"),AJ49,AJ48)","v":" Lift Plan"},null,{"$f":"IF(AI45=1,\"Standard\",IF(AI45=2,\"Major\",IF(AI45=3,\"Critical\",IF(AI45=4,\"Planned Personnel\",\"\"))))","v":""}]
[null,null,null,null,null,null,null,null,null,null,null,null,null,null,null,null,null,null,null,null,null,null,null,null,null,null,null,null,null,null,null,null,null,{"$f":"IF(AND(AB31=\"yes\",AI45<4),CONCATENATE(AJ47,\" Lift Plan; A/D\"),CONCATENATE(AJ47,\" Lift Plan\"))","v":" Lift Plan"}," orig vers",{"$f":"IF(AB31=\"yes\",\"; A/D\",\"\")","v":""}," "]
[null,null,null,null,null,null,null,null,null,null,null,null,null,null,null,null,null,null,null,null,null,null,null,null,null,null,null,null,null,null,null,null,null,{"$f":"AJ47&\" Lift Plan\"&IF(OR(AJ48=\"\",AB29=\"yes\"),AJ49,AJ48)","v":" Lift Plan"}," rev vers",{"$f":"IF(AB33=\"yes\",\" w/ PnC\",\"\")","v":""}]
[]
[]
[]
[null,"Lift Details"]
[]
[{"$f":"IF(SUM(AJ57:AJ73)=0,\"a\",\"\")","v":""},"Lift Supervisors",null,null,null,null,null,null,null,null,null,null,null,null,null,null,null,null,null,null,null,null,null,null,null,null,null,null,null,null,null,null,"cells disappear with logic",null,null,"Completeness Check"]
[]
[null,null,"(Rigging) Competent Person",null,null,null,null,null,null,null,null,null,null,null,null,null,null,null,null,null,"Enter",null,null,null,null,null,null,null,null,null,null,null,null,null,null,{"$f":"IF(M57=\"\",1,0)","v":1},null,null,"Superintendents",null,"EHS Professionals"]
[]
[null,null,"Superintendent",null,null,null,null,null,null,null,null,null,null,null,null,null,null,null,null,null,"Select",null,null,null,null,null,null,null,null,null,null,null,{"$f":"IF($AI$45=1,IF($AB$33=\"No\",C59,\"LOGIC\"),\"LOGIC\")","v":"LOGIC"},{"$f":"IF($AI$45=1,IF($AB$33=\"No\",M59,\"LOGIC\"),\"LOGIC\")","v":"LOGIC"},null,{"$f":"IF(AND(M59=\"\",AH59=\"logic\"),1,0)","v":1},null,null,{"$f":"Superintendent_1","v":0},null,{"$f":"EHS_Prof_1","v":"Mike Ceglio"}]
[null,null,null,null,null,null,null,null,null,null,null,null,null,null,null,null,null,null,null,null,null,null,null,null,null,null,null,null,null,null,null,null,null,null,null,null,null,null,{"$f":"Superintendent_2","v":0},null,{"$f":"EHS_Prof_2","v":"Greg Masciotti"}]
[null,null,{"$f":"IF(AH45=4,\"Site EHS Manager\",IF(AH45=3,\"Site EHS Manager\",\"EHS Professional\"))","v":"EHS Professional"},null,null,null,null,null,null,null,null,null,null,null,null,null,null,null,null,null,"Select",null,null,null,null,null,null,null,null,null,null,null,{"$f":"IF($AI$45=1,IF($AB$33=\"No\",C61,\"LOGIC\"),\"LOGIC\")","v":"LOGIC"},{"$f":"IF($AI$45=1,IF($AB$33=\"No\",M61,\"LOGIC\"),\"LOGIC\")","v":"LOGIC"},null,{"$f":"IF(AND(M61=\"\",AH61=\"logic\"),1,0)","v":1},null,null,{"$f":"Superintendent_3","v":0},null,{"$f":"EHS_Prof_3","v":0}]
[]
[null,null,"Project Crane Coordinator",null,null,null,null,null,null,null,null,null,null,null,null,null,null,null,null,null,"Enter",null,null,null,null,null,null,null,null,null,null,null,{"$f":"IF($AI$45=1,IF($AB$33=\"No\",C63,\"LOGIC\"),\"LOGIC\")","v":"LOGIC"},{"$f":"IF($AI$45=1,IF($AB$33=\"No\",M63,\"LOGIC\"),\"LOGIC\")","v":"LOGIC"},null,{"$f":"IF(AND(M63=\"\",AH63=\"logic\"),1,0)","v":1}]
[]
[null,null,"Project Manager",null,null,null,null,null,null,null,null,null,null,null,null,null,null,null,null,null,"Select",null,null,null,null,null,null,null,null,null,null,null,{"$f":"IF($AI$45=1,IF($AB$33=\"No\",C65,\"LOGIC\"),\"LOGIC\")","v":"LOGIC"},{"$f":"IF($AI$45=1,IF($AB$33=\"No\",M65,\"LOGIC\"),\"LOGIC\")","v":"LOGIC"},null,{"$f":"IF(AND(M65=\"\",AH65=\"logic\"),1,0)","v":1},null,null,"Project Manager Names from Tab 1"]
[]
[null,null,"Regional Crane Coordinator",null,null,null,null,null,null,null,null,null,null,null,null,null,null,null,null,null,"Enter",null,null,null,null,null,null,null,null,null,null,null,{"$f":"IF($AI$45=4,\"LOGIC\",IF($AB$33=\"Yes\",\"LOGIC\",C67))","v":"Regional Crane Coordinator"},{"$f":"IF($AI$45=4,\"LOGIC\",IF($AB$33=\"Yes\",\"LOGIC\",M67))","v":0},null,{"$f":"IF(AND(M67=\"\",AH67=\"logic\"),1,0)","v":0},null,null,{"$f":"IF(Project_Manager_1=\"\",\"\",Project_Manager_1)","v":""}]
[null,null,null,null,null,null,null,null,null,null,null,null,null,null,null,null,null,null,null,null,null,null,null,null,null,null,null,null,null,null,null,null,null,null,null,null,null,null,{"$f":"IF(Project_Manager_2=\"\",\"\",Project_Manager_2)","v":""}]
[null,null,"Corporate EHS Department",null,null,null,null,null,null,null,null,null,null,null,null,null,null,null,null,null,"Enter",null,null,null,null,null,null,null,null,null,null,null,{"$f":"IF($AI$45=4,\"LOGIC\",IF($AB$33=\"Yes\",\"LOGIC\",C69))","v":"Corporate EHS Department"},{"$f":"IF($AI$45=4,\"LOGIC\",IF($AB$33=\"Yes\",\"LOGIC\",M69))","v":0},null,{"$f":"IF(AND(M69=\"\",AH69=\"logic\"),1,0)","v":0},null,null,{"$f":"IF(Project_Manager_3=\"\",\"\",Project_Manager_3)","v":""}]
[]
[null,null,"Skanska Officer or Delegate of the Company",null,null,null,null,null,null,null,null,null,null,null,null,null,null,null,null,null,"Enter",null,null,null,null,null,null,null,null,null,null,null,{"$f":"IF($AI$45=4,\"LOGIC\",C71)","v":"Skanska Officer or Delegate of the Company"},{"$f":"IF($AI$45=4,\"LOGIC\",M71)","v":0},null,{"$f":"IF(AND(M71=\"\",AH71=\"logic\"),1,0)","v":0}]
[]
[null,null,"Assembly / Disassembly Director",null,null,null,null,null,null,null,null,null,null,null,null,null,null,null,null,null,"Enter",null,null,null,null,null,null,null,null,null,null,null,{"$f":"IF(AB31=\"yes\",\"LOGIC\",C73)","v":"Assembly / Disassembly Director"},{"$f":"IF(AB31=\"yes\",\"LOGIC\",0)","v":0},null,{"$f":"IF(AND(M73=\"\",AH73=\"logic\"),1,0)","v":0}]
[]
[]
[]
[{"$f":"IF(SUM(AJ81:AJ91)=0,\"a\",\"\")","v":""},"General",null,null,null,null,null,null,null,null,null,null,null,null,null,null,null,null,null,null,null,null," "]
[]
[null,null,"Date of Lift",null,null,null,null,null,null,null,null,null,null,"Enter"]
[]
[null,null,"Title of Lift ",null,null,null,null,null,null,{"$f":"IF(Lift_Plan_Name=\"\",IF(Plan_Name=\"\",\"\",Plan_Name),Lift_Plan_Name)","v":""},null,null,null,null,null,null,null,null,null,null,null,"(Default Construction Work Plan Name)",null,null,null,null,null,null,null,null," ",null,null,null,null,{"$f":"IF(J81=\"\",1,0)","v":1}]
[]
[null,null,"More Specific Title of Lift",null,null,null,null,null,null,null,null,null,null,null,null,null,null,null,null,null,"(Optional Construction Work Plan Name override)"]
[]
[null,null,"Location of Lift ",null,null,null,null,null,null,{"$f":"IF(Lift_Area=\"\",IF(Work_Area=\"\",\"\",Work_Area),Lift_Area)","v":""},null,null,null,null,null,null,null,null,null,null,null,null,null,null,"(Default SWP Work Area)",null,null,null,null,null," ",null,null,null,null,{"$f":"IF(J85=\"\",1,0)","v":1}]
[]
[null,null,"More Specific Location of Lift ",null,null,null,null,null,null,null,null,null,null,null,null,null,null,null,null,null,null,null,null,null,"(Optional Location Override)"]
[]
[null,null,"Lift Plan Creator(s)",null,null,null,null,null,null,null,null,null,null,null,null,null,"Enter",null,null,null,null,null,null,null,null,null,null,null,null,null," ",null,null,null,null,{"$f":"IF(J89=\"\",1,0)","v":1}]
[]
[null,null,"Description / Purpose of Lift",null,null,null,null,null,null,null,null,null,null,null,null,null,null,null,null,null,null,null,null,null,null,null,null,null,null,null,null,null,null,null,null,{"$f":"IF(J91=\"\",1,0)","v":1}]
[]
[]
[]
[]
[]
[]
[{"$f":"IF(SUM(AJ100:AJ110)=0,\"a\",\"\")","v":""},"Load Details",null,null,null,null,null,null,null,null,null,null,null,null,null,null,null,null,null,null,null,null," "]
[]
[null,null,"Item to be lifted",null,null,null,null,null,null,null,null,null,null,null,null,null,null,null,null,null,null,null,null,null,null,null,null,null,null,null,null,null,null,null,null,{"$f":"IF(J100=\"\",1,0)","v":1}]
[]
[null,null,"Description",null,null,null,null,null,null,null,null,null,null,null,null,null,null,null,null,null,null,null,null,null,null,null,null,null,null,null,null,null,null,null,null,{"$f":"IF(J102=\"\",1,0)","v":1}]
[]
[null,null,"Shape",null,null,null,null,null,null,null,null,null,null,null,null,null,null,null,null,null,null,null,null,null,null,null,null,null,null,null,null,null,null,null,null,{"$f":"IF(J104=\"\",1,0)","v":1}]
[]
[null,null,"Sharp Edges",null,null,null,null,null,null,null,null,null,null,null,null,null,null,null,null,null,null,null,null,null,null,null,null,null,null,null,null,null,null,null,null,{"$f":"IF(J106=\"\",1,0)","v":1}]
[]
[null,null,"Center of Gravity",null,null,null,null,null,null,null,null,null,null,null,null,null,null,null,null,null,null,null,null,null,null,null,null,null,null,null,null,null,null,null,null,{"$f":"IF(J108=\"\",1,0)","v":1}]
[]
[null,null,"Pick Points",null,null,null,null,null,null,null,null,null,null,null,null,null,null,null,null,null,null,null,null,null,null,null,null,null,null,null,null,null,null,null,null,{"$f":"IF(J110=\"\",1,0)","v":1}]
[]
[]
[{"$f":"IF(SUM(AJ115:AJ138)=0,\"a\",\"\")","v":""},"Load Weight",null,null,null,null,null,null,null,null,null,null,null,null,null,{"$f":"IF(AB27=\"no\",IF(O204=0,\"\",O204),IF(O204=0,\"Crane 1\",O204))","v":"Crane 1"},null,null,null,null,null,null,null,{"$f":"IF($O$251=0,\"Crane 2\",$O$251)","v":"Crane 2"},null,null,null,null,null,null,null,null,null,{"$f":"IF($AB$27=\"No\",X113,\"LOGIC\")","v":"LOGIC"}," "]
[]
[null,null,"Unit of Measure",null,null,null,null,null,null,null,null,null,null,null,null,null,null,null,null,null,"LBS",null,"Select",null,null,null,null,null,"LBS",null,"Select",null,null,{"$f":"IF($AB$27=\"No\",AC115,\"LOGIC\")","v":"LOGIC"},null,{"$f":"IF(AND(AB$27=\"yes\",OR(ISBLANK(U115),ISBLANK(AC115))),1,IF(U115=\"\",1,0))","v":0}]
[]
[null,null,"Net Load Weight (Pick Load)",null,null,null,null,null,null,null,null,null,null,null,null,null,null,null,null,null,{"$f":"Crane_1_Unit_of_Measure","v":"LBS"},null," ",null,null,null,null,null,{"$f":"Crane_2_Unit_of_measure","v":"LBS"},null,null,null,{"$f":"IF($AB$27=\"No\",AC117,\"\")","v":""},{"$f":"IF($AB$27=\"No\",X117,\"LOGIC\")","v":"LOGIC"},null,{"$f":"IF(AND(AB$27<>\"no\",ISNUMBER(P117),ISNUMBER(X117)),0,IF(AND(AB$27=\"no\",ISNUMBER(P117)),0,1))","v":1}]
[]
[null,null,{"$f":"IF(Major_lift_flag=1,\"Safety Factor Applied (10% of Pick Load)\",\"\")","v":""},null,null,null,null,null,null,null,null,null,null,null,null,{"$f":"IF(Safety_Factor_Applied_Label=\"\",\"\",IF(AND(Major_lift_flag=1,Wt_verified_accurate=\"No\"),IF(Crane_1_Net_Load_Weight<>\"\",Crane_1_Net_Load_Weight*0.1,\"\"),\"N/A, Weight Verified   \"))","v":""},null,null,null,null,{"$f":"IF(AK119=1,Crane_1_Unit_of_Measure,\"\")","v":""},null," ",{"$f":"IF(C119=\"\",\"\",IF(AND(Major_lift_flag=1,Wt_verified_accurate=\"No\"),IF(Crane_2_Net_Load_Weight<>\"\",Crane_2_Net_Load_Weight*0.1,\"\"),\"N/A, Weight Verified   \"))","v":""},null,null,null,null,{"$f":"IF(AK119=1,Crane_2_Unit_of_measure,\"\")","v":""},null,null,null,{"$f":"IF($AB$27=\"No\",AC119,\"\")","v":""},{"$f":"IF($AB$27=\"No\",X119,\"LOGIC\")","v":"LOGIC"},null,null,{"$f":"IF(OR(AB13=\"yes\",AB15=\"yes\"),1,0)","v":0},": is major (1)"]
[]
[null,null,{"$f":"IF(Major_lift_flag=1,\"Load weight has been verified accurate:\",\"\")","v":""},null,null,null,null,null,null,null,null,null,"No",null,"Select"]
[]
[null,null,"Rigging Weight",null,null,null,null,null,null,null,null,null,null,null,null,null,null,null,null,null,{"$f":"Crane_1_Unit_of_Measure","v":"LBS"},null," ",null,null,null,null,null,{"$f":"Crane_2_Unit_of_measure","v":"LBS"},null,null,null,{"$f":"IF($AB$27=\"No\",AC123,\"\")","v":""},{"$f":"IF($AB$27=\"No\",X123,\"LOGIC\")","v":"LOGIC"},null,{"$f":"IF(AND(AB$27<>\"no\",ISNUMBER(P123),ISNUMBER(X123)),0,IF(AND(AB$27=\"no\",ISNUMBER(P123)),0,1))","v":1}]
[]
[null,null,"Block Weight(s)",null,null,null,null,null,null,null,null,null,null,null,null,null,null,null,null,null,{"$f":"Crane_1_Unit_of_Measure","v":"LBS"},null," ",null,null,null,null,null,{"$f":"Crane_2_Unit_of_measure","v":"LBS"},null,null,null,{"$f":"IF($AB$27=\"No\",AC125,\"\")","v":""},{"$f":"IF($AB$27=\"No\",X125,\"LOGIC\")","v":"LOGIC"},null,{"$f":"IF(AND(AB$27<>\"no\",ISNUMBER(P125),ISNUMBER(X125)),0,IF(AND(AB$27=\"no\",ISNUMBER(P125)),0,1))","v":1}]
[]
[null,null,"Crane Cable Weight",null,null,null,null,null,null,null,null,null,null,null,null,null,null,null,null,null,{"$f":"Crane_1_Unit_of_Measure","v":"LBS"},null," ",null,null,null,null,null,{"$f":"Crane_2_Unit_of_measure","v":"LBS"},null,null,null,{"$f":"IF($AB$27=\"No\",AC127,\"\")","v":""},{"$f":"IF($AB$27=\"No\",X127,\"LOGIC\")","v":"LOGIC"},null,{"$f":"IF(AND(AB$27<>\"no\",ISNUMBER(P127),ISNUMBER(X127)),0,IF(AND(AB$27=\"no\",ISNUMBER(P127)),0,1))","v":1}]
[]
[null,null,"Jib Weight; if Stowed or Attached",null,null,null,null,null,null,null,null,null,null,null,null,null,null,null,null,null,{"$f":"Crane_1_Unit_of_Measure","v":"LBS"},null," ",null,null,null,null,null,{"$f":"Crane_2_Unit_of_measure","v":"LBS"},null,null,null,{"$f":"IF($AB$27=\"No\",AC129,\"\")","v":""},{"$f":"IF($AB$27=\"No\",X129,\"LOGIC\")","v":"LOGIC"},null,{"$f":"IF(AB25=\"Yes\",IF(AND(AB$27<>\"no\",OR(ISNUMBER(P129),ISNUMBER(X129))),0,IF(AND(AB$27=\"no\",ISNUMBER(P129)),0,1)),\"\")","v":""},"Entry Required if AB29, Jib Use, is \"yes\""]
[]
[null,null,"Other:",null,null,null,null,null,null,null,null,null," ",null,null,null,null,null,null,null,{"$f":"Crane_1_Unit_of_Measure","v":"LBS"},null," ",null,null,null,null,null,{"$f":"Crane_2_Unit_of_measure","v":"LBS"},null,null,null,{"$f":"IF($AB$27=\"No\",AC131,\"\")","v":""},{"$f":"IF($AB$27=\"No\",X131,\"LOGIC\")","v":"LOGIC"}]
[null,null,null,null,null,null,null,null,null,null,null,null," "]
[null,null,"Other:",null,null,null,null,null,null,null,null,null," ",null,null,null,null,null,null,null,{"$f":"Crane_1_Unit_of_Measure","v":"LBS"},null," ",null,null,null,null,null,{"$f":"Crane_2_Unit_of_measure","v":"LBS"},null,null,null,{"$f":"IF($AB$27=\"No\",AC133,\"\")","v":""},{"$f":"IF($AB$27=\"No\",X133,\"LOGIC\")","v":"LOGIC"}]
[null,null,null,null,null,null,null,null,null,null,null,null," "]
[null,null,"Hydraulic and/or Fuel Weight contained in load",null,null,null,null,null,null,null,null,null,null,null,null,null,null,null,null,null,{"$f":"Crane_1_Unit_of_Measure","v":"LBS"},null," ",null,null,null,null,null,{"$f":"Crane_2_Unit_of_measure","v":"LBS"},null,null,null,{"$f":"IF($AB$27=\"No\",AC135,\"\")","v":""},{"$f":"IF($AB$27=\"No\",X135,\"LOGIC\")","v":"LOGIC"}]
[null,null,"  (If not included in Net Load or as part of Safety Factor)",null,null,null,null,null,null,null,null,null,null,null,null,null,null,null,null,null,null,null,null,null,null,null,null,null,null,null,null,null,null,null,null,null,null,null,"CONVERSION TO LBS"]
[]
[null,null,"Gross Load Weight (Total Load)",null,null,null,null,null,null,null,null,null,null,null,null,{"$f":"IF(SUM(P117:T136)=0,\"\",SUM(P117:T136))","v":""},null,null,null,null,{"$f":"Crane_1_Unit_of_Measure","v":"LBS"},null," ",{"$f":"IF(SUM(X117:AB136)=0,\"\",SUM(X117:AB136))","v":""},null,null,null,null,{"$f":"Crane_2_Unit_of_measure","v":"LBS"},null,null,null,{"$f":"IF($AB$27=\"No\",AC138,\"\")","v":""},{"$f":"IF($AB$27=\"No\",X138,\"LOGIC\")","v":"LOGIC"},null,{"$f":"IF(AND(AB$27<>\"no\",ISNUMBER(P138),ISNUMBER(X138)),0,IF(AND(AB$27=\"no\",ISNUMBER(P138)),0,1))","v":1},null,null,{"$f":"IF(Crane_1_Unit_of_Measure=\"KIPS\",Crane_1_Gross_Wt*1000,IF(Crane_1_Unit_of_Measure=\"TONS\",Crane_1_Gross_Wt*2000,IF(Crane_1_Unit_of_Measure=\"LBS\",Crane_1_Gross_Wt,\"\")))","v":""},{"$f":"IF(Crane_2_Unit_of_measure=\"KIPS\",Crane_2_Gross_Wt*1000,IF(Crane_2_Unit_of_measure=\"TONS\",Crane_2_Gross_Wt*2000,IF(Crane_2_Unit_of_measure=\"LBS\",Crane_2_Gross_Wt,\"\")))","v":""}]
[null,null,null,null,null,null,null,null,null,null,null,null,null,null,null,null,null,null,null,null,null,null,null,null,null,null,null,null,null,null,null,null,null,null,null,null,"maj","Ensure the revised Gross Load Weight has not made this lift critical by exceeding the equipment's capacity."]
[null,null,null,null,null,null,null,null,null,null,null,null,null,null,null,{"$f":"IF(AB29=\"yes\",AL141,IF(AND(AK119=1,AB19=\"yes\"),AL140,IF(AND(AK119=1,M121=\"No\"),AL139,\"\")))","v":""},null,null,null,null,null,null,null,null,null,null,null,null,null,null,null,null,null,null,null,null,"capac.","Ensure the equipment capacity is adequate to lift the above listed Gross Load Weight."]
[null,null,null,null,null,null,null,null,null,null,null,null,null,null,null,null,null,null,null,null,null,null,null,null,null,null,null,null,null,null,null,null,null,null,null,null,"PPL","This is a Planned Personnel Lift.  Ensure that at no time the Gross Load Weight Exceeds 50% of the Hoist Capacity.                  ASME B30.23"]
[]
[null,"Rigging to be used",null,null,null,null,"    - Crane 1",null,null,null,null,null,{"$f":"IF($O$204=0,\"\",$O$204)","v":""},null,null,null,null,null,null,null,null,null,null,null,null,null,null,null,null,null," ",null,null,{"$f":"IF($AB$27=\"No\",G143,\"LOGIC\")","v":"LOGIC"},null," "]
[null,null,"- Confirm all pick points on load are adequate to be used to lift the load"]
[null,null,"- Rigging Plan must be attached to Lift Plan Printout"]
[null,null,"- Rigging Plan can be hand sketched or CAD developed, and should list all rigging components "]
[null,null,null,null,null,null,null,null,null,null,null,null,null,null,null,null,null,null,null,null,null,null,null,null,null,null,null,null,null,null," "]
[null,null,"Type of Rigging",null,null,null,null,null,null,null,null,null,null,null,null,null,null,null,null,null,null,null,null,null,null,null,null,null,null,null,null,null,null,null,null,{"$f":"IF(M148=\"\",1,0)","v":1}]
[]
[null,null,"Sizes, Dimensions, Quantities",null,null,null,null,null,null,null,null,null,null,null,null,null,null,null,null,null,null,null,null,null,null,null,null,null,null,null,null,null,null,null,null,{"$f":"IF(M150=\"\",1,0)","v":1}]
[]
[null,null,"Rigging Hardware",null,null,null,null,null,null,null,null,null,null,null,null,null,null,null,null,null,null,null,null,null,null,null,null,null,null,null,null,null,null,null,null,{"$f":"IF(M152=\"\",1,0)","v":1}]
[]
[null,null,"Below the Hook Lifting Devices",null,null,null,null,null,null,null,null,null,null,null,null,null,null,null,null,null,null,null,null,null,null,null,null,null,null,null,null,null,null,null,null,{"$f":"IF(M154=\"\",1,0)","v":1}]
[]
[null,null,"Spreaders",null,null,null,null,null,null,null,null,null,null,null,null,null,null,null,null,null,null,null,null,null,null,null,null,null,null,null,null,null,null,null,null,{"$f":"IF(M156=\"\",1,0)","v":1}]
[]
[null,null,{"$f":"IF(LEFT($J$338,5)=\"up to\",\"Non-conductive Tag Lines\",\"Tag Lines\")","v":"Tag Lines"},null,null,null,null,null,null,null,null,null,null,null,null,null,null,null,null,null,null,null,null,null,null,null,null,null,null,null,null,null,null,null,null,{"$f":"IF(M158=\"\",1,0)","v":1}]
[]
[null,null,"Dunnage"]
[]
[null,null,"Other:"]
[]
[null,null,"Other:"]
[]
[null,null,"Other:"]
[]
[]
[]
[]
[null,"Rigging to be used        - Crane 2",null,null,null,null,null,null,null,null,null,null,{"$f":"IF($O$251=0,\"\",$O$251)","v":""},null,null,null,null,null,null,null,null,null,null,null,null,null,null,null,null,null,null,null,null,{"$f":"IF($AB$27=\"No\",M171,\"LOGIC\")","v":"LOGIC"},{"$f":"IF($AB$27=\"No\",B171,\"LOGIC\")","v":"LOGIC"}]
[null,null,"- Confirm all pick points on load are adequate to be used to lift the load"]
[null,null,"- Rigging Plan must be attached to Lift Plan Printout"]
[null,null,"- Rigging Plan can be hand sketched or CAD developed, and should list all rigging components "]
[]
[null,null,"Type of Rigging",null,null,null,null,null,null,null,null,null,null,null,null,null,null,null,null,null,null,null,null,null,null,null,null,null,null,null," ",null,null,{"$f":"IF($AB$27=\"No\",M176,\"LOGIC\")","v":"LOGIC"},{"$f":"IF($AB$27=\"No\",C176,\"LOGIC\")","v":"LOGIC"},{"$f":"IF(M176=\"\",1,0)","v":1}]
[null,null,null,null,null,null,null,null,null,null,null,null,null,null,null,null,null,null,null,null,null,null,null,null,null,null,null,null,null,null," "]
[null,null,"Sizes, Dimensions, Quantities",null,null,null,null,null,null,null,null,null,null,null,null,null,null,null,null,null,null,null,null,null,null,null,null,null,null,null," ",null,null,{"$f":"IF($AB$27=\"No\",M178,\"LOGIC\")","v":"LOGIC"},{"$f":"IF($AB$27=\"No\",C178,\"LOGIC\")","v":"LOGIC"},{"$f":"IF(M178=\"\",1,0)","v":1}]
[null,null,null,null,null,null,null,null,null,null,null,null,null,null,null,null,null,null,null,null,null,null,null,null,null,null,null,null,null,null," "]
[null,null,"Rigging Hardware",null,null,null,null,null,null,null,null,null,null,null,null,null,null,null,null,null,null,null,null,null,null,null,null,null,null,null," ",null,null,{"$f":"IF($AB$27=\"No\",M180,\"LOGIC\")","v":"LOGIC"},{"$f":"IF($AB$27=\"No\",C180,\"LOGIC\")","v":"LOGIC"},{"$f":"IF(M180=\"\",1,0)","v":1}]
[null,null,null,null,null,null,null,null,null,null,null,null,null,null,null,null,null,null,null,null,null,null,null,null,null,null,null,null,null,null," "]
[null,null,{"$f":"IF(More_than_one=\"no\",\"Area Reserved for Second Crane's Rigging\",\"Below the Hook Lifting Devices\")","v":"Below the Hook Lifting Devices"},null,null,null,null,null,null,null,null,null,null,null,null,null,null,null,null,null,null,null,null,null,null,null,null,null,null,null," ",null,null,{"$f":"IF($AB$27=\"No\",M182,\"LOGIC\")","v":"LOGIC"},{"$f":"IF($AB$27=\"No\",C182,\"LOGIC\")","v":"LOGIC"},{"$f":"IF(M182=\"\",1,0)","v":1}]
[null,null,null,null,null,null,null,null,null,null,null,null,null,null,null,null,null,null,null,null,null,null,null,null,null,null,null,null,null,null," "]
[null,null,"Spreaders",null,null,null,null,null,null,null,null,null,null,null,null,null,null,null,null,null,null,null,null,null,null,null,null,null,null,null,null,null,null,{"$f":"IF($AB$27=\"No\",M184,\"LOGIC\")","v":"LOGIC"},{"$f":"IF($AB$27=\"No\",C184,\"LOGIC\")","v":"LOGIC"},{"$f":"IF(M184=\"\",1,0)","v":1}]
[]
[null,null,{"$f":"IF(LEFT($J$338,5)=\"up to\",\"Non-conductive Tag Lines\",\"Tag Lines\")","v":"Tag Lines"},null,null,null,null,null,null,null,null,null,null,null,null,null,null,null,null,null,null,null,null,null,null,null,null,null,null,null," ",null,null,{"$f":"IF($AB$27=\"No\",M186,\"LOGIC\")","v":"LOGIC"},{"$f":"IF($AB$27=\"No\",C186,\"LOGIC\")","v":"LOGIC"},{"$f":"IF(M186=\"\",1,0)","v":1}]
[null,null,null,null,null,null,null,null,null,null,null,null,null,null,null,null,null,null,null,null,null,null,null,null,null,null,null,null,null,null," "]
[null,null,"Dunnage",null,null,null,null,null,null,null,null,null,null,null,null,null,null,null,null,null,null,null,null,null,null,null,null,null,null,null," ",null,null,{"$f":"IF($AB$27=\"No\",M188,\"LOGIC\")","v":"LOGIC"},{"$f":"IF($AB$27=\"No\",C188,\"LOGIC\")","v":"LOGIC"}]
[]
[null,null,"Other:",null,null,{"$f":"IF(Rigging_Other_A_Label=0,\"\",Rigging_Other_A_Label)","v":""},null,null,null,null,null,null,null,null,null,null,null,null,null,null,null,null,null,null,null,null,null,null,null,null,null,null,{"$f":"IF($AB$27=\"No\",F190,\"LOGIC\")","v":"LOGIC"},{"$f":"IF($AB$27=\"No\",M190,\"LOGIC\")","v":"LOGIC"},{"$f":"IF($AB$27=\"No\",C190,\"LOGIC\")","v":"LOGIC"}]
[]
[null,null,"Other:",null,null,{"$f":"IF(Rigging_Other_B_Label=0,\"\",Rigging_Other_B_Label)","v":""},null,null,null,null,null,null,null,null,null,null,null,null,null,null,null,null,null,null,null,null,null,null,null,null,null,null,{"$f":"IF($AB$27=\"No\",F192,\"LOGIC\")","v":"LOGIC"},{"$f":"IF($AB$27=\"No\",M192,\"LOGIC\")","v":"LOGIC"},{"$f":"IF($AB$27=\"No\",C192,\"LOGIC\")","v":"LOGIC"}]
[]
[null,null,"Other:",null,null,{"$f":"IF(Rigging_Other_C_Label=0,\"\",Rigging_Other_C_Label)","v":""},null,null,null,null,null,null,null,null,null,null,null,null,null,null,null,null,null,null,null,null,null,null,null,null,null,null,{"$f":"IF($AB$27=\"No\",F194,\"LOGIC\")","v":"LOGIC"},{"$f":"IF($AB$27=\"No\",M194,\"LOGIC\")","v":"LOGIC"},{"$f":"IF($AB$27=\"No\",C194,\"LOGIC\")","v":"LOGIC"}," "]
[]
[]
[]
[]
[null,{"$f":"IF(AB27=\"No\",\"Crane Plan\",\"Crane Plan - Crane 1\")","v":"Crane Plan - Crane 1"},null,null,null,null,null,null,null,null,null,null,null,null,null,null,null,null,null,null,null,null,null,null,null,null,null,null,null,null,null,null,null,null,null," "]
[null,null,"- Ensure the proper Load Chart has been utilized in the planning of this lift.",null,null,null,null,null,null,null,null,null,null,null,null,null,null,null,null,null,null,null,null,null,null,null,null,null,null,null,null,null,null,null,null," "]
[null,null,"- Ensure that the Crane's Block, Line Pull & associated Parts of Line and\n   ancillary attachments are adequate to lift the Gross Load Weight."]
[]
[]
[null,null,"Crane Designation (Abbreviated Name)",null,null,null,null,null,null,null,null,null,null,null,null,null,null,null,null,null,null,null,null,null,null,null,null,null,null,null,null,null,null,null,null,{"$f":"IF(O204=\"\",1,0)","v":1}]
[]
[null,null,"Crane Manufacturer / Model / Serial",null,null,null,null,null,null,null,null,null,null,null,null,null,null,null,null,null,null,null,null,null,null,null,null,null,null,null,null,null,null,null,null,{"$f":"IF(O206=\"\",1,0)","v":1}]
[]
[null,null,"Crane Capacity Rating (Tons)",null,null,null,null,null,null,null,null,null,null,null,null,null,null,null,"TN",null,null,null,null,null,null,null,null,null,null,null,null,null,null,null,null,{"$f":"IF(O208=\"\",1,0)","v":1}]
[]
[null,null,"Is the crane supported by tracks, outriggers or other?",null,null,null,null,null,null,null,null,null,null,null,null,null,null,null,null,null,null,"Select",null,null,null,null,null,null,null,null,null,null,null,null,null,{"$f":"IF(LEFT(O210,3)=\"sel\",1,0)","v":0}]
[]
[null,null,"Boom Length and Configuration",null,null,null,null,null,null,null,null,null,null,null,null,null,null,null,null,null,null,null,null,null,null,null,null,null,null,null,null,null,null,null,null,{"$f":"IF(O212=\"\",1,0)","v":1}]
[]
[null,null,"Counterweight",null,null,null,null,null,null,null,null,null,null,null,null,null,null,null,null,null,null,null,null,null,null,null,null,null,null,null,null,null,null,null,null,{"$f":"IF(O214=\"\",1,0)","v":1}]
[]
[null,null,"How Many Parts of Line",null,null,null,null,null,null,null,null,null,null,null,null,null,null,null,null,null,null,null,null,null,null,null,null,null,null,null,null,null,null,null,null,{"$f":"IF(O216=\"\",1,0)","v":1}]
[]
[null,null,{"$f":"IF(O210=\"other\",\"Bearing Surface, Crane Support or Other\",\"Solid Ground, Timber Mats, Steel Plates, etc.\")","v":"Solid Ground, Timber Mats, Steel Plates, etc."},null,null,null,null,null,null,null,null,null,null,null,null,null,null,null,null,null,null,null,null,null,null,null,null,null,null,null,null,null,null,null,null,{"$f":"IF(O218=\"\",1,0)","v":1}]
[]
[null,null,{"$f":"IF(Crane_1_Supported_by=\"Outriggers\",\"Minimum Outrigger Pad Size, as Guideline:\",IF(AND(Crane_1_Supported_by=\"Tracks\",Crane_1_Capacity_Rating_Tons>294),\"Crane Mats:\",\"\"))","v":""},null,null,null,null,null,null,null,null,null,null,null,{"$f":"IF(Crane_1_Supported_by=\"outriggers\",ROUNDUP(((Crane_1_Capacity_Rating_Tons*4)^(1/4)),0)&\"' x \"&ROUNDUP(((Crane_1_Capacity_Rating_Tons*4)^(1/4)),0)&\"'\",IF(AND(Crane_1_Supported_by=\"tracks\",Crane_1_Capacity_Rating_Tons>199.9),\"Timber Mats Req'd\",IF(AND(Crane_1_Supported_by=\"tracks\",Crane_1_Capacity_Rating_Tons<=199.9),\"\",\"\")))","v":""},null,null,null,null,{"$f":"IF(Crane_1_Supported_by=\"Outriggers\",\"√( TN x 4 ) = L^2   [pad size, SF], Min SF req'd≈ \"&ROUNDUP((Crane_1_Capacity_Rating_Tons*4)^0.5,0)&\" SF\",\"\")","v":""}]
[]
[null,null,"Maximum Allowable Wind Speed",null,null,null,null,null,null,null,null,null,null,null,null,null,null,null,"MPH",null,null,null,null,null,null,null,null,null,null,null,null,null,null,null,null,{"$f":"IF(O222=\"\",1,0)","v":1}]
[]
[null,null,"Other"]
[]
[]
[null,null,"Crane Radius & Capacity",null,null,null,null,null,null,null,null,null,null,null,null,null,null,null,null,null,null,null,null,null,null,null,null,null,null,null,null,null,null,null,null,null,null,"CONVERSION TO LBS"]
[]
[null,null,"Maximum Planned Crane Radius (Pick & Set) for this Lift and Corresponding Capacity at this Radius \n(From Crane Chart)",null,null,null,null,null,null,null,null,null,null,null,null,null,null,null,"FT",null,null,null,null,"Capacity at Radius:",null,null,null,null,null,null,"Select",null,null,null,null,{"$f":"IF(AND(O229=\"\",Y229=\"\",AC229=\"\"),1,0)","v":1},null,{"$f":"IF(Crane_1_Capacity_at_Radius_Unit_of_Measure=\"KIPS\",Crane_1_Capacity_at_Max_Planned_Radius*1000,IF(Crane_1_Capacity_at_Radius_Unit_of_Measure=\"TONS\",Crane_1_Capacity_at_Max_Planned_Radius*2000,IF(Crane_1_Capacity_at_Radius_Unit_of_Measure=\"LBS\",Crane_1_Capacity_at_Max_Planned_Radius,\"\")))","v":""},"LBS"]
[]
[null,null,null,null,null,null,null,null,null,null,null,null,null,null,null,null,null,null,null,null,null,null,null,"Percent of Hoist Capacity Utilized for Lift:",{"$f":"IF(OR(Crane_1_Capacity_at_Radius_Unit_of_Measure=\"\",Crane_1_Capacity_at_Max_Planned_Radius=\"\",Crane_1_Gross_Wt=\"\"),\"\",Crane_1_Gross_Wt_LBS/Crane_1_Capacity_at_Max_Planned_Radius_LBS)","v":""},null,null,null,null,null,null,null,null,null,null,{"$f":"IF(Y231>1,1,IF(AND($AB$29=\"Yes\",Y231>0.5),1,IF(AND($AB$19=\"No\",Y231>0.75),1,0)))","v":1}]
[]
[null,null,null,null,null,null,null,null,null,null,null,null,null,null,null,null,null,null,null,null,null,null,null,null,null,null,null,null,null,{"$f":"IF(Crane_1_Percent_Used_at_Max_Planned_Radius=\"\",\"\",IF(Crane_1_Percent_Used_at_Max_Planned_Radius>1,Over_100_percent_error_msg,IF(AND(Personnel_lift=\"Yes\",Crane_1_Percent_Used_at_Max_Planned_Radius>0.5),Personnel_Lift_over_half_capacity_error,IF(Crane_1_Percent_Used_at_Max_Planned_Radius>0.75,Capacity_equals_critical_lift_message,\"\"))))","v":""}]
[]
[null,null,"Maximum Allowed Crane Radius and \nCorresponding Capacity at this Radius \n(From Crane Chart)",null,null,null,null,null,null,null,null,null,null,null,null,null,null,null,"FT",null,null,null,null,"Capacity at Radius:",null,null,null,null,{"$f":"IF(Crane_1_Capacity_at_Radius_Unit_of_Measure=\"\",\"\",Crane_1_Capacity_at_Radius_Unit_of_Measure)","v":""},null,null,null,null,null,null,{"$f":"IF(AND(O235=\"\",Y235=\"\"),1,0)","v":1},null,{"$f":"IF(Crane_1_Capacity_at_Radius_Unit_of_Measure=\"KIPS\",Crane_1_Capacity_at_Max_Allowed_Radius*1000,IF(Crane_1_Capacity_at_Radius_Unit_of_Measure=\"TONS\",Crane_1_Capacity_at_Max_Allowed_Radius*2000,IF(Crane_1_Capacity_at_Radius_Unit_of_Measure=\"LBS\",Crane_1_Capacity_at_Max_Allowed_Radius,\"\")))","v":""},"LBS"]
[]
[null,null,null,null,null,null,null,null,null,null,null,null,null,null,null,null,null,null,null,null,null,null,null,"Percent of Hoist Capacity  at Max Radius:",{"$f":"IF(OR(Crane_1_Capacity_at_Radius_Unit_of_Measure=\"\",Crane_1_Capacity_at_Max_Allowed_Radius=\"\",Crane_1_Gross_Wt=\"\"),\"\",Crane_1_Gross_Wt_LBS/Crane_1_Capacity_at_Max_Allowed_Radius_LBS)","v":""},null,null,null,null,null,null,null,null,null,null,{"$f":"IF(Y237>1,1,IF(AND($AB$29=\"Yes\",Y237>0.5),1,IF(AND($AB$19=\"No\",Y237>0.75),1,0)))","v":1}]
[]
[null,null,null,null,null,null,null,null,null,null,null,null,null,null,null,null,null,null,null,null,null,null,null,null,null,null,null,null,null,{"$f":"IF(Crane_1_Percent_Used_at_Max_Allowed_Radius=\"\",\"\",IF(Crane_1_Percent_Used_at_Max_Allowed_Radius>1,Over_100_percent_error_msg,IF(AND(Personnel_lift=\"Yes\",Crane_1_Percent_Used_at_Max_Allowed_Radius>0.5),Personnel_Lift_over_half_capacity_error,IF(Crane_1_Percent_Used_at_Max_Allowed_Radius>0.75,Capacity_equals_critical_lift_message,\"\"))))","v":""},null,null,null,null,null,null,null,"Lifting a Load over 100% Capacity is Not Allowed"," "]
[]
[null,null,null,null,null,null,null,null,null,null,null,null,null,null,{"$f":"IF(OR(Crane_1_Capacity_at_Max_Planned_Radius=\"\",Crane_1_Capacity_at_Max_Allowed_Radius=\"\",Crane_1_Gross_Wt=\"\"),\"\",IF(OR(AND(Personnel_lift=\"yes\",OR(Crane_1_Percent_Used_at_Max_Planned_Radius>0.5,Crane_1_Percent_Used_at_Max_Allowed_Radius>0.5)),Crane_1_Percent_Used_at_Max_Planned_Radius>1,Crane_1_Percent_Used_at_Max_Allowed_Radius>1),Decrease_radius_or_choose_another_crane_msg,IF(AND(Utilize_more_capacity=\"No\",OR(Crane_1_Percent_Used_at_Max_Planned_Radius>0.75,Crane_1_Percent_Used_at_Max_Allowed_Radius>0.75)),Decrease_radius_or_revise_classification_msg,\"\")))","v":""},null,null,null,null,null,null,null,null,null,null,null,null,null,null,null,null,null,null,null,null,null,null,"Gross Load not to exceed 50% of Hoist Capacity for a Personnel Lift","Revise the Crane Location to decrease the radius or revise the Lift Classification if you intend to use more than 75% of the crane’s capacity."]
[null,null,null,null,null,null,null,null,null,null,null,null,null,null,null,null,null,null,null,null,null,null,null,null,null,null,null,null,null,null,null,null,null,null,null,null,null,"Lifting the Load at this Radius/Capacity Constitutes a Critical Lift","Revise the Crane Location to decrease the radius or consider an alternate crane for this lift."]
[]
[]
[]
[null,"Crane Plan  - Crane 2",null,null,null,null,null,null,null,null,null,null,null,null,null,null,null,null,null,null,null,null,null,null,null,null,null,null,null,null,null,null,null,null,{"$f":"IF($AB$27=\"No\",B246,\"LOGIC\")","v":"LOGIC"}," "]
[null,null,"- Ensure the proper Load Chart has been utilized in the planning of this lift.  ",null,null,null,null,null,null,null,null,null,null,null,null,null,null,null,null,null,null,null,null,null,null,null,null,null,null,null,null,null,null,null,{"$f":"IF($AB$27=\"No\",C247,\"LOGIC\")","v":"LOGIC"}," "]
[null,null,"- Ensure that the Crane's Block, Line Pull & associated Parts of Line and\n   ancillary attachments are adequate to lift the Gross Load Weight.",null,null,null,null,null,null,null,null,null,null,null,null,null,null,null,null,null,null,null,null,null,null,null,null,null,null,null,null,null,null,null,{"$f":"IF($AB$27=\"No\",C248,\"LOGIC\")","v":"LOGIC"}," "]
[]
[]
[null,null,"Crane Designation (Abbreviated Name)",null,null,null,null,null,null,null,null,null,null,null,null,null,null,null,null,null,null,null,null,null,null,null,null,null,null,null,null,null,null,{"$f":"IF($AB$27=\"No\",O251,\"LOGIC\")","v":"LOGIC"},{"$f":"IF($AB$27=\"No\",C251,\"LOGIC\")","v":"LOGIC"},{"$f":"IF(O251=\"\",1,0)","v":1}]
[]
[null,null,"Crane Manufacturer / Model / Serial",null,null,null,null,null,null,null,null,null,null,null,null,null,null,null,null,null,null,null,null,null,null,null,null,null,null,null,null,null,null,{"$f":"IF($AB$27=\"No\",O253,\"LOGIC\")","v":"LOGIC"},{"$f":"IF($AB$27=\"No\",C253,\"LOGIC\")","v":"LOGIC"},{"$f":"IF(O253=\"\",1,0)","v":1}]
[]
[null,null,"Crane Capacity Rating (TN)",null,null,null,null,null,null,null,null,null,null,null,null,null,null,null,"TN",null,null,null,null,null,null,null,null,null,null,null,null,null,null,{"$f":"IF($AB$27=\"No\",O255,\"LOGIC\")","v":"LOGIC"},{"$f":"IF($AB$27=\"No\",C255,\"LOGIC\")","v":"LOGIC"},{"$f":"IF(O255=\"\",1,0)","v":1}]
[]
[null,null,"Is the crane supported by tracks, outriggers or other?",null,null,null,null,null,null,null,null,null,null,null,null,null,null,null,null,null,{"$f":"IF(AND(AB29=\"yes\",O257=\"outriggers\"),\"100% Outriggers are required for Personnel Lifts\",\"\")","v":""},"Select",null,null,null,null,null,null,null,null,null,null,null,{"$f":"IF($AB$27=\"No\",O257,\"LOGIC\")","v":"LOGIC"},{"$f":"IF($AB$27=\"No\",C257,\"LOGIC\")","v":"LOGIC"},{"$f":"IF(LEFT(O257,3)=\"sel\",1,0)","v":0}]
[]
[null,null,"Boom Length and Configuration",null,null,null,null,null,null,null,null,null,null,null,null,null,null,null,null,null,null,null,null,null,null,null,null,null,null,null,null,null,null,{"$f":"IF($AB$27=\"No\",O259,\"LOGIC\")","v":"LOGIC"},{"$f":"IF($AB$27=\"No\",C259,\"LOGIC\")","v":"LOGIC"},{"$f":"IF(O259=\"\",1,0)","v":1}]
[]
[null,null,{"$f":"IF(More_than_one=\"no\",\"Area Reserved for Second Crane's Crane Plan\",\"Counterweight\")","v":"Counterweight"},null,null,null,null,null,null,null,null,null,null,null,null,null,null,null,null,null,null,null,null,null,null,null,null,null,null,null,null,null,null,{"$f":"IF($AB$27=\"No\",O261,\"LOGIC\")","v":"LOGIC"},{"$f":"IF($AB$27=\"No\",C261,\"LOGIC\")","v":"LOGIC"},{"$f":"IF(O261=\"\",1,0)","v":1}]
[]
[null,null,"How Many Parts of Line",null,null,null,null,null,null,null,null,null,null,null,null,null,null,null,null,null,null,null,null,null,null,null,null,null,null,null,null,null,null,{"$f":"IF($AB$27=\"No\",O263,\"LOGIC\")","v":"LOGIC"},{"$f":"IF($AB$27=\"No\",C263,\"LOGIC\")","v":"LOGIC"},{"$f":"IF(O263=\"\",1,0)","v":1}]
[]
[null,null,{"$f":"IF(O257=\"other\",\"Bearing Surface, Crane Support or Other\",\"Solid Ground, Timber Mats, Steel Plates, etc.\")","v":"Solid Ground, Timber Mats, Steel Plates, etc."},null,null,null,null,null,null,null,null,null,null,null,null,null,null,null,null,null,null,null,null,null,null,null,null,null,null,null,null,null,null,{"$f":"IF($AB$27=\"No\",O265,\"LOGIC\")","v":"LOGIC"},{"$f":"IF($AB$27=\"No\",C265,\"LOGIC\")","v":"LOGIC"},{"$f":"IF(O265=\"\",1,0)","v":1}]
[]
[null,null,{"$f":"IF(Crane_2_Supported_by=\"Outriggers\",\"Minimum Outrigger Pad Size, as Guideline:\",IF(AND(Crane_2_Supported_by=\"Tracks\",Crane_2_Capacity_Rating_Tons>294),\"Crane Mats:\",\"\"))","v":""},null,null,null,null,null,null,null,null,null,null,null,{"$f":"IF(Crane_2_Supported_by=\"outriggers\",ROUNDUP(((Crane_2_Capacity_Rating_Tons*4)^(1/4)),0)&\"' x \"&ROUNDUP(((Crane_2_Capacity_Rating_Tons*4)^(1/4)),0)&\"'\",IF(AND(Crane_2_Supported_by=\"tracks\",Crane_2_Capacity_Rating_Tons>199.9),\"Timber Mats Req'd\",IF(AND(Crane_2_Supported_by=\"tracks\",Crane_2_Capacity_Rating_Tons<=199.9),\"\",\"\")))","v":""},null,null,null,null,{"$f":"IF(Crane_2_Supported_by=\"Outriggers\",\"√( TN x 4 ) = L^2   [pad size, SF], Min SF req'd≈ \"&ROUNDUP((Crane_2_Capacity_Rating_Tons*4)^0.5,0)&\" SF\",\"\")","v":""},null,null,null,null,null,null,null,null,null,null,null,null,null,{"$f":"IF($AB$27=\"No\",O267,\"LOGIC\")","v":"LOGIC"},{"$f":"IF($AB$27=\"No\",C267,\"LOGIC\")","v":"LOGIC"}," "]
[]
[null,null,"Maximum Allowable Wind Speed",null,null,null,null,null,null,null,null,null,null,null,null,null,null,null,"MPH",null,null,null,null,null,null,null,null,null,null,null,null,null,null,{"$f":"IF($AB$27=\"No\",O269,\"LOGIC\")","v":"LOGIC"},{"$f":"IF($AB$27=\"No\",C269,\"LOGIC\")","v":"LOGIC"},{"$f":"IF(O269=\"\",1,0)","v":1}]
[]
[null,null,"Other",null,null,{"$f":"IF(Crane_Plan_Other_A_Label=0,\"\",Crane_Plan_Other_A_Label)","v":""},null,null,null,null,null,null,null,null,null,null,null,null,null,null,null,null,null,null,null,null,null,null,null,null,null,null,{"$f":"IF($AB$27=\"No\",F271,\"LOGIC\")","v":"LOGIC"},{"$f":"IF($AB$27=\"No\",O271,\"LOGIC\")","v":"LOGIC"},{"$f":"IF($AB$27=\"No\",C271,\"LOGIC\")","v":"LOGIC"}]
[]
[]
[null,null,"Crane Radius & Capacity",null,null,null,null,null,null,null,null,null,null,null,null,null,null,null,null,null,null,null,null,null,null,null,null,null,null,null,null,null,null,null,{"$f":"IF($AB$27=\"No\",C274,\"LOGIC\")","v":"LOGIC"},null,null,"CONVERSION TO LBS"]
[]
[null,null,"Maximum Planned Crane Radius (Pick & Set) for this Lift and Corresponding Capacity at this Radius \n(From Crane Chart)",null,null,null,null,null,null,null,null,null,null,null,null,null,null,null,"FT",null,null,null,null,"Capacity at Radius:",null,null,null,null,null,null,"Select",null,null,{"$f":"IF($AB$27=\"No\",O276,\"LOGIC\")","v":"LOGIC"},{"$f":"IF($AB$27=\"No\",C276,\"LOGIC\")","v":"LOGIC"},{"$f":"IF(AND(O276=\"\",Y276=\"\",AC276=\"\"),1,0)","v":1},null,{"$f":"IF(Crane_2_Capacity_at_Radius_Unit_of_Measure=\"KIPS\",Crane_2_Capacity_at_Max_Planned_Radius*1000,IF(Crane_2_Capacity_at_Radius_Unit_of_Measure=\"TONS\",Crane_2_Capacity_at_Max_Planned_Radius*2000,IF(Crane_2_Capacity_at_Radius_Unit_of_Measure=\"LBS\",Crane_2_Capacity_at_Max_Planned_Radius,\"\")))","v":""},"LBS"]
[]
[null,null,null,null,null,null,null,null,null,null,null,null,null,null,null,null,null,null,null,null,null,null,null,"Percent of Hoist Capacity Utilized for Lift:",{"$f":"IF(OR(Crane_2_Capacity_at_Radius_Unit_of_Measure=\"\",Crane_2_Capacity_at_Max_Planned_Radius=\"\",Crane_2_Gross_Wt=\"\"),\"\",Crane_2_Gross_Wt_LBS/Crane_2_Capacity_at_Max_Planned_Radius_LBS)","v":""},null,null,null,null,null,null,null,null,null,null,{"$f":"IF(Y278>1,1,IF(AND($AB$29=\"Yes\",Y278>0.5),1,IF(AND($AB$19=\"No\",Y278>0.75),1,0)))","v":1}]
[]
[null,null,null,null,null,null,null,null,null,null,null,null,null,null,null,null,null,null,null,null,null,null,null,null,null,null,null,null,null,{"$f":"IF(Crane_2_Percent_Used_at_Max_Planned_Radius=\"\",\"\",IF(Crane_2_Percent_Used_at_Max_Planned_Radius>1,Over_100_percent_error_msg,IF(AND(Personnel_lift=\"Yes\",Crane_2_Percent_Used_at_Max_Planned_Radius>0.5),Personnel_Lift_over_half_capacity_error,IF(Crane_2_Percent_Used_at_Max_Planned_Radius>0.75,Capacity_equals_critical_lift_message,\"\"))))","v":""}]
[]
[null,null,"Maximum Allowed Crane Radius and \nCorresponding Capacity at this Radius \n(From Crane Chart)",null,null,null,null,null,null,null,null,null,null,null,null,null,null,null,"FT",null,null,null,null,"Capacity at Radius:",null,null,null,null,{"$f":"IF(Crane_2_Capacity_at_Radius_Unit_of_Measure=\"\",\"\",Crane_2_Capacity_at_Radius_Unit_of_Measure)","v":""},null,null,null,null,{"$f":"IF($AB$27=\"No\",O282,\"LOGIC\")","v":"LOGIC"},{"$f":"IF($AB$27=\"No\",C282,\"LOGIC\")","v":"LOGIC"},{"$f":"IF(AND(O282=\"\",Y282=\"\",AC282=\"\"),1,0)","v":1},null,{"$f":"IF(Crane_2_Capacity_at_Radius_Unit_of_Measure=\"KIPS\",Crane_2_Capacity_at_Max_Allowed_Radius*1000,IF(Crane_2_Capacity_at_Radius_Unit_of_Measure=\"TONS\",Crane_2_Capacity_at_Max_Allowed_Radius*2000,IF(Crane_2_Capacity_at_Radius_Unit_of_Measure=\"LBS\",Crane_2_Capacity_at_Max_Allowed_Radius,\"\")))","v":""},"LBS"]
[]
[null,null,null,null,null,null,null,null,null,null,null,null,null,null,null,null,null,null,null,null,null,null,null,"Percent of Hoist Capacity at Max Radius:",{"$f":"IF(OR(Crane_2_Capacity_at_Radius_Unit_of_Measure=\"\",Crane_2_Capacity_at_Max_Allowed_Radius=\"\",Crane_2_Gross_Wt=\"\"),\"\",Crane_2_Gross_Wt_LBS/Crane_2_Capacity_at_Max_Allowed_Radius_LBS)","v":""},null,null,null,null,null,null,null,null,null,null,{"$f":"IF(Y284>1,1,IF(AND($AB$29=\"Yes\",Y284>0.5),1,IF(AND($AB$19=\"No\",Y284>0.75),1,0)))","v":1}]
[]
[null,null,null,null,null,null,null,null,null,null,null,null,null,null,null,null,null,null,null,null,null,null,null,null,null,null,null,null,null,{"$f":"IF(Crane_2_Percent_Used_at_Max_Allowed_Radius=\"\",\"\",IF(Crane_2_Percent_Used_at_Max_Allowed_Radius>1,Over_100_percent_error_msg,IF(AND(Personnel_lift=\"Yes\",Crane_2_Percent_Used_at_Max_Allowed_Radius>0.5),Personnel_Lift_over_half_capacity_error,IF(Crane_2_Percent_Used_at_Max_Allowed_Radius>0.75,Capacity_equals_critical_lift_message,\"\"))))","v":""},null,null,null,null,null,null,null,"Lifting a Load over 100% Capacity is Not Allowed"," "]
[null,null,null,null,null,null,null,null,null,null,null,null,null,null,null,null,null,null,null,null,null,null,null,null,null,null,null,null,null,null,null,null,null,null,null,null,null,null," "]
[null,null,null,null,null,null,null,null,null,null,null,null,null,null,{"$f":"IF(OR(Crane_2_Capacity_at_Max_Planned_Radius=\"\",Crane_2_Capacity_at_Max_Allowed_Radius=\"\",Crane_2_Gross_Wt=\"\"),\"\",IF(More_than_one=\"Yes\",IF(OR(AND(Personnel_lift=\"yes\",OR(Crane_2_Percent_Used_at_Max_Planned_Radius>0.5,Crane_2_Percent_Used_at_Max_Allowed_Radius>0.5)),Crane_2_Percent_Used_at_Max_Planned_Radius>1,Y284>1),Decrease_radius_or_choose_another_crane_msg,IF(AND(Utilize_more_capacity=\"No\",OR(Crane_2_Percent_Used_at_Max_Planned_Radius>0.75,Crane_2_Percent_Used_at_Max_Allowed_Radius>0.75)),Decrease_radius_or_revise_classification_msg,\"\")),\"\"))","v":""},null,null,null,null,null,null,null,null,null,null,null,null,null,null,null,null,null,null,null,null,null,null,"Gross Load not to exceed 50% of Hoist Capacity for a Personnel Lift","Revise the Crane Location to decrease the radius or revise the Lift Classification if you intend to use more than 75% of the crane’s capacity."," "]
[null,null,null,null,null,null,null,null,null,null,null,null,null,null,null,null,null,null,null,null,null,null,null,null,null,null,null,null,null,null,null,null,null,null,null,null,null,"Lifting the Load at this Radius/Capacity Constitutes a Critical Lift","Revise the Crane Location to decrease the radius or consider an alternate crane for this lift."," "]
[]
[null,null,null,null,null,null,null,null,null,null,null,null,null,null,null,null,null,null,null,null,null,null,null,null,null,null,null,null,null,null,null,null,null,null,null,null,null,null,null," "]
[]
[null,"Signal Plan",null,null,"- Crane 1",null,null,null,null,null,null,null,null,null,{"$f":"IF($O$204=0,\"\",$O$204)","v":""},null,null,null,null,null,null,null,null,null,null,null,null,null,null,null,null,null,null,null,{"$f":"IF($AB$27=\"No\",E293,\"LOGIC\")","v":"LOGIC"}," "]
[]
[null,null,"Assigned Qualified Signaler(s)",null,null,null,null,null,null,null,null,null,null,null,null,null,null,null,null,null,null,null,null,null,null,null,null,null,null,null,null,null,null,null,null,{"$f":"IF(O295=\"\",1,0)","v":1}]
[]
[null,null,"Visual, Radio, Tuftronics, Hard Cable, etc.",null,null,null,null,null,null,null,null,null,null,null,null,null,null,null,null,null,null,null,null,null,null,null,null,null,null,null,null,null,null,null,null,{"$f":"IF(O297=\"\",1,0)","v":1}]
[]
[null,null,"Location of Signaler(s)",null,null,null,null,null,null,null,null,null,null,null,null,null,null,null,null,null,null,null,null,null,null,null,null,null,null,null,null,null,null,null,null,{"$f":"IF(O299=\"\",1,0)","v":1}]
[]
[]
[]
[]
[null,"Signal Plan  - Crane 2",null,null,null,null,null,null,null,null,null,null,null,null,{"$f":"IF($O$251=0,\"\",$O$251)","v":""},null,null,null,null,null,null,null,null,null,null,null,null,null,null,null,null,null,null,{"$f":"IF($AB$27=\"No\",O304,\"LOGIC\")","v":"LOGIC"},{"$f":"IF($AB$27=\"No\",B304,\"LOGIC\")","v":"LOGIC"}]
[]
[null,null,"Assigned Qualified Signaler(s)",null,null,null,null,null,null,null,null,null,null,null,null,null,null,null,null,null,null,null,null,null,null,null,null,null,null,null,null,null,null,{"$f":"IF($AB$27=\"No\",O306,\"LOGIC\")","v":"LOGIC"},{"$f":"IF($AB$27=\"No\",C306,\"LOGIC\")","v":"LOGIC"},{"$f":"IF(O306=\"\",1,0)","v":1}]
[]
[null,null,{"$f":"IF(More_than_one=\"no\",\"Area Reserved for Second Crane's Signal Plan\",\"Visual, Radio, Tuftronics, Hard Cable, etc.\")","v":"Visual, Radio, Tuftronics, Hard Cable, etc."},null,null,null,null,null,null,null,null,null,null,null,null,null,null,null,null,null,null,null,null,null,null,null,null,null,null,null,null,null,null,{"$f":"IF($AB$27=\"No\",O308,\"LOGIC\")","v":"LOGIC"},{"$f":"IF($AB$27=\"No\",C308,\"LOGIC\")","v":"LOGIC"},{"$f":"IF(O308=\"\",1,0)","v":1}]
[]
[null,null,"Location of Signaler(s)",null,null,null,null,null,null,null,null,null,null,null,null,null,null,null,null,null,null,null,null,null,null,null,null,null,null,null,null,null,null,{"$f":"IF($AB$27=\"No\",O310,\"LOGIC\")","v":"LOGIC"},{"$f":"IF($AB$27=\"No\",C310,\"LOGIC\")","v":"LOGIC"},{"$f":"IF(O310=\"\",1,0)","v":1}]
[]
[]
[]
[{"$f":"IF(SUM(AJ314)=0,\"a\",\"\")","v":""},"Signaling Description",null,null,null,null,null,null,null,null,null,null,null,null,null,null,null,null,null,null,null,null,null,null,null,null,null,null,null,null,null,null,null,null,null,{"$f":"IF(K314=\"\",1,0)","v":1}]
[]
[]
[]
[]
[]
[]
[{"$f":"IF(AND(SUM(AJ327:AJ333)+AJ379=0,LP!BF103=FALSE),\"a\",\"\")","v":""},"Task Environment"]
[]
[null,null,"- Ensure that if the crane were to “boom up” to avoid obstructions, the load or rigging will not come in contact with the boom.\n- Ensure that if the load is raised to clear obstructions in the swing path, the load or rigging will not come in contact with the \n   boom, and that raising the load will not cause the crane to two-block."]
[]
[]
[]
[null,null,"Nearby Obstructions",null,null,null,null,null,null,null,null,null,null,null,null,null,null,null,null,null,null,null,null,null,null,null,null,null,null,null,null,null,null,null,null,{"$f":"IF(J327=\"\",1,0)","v":1}]
[]
[null,null,"Vehicle Traffic",null,null,null,null,null,null,null,null,null,null,null,null,null,null,null,null,null,null,null,null,null,null,null,null,null,null,null,null,null,null,null,null,{"$f":"IF(J329=\"\",1,0)","v":1}]
[]
[null,null,"Pedestrian Traffic",null,null,null,null,null,null,null,null,null,null,null,null,null,null,null,null,null,null,null,null,null,null,null,null,null,null,null,null,null,null,null,null,{"$f":"IF(J331=\"\",1,0)","v":1}]
[]
[null,null,"Shallow Underground Utilities",null,null,null,null,null,null,null,null,null,null,null,null,null,null,null,null,null,null,null,null,null,null,null,null,null,null,null,null,null,null,null,null,{"$f":"IF(J333=\"\",1,0)","v":1}]
[null,null,null,null,null,null,null,null,null,null,null,null,null,null,null,null,null,null,null,null,null,null,null,null,null,null,null,null,null,null,null,null,null,null,null,null,null,null,null,null,"up",{"$f":"IF(J338=\"up to 350kv\",20,\"\")","v":""},{"$f":"\"Will the equipment, load line or load come closer than \"&MAX(AP334:AP336)&\"' to the power line during any part of the lifting operation?\"","v":"Will the equipment, load line or load come closer than 0' to the power line during any part of the lifting operation?"}]
[]
[null,null,{"$f":"IF(AB31=\"YES\",\"Power Lines near Assembly/Dissasembly Operation\",\"Power Lines near Lift Operation\")","v":"Power Lines near Lift Operation"},null,null,null,null,null,null,null,null,null,null,null,null,null,null,null,null,null,null,null,null,null,null,null,null,null,null,null,null,null,null,null,null,null," ",null,"Conditional Voltage ref.",null,"ab",{"$f":"IF(J338=\"above 350kv\",50,\"\")","v":""},{"$f":"IF(J344=\"select one\",SUM(AP334:AP336),J348)","v":0},{"$f":"SUM(AP334:AP336)","v":0}]
[]
[null,null,"Power lines within 50' :",null,null,null,null,null,null,null,null,null,null,null,null,null,null,null,null,null,null,null,null,null,null,null,"Select",null,null,null,null,null,null,null,null,{"$f":"IF(J338<>\"\",1,0)","v":0},null,null,{"$f":"LEFT(J338,2)","v":""},"Voltage","MinClr","YN","kV"]
[]
[null,null,{"$f":"IF(RIGHT(J338,2)=\"kv\",AQ334,IF(J338=\"\",\"\",\"No Further Action Required\"))","v":""},null,null,null,null,null,null,null,null,null,null,null,null,null,null,null,null,null,null,null,null,null,null,null,null,null,null,null,null,null,null,null,null,null,null,null,"up","Select One"," ","Yes/No",{"$f":"\"No Power Lines within 50' of Operational Area of Crane\"&IF(AB27<>\"no\",\"s\",\"\")&\", Load or Rigging\"","v":"No Power Lines within 50' of Operational Area of Cranes, Load or Rigging"}]
[null,null,null,null,null,null,null,null,null,"Yes/No",null,null,null,null,null,"Select",null,{"$f":"IF(AND(Utility_closer_than_20_ft=\"yes\",RIGHT(Power_Lines,1)=\"v\"),\"What distance?\",\"\")","v":""},null,null,null,null,null,null,null,{"$f":"IF(Utility_closer_than_20_ft=\"yes\",\"FT\",\"\")","v":""},null,null,null,null,null,null,null,null,null,{"$f":"IF(AND(J341<>\"\",V341<>\"\"),1,0)","v":0},null,null,null,"Up to 200kV",15,"Yes","up to 350kV"]
[null,null,null,null,null,null,null,null,null,null,null,null,null,null,null,null,null,null,null,null,null,null,null,null,null,null,null,null,null,null,null,null,null,null,null,null,null,null,null,"Over 200kV to 350kV",20,"No","above 350kV"]
[null,null,{"$f":"IF(OR($J$341=\"yes/no\",$J$341=\"\",C340=\"no further action required\"),\"\",IF(J341=\"yes\",\"What is the Voltage of the power line present?\",\"No Further Action Required\"))","v":""},null,null,null,null,null,null,null,null,null,null,null,null,null,{"$f":"IF(AND((LEFT(J338,5)=\"up to\"),(J348<>\"\"),J341=\"YES\"),\"In addition to maintaining the minimum clearance distance specified below, a Dedicated Spotter or other means of preventing power line encroachment is required.  Refer to OSHA § 1926.1408(b).  Dedicated spotters must be Skanska Signal Trained.\",\"\")","v":""},null,null,null,null,null,null,null,null,null,null,null,null,null,null,null,null,null,null,null,null,null,"ab","Select One",null,null,"The utility is confirmed to be de-energized"]
[null,null,null,null,null,null,null,null,null,"Select One",null,null,null,null,null,null,null,null,null,null,null,null,null,null,null,null,null,null,null,null,null,null,null,null,null,{"$f":"IF(J344<>\"\",1,0)","v":1},null,null,null,"Over 350kV to 500kV",25]
[null,null,null,null,null,null,null,null,null,null,null,null,null,null,"Select",null,null,null,null,null,null,null,null,null,null,null,null,null,null,null,null,null,null,null,null,{"$f":"MIN(AJ338:AJ344)","v":0},null,null,null,"Over 500kV to 750kV",35]
[null,null,null,null,null,null,null,null,null,null,null,null,null,null,null,null,null,null,null,null,null,null,null,null,null,null,null,null,null,null,null,null,null,null,null,null,null,null,null,"Over 750kV to 1000kV",45]
[null,null,"The MINIMUM clearance to the Power Line shall be NO LESS than:",null,null,null,null,null,null,null,null,null,null,null,null,null,null,null,null,null,null,null,null,null,null,null,null,null,null,null,null,null,null,null,null,null,null,null,null,"Over 1000kV","as established by the utility owner/operator or a PE who is a Qualified Person with respect to electrical power transmission and distribution."]
[null,null,null,null,null,null,null,null,null,{"$f":"IF(J344<>\"\",VLOOKUP(J344,AN340:AO347,2,FALSE),\"\")","v":" "},null,null,null,null,null,null,null,null,null,null,null,null,null,null,null,null,null,null,null,null,null,null,null,{"$f":"VLOOKUP(J344,AN340:AO347,2,FALSE)","v":" "}]
[null,null,null,null,null,null,null,null,null,{"$f":"IF(OR(AJ345=0,J341=\"yes/no\"),\"\",IF(OR(LEFT(C340,4)=\"no f\",LEFT(C343,4)=\"no f\"),\"\",IF(OR(LEFT(J338,2)=\"No\",LEFT(J338,2)=\"Th\"),\"\",IF(AND(J344=\"up to 200kv\",15>V341,V341>=10),AN349,IF(AND(AND(J341=\"yes\",V341<>\"\"),ISNUMBER(J348),V341<J348),AN350,\"\")))))","v":""},null,null,null,null,null,null,null,null,null,null,null,null,null,{"$f":"IF(LEFT(J349,3)=\"spe\",\"Dispensation Granted by Utility:\",\"\")","v":""},null,null,null,null,null,null,null,null,null,{"$f":"IF(AND(AJ345<>0,J344<>\"\"),VLOOKUP(J344,AN340:AO347,2,FALSE),\"\")","v":""},null,null,null,null,null,"Special dispensation from the Utility is required to work within 10' - 15' of a <50kV power line."]
[null,null,null,null,null,null,null,null,null,null,null,null,null,null,null,null,null,null,null,null,null,null,null,null,null,null,null,"No",null,null,null,null,null,null,null,null,null,null,null,"Revise the crane or load pick / set location to meet the minimum distance requirement.  "]
[]
[]
[null,null,"Weather Conditions",null,null,null,null,null,null,"Write weather information on the printed Lift Plan on the day of the lift."]
[]
[]
[]
[{"$f":"IF(AND(SUM(AK366:AK379)=0,LP!AF141=FALSE),\"a\",\"\")","v":""},"Lift Plan Status"]
[]
[null,null,null,null,null,null,null,null,null,null,{"$f":"IF(AND(K364=\"\",AB29=\"yes\"),AJ361,IF(K364=\"\",AJ360,AJ362))","v":"This Lift Plan has missing or incorrect information."}]
[null,null,null,null,null,null,null,null,null,null,null,null,null,null,null,null,null,null,null,null,null,null,null,null,null,null,null,null,null,null,null,null,null,null,"LP Comp","This Lift Plan is filled out completely.  Confirm the information entered and then proceed to the LP tab to print out this Lift Plan."]
[null,null,null,null,null,null,null,null,null,null,null,null,null,null,null,null,null,null,null,null,null,null,null,null,null,null,null,null,null,null,null,null,null,null,"PP Comp","This Planned Personnel Lift Plan is filled out completely.  Confirm the information entered and then proceed to the LP tab to print out this Lift Plan.  \nA Man Basket/Cage Inspection Checklist is also required for this Planned Personnel Lift and can be printed out from the PPL tab."]
[null,null,null,null,null,null,null,null,null,null,{"$f":"IF(K364=\"\",\"\",\"Please return to the following section(s) and fill in or revise all required information:\")","v":"Please return to the following section(s) and fill in or revise all required information:"},null,null,null,null,null,null,null,null,null,null,null,null,null,null,null,null,null,null,null,null,null,null,null,"Missing","This Lift Plan has missing or incorrect information."]
[]
[null,null,null,null,null,null,null,null,null,null,{"$f":"CONCATENATE(AM366,AM367,AM368,AM369,AM370,AM371,AM372,AM373,AM374,AM375,AM376,AM377,AM378,AM379)","v":"Lift Classification, Lift Supervisors, General, Load Details, Load Weight, Rigging to be used, Crane Plan, Signal Plan, Signaling Description, Task Environment, Power Lines"},null,null,null,null,null,null,null,null,null,null,null,null,null,null,null,null,null,null,null,null,null,null,null,"Status: incompletes"]
[null,null,null,null,null,null,null,null,null,null,null,null,null,null,null,null,null,null,null,null,null,null,null,null,null,null,null,null,null,null,null,null,null,null,"Sect",null,"Incomplete"]
[null,null,null,null,null,null,null,null,null,null,null,null,null,null,null,null,null,null,null,null,null,null,null,null,null,null,null,null,null,null,null,null,null,null,"Lift Classification",{"$f":"IF(AH46=0,1,0)","v":1},{"$f":"SUM(AJ366)","v":1},{"$f":"IF(AJ380>1,\", \",\"\")","v":", "},{"$f":"IF(AJ366=1,AI366&AL366,\"\")","v":"Lift Classification, "}," "]
[null,null,null,null,null,null,null,null,null,null,null,null,null,null,null,null,null,null,null,null,null,null,null,null,null,null,null,null,null,null,null,null,null,null,"Lift Supervisors",{"$f":"MAX(AJ57:AJ73)","v":1},{"$f":"SUM(AJ$366:AJ367)","v":2},{"$f":"IF(OR(AK367=AJ$380,AJ367=0),\"\",\", \")","v":", "},"Lift Supervisors, "," "]
[null,null,null,null,null,null,null,null,null,null,null,null,null,null,null,null,null,null,null,null,null,null,null,null,null,null,null,null,null,null,null,null,null,null,"General",{"$f":"MAX(AJ81:AJ91)","v":1},{"$f":"SUM(AJ$366:AJ368)","v":3},", ","General, "," "]
["End of Tab 5 / Lift Information",null,null,null,null,null,null,null,null,null,null,null,null,null,null,null,null,null,null,null,null,null,null,null,null,null,null,null,null,null,null,null,null,null,"Load Details",{"$f":"MAX(AJ100:AJ110)","v":1},{"$f":"SUM(AJ$366:AJ369)","v":4},", ","Load Details, "," "]
[null,null,null,null,null,null,null,null,null,null,null,null,null,null," ",null,null,null,null,null,null,null,null,null,null,null,null,null,null,null,null,null,null,null,"Load Weight",{"$f":"MAX(AJ117:AJ138)","v":1},{"$f":"SUM(AJ$366:AJ370)","v":5},", ","Load Weight, "," "]
[null,null,null,null,null,null,null,null,null,null,null,null,null,null," ",null,null,null,null,null,null,null,null,null,null,null,null,null,null,null,null,null,null,null,{"$f":"\"Rigging to be used\"&IF(O$204=\"\",IF(AB$27=\"Yes\",\": Crane 1\",\"\"),\": \"&O$204)","v":"Rigging to be used"},{"$f":"MAX(AJ148:AJ166)","v":1},{"$f":"SUM(AJ$366:AJ371)","v":6},", ","Rigging to be used, "," "]
[null,null,null,null,null,null,null,null,null,null,null,null,null,null," ",null,null,null,null,null,null,null,null,null,null,null,null,null,null,null,null,null,null,null,{"$f":"\"Rigging to be used: \"&IF(O$251=\"\",\"Crane 2\",O$251)","v":"Rigging to be used: Crane 2"},{"$f":"IF(AND(MAX(AJ176:AJ194)=1,AB$27=\"yes\"),1,0)","v":0},{"$f":"SUM(AJ$366:AJ372)","v":6},"",{"$f":"IF(AND(AJ372=1,AB$27=\"yes\"),AI372&AL372,\"\")","v":""}," "]
[null,null,null,null,null,null,null,null,null,null,null,null,null,null," ",null,null,null,null,null,null,null,null,null,null,null,null,null,null,null,null,null,null,null,{"$f":"\"Crane Plan\"&IF(O$204=\"\",IF(AB$27=\"Yes\",\": Crane 1\",\"\"),\": \"&O$204)","v":"Crane Plan"},{"$f":"MAX(AJ204:AJ241)","v":1},{"$f":"SUM(AJ$366:AJ373)","v":7},", ",{"$f":"IF(AJ373=1,AI373&AL373,\"\")","v":"Crane Plan, "}," "]
[null,null,null,null,null,null,null,null,null,null,null,null,null,null," ",null,null,null,null,null,null,null,null,null,null,null,null,null,null,null,null,null,null,null,{"$f":"\"Crane Plan: \"&IF(O$251=\"\",\"Crane 2\",O$251)","v":"Crane Plan: Crane 2"},{"$f":"IF(AND(MAX(AJ251:AJ288)=1,AB$27=\"yes\"),1,0)","v":0},{"$f":"SUM(AJ$366:AJ374)","v":7},"",{"$f":"IF(AND(AJ374=1,AB$27=\"yes\"),AI374&AL374,\"\")","v":""}," "]
[null,null,null,null,null,null,null,null,null,null,null,null,null,null," ",null,null,null,null,null,null,null,null,null,null,null,null,null,null,null,null,null,null,null,{"$f":"\"Signal Plan\"&IF(O$204=\"\",IF(AB$27=\"Yes\",\": Crane 1\",\"\"),\": \"&O$204)","v":"Signal Plan"},{"$f":"MAX(AJ295:AJ299)","v":1},{"$f":"SUM(AJ$366:AJ375)","v":8},", ",{"$f":"IF(AJ375=1,AI375&AL375,\"\")","v":"Signal Plan, "}," "]
[null,null,null,null,null,null,null,null,null,null,null,null,null,null," ",null,null,null,null,null,null,null,null,null,null,null,null,null,null,null,null,null,null,null,{"$f":"\"Signal Plan: \"&IF(O$251=\"\",\"Crane 2\",O$251)","v":"Signal Plan: Crane 2"},{"$f":"IF(AND(MAX(AJ306:AJ310)=1,AB$27=\"yes\"),1,0)","v":0},{"$f":"SUM(AJ$366:AJ376)","v":8},"",{"$f":"IF(AND(AJ376=1,AB$27=\"yes\"),AI376&AL376,\"\")","v":""}," "]
[null,null,null,null,null,null,null,null,null,null,null,null,null,null," ",null,null,null,null,null,null,null,null,null,null,null,null,null,null,null,null,null,null,null,"Signaling Description",{"$f":"AJ314","v":1},{"$f":"SUM(AJ$366:AJ377)","v":9},", ",{"$f":"IF(AJ377=1,AI377&AL377,\"\")","v":"Signaling Description, "}," "]
[null,null,null,null,null,null,null,null,null,null,null,null,null,null," ",null,null,null,null,null,null,null,null,null,null,null,null,null,null,null,null,null,null,null,"Task Environment",{"$f":"MAX(AJ327:AJ333)","v":1},{"$f":"SUM(AJ$366:AJ378)","v":10},", ",{"$f":"IF(AJ378=1,AI378&AL378,\"\")","v":"Task Environment, "}," "]
[null,null,null,null,null,null,null,null,null,null,null,null,null,null," ",null,null,null,null,null,null,null,null,null,null,null,null,null,null,null,null,null,null,null,"Power Lines",{"$f":"IF(LP!BF103=TRUE,1,0)","v":1},{"$f":"SUM(AJ$366:AJ379)","v":11},"",{"$f":"IF(AJ379=1,AI379&AL379,\"\")","v":"Power Lines"}," "]
[null,null,null,null,null,null,null,null,null,null,null,null,null,null," ",null,null,null,null,null,null,null,null,null,null,null,null,null,null,null,null,null,null,null,null,{"$f":"SUM(AJ366:AJ379)","v":11}]
[null,null,null,null,null,null,null,null,null,null,null,null,null,null," "]
[null,null,null,null,null,null,null,null,null,null,null,null,null,null," "]
[null,null,null,null,null,null,null,null,null,null,null,null,null,null," "]

{"sheet":"LP","index":10,"n_rows":110,"n_cols":414,"rows_kept":110,"cut":false,"hidden":false,"merged":[[0,0,2,13],[0,63,2,77],[0,14,2,22],[31,264,31,281],[31,282,31,285],[15,290,15,307],[3,268,5,277],[3,279,5,285],[3,294,5,303],[3,305,5,311],[10,260,10,272],[10,281,10,285],[10,286,10,298],[10,307,10,311],[17,186,17,203],[17,204,17,207],[14,169,14,171],[14,172,14,181],[14,182,14,185],[11,187,11,197],[15,0,15,8],[3,8,5,18],[10,67,10,71],[0,24,2,39],[0,41,2,61],[15,80,33,101],[10,169,10,175],[10,195,10,201],[14,260,14,266],[10,273,10,279],[10,299,10,305],[11,265,11,275],[11,291,11,301],[16,264,16,281],[16,282,16,285],[14,267,14,273],[14,286,14,289],[15,260,15,263],[14,156,14,159],[14,160,14,168],[18,299,18,311],[20,297,20,311],[22,298,22,311],[10,73,10,77],[11,260,11,261],[11,262,11,264],[11,276,11,285],[28,269,28,276],[27,295,27,302],[48,272,48,285],[50,279,50,285],[32,298,32,311],[34,294,34,311],[36,296,36,311],[39,300,39,311],[41,298,41,311],[43,301,43,311],[45,294,45,311],[46,283,46,285],[47,296,47,311],[11,286,11,287],[11,288,11,290],[11,302,11,311],[12,260,12,285],[12,286,12,311],[15,308,15,311],[55,260,55,277],[55,278,55,285],[55,286,55,303],[55,304,55,311],[17,273,17,285],[19,283,19,285],[21,283,21,285],[23,284,23,285],[25,283,25,285],[27,283,27,285],[29,270,29,285],[32,273,32,285],[34,273,34,285],[36,278,36,285],[38,284,38,285],[40,274,40,285],[42,278,42,285],[44,273,44,285],[52,270,52,285],[53,260,53,285],[53,286,53,311],[38,290,38,307],[45,167,45,181],[61,156,61,167],[47,164,47,181],[49,164,49,181],[51,165,51,181],[53,164,53,181],[38,308,38,311],[41,165,41,181],[18,188,18,207],[20,193,20,207],[22,190,22,207],[24,189,24,207],[26,191,26,207],[28,190,28,207],[30,191,30,207],[32,191,32,207],[35,190,35,207],[37,191,37,207],[39,193,39,207],[41,189,41,207],[43,188,43,207],[45,188,45,207],[47,191,47,207],[49,190,49,207],[51,190,51,207],[30,168,30,181],[17,178,17,181],[17,160,17,177],[18,166,18,181],[20,167,20,181],[21,163,21,181],[40,160,40,177],[40,178,40,181],[35,167,35,181],[37,165,37,181],[39,166,39,181],[32,167,32,181],[103,0,103,25],[104,0,104,17],[104,18,104,25],[14,0,14,8],[16,0,16,5],[21,0,21,25],[3,164,5,173],[3,175,5,181],[10,156,10,168],[10,177,10,181],[11,156,11,157],[11,158,11,160],[11,172,11,181],[15,156,15,159],[15,169,15,171],[15,172,15,181],[16,156,16,164],[16,165,16,181],[54,156,54,181],[55,156,55,173],[55,174,55,181],[56,8,58,17],[56,19,58,25],[62,156,63,167],[49,342,49,363],[50,342,50,363],[51,342,51,363],[52,342,52,363],[53,342,53,363],[15,182,15,190],[15,191,15,207],[53,182,53,207],[53,130,53,155],[34,186,34,203],[34,204,34,207],[22,163,22,181],[23,163,23,181],[24,163,24,181],[25,163,25,181],[27,163,27,181],[29,168,29,181],[34,166,34,181],[27,191,27,198],[16,299,16,311],[24,297,24,311],[26,298,26,311],[28,298,28,311],[30,296,30,311],[40,342,40,363],[41,342,41,363],[42,342,42,363],[43,342,43,363],[44,342,44,363],[45,342,45,363],[46,342,46,363],[47,342,47,363],[48,342,48,363],[52,8,52,25],[51,36,51,38],[51,40,51,42],[41,36,41,39],[42,5,42,7],[27,29,27,31],[14,55,14,57],[19,62,19,65],[15,104,15,107],[14,62,14,65],[44,8,44,25],[45,8,45,25],[14,9,14,16],[15,9,15,16],[31,0,31,8],[35,11,35,15],[36,11,36,15],[37,11,37,15],[38,11,38,15],[39,11,39,15],[30,19,30,23],[31,19,31,23],[34,19,34,23],[35,19,35,23],[52,26,53,34],[53,36,53,38],[53,40,53,42],[53,45,53,46],[30,11,30,15],[22,0,22,5],[23,0,23,5],[24,0,24,5],[25,0,25,5],[26,0,26,5],[27,0,27,5],[30,0,30,8],[32,0,32,8],[33,0,33,8],[34,0,34,8],[35,0,35,8],[36,0,36,8],[37,0,37,8],[38,0,38,8],[31,11,31,15],[34,11,34,15],[50,0,50,6],[51,0,51,6],[46,8,46,25],[46,37,46,51],[47,26,47,35],[47,36,47,51],[48,36,48,51],[49,26,49,33],[43,8,43,25],[29,11,29,16],[29,19,29,24],[51,45,51,46],[47,8,47,25],[48,8,48,25],[49,8,49,25],[50,8,50,25],[51,8,51,25],[36,19,36,23],[37,19,37,23],[38,19,38,23],[32,37,32,51],[35,26,35,33],[37,36,37,38],[37,40,37,42],[37,45,37,46],[39,36,39,38],[29,36,29,51],[33,342,33,363],[13,316,13,337],[32,316,32,337],[30,316,30,337],[29,316,29,337],[34,316,34,337],[31,316,31,337],[38,316,38,337],[13,347,13,354],[21,342,21,363],[22,342,22,363],[23,342,23,363],[24,342,24,363],[25,342,25,363],[26,342,26,363],[27,342,27,363],[28,342,28,363],[29,342,29,363],[30,342,30,363],[31,342,31,363],[35,316,35,337],[33,316,33,337],[34,342,34,363],[20,316,20,337],[11,52,11,53],[11,54,11,56],[11,63,11,67],[11,68,11,77],[11,16,11,25],[11,11,11,15],[4,19,4,25],[3,71,5,77],[55,52,55,69],[55,70,55,77],[40,57,40,77],[42,64,42,72],[42,73,42,77],[42,57,42,63],[44,57,44,77],[46,57,46,77],[55,26,55,43],[55,44,55,51],[49,36,49,51],[39,19,39,23],[14,18,14,25],[27,36,27,39],[33,26,33,35],[38,26,39,34],[14,316,14,337],[27,316,27,337],[19,316,19,337],[93,342,93,363],[94,342,94,363],[35,342,35,363],[36,342,36,363],[37,342,37,363],[38,342,38,363],[39,342,39,363],[55,330,55,337],[55,312,55,329],[54,338,54,363],[55,338,55,355],[55,356,55,363],[40,316,40,337],[46,316,46,337],[45,316,45,337],[44,316,44,337],[94,316,94,337],[93,316,93,337],[36,316,36,337],[32,342,32,363],[39,316,39,337],[43,316,43,337],[37,316,37,337],[41,316,41,337],[42,316,42,337],[57,57,57,77],[58,57,58,77],[93,57,93,77],[48,57,48,77],[50,57,50,77],[47,316,47,337],[50,316,50,337],[49,316,49,337],[48,316,48,337],[61,104,61,115],[54,104,54,129],[55,104,55,121],[55,122,55,129],[51,316,51,337],[52,316,52,337],[53,316,53,337],[55,200,55,207],[55,78,55,95],[55,182,55,199],[43,165,43,181],[3,410,4,413],[3,402,4,405],[3,406,4,409],[5,398,5,401],[5,402,5,405],[5,406,5,409],[11,354,11,363],[12,338,12,363],[3,346,5,355],[3,357,5,363],[10,351,10,357],[11,343,11,353],[10,338,10,350],[10,359,10,363],[11,338,11,339],[11,340,11,342],[5,366,5,369],[8,342,8,363],[102,57,102,59],[101,63,101,65],[101,66,101,68],[101,57,101,59],[101,60,101,61],[102,60,102,63],[102,64,102,66],[96,312,96,337],[96,104,96,129],[101,69,101,70],[96,78,96,103],[96,156,96,181],[96,338,96,363],[12,312,12,337],[28,316,28,337],[15,316,15,337],[25,316,25,337],[17,316,17,337],[23,316,23,337],[22,316,22,337],[9,316,9,337],[10,312,10,324],[10,327,10,331],[10,333,10,337],[11,312,11,313],[11,314,11,316],[11,323,11,327],[11,328,11,337],[9,342,9,363],[14,342,14,363],[15,342,15,363],[16,342,16,363],[17,342,17,363],[18,342,18,363],[19,342,19,363],[20,342,20,363],[3,331,5,337],[26,316,26,337],[24,316,24,337],[21,316,21,337],[18,316,18,337],[16,316,16,337],[8,316,8,337],[3,398,4,401],[5,378,5,381],[3,370,4,373],[3,382,4,385],[3,394,4,397],[5,390,5,393],[5,394,5,397],[3,378,4,381],[3,374,4,377],[3,386,4,389],[5,374,5,377],[5,382,5,385],[5,386,5,389],[5,370,5,373],[3,390,4,393],[3,366,4,369],[3,320,5,329],[3,60,5,69],[17,34,17,51],[26,6,26,25],[24,58,27,77],[15,52,15,59],[16,52,17,59],[18,52,18,59],[20,52,20,59],[21,52,22,59],[23,52,23,59],[15,61,15,77],[17,61,17,77],[18,61,18,77],[20,61,20,77],[10,26,10,38],[10,41,10,45],[10,47,10,51],[11,26,11,27],[11,28,11,30],[11,37,11,41],[11,42,11,51],[12,26,12,51],[10,52,10,64],[12,52,12,77],[30,36,30,51],[33,36,33,51],[3,45,5,51],[10,0,10,12],[11,0,11,1],[10,21,10,25],[10,15,10,19],[12,0,12,25],[22,6,22,25],[23,26,23,32],[16,6,20,25],[27,6,27,25],[32,19,32,23],[33,19,33,23],[23,6,23,25],[24,6,24,25],[25,6,25,25],[32,11,32,15],[33,11,33,15],[11,2,11,4],[18,34,18,51],[3,34,5,43],[22,61,22,77],[23,61,23,77],[52,57,52,77],[11,130,11,131],[11,132,11,134],[11,141,11,145],[11,146,11,155],[12,130,12,155],[11,120,11,129],[14,108,14,116],[14,120,14,129],[15,120,15,129],[30,58,30,77],[31,58,32,77],[33,58,33,77],[34,58,34,77],[35,58,35,77],[38,58,38,77],[15,117,15,119],[14,117,14,119],[11,104,11,105],[11,106,11,108],[11,115,11,119],[14,104,14,107],[12,78,12,103],[53,234,53,259],[55,234,55,251],[55,252,55,259],[12,208,12,233],[64,104,64,108],[14,215,14,221],[53,208,53,233],[55,208,55,225],[55,226,55,233],[16,104,16,112],[15,130,15,138],[55,130,55,147],[55,148,55,155],[16,113,16,129],[14,130,14,133],[15,139,15,155],[62,104,63,115],[55,96,55,103],[28,165,28,172],[15,208,15,211],[14,234,14,237],[12,156,12,181],[64,156,64,160],[3,138,5,147],[3,149,5,155],[3,123,5,129],[10,130,10,142],[10,145,10,149],[10,151,10,155],[12,234,12,259],[12,104,12,129],[10,104,10,116],[10,119,10,123],[10,125,10,129],[11,184,11,186],[11,198,11,207],[12,182,12,207],[3,253,5,259],[10,234,10,246],[10,249,10,253],[10,255,10,259],[11,234,11,235],[11,236,11,238],[11,245,11,249],[11,250,11,259],[3,190,5,199],[11,161,11,171],[44,36,44,51],[3,201,5,207],[10,182,10,194],[10,203,10,207],[11,182,11,183],[3,216,5,225],[3,227,5,233],[10,208,10,220],[10,223,10,227],[10,229,10,233],[11,208,11,209],[11,210,11,212],[11,219,11,223],[11,224,11,233],[3,86,5,95],[10,78,10,90],[10,93,10,97],[10,99,10,103],[11,78,11,79],[11,80,11,82],[11,89,11,93],[11,94,11,103],[3,97,5,103],[3,112,5,121],[45,36,45,51],[3,242,5,251],[55,18,55,25],[55,0,55,17],[15,34,15,37],[16,34,16,51],[19,34,19,51],[20,34,20,51],[21,34,21,51],[22,34,22,51],[23,34,23,51],[24,34,24,51],[25,34,25,51],[24,26,24,32],[25,26,25,32],[28,36,28,51],[31,36,31,51],[34,36,34,51],[35,36,35,51],[52,0,52,6],[39,40,39,42],[39,45,39,46],[42,36,42,51],[43,36,43,51]]}
[{"$f":"IF(Number_LP_Incompletes=0,\"Paste Rigging Illustration on p. 4.\",\"Incomplete; Return to Tab 5\")","v":"Incomplete; Return to Tab 5"},null,null,null,null,null,null,null,null,null,null,null,null,null,{"$f":"IF(Number_LP_Incompletes=0,\"Print all pages.\",\" \")","v":" "},null,null,null,null,null,null,null,null,null,{"$f":"IF(More_than_one=\"No\",\"There is only 1 crane, so Crane 2's inspection checklists on pp. 7-8 & 11-12 are skipped.\",\" \")","v":" "},null,null,null,null,null,null,null,null,null,null,null,null,null,null,null,null,{"$f":"IF(LP_Questions_Complete=0,\"Lift Classification TBD\",CONCATENATE(\"The quantity and level of Approvals required on pp. 13-14 depend on the Lift Classification.  \",IF(No_LP_Approval_Pgs=1,\"For this plan, p. 14 is skipped.\",\"For this plan, both pages are required.\")))","v":"Lift Classification TBD"},null,null,null,null,null,null,null,null,null,null,null,null,null,null,null,null,null,null,null,null,null,{"$f":"IF(LP_Questions_Complete=0,\"Lift Classification TBD\",IF(LP_Pick_Level=4,\"This Lift Classification also requires the Planned Personnel Lift Inspection checklist on the PPL Tab.\",\"This Lift Classification does not require the PPL Inspection Checklist on the PPL Tab.\"))","v":"Lift Classification TBD"}]
[]
[]
[null,null,null,null,null,null,null,null,{"$f":"IF(Number_LP_Incompletes=0,Lift_Plan_Classification_Name,\"Incomplete; Return to Tab 5\")","v":"Incomplete; Return to Tab 5"},null,null,null,null,null,null,null,null,null,null,null,null,null,null,null,null,null,null,null,null,null,null,null,null,null,{"$f":"Lift_Plan_Classification_Name","v":" Lift Plan"},null,null,null,null,null,null,null,null,null,null,"Crane Details",null,null,null,null,null,null,null,null,null,null,null,null,null,null,{"$f":"Lift_Plan_Classification_Name","v":" Lift Plan"},null,null,null,null,null,null,null,null,null,null,"Signal Plan & Task Environment",null,null,null,null,null,null,null,null,null,null,null,null,null,null,{"$f":"Lift_Plan_Classification_Name","v":" Lift Plan"},null,null,null,null,null,null,null,null,null,null,"Rigging Plans",null,null,null,null,null,null,null,null,null,null,null,null,null,null,{"$f":"Lift_Plan_Classification_Name","v":" Lift Plan"},null,null,null,null,null,null,null,null,null,null,"Crane Inspection Checklist",null,null,null,null,null,null,null,null,null,null,null,null,null,null,{"$f":"Lift_Plan_Classification_Name","v":" Lift Plan"},null,null,null,null,null,null,null,null,null,null,"Crane Inspection Checklist",null,null,null,null,null,null,null,null,null,null,null,null,null,null,{"$f":"IF(More_than_one=\"No\",\"MAKE BLANK\",Lift_Plan_Classification_Name)","v":" Lift Plan"},null,null,null,null,null,null,null,null,null,null,{"$f":"IF(More_than_one=\"No\",\"MAKE BLANK\",\"Crane Inspection Checklist\")","v":"Crane Inspection Checklist"},null,null,null,null,null,null,null,null,null,null,null,null,null,null,{"$f":"IF(More_than_one=\"No\",\"MAKE BLANK\",Lift_Plan_Classification_Name)","v":" Lift Plan"},null,null,null,null,null,null,null,null,null,null,{"$f":"IF(More_than_one=\"No\",\"MAKE BLANK\",\"Crane Inspection Checklist\")","v":"Crane Inspection Checklist"},null,null,null,null,null,null,null,null,null,null,null,null,null,null,{"$f":"Lift_Plan_Classification_Name","v":" Lift Plan"},null,null,null,null,null,null,null,null,null,null,"Rigging Inspection Checklist",null,null,null,null,null,null,null,null,null,null,null,null,null,null,{"$f":"Lift_Plan_Classification_Name","v":" Lift Plan"},null,null,null,null,null,null,null,null,null,null,"Rigging Inspection Checklist",null,null,null,null,null,null,null,null,null,null,null,null,null,null,{"$f":"IF(More_than_one=\"No\",\"MAKE BLANK\",Lift_Plan_Classification_Name)","v":" Lift Plan"},null,null,null,null,null,null,null,null,null,null,{"$f":"IF(More_than_one=\"No\",\"MAKE BLANK\",\"Rigging Inspection Checklist\")","v":"Rigging Inspection Checklist"},null,null,null,null,null,null,null,null,null,null,null,null,null,null,{"$f":"IF(More_than_one=\"No\",\"MAKE BLANK\",Lift_Plan_Classification_Name)","v":" Lift Plan"},null,null,null,null,null,null,null,null,null,null,{"$f":"IF(More_than_one=\"No\",\"MAKE BLANK\",\"Rigging Inspection Checklist\")","v":"Rigging Inspection Checklist"},null,null,null,null,null,null,null,null,null,null,null,null,null,null,{"$f":"Lift_Plan_Classification_Name","v":" Lift Plan"},null,null,null,null,null,null,null,null,null,null,"Approvals / Signoff",null,null,null,null,null,null,null,null,null,null,null,null,null,null,{"$f":"IF(No_LP_Approval_Pgs=1,\"MAKE BLANK\",Lift_Plan_Classification_Name)","v":" Lift Plan"},null,null,null,null,null,null,null,null,null,null,{"$f":"IF(No_LP_Approval_Pgs=1,\"MAKE BLANK\",\"Approvals / Signoff\")","v":"Approvals / Signoff"},null,null,null,null,null,null,"Pick Level",{"$f":"LP_Pick_Level","v":0},"Standard Lift Plan",null,null,null,"Standard Lift Plan with Pick and Carry",null,null,null,"Standard Lift Plan, A/D",null,null,null,"Major Lift Plan",null,null,null,"Major Lift Plan with Pick and Carry",null,null,null,"Major Lift Plan, A/D",null,null,null,"Critical Lift Plan",null,null,null,"Critical Lift Plan with Pick and Carry",null,null,null,"Critical Lift Plan, A/D",null,null,null,"Planned Personnel Lift Plan",null,null,null,"Planned Personnel Lift Plan with PnC",null,null,null,"Planned Personnel Lift Plan"]
[null,null,null,null,null,null,null,null,null,null,null,null,null,null,null,null,null,null,null,"Load and Rigging Details",null,null,null,null,null,null,null,null,null,null,null,null,null,null,null,null,null,null,null,null,null,null,null,null,null,null,null,null,null,null,null,null,null,null,null,null,null,null,null,null,null,null,null,null,null,null,null,null,null,null,null,null,null,null,null,null,null,null,null,null,null,null,null,null,null,null,null,null,null,null,null,null,null,null,null,null,null,null,null,null,null,null,null,null,null,null,null,null,null,null,null,null,null,null,null,null,null,null,null,null,null,null,null,null,null,null,null,null,null,null,null,null,null,null,null,null,null,null,null,null,null,null,null,null,null,null,null,null,null,null,null,null,null,null,null,null,null,null,null,null,null,null,null,null,null,null,null,null,null,null,null,null,null,null,null,null,null,null,null,null,null,null,null,null,null,null,null,null,null,null,null,null,null,null,null,null,null,null,null,null,null,null,null,null,null,null,null,null,null,null,null,null,null,null,null,null,null,null,null,null,null,null,null,null,null,null,null,null,null,null,null,null,null,null,null,null,null,null,null,null,null,null,null,null,null,null,null,null,null,null,null,null,null,null,null,null,null,null,null,null,null,null,null,null,null,null,null,null,null,null,null,null,null,null,null,null,null,null,null,null,null,null,null,null,null,null,null,null,null,null,null,null,null,null,null,null,null,null,null,null,null,null,null,null,null,null,null,null,null,null,null,null,null,null,null,null,null,null,null,null,null,null,null,null,null,null,null,null,null,null,null,null,null,null,null,null,null,null,null,null,null,null,null,null,null,null,null,null,null,null,null,null,null,null,null,null,null,null,null,null,null,null,null,null,"Pick and Carry",{"$f":"'5'!AB33","v":"Yes / No"}]
[null,null,null,null,null,null,null,null,null,null,null,null,null,null,null,null,null,null,null,null,null,null,null,null,null,null,null,null,null,null,null,null,null,null,null,null,null,null,null,null,null,null,null,null,null,null,null,null,null,null,null,null,null,null,null,null,null,null,null,null,null,null,null,null,null,null,null,null,null,null,null,null,null,null,null,null,null,null,null,null,null,null,null,null,null,null,null,null,null,null,null,null,null,null,null,null,null,null,null,null,null,null,null,null,null,null,null,null,null,null,null,null,null,null,null,null,null,null,null,null,null,null,null,null,null,null,null,null,null,null,null,null,null,null,null,null,null,null,null,null,null,null,null,null,null,null,null,null,null,null,null,null,null,null,null,null,null,null,null,null,null,null,null,null,null,null,null,null,null,null,null,null,null,null,null,null,null,null,null,null,null,null,null,null,null,null,null,null,null,null,null,null,null,null,null,null,null,null,null,null,null,null,null,null,null,null,null,null,null,null,null,null,null,null,null,null,null,null,null,null,null,null,null,null,null,null,null,null,null,null,null,null,null,null,null,null,null,null,null,null,null,null,null,null,null,null,null,null,null,null,null,null,null,null,null,null,null,null,null,null,null,null,null,null,null,null,null,null,null,null,null,null,null,null,null,null,null,null,null,null,null,null,null,null,null,null,null,null,null,null,null,null,null,null,null,null,null,null,null,null,null,null,null,null,null,null,null,null,null,null,null,null,null,null,null,null,null,null,null,null,null,null,null,null,null,null,null,null,null,null,null,null,null,null,null,null,null,null,null,null,null,null,null,null,null,null,null,null,null,null,null,null,null,null,null,null,null,null,null,null,null,null,null,null,"A/D",{"$f":"IF('5'!AB29=\"yes\",\"\",'5'!AB31)","v":"Yes / No"},null,null,null,null,null,null,null,null,null,null,null,null,null,null,null,null,null,null,null,null,null,null,null,null,null,null,null,null,null,null,null,null,null,null,null,null,null,null,null,null,null,null,null,null,null,null,null,"(returns this list to LP when both A/D and PP Lift is selected."]
[null,null,null,null,null,null,null,null,null,null,null,null,null,null,null,null,null,null,null,null,null,null,null,null,null,null,null,null,null,null,null,null,null,null,null,null,null,null,null,null,null,null,null,null,null,null,null,null,null,null,null,null,null,null,null,null,null,null,null,null,null,null,null,null,null,null,null,null,null,null,null,null,null,null,null,null,null,null,null,null,null,null,null,null,null,null,null,null,null,null,null,null,null,null,null,null,null,null,null,null,null,null,null,null,null,null,null,null,null,null,null,null,null,null,null,null,null,null,null,null,null,null,null,null,null,null,null,null,null,null,null,null,null,null,null,null,null,null,null,null,null,null,null,null,null,null,null,null,null,null,null,null,null,null,null,null,null,null,null,null,null,null,null,null,null,null,null,null,null,null,null,null,null,null,null,null,null,null,null,null,null,null,null,null,null,null,null,null,null,null,null,null,null,null,null,null,null,null,null,null,null,null,null,null,null,null,null,null,null,null,null,null,null,null,null,null,null,null,null,null,null,null,null,null,null,null,null,null,null,null,null,null,null,null,null,null,null,null,null,null,null,null,null,null,null,null,null,null,null,null,null,null,null,null,null,null,null,null,null,null,null,null,null,null,null,null,null,null,null,null,null,null,null,null,null,null,null,null,null,null,null,null,null,null,null,null,null,null,null,null,null,null,null,null,null,null,null,null,null,null,null,null,null,null,null,null,null,null,null,null,null,null,null,null,null,null,null,null,null,null,null,null,null,null,null,null,null,null,null,null,null,null,null,null,null,null,null,null,null,null,null,null,null,null,null,null,null,null,null,null,null,null,null,null,null,null,null,null,null,null,null,null,null,null,"Revised Number",{"$f":"(NB4-1)*3+IF(NB6=\"yes\",2,IF(NB5=\"Yes\",1,0))","v":-3},null,null,null,null,null,null,null,null,null,null,null,null,null,null,null,null,null,null,null,null,null,null,null,null,null,null,null,null,null,null,null,null,null,null,null,null,null,null,null,null,null,null,null,null,null,null,null," It is required to be here for there to be no error when classifying a PP lift)  "]
[]
[]
[null,null,null,null,null,null,null,null,null,null,null,null,null,null,null,null,null,null,null,null,null,null,null,null,null,null,null,null,null,null,null,null,null,null,null,null,null,null,null,null,null,null,null,null,null,null,null,null,null,null,null,null,null,null,null,null,null,null,null,null,null,null,null,null,null,null,null,null,null,null,null,null,null,null,null,null,null,null,null,null,null,null,null,null,null,null,null,null,null,null,null,null,null,null,null,null,null,null,null,null,null,null,null,null,null,null,null,null,null,null,null,null,null,null,null,null,null,null,null,null,null,null,null,null,null,null,null,null,null,null,null,null,null,null,null,null,null,null,null,null,null,null,null,null,null,null,null,null,null,null,null,null,null,null,null,null,null,null,null,null,null,null,null,null,null,null,null,null,null,null,null,null,null,null,null,null,null,null,null,null,null,null,null,null,null,null,null,null,null,null,null,null,null,null,null,null,null,null,null,null,null,null,null,null,null,null,null,null,null,null,null,null,null,null,null,null,null,null,null,null,null,null,null,null,null,null,null,null,null,null,null,null,null,null,null,null,null,null,null,null,null,null,null,null,null,null,null,null,null,null,null,null,null,null,null,null,null,null,null,null,null,null,null,null,null,null,null,null,null,null,null,null,null,null,null,null,null,null,null,null,null,null,null,null,null,null,null,null,null,null,null,null,null,null,null,null,null,null,null,null,null,null,null,null,null,null,null,null,null,null,null,null,{"$f":"NB7*4+1","v":-11},{"$f":"LA10+1","v":-10},{"$f":"LB10+1","v":-9},0,{"$f":"LC10+1","v":-8},null,null,null,null,null,null,null,null,null,null,null,null,null,null,null,null,null,null,null,null,null,{"$f":"NB7*4+1","v":-11},{"$f":"MA10+1","v":-10},{"$f":"MB10+1","v":-9},0,{"$f":"MC10+1","v":-8},null,null,null,null,null,null,null,null,null,null,null,null,null,null,null,null,null,null,null,null,null,null,null,{"$f":"NB10+1","v":1},{"$f":"NC10+1","v":2},3,4,5,6,7,8,{"$f":"NJ10+1","v":9},{"$f":"NK10+1","v":10},{"$f":"NL10+1","v":11},{"$f":"NM10+1","v":12},{"$f":"NN10+1","v":13},14,15,16,17,18,19,20,{"$f":"NV10+1","v":21},{"$f":"NW10+1","v":22},23,24,25,26,27,28,29,30,31,32,{"$f":"OH10+1","v":33},34,35,36,37,38,39,40,{"$f":"OP10+1","v":41},42,43,44,45,46,47,48]
[{"$f":"IF(Title_of_Lift=0,\"\",Title_of_Lift)","v":""},null,null,null,null,null,null,null,null,null,null,null,null,null,null,"Project Number:",null,null,null,null,{"$f":"IF(Business_Unit_Initial=0,\"\",Business_Unit_Initial)","v":"C"},{"$f":"IF(Project_Number=0,\"\",Project_Number)","v":"1213126-"},null,null,null,null,{"$f":"IF(Title_of_Lift=0,\"\",Title_of_Lift)","v":""},null,null,null,null,null,null,null,null,null,null,null,null,null,null,"Project Number:",null,null,null,null,{"$f":"IF(Business_Unit_Initial=0,\"\",Business_Unit_Initial)","v":"C"},{"$f":"IF(Project_Number=0,\"\",Project_Number)","v":"1213126-"},null,null,null,null,{"$f":"IF(Title_of_Lift=0,\"\",Title_of_Lift)","v":""},null,null,null,null,null,null,null,null,null,null,null,null,null,null,"Project Number:",null,null,null,null,{"$f":"IF(Business_Unit_Initial=0,\"\",Business_Unit_Initial)","v":"C"},{"$f":"IF(Project_Number=0,\"\",Project_Number)","v":"1213126-"},null,null,null,null,{"$f":"IF(Title_of_Lift=0,\"\",Title_of_Lift)","v":""},null,null,null,null,null,null,null,null,null,null,null,null,null,null,"Project Number:",null,null,null,null,{"$f":"IF(Business_Unit_Initial=0,\"\",Business_Unit_Initial)","v":"C"},{"$f":"IF(Project_Number=0,\"\",Project_Number)","v":"1213126-"},null,null,null,null,{"$f":"IF(Title_of_Lift=0,\"\",Title_of_Lift)","v":""},null,null,null,null,null,null,null,null,null,null,null,null,null,null,"Project Number:",null,null,null,null,{"$f":"IF(Business_Unit_Initial=0,\"\",Business_Unit_Initial)","v":"C"},{"$f":"IF(Project_Number=0,\"\",Project_Number)","v":"1213126-"},null,null,null,null,{"$f":"IF(Title_of_Lift=0,\"\",Title_of_Lift)","v":""},null,null,null,null,null,null,null,null,null,null,null,null,null,null,"Project Number:",null,null,null,null,{"$f":"IF(Business_Unit_Initial=0,\"\",Business_Unit_Initial)","v":"C"},{"$f":"IF(Project_Number=0,\"\",Project_Number)","v":"1213126-"},null,null,null,null,{"$f":"IF(More_than_one=\"No\",\"MAKE BLANK\",IF(Title_of_Lift=0,\"\",Title_of_Lift))","v":""},null,null,null,null,null,null,null,null,null,null,null,null,{"$f":"IF(More_than_one=\"No\",\"MAKE BLANK\",\"Project Number:\")","v":"Project Number:"},null,null,null,null,null,null,{"$f":"IF(More_than_one=\"No\",\"MAKE BLANK\",IF(Business_Unit_Initial=0,\"\",Business_Unit_Initial))","v":"C"},{"$f":"IF(More_than_one=\"No\",\"MAKE BLANK\",IF(Project_Number=0,\"\",Project_Number))","v":"1213126-"},null,null,null,null,{"$f":"IF(More_than_one=\"No\",\"MAKE BLANK\",IF(Title_of_Lift=0,\"\",Title_of_Lift))","v":""},null,null,null,null,null,null,null,null,null,null,null,null,{"$f":"IF(More_than_one=\"No\",\"MAKE BLANK\",\"Project Number:\")","v":"Project Number:"},null,null,null,null,null,null,{"$f":"IF(More_than_one=\"No\",\"MAKE BLANK\",IF(Business_Unit_Initial=0,\"\",Business_Unit_Initial))","v":"C"},{"$f":"IF(More_than_one=\"No\",\"MAKE BLANK\",IF(Project_Number=0,\"\",Project_Number))","v":"1213126-"},null,null,null,null,{"$f":"IF(Title_of_Lift=0,\"\",Title_of_Lift)","v":""},null,null,null,null,null,null,null,null,null,null,null,null,null,null,"Project Number:",null,null,null,null,{"$f":"IF(Business_Unit_Initial=0,\"\",Business_Unit_Initial)","v":"C"},{"$f":"IF(Project_Number=0,\"\",Project_Number)","v":"1213126-"},null,null,null,null,{"$f":"IF(Title_of_Lift=0,\"\",Title_of_Lift)","v":""},null,null,null,null,null,null,null,null,null,null,null,null,null,null,"Project Number:",null,null,null,null,{"$f":"IF(Business_Unit_Initial=0,\"\",Business_Unit_Initial)","v":"C"},{"$f":"IF(Project_Number=0,\"\",Project_Number)","v":"1213126-"},null,null,null,null,{"$f":"IF(More_than_one=\"No\",\"MAKE BLANK\",IF(Title_of_Lift=0,\"\",Title_of_Lift))","v":""},null,null,null,null,null,null,null,null,null,null,null,null,{"$f":"IF(More_than_one=\"No\",\"MAKE BLANK\",\"Project Number:\")","v":"Project Number:"},null,null,null,null,null,null,{"$f":"IF(More_than_one=\"No\",\"MAKE BLANK\",IF(Business_Unit_Initial=0,\"\",Business_Unit_Initial))","v":"C"},{"$f":"IF(More_than_one=\"No\",\"MAKE BLANK\",IF(Project_Number=0,\"\",Project_Number))","v":"1213126-"},null,null,null,null,{"$f":"IF(More_than_one=\"No\",\"MAKE BLANK\",IF(Title_of_Lift=0,\"\",Title_of_Lift))","v":""},null,null,null,null,null,null,null,null,null,null,null,null,{"$f":"IF(More_than_one=\"No\",\"MAKE BLANK\",\"Project Number:\")","v":"Project Number:"},null,null,null,null,null,null,{"$f":"IF(More_than_one=\"No\",\"MAKE BLANK\",IF(Business_Unit_Initial=0,\"\",Business_Unit_Initial))","v":"C"},{"$f":"IF(More_than_one=\"No\",\"MAKE BLANK\",IF(Project_Number=0,\"\",Project_Number))","v":"1213126-"},null,null,null,null,{"$f":"IF(Title_of_Lift=0,\"\",Title_of_Lift)","v":""},null,null,null,null,null,null,null,null,null,null,null,null,null,null,"Project Number:",null,null,null,null,{"$f":"IF(Business_Unit_Initial=0,\"\",Business_Unit_Initial)","v":"C"},{"$f":"IF(Project_Number=0,\"\",Project_Number)","v":"1213126-"},null,null,null,null,{"$f":"IF(No_LP_Approval_Pgs=1,\"MAKE BLANK\",IF(Title_of_Lift=0,\"\",Title_of_Lift))","v":""},null,null,null,null,null,null,null,null,null,null,null,null,{"$f":"IF(No_LP_Approval_Pgs=1,\"MAKE BLANK\",\"Project Number:\")","v":"Project Number:"},null,null,null,null,null,null,{"$f":"IF(No_LP_Approval_Pgs=1,\"MAKE BLANK\",IF(Business_Unit_Initial=0,\"\",Business_Unit_Initial))","v":"C"},{"$f":"IF(No_LP_Approval_Pgs=1,\"MAKE BLANK\",IF(Project_Number=0,\"\",Project_Number))","v":"1213126-"}]
["Date  ",null,{"$f":"IF(Date_of_Lift=0,\"\",Date_of_Lift)","v":""},null,null,null,null,null,null,null,null,"Project Name:",null,null,null,null,{"$f":"IF(Project_Name=0,\"\",Project_Name)","v":"LGA - Redevelopment"},null,null,null,null,null,null,null,null,null,"Date  ",null,{"$f":"IF(Date_of_Lift=0,\"\",Date_of_Lift)","v":""},null,null,null,null,null,null,null,null,"Project Name:",null,null,null,null,{"$f":"IF(Project_Name=0,\"\",Project_Name)","v":"LGA - Redevelopment"},null,null,null,null,null,null,null,null,null,"Date  ",null,{"$f":"IF(Date_of_Lift=0,\"\",Date_of_Lift)","v":""},null,null,null,null,null,null,null,null,"Project Name:",null,null,null,null,{"$f":"IF(Project_Name=0,\"\",Project_Name)","v":"LGA - Redevelopment"},null,null,null,null,null,null,null,null,null,"Date  ",null,{"$f":"IF(Date_of_Lift=0,\"\",Date_of_Lift)","v":""},null,null,null,null,null,null,null,null,"Project Name:",null,null,null,null,{"$f":"IF(Project_Name=0,\"\",Project_Name)","v":"LGA - Redevelopment"},null,null,null,null,null,null,null,null,null,"Date  ",null,{"$f":"IF(Date_of_Lift=0,\"\",Date_of_Lift)","v":""},null,null,null,null,null,null,null,null,"Project Name:",null,null,null,null,{"$f":"IF(Project_Name=0,\"\",Project_Name)","v":"LGA - Redevelopment"},null,null,null,null,null,null,null,null,null,"Date  ",null,{"$f":"IF(Date_of_Lift=0,\"\",Date_of_Lift)","v":""},null,null,null,null,null,null,null,null,"Project Name:",null,null,null,null,{"$f":"IF(Project_Name=0,\"\",Project_Name)","v":"LGA - Redevelopment"},null,null,null,null,null,null,null,null,null,{"$f":"IF(More_than_one=\"No\",\"MAKE BLANK\",\"Date\")","v":"Date"},null,{"$f":"IF(More_than_one=\"No\",\"MAKE BLANK\",IF(Date_of_Lift=0,\"\",Date_of_Lift))","v":""},null,null,{"$f":"IF(More_than_one=\"No\",\"MAKE BLANK\",\"Project Name:\")","v":"Project Name:"},null,null,null,null,null,null,null,null,null,null,{"$f":"IF(More_than_one=\"No\",\"MAKE BLANK\",IF(Project_Name=0,\"\",Project_Name))","v":"LGA - Redevelopment"},null,null,null,null,null,null,null,null,null,{"$f":"IF(More_than_one=\"No\",\"MAKE BLANK\",\"Date\")","v":"Date"},null,{"$f":"IF(More_than_one=\"No\",\"MAKE BLANK\",IF(Date_of_Lift=0,\"\",Date_of_Lift))","v":""},null,null,{"$f":"IF(More_than_one=\"No\",\"MAKE BLANK\",\"Project Name:\")","v":"Project Name:"},null,null,null,null,null,null,null,null,null,null,{"$f":"IF(More_than_one=\"No\",\"MAKE BLANK\",IF(Project_Name=0,\"\",Project_Name))","v":"LGA - Redevelopment"},null,null,null,null,null,null,null,null,null,"Date  ",null,{"$f":"IF(Date_of_Lift=0,\"\",Date_of_Lift)","v":""},null,null,null,null,null,null,null,null,"Project Name:",null,null,null,null,{"$f":"IF(Project_Name=0,\"\",Project_Name)","v":"LGA - Redevelopment"},null,null,null,null,null,null,null,null,null,"Date  ",null,{"$f":"IF(Date_of_Lift=0,\"\",Date_of_Lift)","v":""},null,null,null,null,null,null,null,null,"Project Name:",null,null,null,null,{"$f":"IF(Project_Name=0,\"\",Project_Name)","v":"LGA - Redevelopment"},null,null,null,null,null,null,null,null,null,{"$f":"IF(More_than_one=\"No\",\"MAKE BLANK\",\"Date\")","v":"Date"},null,{"$f":"IF(More_than_one=\"No\",\"MAKE BLANK\",IF(Date_of_Lift=0,\"\",Date_of_Lift))","v":""},null,null,{"$f":"IF(More_than_one=\"No\",\"MAKE BLANK\",\"Project Name:\")","v":"Project Name:"},null,null,null,null,null,null,null,null,null,null,{"$f":"IF(More_than_one=\"No\",\"MAKE BLANK\",IF(Project_Name=0,\"\",Project_Name))","v":"LGA - Redevelopment"},null,null,null,null,null,null,null,null,null,{"$f":"IF(More_than_one=\"No\",\"MAKE BLANK\",\"Date\")","v":"Date"},null,{"$f":"IF(More_than_one=\"No\",\"MAKE BLANK\",IF(Date_of_Lift=0,\"\",Date_of_Lift))","v":""},null,null,{"$f":"IF(More_than_one=\"No\",\"MAKE BLANK\",\"Project Name:\")","v":"Project Name:"},null,null,null,null,null,null,null,null,null,null,{"$f":"IF(More_than_one=\"No\",\"MAKE BLANK\",IF(Project_Name=0,\"\",Project_Name))","v":"LGA - Redevelopment"},null,null,null,null,null,null,null,null,null,"Date  ",null,{"$f":"IF(Date_of_Lift=0,\"\",Date_of_Lift)","v":""},null,null,null,null,null,null,null,null,"Project Name:",null,null,null,null,{"$f":"IF(Project_Name=0,\"\",Project_Name)","v":"LGA - Redevelopment"},null,null,null,null,null,null,null,null,null,{"$f":"IF(No_LP_Approval_Pgs=1,\"MAKE BLANK\",\"Date \")","v":"Date "},null,{"$f":"IF(No_LP_Approval_Pgs=1,\"MAKE BLANK\",IF(Date_of_Lift=0,\"\",Date_of_Lift))","v":""},null,null,{"$f":"IF(No_LP_Approval_Pgs=1,\"MAKE BLANK\",\"Project Name:\")","v":"Project Name:"},null,null,null,null,null,null,null,null,null,null,{"$f":"IF(No_LP_Approval_Pgs=1,\"MAKE BLANK\",IF(Project_Name=0,\"\",Project_Name))","v":"LGA - Redevelopment"}]
[{"$f":"IF(Location_of_Lift=0,\"\",Location_of_Lift)","v":""},null,null,null,null,null,null,null,null,null,null,null,null,null,null,null,null,null,null,null,null,null,null,null,null,null,{"$f":"IF(Location_of_Lift=0,\"\",Location_of_Lift)","v":""},null,null,null,null,null,null,null,null,null,null,null,null,null,null,null,null,null,null,null,null,null,null,null,null,null,{"$f":"IF(Location_of_Lift=0,\"\",Location_of_Lift)","v":""},null,null,null,null,null,null,null,null,null,null,null,null,null,null,null,null,null,null,null,null,null,null,null,null,null,{"$f":"IF(Location_of_Lift=0,\"\",Location_of_Lift)","v":""},null,null,null,null,null,null,null,null,null,null,null,null,null,null,null,null,null,null,null,null,null,null,null,null,null,{"$f":"IF(Location_of_Lift=0,\"\",Location_of_Lift)","v":""},null,null,null,null,null,null,null,null,null,null,null,null,null,null,null,null,null,null,null,null,null,null,null,null,null,{"$f":"IF(Location_of_Lift=0,\"\",Location_of_Lift)","v":""},null,null,null,null,null,null,null,null,null,null,null,null,null,null,null,null,null,null,null,null,null,null,null,null,null,{"$f":"IF(More_than_one=\"No\",\"MAKE BLANK\",IF(Location_of_Lift=0,\"\",Location_of_Lift))","v":""},null,null,null,null,null,null,null,null,null,null,null,null,null,null,null,null,null,null,null,null,null,null,null,null,null,{"$f":"IF(More_than_one=\"No\",\"MAKE BLANK\",IF(Location_of_Lift=0,\"\",Location_of_Lift))","v":""},null,null,null,null,null,null,null,null,null,null,null,null,null,null,null,null,null,null,null,null,null,null,null,null,null,{"$f":"IF(Location_of_Lift=0,\"\",Location_of_Lift)","v":""},null,null,null,null,null,null,null,null,null,null,null,null,null,null,null,null,null,null,null,null,null,null,null,null,null,{"$f":"IF(Location_of_Lift=0,\"\",Location_of_Lift)","v":""},null,null,null,null,null,null,null,null,null,null,null,null,null,null,null,null,null,null,null,null,null,null,null,null,null,{"$f":"IF(More_than_one=\"No\",\"MAKE BLANK\",IF(Location_of_Lift=0,\"\",Location_of_Lift))","v":""},null,null,null,null,null,null,null,null,null,null,null,null,null,null,null,null,null,null,null,null,null,null,null,null,null,{"$f":"IF(More_than_one=\"No\",\"MAKE BLANK\",IF(Location_of_Lift=0,\"\",Location_of_Lift))","v":""},null,null,null,null,null,null,null,null,null,null,null,null,null,null,null,null,null,null,null,null,null,null,null,null,null,{"$f":"IF(Location_of_Lift=0,\"\",Location_of_Lift)","v":""},null,null,null,null,null,null,null,null,null,null,null,null,null,null,null,null,null,null,null,null,null,null,null,null,null,{"$f":"IF(No_LP_Approval_Pgs=1,\"MAKE BLANK\",IF(Location_of_Lift=0,\"\",Location_of_Lift))","v":""}]
[null,null,null,null,null,null,null,null,null,null,null,null,null,null,null,null,null,null,null,null,null,null,null,null,null,null,null,null,null,null,null,null,null,null,null,null,null,null,null,null,null,null,null,null,null,null,null,null,null,null,null,null,null,null,null,null,null,null,null,null,null,null,null,null,null,null,null,null,null,null,null,null,null,null,null,null,null,null,null,null,null,null,null,null,null,null,null,null,null,null,null,null,null,null,null,null,null,null,null,null,null,null,null,null,null,null,null,null,null,null,null,null,null,null,null,null,null,null,null,null,null,null,null,null,null,null,null,null,null,null,null,null,null,null,null,null,null,null,null,null,null,null,null,null,null,null,null,null,null,null,null,null,null,null,null,null,null,null,null,null,null,null,null,null,null,null,null,null,null,null,null,null,null,null,null,null,null,null,null,null,null,null,null,null,null,null,null,null,null,null,null,null,null,null,null,null,null,null,null,null,null,null,null,null,null,null,null,null,null,null,null,null,null,null,null,null,null,null,null,null,null,null,null,null,null,null,null,null,null,null,null,null,null,null,null,null,null,null,null,null,null,null,null,null,null,null,null,null,null,null,null,null,null,null,null,null,null,null,null,null,null,null,null,null,null,null,null,null,null,null,null,null,null,null,null,null,null,null,null,null,null,null,null,null,null,null,null,null,null,null,null,null,null,null,null,null,null,null,null,null,null,null,null,null,null,null,null,null,null,null,null,null,{"$f":"IF(LA$10<1,\"\",IF(INDEX($NC$14:$OX$55,$LD14,LA$10)=0,\"\",INDEX($NC$14:$OX$55,$LD14,LA$10)))","v":""},{"$f":"IF(LB$10<1,\"\",IF(INDEX($NC$14:$OX$55,$LD14,LB$10)=0,\"\",INDEX($NC$14:$OX$55,$LD14,LB$10)))","v":""},"",{"$f":"LD10+1","v":1},{"$f":"IF(LE$10<1,\"\",IF(INDEX($NC$14:$OX$55,$LD14,LE$10)=0,\"\",INDEX($NC$14:$OX$55,$LD14,LE$10)))","v":""},null,null,null,null,null,null,null,null,null,null,null,null,null,null,null,null,null,null,null,null,null,null,null,null,null,null,null,null,null,null,"Skip Page",null,null,null,null,null,null,null,null,null,null,null,null,null,null,null,null,null,null,"OK","NG","N/A","Competent Person","OK","NG","N/A","Competent Person","OK","NG","N/A","Competent Person","OK","NG","N/A","Competent Person","OK","NG","N/A","Competent Person","OK","NG","N/A","Competent Person","OK","NG","N/A","Competent Person","OK","NG","N/A","Competent Person","OK","NG","N/A","Competent Person","OK","NG","N/A","Competent Person","OK","NG","N/A","Competent Person","OK","NG","N/A","Competent Person"]
["Lift Plan Creator(s)",null,null,null,null,null,null,null,null,{"$f":"IF(Lift_Plan_Creators=0,\"\",Lift_Plan_Creators)","v":""},null,null,null,null,null,null,null,null,{"$f":"CONCATENATE(\"Lift Plan with \",IF(More_than_one=\"No\",\"1 Crane\",\"2 Cranes\"))","v":"Lift Plan with 2 Cranes"},null,null,null,null,null,null,null,null,null,null,null,null,null,null,null,null,null,null,null,null,null,null,null,null,null,null,null,null,null,null,null,null,null,"Signal Plan",null,null,{"$f":"IF(More_than_one=\"No\",\"\",\"- Crane 1\")","v":"- Crane 1"},null,null,null,null,null,null,{"$f":"IF(Crane_1_name=0,\"\",Crane_1_name)","v":""},null,null,null,null,null,null,null,null,null,null,null,null,null,null,null,null,null,null,null,null,null,null,null,null,null,null,null,null,null,null,null,null,null,null,null,null,null,null,null,null,null,"Inspected by:",null,null,null,null,null,null,null,null,null,null,null,null,"Oiler:",null,null,null,null,null,null,null,null,null,null,null,null,{"$f":"IF(Crane_1_name=0,\"Crane 1\",Crane_1_name)","v":"Crane 1"},null,null,null,null,null,null,null,null,null,null,null,null,null,null,null,null,null,null,null,null,null,null,null,null,null,{"$f":"IF(More_than_one=\"No\",\"MAKE BLANK\",\"Inspected by:\")","v":"Inspected by:"},null,null,null,{"$f":"IF(More_than_one=\"No\",\"MAKE BLANK\",\" \")","v":" "},null,null,null,null,null,null,null,null,{"$f":"IF(More_than_one=\"No\",\"MAKE BLANK\",\"Oiler:\")","v":"Oiler:"},null,null,{"$f":"IF(More_than_one=\"No\",\"MAKE BLANK\",\" \")","v":" "},null,null,null,null,null,null,null,null,null,{"$f":"IF(More_than_one=\"No\",\"MAKE BLANK\",IF(Crane_2_name=0,\"Crane 2\",Crane_2_name))","v":"Crane 2"},null,null,null,null,null,null,null,null,null,null,null,null,null,null,null,null,null,null,null,null,null,null,null,null,null,"Rigging Competent Person",null,null,null,null,null,null,{"$f":"IF(Rigging_Comp_Person=0,\"\",Rigging_Comp_Person)","v":""},null,null,null,null,null,null,null,null,null,null,null,null,null,null,null,null,null,null,{"$f":"IF(Crane_1_name=0,\"Crane 1\",Crane_1_name)","v":"Crane 1"},null,null,null,null,null,null,null,null,null,null,null,null,null,null,null,null,null,null,null,null,null,null,null,null,null,{"$f":"IF(More_than_one=\"No\",\"MAKE BLANK\",\"Rigging Competent Person\")","v":"Rigging Competent Person"},null,null,null,null,null,null,{"$f":"IF(More_than_one=\"No\",\"MAKE BLANK\",IF(Rigging_Comp_Person=0,\"\",Rigging_Comp_Person))","v":""},null,null,null,null,null,null,null,null,null,null,null,null,null,null,null,null,null,null,{"$f":"IF(More_than_one=\"No\",\"MAKE BLANK\",IF(Crane_2_name=0,\"Crane 2\",Crane_2_name))","v":"Crane 2"},null,null,null,null,null,null,null,null,null,null,null,null,null,null,null,null,null,null,null,null,null,null,null,null,null,{"$f":"IF(LA$10<1,\"\",IF(INDEX($NC$14:$OX$55,$LD15,LA$10)=0,\"\",INDEX($NC$14:$OX$55,$LD15,LA$10)))","v":""},"","",{"$f":"LD14+1","v":2},{"$f":"IF(LE$10<1,\"\",IF(INDEX($NC$14:$OX$55,$LD15,LE$10)=0,\"\",INDEX($NC$14:$OX$55,$LD15,LE$10)))","v":""},null,null,null,null,null,null,null,null,null,null,null,null,null,null,null,null,null,null,null,null,null,{"$f":"IF(MA$10<1,\"\",IF(INDEX($NC$56:$OX$95,$MD15,MA$10)=0,\"\",INDEX($NC$56:$OX$95,$MD15,MA$10)))","v":""},{"$f":"IF(MB$10<1,\"\",IF(INDEX($NC$56:$OX$95,$MD15,MB$10)=0,\"\",INDEX($NC$56:$OX$95,$MD15,MB$10)))","v":""},{"$f":"IF(MC$10<1,\"\",IF(INDEX($NC$56:$OX$95,$MD15,MC$10)=0,\"\",INDEX($NC$56:$OX$95,$MD15,MC$10)))","v":""},{"$f":"MD10+1","v":1},{"$f":"IF(ME$10<1,\"\",IF(INDEX($NC$56:$OX$95,MD15,ME$10)=0,\"\",INDEX($NC$56:$OX$95,MD15,ME$10)))","v":""},null,null,null,null,null,null,null,null,null,null,null,null,null,null,null,null,null,null,null,null,null,null,null,"£","£","£","    Construction Plan and Daily Job Briefing reviewed with the entire crew","£","£","£","    Construction Plan and Daily Job Briefing reviewed with the entire crew","£","£","£","    Construction Plan and Daily Job Briefing reviewed with the entire crew","£","£","£","    Construction Plan and Daily Job Briefing reviewed with the entire crew","£","£","£","    Construction Plan and Daily Job Briefing reviewed with the entire crew","£","£","£","    Construction Plan and Daily Job Briefing reviewed with the entire crew","£","£","£","    Construction Plan and Daily Job Briefing reviewed with the entire crew","£","£","£","    Construction Plan and Daily Job Briefing reviewed with the entire crew","£","£","£","    Construction Plan and Daily Job Briefing reviewed with the entire crew","£","£","£","    Construction Plan and Daily Job Briefing reviewed with the entire crew","£","£","£","    Construction Plan and Daily Job Briefing reviewed with the entire crew","£","£","£","    Construction Plan and Daily Job Briefing reviewed with the entire crew"]
[{"$f":"IF(Assembly_disassembly=\"yes\",Assembly_Disassembly_Director_Label,\"MAKE BLANK\")","v":"MAKE BLANK"},null,null,null,null,null,null,null,null,{"$f":"IF(Assembly_disassembly=\"yes\",IF(Assembly_Disassembly_Director_Name=\"\",\"\",Assembly_Disassembly_Director_Name),\"MAKE BLANK\")","v":"MAKE BLANK"},null,null,null,null,null,null,null,null,null,null,null,null,null,null,null,null,"Rigging to be used - Crane 2",null,null,null,null,null,null,null,{"$f":"IF(More_than_one=\"No\",\"Not Applicable\",IF(Crane_2_name=0,\" \",Crane_2_name))","v":" "},null,null,null,null,null,null,null,null,null,null,null,null,null,null,null,null,null,"Assigned Qualified Signaler(s)",null,null,null,null,null,null,null,null,{"$f":"IF(Crane_1_Signaler=0,\"\",Crane_1_Signaler)","v":""},null,null,null,null,null,null,null,null,null,null,null,null,null,null,null,null,null,null,"Attach Illustration of Rigging Plans",null,null,null,null,null,null,null,null,null,null,null,null,null,null,null,null,null,null,null,null,null,null,null,{"$f":"IF(Crane_1_name=0,\"Crane 1\",Crane_1_name)","v":"Crane 1"},null,null,null,null,null,null,null,null,null,null,null,null,"Operator:",null,null,null,null,null,null,null,null,null,null,null,null,"Crane Make / Model / No. Inspected:",null,null,null,null,null,null,null,null,{"$f":"IF(Crane_1_Model_No=0,\"\",Crane_1_Model_No)","v":""},null,null,null,null,null,null,null,null,null,null,null,null,null,null,null,null,{"$f":"IF(More_than_one=\"No\",\"MAKE BLANK\",IF(Crane_2_name=0,\"Crane 2\",Crane_2_name))","v":"Crane 2"},null,null,null,null,null,null,null,null,null,null,null,null,{"$f":"IF(More_than_one=\"No\",\"MAKE BLANK\",\"Operator:\")","v":"Operator:"},null,null,{"$f":"IF(More_than_one=\"No\",\"MAKE BLANK\",\" \")","v":" "},null,null,null,null,null,null,null,null,null,{"$f":"IF(More_than_one=\"No\",\"MAKE BLANK\",\"Crane Make / Model / No. Inspected:\")","v":"Crane Make / Model / No. Inspected:"},null,null,null,null,null,null,null,null,{"$f":"IF(More_than_one=\"No\",\"MAKE BLANK\",IF(Crane_2_Model_No=0,\"\",Crane_2_Model_No))","v":""},null,null,null,null,null,null,null,null,null,null,null,null,null,null,null,null,{"$f":"IF(Crane_1_name=0,\"Crane 1\",Crane_1_name)","v":"Crane 1"},null,null,null,null,null,null,null,null,null,null,null,null,null,null,null,null,null,null,null,null,null,null,null,null,null,"OK","NG","N/A",null,"Shackles",null,null,null,null,null,null,null,null,null,null,null,null,null,null,null,null,null,"Comments",null,null,null,{"$f":"IF(More_than_one=\"No\",\"MAKE BLANK\",IF(Crane_2_name=0,\"Crane 2\",Crane_2_name))","v":"Crane 2"},null,null,null,null,null,null,null,null,null,null,null,null,null,null,null,null,null,null,null,null,null,null,null,null,null,{"$f":"IF(More_than_one=\"No\",\"MAKE BLANK\",\"OK\")","v":"OK"},{"$f":"IF(More_than_one=\"No\",\"MAKE BLANK\",\"NG\")","v":"NG"},{"$f":"IF(More_than_one=\"No\",\"MAKE BLANK\",\"N/A\")","v":"N/A"},{"$f":"IF(More_than_one=\"No\",\"MAKE BLANK\",\" \")","v":" "},{"$f":"IF(More_than_one=\"No\",\"MAKE BLANK\",\"Shackles\")","v":"Shackles"},null,null,null,null,null,null,null,null,null,null,null,null,null,null,null,null,null,{"$f":"IF(More_than_one=\"No\",\"MAKE BLANK\",\"Comments\")","v":"Comments"},null,null,null,{"$f":"IF(LA$10<1,\"\",IF(INDEX($NC$14:$OX$55,$LD16,LA$10)=0,\"\",INDEX($NC$14:$OX$55,$LD16,LA$10)))","v":""},"","",3,{"$f":"IF(LE$10<1,\"\",IF(INDEX($NC$14:$OX$55,$LD16,LE$10)=0,\"\",INDEX($NC$14:$OX$55,$LD16,LE$10)))","v":""},null,null,null,null,null,null,null,null,null,null,null,null,null,null,null,null,null,null,null,null,null,{"$f":"IF(MA$10<1,\"\",IF(INDEX($NC$56:$OX$95,$MD16,MA$10)=0,\"\",INDEX($NC$56:$OX$95,$MD16,MA$10)))","v":""},"","",{"$f":"MD15+1","v":2},{"$f":"IF(ME$10<1,\"\",IF(INDEX($NC$56:$OX$95,MD16,ME$10)=0,\"\",INDEX($NC$56:$OX$95,MD16,ME$10)))","v":""},null,null,null,null,null,null,null,null,null,null,null,null,null,null,null,null,null,null,null,null,null,null,null,"£","£","£","    Tag lines defined and assigned to qualified employees","£","£","£","    Tag lines defined and assigned to qualified employees","£","£","£","    Tag lines defined and assigned to qualified employees","£","£","£","    Meeting held with operator(s), signaler(s) and all crew members involved","£","£","£","    Meeting held with operator(s), signaler(s) and all crew members involved","£","£","£","    Meeting held with operator(s), signaler(s) and all crew members involved","£","£","£","    Meeting held with operator(s), signaler(s) and all crew members involved","£","£","£","    Meeting held with operator(s), signaler(s) and all crew members involved","£","£","£","    Meeting held with operator(s), signaler(s) and all crew members involved","£","£","£","    Meeting held with operator(s), signaler(s) and all crew members involved","£","£","£","    Meeting held with operator(s), signaler(s) and all crew members involved","£","£","£","    Meeting held with operator(s), signaler(s) and all crew members involved"]
["Lift Description",null,null,null,null,null,{"$f":"IF(Lift_Description=0,\"\",Lift_Description)","v":""},null,null,null,null,null,null,null,null,null,null,null,null,null,null,null,null,null,null,null,{"$f":"IF(More_than_one=\"No\", \"MAKE BLANK\",\"Type of Rigging\")","v":"Type of Rigging"},null,null,null,null,null,null,null,{"$f":"IF(More_than_one=\"No\", \"MAKE BLANK\",IF(Crane_2_Rigging_Type=0,\"\",Crane_2_Rigging_Type))","v":""},null,null,null,null,null,null,null,null,null,null,null,null,null,null,null,null,null,"Visual, Radio, Tuftronics, Hard Cable, etc.",null,null,null,null,null,null,null,null,null,null,null,null,null,null,null,null,null,null,null,null,null,null,null,null,null,null,null,null,null,null,null,null,null,null,null,null,null,null,null,null,null,null,null,null,null,null,null,null,null,null,null,"Crane Make / Model / No. Inspected:",null,null,null,null,null,null,null,null,{"$f":"IF(Crane_1_Model_No=0,\"\",Crane_1_Model_No)","v":""},null,null,null,null,null,null,null,null,null,null,null,null,null,null,null,null,null,null,null,null,null,null,null,null,null,null,null,null,null,null,null,null,null,null,null,null,null,null,null,null,null,null,{"$f":"IF(More_than_one=\"No\",\"MAKE BLANK\",\"Crane Make / Model / No. Inspected:\")","v":"Crane Make / Model / No. Inspected:"},null,null,null,null,null,null,null,null,{"$f":"IF(More_than_one=\"No\",\"MAKE BLANK\",IF(Crane_2_Model_No=0,\"\",Crane_2_Model_No))","v":""},null,null,null,null,null,null,null,null,null,null,null,null,null,null,null,null,null,null,null,null,null,null,null,null,null,null,null,null,null,null,null,null,null,null,null,null,null,null,null,null,null,null,"OK","NG","N/A",null,"Wire Rope Slings",null,null,null,null,null,null,null,null,null,null,null,null,null,null,null,null,null,"Comments",null,null,null,"£","£","£",null,"Only CROSBY Shackles shall be used.",null,null,null,null,null,null,null,null,null,null,null,null,null,null,null,null,null,null,null,null,null,{"$f":"IF(More_than_one=\"No\",\"MAKE BLANK\",\"OK\")","v":"OK"},{"$f":"IF(More_than_one=\"No\",\"MAKE BLANK\",\"NG\")","v":"NG"},{"$f":"IF(More_than_one=\"No\",\"MAKE BLANK\",\"N/A\")","v":"N/A"},{"$f":"IF(More_than_one=\"No\",\"MAKE BLANK\",\" \")","v":" "},{"$f":"IF(More_than_one=\"No\",\"MAKE BLANK\",\"Wire Rope Slings\")","v":"Wire Rope Slings"},null,null,null,null,null,null,null,null,null,null,null,null,null,null,null,null,null,{"$f":"IF(More_than_one=\"No\",\"MAKE BLANK\",\"Comments\")","v":"Comments"},null,null,null,{"$f":"IF(More_than_one=\"No\",\"u\",\"£\")","v":"£"},{"$f":"IF(More_than_one=\"No\",\"u\",\"£\")","v":"£"},{"$f":"IF(More_than_one=\"No\",\"u\",\"£\")","v":"£"},null,{"$f":"IF(More_than_one=\"No\",\"MAKE BLANK\",\"Only CROSBY Shackles shall be used.\")","v":"Only CROSBY Shackles shall be used."},null,null,null,null,null,null,null,null,{"$f":"IF(More_than_one=\"No\",\"MAKE BLANK\",\" \")","v":" "},null,null,null,null,null,null,null,null,null,null,null,null,"","","",4,"",null,null,null,null,null,null,null,null,null,null,null,null,null,null,null,null,null,null,null,null,null,"","","",3,"",null,null,null,null,null,null,null,null,null,null,null,null,null,null,null,null,null,null,null,null,null,null,null,"£","£","£","    Swing radius barricaded and identified with appropriate signage","£","£","£","    Swing radius barricaded and identified with appropriate signage","£","£","£","    Swing radius barricaded and identified with appropriate signage","£","£","£","    Tag lines defined and assigned to qualified employees","£","£","£","    Tag lines defined and assigned to qualified employees","£","£","£","    Tag lines defined and assigned to qualified employees","£","£","£","    Tag lines defined and assigned to qualified employees","£","£","£","    Tag lines defined and assigned to qualified employees","£","£","£","    Tag lines defined and assigned to qualified employees","£","£","£","    Tag lines defined and assigned to qualified employees","£","£","£","    Tag lines defined and assigned to qualified employees","£","£","£","    Tag lines defined and assigned to qualified employees"]
[null,null,null,null,null,null,null,null,null,null,null,null,null,null,null,null,null,null,null,null,null,null,null,null,null,null,{"$f":"IF(More_than_one=\"No\", \"MAKE BLANK\",\"Sizes, Dimensions, & Qty\")","v":"Sizes, Dimensions, & Qty"},null,null,null,null,null,null,null,{"$f":"IF(More_than_one=\"No\", \"MAKE BLANK\",IF(Crane_2_Rigging_Sizes=0,\"\",Crane_2_Rigging_Sizes))","v":""},null,null,null,null,null,null,null,null,null,null,null,null,null,null,null,null,null,null,null,null,null,null,null,null,null,null,{"$f":"IF(Crane_1_Signaler_Communication=0,\"\",Crane_1_Signaler_Communication)","v":""},null,null,null,null,null,null,null,null,null,null,null,null,null,null,null,null,null,null,null,null,null,null,null,null,null,null,null,null,null,null,null,null,null,null,null,null,null,null,null,null,null,null,"OK","NG","N/A",null,"Walk Around Inspection",null,null,null,null,null,null,null,null,null,null,null,null,null,null,null,null,null,"Comments",null,null,null,"OK","NG","N/A",null,"Operator Cab Inspection",null,null,null,null,null,null,null,null,null,null,null,null,null,null,null,null,null,"Comments",null,null,null,{"$f":"IF(More_than_one=\"No\",\"MAKE BLANK\",\"OK\")","v":"OK"},{"$f":"IF(More_than_one=\"No\",\"MAKE BLANK\",\"NG\")","v":"NG"},{"$f":"IF(More_than_one=\"No\",\"MAKE BLANK\",\"N/A\")","v":"N/A"},{"$f":"IF(More_than_one=\"No\",\"MAKE BLANK\",\" \")","v":" "},{"$f":"IF(More_than_one=\"No\",\"MAKE BLANK\",\"Walk Around Inspection\")","v":"Walk Around Inspection"},null,null,null,null,null,null,null,null,null,null,null,null,null,null,null,null,null,{"$f":"IF(More_than_one=\"No\",\"MAKE BLANK\",\"Comments\")","v":"Comments"},null,null,null,{"$f":"IF(More_than_one=\"No\",\"MAKE BLANK\",\"OK\")","v":"OK"},{"$f":"IF(More_than_one=\"No\",\"MAKE BLANK\",\"NG\")","v":"NG"},{"$f":"IF(More_than_one=\"No\",\"MAKE BLANK\",\"N/A\")","v":"N/A"},{"$f":"IF(More_than_one=\"No\",\"MAKE BLANK\",\" \")","v":" "},{"$f":"IF(More_than_one=\"No\",\"MAKE BLANK\",\"Operator Cab Inspection\")","v":"Operator Cab Inspection"},null,null,null,null,null,null,null,null,null,null,null,null,null,null,null,null,null,{"$f":"IF(More_than_one=\"No\",\"MAKE BLANK\",\"Comments\")","v":"Comments"},null,null,null,"£","£","£",null,"Capacity tag is attached and legible",null,null,null,null,null,null,null,null,null,null,null,null,null,null,null,null,null,null,null,null,null,null,null,null,null,null,null,null,null,null,null,null,null,null,null,null,null,null,null,null,null,null,null,null,null,null,null,{"$f":"IF(More_than_one=\"No\",\"u\",\"£\")","v":"£"},{"$f":"IF(More_than_one=\"No\",\"u\",\"£\")","v":"£"},{"$f":"IF(More_than_one=\"No\",\"u\",\"£\")","v":"£"},null,{"$f":"IF(More_than_one=\"No\",\"MAKE BLANK\",\"Capacity tag is attached and legible\")","v":"Capacity tag is attached and legible"},null,null,null,null,null,null,null,null,{"$f":"IF(More_than_one=\"No\",\"MAKE BLANK\",\" \")","v":" "},null,null,null,null,null,null,null,null,null,null,null,null,null,null,null,null,null,null,null,null,null,null,null,null,null,null,null,null,null,null,null,null,null,null,null,null,null,null,"","","",5,"",null,null,null,null,null,null,null,null,null,null,null,null,null,null,null,null,null,null,null,null,null,"","","",4,"",null,null,null,null,null,null,null,null,null,null,null,null,null,null,null,null,null,null,null,null,null,null,null,"£","£","£","    Underground conditions such as tunnels, utilities and vaults have been considered","£","£","£","    Underground conditions such as tunnels, utilities and vaults have been considered","£","£","£","    Underground conditions such as tunnels, utilities and vaults have been considered","£","£","£","    Swing radius barricaded and identified with appropriate signage","£","£","£","    Swing radius barricaded and identified with appropriate signage","£","£","£","    Swing radius barricaded and identified with appropriate signage","£","£","£","    Swing radius barricaded and identified with appropriate signage","£","£","£","    Swing radius barricaded and identified with appropriate signage","£","£","£","    Swing radius barricaded and identified with appropriate signage","£","£","£","    Swing radius barricaded and identified with appropriate signage","£","£","£","    Swing radius barricaded and identified with appropriate signage","£","£","£","    Swing radius barricaded and identified with appropriate signage"]
[null,null,null,null,null,null,null,null,null,null,null,null,null,null,null,null,null,null,null,null,null,null,null,null,null,null,{"$f":"IF(More_than_one=\"No\", \"MAKE BLANK\",\"Rigging Hardware\")","v":"Rigging Hardware"},null,null,null,null,null,null,null,{"$f":"IF(More_than_one=\"No\", \"MAKE BLANK\",IF(Crane_2_Rigging_Hdwr=0,\"\",Crane_2_Rigging_Hdwr))","v":""},null,null,null,null,null,null,null,null,null,null,null,null,null,null,null,null,null,"Location of Signaler(s)",null,null,null,null,null,null,null,null,{"$f":"IF(Crane_1_Signaler_Location=0,\"\",Crane_1_Signaler_Location)","v":""},null,null,null,null,null,null,null,null,null,null,null,null,null,null,null,null,null,null,null,null,null,null,null,null,null,null,null,null,null,null,null,null,null,null,null,null,null,null,null,null,null,null,"£","£","£",null,"Safety guards and plates",null,null,null,null,null,null,null,null,null,null,null,null,null,null,null,null,null,null,null,null,null,"£","£","£",null,"Gauges",null,null,null,null,null,null,null,null,null,null,null,null,null,null,null,null,null,null,null,null,null,{"$f":"IF(More_than_one=\"No\",\"u\",\"£\")","v":"£"},{"$f":"IF(More_than_one=\"No\",\"u\",\"£\")","v":"£"},{"$f":"IF(More_than_one=\"No\",\"u\",\"£\")","v":"£"},null,{"$f":"IF(More_than_one=\"No\",\"MAKE BLANK\",\"Safety guards and plates\")","v":"Safety guards and plates"},null,null,null,null,null,{"$f":"IF(More_than_one=\"No\",\"MAKE BLANK\",\" \")","v":" "},null,null,null,null,null,null,null,null,null,null,null,null,null,null,null,{"$f":"IF(More_than_one=\"No\",\"u\",\"£\")","v":"£"},{"$f":"IF(More_than_one=\"No\",\"u\",\"£\")","v":"£"},{"$f":"IF(More_than_one=\"No\",\"u\",\"£\")","v":"£"},null,{"$f":"IF(More_than_one=\"No\",\"MAKE BLANK\",\"Gauges\")","v":"Gauges"},null,{"$f":"IF(More_than_one=\"No\",\"MAKE BLANK\",\" \")","v":" "},null,null,null,null,null,null,null,null,null,null,null,null,null,null,null,null,null,null,null,null,null,null,null,null,null,null,null,null,null,null,null,null,null,null,null,null,null,null,null,null,null,null,null,null,null,"£","£","£",null,"Legs are not stretched or opened up",null,null,null,null,null,null,null,null,null,null,null,null,null,null,null,null,null,null,null,null,null,null,null,null,null,null,null,null,null,null,null,null,null,null,null,null,null,null,null,null,null,null,null,null,null,null,null,{"$f":"IF(More_than_one=\"No\",\"u\",\"£\")","v":"£"},{"$f":"IF(More_than_one=\"No\",\"u\",\"£\")","v":"£"},{"$f":"IF(More_than_one=\"No\",\"u\",\"£\")","v":"£"},null,{"$f":"IF(More_than_one=\"No\",\"MAKE BLANK\",\"Legs are not stretched or opened up\")","v":"Legs are not stretched or opened up"},null,null,null,null,null,null,null,null,{"$f":"IF(More_than_one=\"No\",\"MAKE BLANK\",\" \")","v":" "},null,null,null,null,null,null,null,null,null,null,null,null,"","","",6,"",null,null,null,null,null,null,null,null,null,null,null,null,null,null,null,null,null,null,null,null,null,"","","",5,"",null,null,null,null,null,null,null,null,null,null,null,null,null,null,null,null,null,null,null,null,null,null,null,"£","£","£","    Swing travel path clear of obstacles such as buildings, equipment, etc.","£","£","£","    Swing travel path clear of obstacles such as buildings, equipment, etc.","£","£","£","    Swing travel path clear of obstacles such as buildings, equipment, etc."]
[null,null,null,null,null,null,null,null,null,null,null,null,null,null,null,null,null,null,null,null,null,null,null,null,null,null,{"$f":"IF(More_than_one=\"No\", \"MAKE BLANK\",\"Below the Hook Lifting Devices\")","v":"Below the Hook Lifting Devices"},null,null,null,null,null,null,null,{"$f":"IF(More_than_one=\"No\", \"MAKE BLANK\",IF(Crane_2_BtH_Lift_Devices=0,\"\",Crane_2_BtH_Lift_Devices))","v":""},null,null,null,null,null,null,null,null,null,null,null,null,null,null,null,null,null,"Signal Plan    - Crane 2",null,null,null,null,null,null,null,null,null,{"$f":"IF(More_than_one=\"No\",\"Not Applicable\",IF(Crane_2_name=0,\" \",Crane_2_name))","v":" "},null,null,null,null,null,null,null,null,null,null,null,null,null,null,null,null,null,null,null,null,null,null,null,null,null,null,null,null,null,null,null,null,null,null,null,null,null,null,null,null,null,null,null,null,null,null,null,null,null,null,null,null,null,null,null,null,null,null,null,null,null,null,null,null,null,null,null,null,null,null,null,null,null,null,null,null,null,null,null,null,null,null,null,null,null,null,null,null,null,null,null,null,null,null,null,null,null,null,null,null,null,null,null,null,null,null,null,null,null,null,null,null,null,null,null,null,null,null,null,null,null,null,null,null,null,null,null,null,null,null,null,null,null,null,null,null,null,null,null,null,null,null,null,null,null,"£","£","£",null,"Less than 10 broken wires in 1 rope lay or 5 broken wires in 1 strand in 1 rope lay",null,null,null,null,null,null,null,null,null,null,null,null,null,null,null,null,null,null,null,null,null,null,null,null,null,null,null,null,null,null,null,null,null,null,null,null,null,null,null,null,null,null,null,null,null,null,null,{"$f":"IF(More_than_one=\"No\",\"u\",\"£\")","v":"£"},{"$f":"IF(More_than_one=\"No\",\"u\",\"£\")","v":"£"},{"$f":"IF(More_than_one=\"No\",\"u\",\"£\")","v":"£"},null,{"$f":"IF(More_than_one=\"No\",\"MAKE BLANK\",\"Less than 10 broken wires in 1 rope lay or 5 broken wires in 1 strand in 1 rope lay\")","v":"Less than 10 broken wires in 1 rope lay or 5 broken wires in 1 strand in 1 rope lay"},null,null,null,null,null,null,null,null,null,null,null,null,null,null,null,null,null,null,{"$f":"IF(More_than_one=\"No\",\"MAKE BLANK\",\" \")","v":" "},null,null,null,null,null,null,null,null,null,null,null,null,null,null,null,null,null,null,null,null,null,null,null,null,null,null,null,null,"","","",7,"",null,null,null,null,null,null,null,null,null,null,null,null,null,null,null,null,null,null,null,null,null,"","","",6,"",null,null,null,null,null,null,null,null,null,null,null,null,null,null,null,null,null,null,null,null,null,null,null,"£","£","£","    Soil stability and compaction has been evaluated and considered","£","£","£","    Soil stability and compaction has been evaluated and considered","£","£","£","    Soil stability and compaction has been evaluated and considered"]
[null,null,null,null,null,null,null,null,null,null,null,null,null,null,null,null,null,null,null,null,null,null,null,null,null,null,{"$f":"IF(More_than_one=\"No\", \"MAKE BLANK\",\"Spreaders\")","v":"Spreaders"},null,null,null,null,null,null,null,{"$f":"IF(More_than_one=\"No\", \"MAKE BLANK\",IF(Crane_2_Spreaders=0,\"\",Crane_2_Spreaders))","v":""},null,null,null,null,null,null,null,null,null,null,null,null,null,null,null,null,null,{"$f":"IF(More_than_one=\"No\", \"MAKE BLANK\",\"Assigned Qualified Signaler(s)\")","v":"Assigned Qualified Signaler(s)"},null,null,null,null,null,null,null,null,{"$f":"IF(More_than_one=\"No\", \"MAKE BLANK\",IF(Crane_2_Signaler=0,\"\",Crane_2_Signaler))","v":""},null,null,null,null,null,null,null,null,null,null,null,null,null,null,null,null,null,null,null,null,null,null,null,null,null,null,null,null,null,null,null,null,null,null,null,null,null,null,null,null,null,null,"£","£","£",null,"Carrier frame, rotate base",null,null,null,null,null,null,null,null,null,null,null,null,null,null,null,null,null,null,null,null,null,"£","£","£",null,"Warning & indicator lights",null,null,null,null,null,null,null,null,null,null,null,null,null,null,null,null,null,null,null,null,null,{"$f":"IF(More_than_one=\"No\",\"u\",\"£\")","v":"£"},"£","£",null,{"$f":"IF(More_than_one=\"No\",\"MAKE BLANK\",\"Carrier frame, rotate base\")","v":"Carrier frame, rotate base"},null,null,null,null,null,null,{"$f":"IF(More_than_one=\"No\",\"MAKE BLANK\",\" \")","v":" "},null,null,null,null,null,null,null,null,null,null,null,null,null,null,{"$f":"IF(More_than_one=\"No\",\"u\",\"£\")","v":"£"},{"$f":"IF(More_than_one=\"No\",\"u\",\"£\")","v":"£"},{"$f":"IF(More_than_one=\"No\",\"u\",\"£\")","v":"£"},null,{"$f":"IF(More_than_one=\"No\",\"MAKE BLANK\",\"Warning & indicator lights\")","v":"Warning & indicator lights"},null,null,null,null,null,null,{"$f":"IF(More_than_one=\"No\",\"MAKE BLANK\",\" \")","v":" "},null,null,null,null,null,null,null,null,null,null,null,null,null,null,null,null,null,null,null,null,null,null,null,null,null,null,null,null,null,null,null,null,null,null,null,null,null,null,null,null,"£","£","£",null,"Pin is properly seated in legs",null,null,null,null,null,null,null,null,null,null,null,null,null,null,null,null,null,null,null,null,null,null,null,null,null,null,null,null,null,null,null,null,null,null,null,null,null,null,null,null,null,null,null,null,null,null,null,{"$f":"IF(More_than_one=\"No\",\"u\",\"£\")","v":"£"},{"$f":"IF(More_than_one=\"No\",\"u\",\"£\")","v":"£"},{"$f":"IF(More_than_one=\"No\",\"u\",\"£\")","v":"£"},null,{"$f":"IF(More_than_one=\"No\",\"MAKE BLANK\",\"Pin is properly seated in legs\")","v":"Pin is properly seated in legs"},null,null,null,null,null,null,{"$f":"IF(More_than_one=\"No\",\"MAKE BLANK\",\" \")","v":" "},null,null,null,null,null,null,null,null,null,null,null,null,null,null,"","","",8,"",null,null,null,null,null,null,null,null,null,null,null,null,null,null,null,null,null,null,null,null,null,"","","",7,"",null,null,null,null,null,null,null,null,null,null,null,null,null,null,null,null,null,null,null,null,null,null,null,"£","£","£","    Signal Person trained (Crane Signaling)","£","£","£","    Signal Person trained (Crane Signaling)","£","£","£","    Signal Person trained (Crane Signaling)"]
["Load Details",null,null,null,null,null,null,null,null,null,null,null,null,null,null,null,null,null,null,null,null,null,null,null,null,null,{"$f":"IF(More_than_one=\"No\", \"MAKE BLANK\",Tag_Lines)","v":"Tag Lines"},null,null,null,null,null,null,null,{"$f":"IF(More_than_one=\"No\", \"MAKE BLANK\",IF(Crane_2_Tag_Lines=0,\"\",Crane_2_Tag_Lines))","v":""},null,null,null,null,null,null,null,null,null,null,null,null,null,null,null,null,null,{"$f":"IF(More_than_one=\"No\", \"MAKE BLANK\",\"Visual, Radio, Tuftronics, Hard Cable, etc.\")","v":"Visual, Radio, Tuftronics, Hard Cable, etc."},null,null,null,null,null,null,null,null,null,null,null,null,null,null,null,null,null,null,null,null,null,null,null,null,null,null,null,null,null,null,null,null,null,null,null,null,null,null,null,null,null,null,null,null,null,null,null,null,null,null,null,"£","£","£",null,"Wire rope",null,null,null,null,null,null,null,null,null,null,null,null,null,null,null,null,null,null,null,null,null,null,null,null,null,null,null,null,null,null,null,null,null,null,null,null,null,null,null,null,null,null,null,null,null,null,null,"£","£","£",null,{"$f":"IF(More_than_one=\"No\",\"MAKE BLANK\",\"Wire rope\")","v":"Wire rope"},null,null,{"$f":"IF(More_than_one=\"No\",\"MAKE BLANK\",\" \")","v":" "},null,null,null,null,null,null,null,null,null,null,null,null,null,null,null,null,null,null,null,null,null,null,null,null,null,null,null,null,null,null,null,null,null,null,null,null,null,null,null,null,null,null,null,null,"£","£","£",null,"Either no wear/loss of one-third of the original diameter of the individual wires",null,null,null,null,null,null,null,null,null,null,null,null,null,null,null,null,null,null,null,null,null,null,null,null,null,null,null,null,null,null,null,null,null,null,null,null,null,null,null,null,null,null,null,null,null,null,null,{"$f":"IF(More_than_one=\"No\",\"u\",\"£\")","v":"£"},{"$f":"IF(More_than_one=\"No\",\"u\",\"£\")","v":"£"},{"$f":"IF(More_than_one=\"No\",\"u\",\"£\")","v":"£"},null,{"$f":"IF(More_than_one=\"No\",\"MAKE BLANK\",\"Either no wear/loss of one-third of the original diameter of the individual wires\")","v":"Either no wear/loss of one-third of the original diameter of the individual wires"},null,null,null,null,null,null,null,null,null,null,null,null,null,null,null,null,null,null,{"$f":"IF(More_than_one=\"No\",\"MAKE BLANK\",\" \")","v":" "},null,null,null,null,null,null,null,null,null,null,null,null,null,null,null,null,null,null,null,null,null,null,null,null,null,null,null,null,"","","",9,"",null,null,null,null,null,null,null,null,null,null,null,null,null,null,null,null,null,null,null,null,null,"","","",8,"",null,null,null,null,null,null,null,null,null,null,null,null,null,null,null,null,null,null,null,null,null,null,null,"£","£","£","    Crane Inspection Checklist is complete, no issues found","£","£","£","    Crane Inspection Checklist is complete, no issues found","£","£","£","    Crane Inspection Checklist is complete, no issues found"]
["Item to be lifted",null,null,null,null,null,{"$f":"IF(Item_to_be_lifted=0,\"\",Item_to_be_lifted)","v":""},null,null,null,null,null,null,null,null,null,null,null,null,null,null,null,null,null,null,null,{"$f":"IF(More_than_one=\"No\", \"MAKE BLANK\",\"Dunnage\")","v":"Dunnage"},null,null,null,null,null,null,null,{"$f":"IF(More_than_one=\"No\", \"MAKE BLANK\",IF(Crane_2_Dunnage=0,\"\",Crane_2_Dunnage))","v":""},null,null,null,null,null,null,null,null,null,null,null,null,null,null,null,null,null,null,null,null,null,null,null,null,null,null,{"$f":"IF(More_than_one=\"No\", \"MAKE BLANK\",IF(Crane_2_Signaler_Communication=0,\"\",Crane_2_Signaler_Communication))","v":""},null,null,null,null,null,null,null,null,null,null,null,null,null,null,null,null,null,null,null,null,null,null,null,null,null,null,null,null,null,null,null,null,null,null,null,null,null,null,null,null,null,null,"£","£","£",null,"Reeving",null,null,null,null,null,null,null,null,null,null,null,null,null,null,null,null,null,null,null,null,null,"£","£","£",null,"Control/brakes",null,null,null,null,null,null,null,null,null,null,null,null,null,null,null,null,null,null,null,null,null,"£","£","£",null,{"$f":"IF(More_than_one=\"No\",\"MAKE BLANK\",\"Reeving\")","v":"Reeving"},null,null,{"$f":"IF(More_than_one=\"No\",\"MAKE BLANK\",\" \")","v":" "},null,null,null,null,null,null,null,null,null,null,null,null,null,null,null,null,null,null,{"$f":"IF(More_than_one=\"No\",\"u\",\"£\")","v":"£"},{"$f":"IF(More_than_one=\"No\",\"u\",\"£\")","v":"£"},{"$f":"IF(More_than_one=\"No\",\"u\",\"£\")","v":"£"},null,{"$f":"IF(More_than_one=\"No\",\"MAKE BLANK\",\"Control/brakes\")","v":"Control/brakes"},null,null,null,{"$f":"IF(More_than_one=\"No\",\"MAKE BLANK\",\" \")","v":" "},null,null,null,null,null,null,null,null,null,null,null,null,null,null,null,null,null,null,null,null,null,null,null,null,null,null,null,null,null,null,null,null,null,null,null,null,null,null,null,null,null,null,null,"£","£","£",null,"Pin wear is no greater than 10%",null,null,null,null,null,null,null,null,null,null,null,null,null,null,null,null,null,null,null,null,null,null,null,null,null,null,null,null,null,null,null,null,null,null,null,null,null,null,null,null,null,null,null,null,null,null,null,{"$f":"IF(More_than_one=\"No\",\"u\",\"£\")","v":"£"},{"$f":"IF(More_than_one=\"No\",\"u\",\"£\")","v":"£"},{"$f":"IF(More_than_one=\"No\",\"u\",\"£\")","v":"£"},null,{"$f":"IF(More_than_one=\"No\",\"MAKE BLANK\",\"Pin wear is no greater than 10%\")","v":"Pin wear is no greater than 10%"},null,null,null,null,null,null,null,{"$f":"IF(More_than_one=\"No\",\"MAKE BLANK\",\" \")","v":" "},null,null,null,null,null,null,null,null,null,null,null,null,null,"","","",10,"",null,null,null,null,null,null,null,null,null,null,null,null,null,null,null,null,null,null,null,null,null,"","","",{"$f":"MD22+1","v":9},"",null,null,null,null,null,null,null,null,null,null,null,null,null,null,null,null,null,null,null,null,null,null,null,"£","£","£","    Rigging Inspection Checklist is complete, no issues found","£","£","£","    Rigging Inspection Checklist is complete, no issues found","£","£","£","    Rigging Inspection Checklist is complete, no issues found"]
["Description",null,null,null,null,null,{"$f":"IF(Item_description=0,\"\",Item_description)","v":""},null,null,null,null,null,null,null,null,null,null,null,null,null,null,null,null,null,null,null,{"$f":"IF(More_than_one=\"No\", \"MAKE BLANK\",IF(Rigging_Other_A_Label=0,\"\",Rigging_Other_A_Label))","v":""},null,null,null,null,null,null,null,{"$f":"IF(More_than_one=\"No\", \"MAKE BLANK\",IF(Crane_2_Rigging_Other_A=0,\"\",Crane_2_Rigging_Other_A))","v":""},null,null,null,null,null,null,null,null,null,null,null,null,null,null,null,null,null,{"$f":"IF(More_than_one=\"No\", \"MAKE BLANK\",\"Location of Signaler(s)\")","v":"Location of Signaler(s)"},null,null,null,null,null,null,null,null,{"$f":"IF(More_than_one=\"No\", \"MAKE BLANK\",IF(Crane_2_Signaler_Location=0,\"\",Crane_2_Signaler_Location))","v":""},null,null,null,null,null,null,null,null,null,null,null,null,null,null,null,null,null,null,null,null,null,null,null,null,null,null,null,null,null,null,null,null,null,null,null,null,null,null,null,null,null,null,"£","£","£",null,"Block",null,null,null,null,null,null,null,null,null,null,null,null,null,null,null,null,null,null,null,null,null,null,null,null,null,null,null,null,null,null,null,null,null,null,null,null,null,null,null,null,null,null,null,null,null,null,null,"£","£","£",null,{"$f":"IF(More_than_one=\"No\",\"MAKE BLANK\",\"Block\")","v":"Block"},null,null,{"$f":"IF(More_than_one=\"No\",\"MAKE BLANK\",\" \")","v":" "},null,null,null,null,null,null,null,null,null,null,null,null,null,null,null,null,null,null,null,null,null,null,null,null,null,null,null,null,null,null,null,null,null,null,null,null,null,null,null,null,null,null,null,null,"£","£","£",null,"No evidence of heat damage or corrosion of rope/attachments (internal or external)",null,null,null,null,null,null,null,null,null,null,null,null,null,null,null,null,null,null,null,null,null,null,null,null,null,null,null,null,null,null,null,null,null,null,null,null,null,null,null,null,null,null,null,null,null,null,null,{"$f":"IF(More_than_one=\"No\",\"u\",\"£\")","v":"£"},{"$f":"IF(More_than_one=\"No\",\"u\",\"£\")","v":"£"},{"$f":"IF(More_than_one=\"No\",\"u\",\"£\")","v":"£"},null,{"$f":"IF(More_than_one=\"No\",\"MAKE BLANK\",\"No evidence of heat damage or corrosion of rope/attachments (internal or external)\")","v":"No evidence of heat damage or corrosion of rope/attachments (internal or external)"},null,null,null,null,null,null,null,null,null,null,null,null,null,null,null,null,null,null,null,{"$f":"IF(More_than_one=\"No\",\"MAKE BLANK\",\" \")","v":" "},null,null,null,null,null,null,null,null,null,null,null,null,null,null,null,null,null,null,null,null,null,null,null,null,null,null,null,{"$f":"IF(LA$10<1,\"\",IF(INDEX($NC$14:$OX$55,$LD24,LA$10)=0,\"\",INDEX($NC$14:$OX$55,$LD24,LA$10)))","v":""},"","",11,"",null,null,null,null,null,null,null,null,null,null,null,null,null,null,null,null,null,null,null,null,null,"","","",10,"",null,null,null,null,null,null,null,null,null,null,null,null,null,null,null,null,null,null,null,null,null,null,null,null,null,null,"Name                                                 Sign                                                                                Date",null,null,null,"Name                                                 Sign                                                                                Date",null,null,null,"Name                                                 Sign                                                                                Date",null,null,null,"Name                                                 Sign                                                                                Date"," "," "," ","Name                                                 Sign                                                                                Date",null,null,null,"Name                                                 Sign                                                                                Date",null,null,null,"Name                                                 Sign                                                                                Date",null,null,null,"Name                                                 Sign                                                                                Date",null,null,null,"Name                                                 Sign                                                                                Date",null,null,null,"Name                                                 Sign                                                                                Date",null,null,null,"Name                                                 Sign                                                                                Date",null,null,null,"Name                                                 Sign                                                                                Date"]
["Shape",null,null,null,null,null,{"$f":"IF(Item_shape=0,\"\",Item_shape)","v":""},null,null,null,null,null,null,null,null,null,null,null,null,null,null,null,null,null,null,null,{"$f":"IF(More_than_one=\"No\", \"MAKE BLANK\",IF(Rigging_Other_B_Label=0,\"\",Rigging_Other_B_Label))","v":""},null,null,null,null,null,null,null,{"$f":"IF(More_than_one=\"No\", \"MAKE BLANK\",IF(Crane_2_Rigging_Other_B=0,\"\",Crane_2_Rigging_Other_B))","v":""},null,null,null,null,null,null,null,null,null,null,null,null,null,null,null,null,null,"Signaling Description",null,null,null,null,null,{"$f":"IF(Signaling_Description=0,\"\",Signaling_Description)","v":""},null,null,null,null,null,null,null,null,null,null,null,null,null,null,null,null,null,null,null,null,null,null,null,null,null,null,null,null,null,null,null,null,null,null,null,null,null,null,null,null,null,null,null,null,null,"£","£","£",null,"Hook",null,null,null,null,null,null,null,null,null,null,null,null,null,null,null,null,null,null,null,null,null,"£","£","£",null,"Visibility",null,null,null,null,null,null,null,null,null,null,null,null,null,null,null,null,null,null,null,null,null,"£","£","£",null,{"$f":"IF(More_than_one=\"No\",\"MAKE BLANK\",\"Hook\")","v":"Hook"},null,null,{"$f":"IF(More_than_one=\"No\",\"MAKE BLANK\",\" \")","v":" "},null,null,null,null,null,null,null,null,null,null,null,null,null,null,null,null,null,null,{"$f":"IF(More_than_one=\"No\",\"u\",\"£\")","v":"£"},{"$f":"IF(More_than_one=\"No\",\"u\",\"£\")","v":"£"},{"$f":"IF(More_than_one=\"No\",\"u\",\"£\")","v":"£"},null,{"$f":"IF(More_than_one=\"No\",\"MAKE BLANK\",\"Visibility\")","v":"Visibility"},null,null,{"$f":"IF(More_than_one=\"No\",\"MAKE BLANK\",\" \")","v":" "},null,null,null,null,null,null,null,null,null,null,null,null,null,null,null,null,null,null,null,null,null,null,null,null,null,null,null,null,null,null,null,null,null,null,null,null,null,null,null,null,null,null,null,null,"£","£","£",null,"No bending / cracks in the pin",null,null,null,null,null,null,null,null,null,null,null,null,null,null,null,null,null,null,null,null,null,null,null,null,null,null,null,null,null,null,null,null,null,null,null,null,null,null,null,null,null,null,null,null,null,null,null,{"$f":"IF(More_than_one=\"No\",\"u\",\"£\")","v":"£"},{"$f":"IF(More_than_one=\"No\",\"u\",\"£\")","v":"£"},{"$f":"IF(More_than_one=\"No\",\"u\",\"£\")","v":"£"},null,{"$f":"IF(More_than_one=\"No\",\"MAKE BLANK\",\"No bending / cracks in the pin\")","v":"No bending / cracks in the pin"},null,null,null,null,null,null,{"$f":"IF(More_than_one=\"No\",\"MAKE BLANK\",\" \")","v":" "},null,null,null,null,null,null,null,null,null,null,null,null,null,null,{"$f":"IF(LA$10<1,\"\",IF(INDEX($NC$14:$OX$55,$LD25,LA$10)=0,\"\",INDEX($NC$14:$OX$55,$LD25,LA$10)))","v":""},"","",12,"",null,null,null,null,null,null,null,null,null,null,null,null,null,null,null,null,null,null,null,null,null,"","","",11,"",null,null,null,null,null,null,null,null,null,null,null,null,null,null,null,null,null,null,null,null,null,null,null," "," "," ",{"$f":"CONCATENATE(IF(Rigging_Comp_Person=0,\"\",Rigging_Comp_Person),\"  _________________________________________________________________________________\")","v":"  _________________________________________________________________________________"}," "," "," ",{"$f":"CONCATENATE(IF(Rigging_Comp_Person=0,\"\",Rigging_Comp_Person),\"  _________________________________________________________________________________\")","v":"  _________________________________________________________________________________"}," "," "," ",{"$f":"CONCATENATE(IF(Rigging_Comp_Person=0,\"\",Rigging_Comp_Person),\"  _________________________________________________________________________________\")","v":"  _________________________________________________________________________________"}," "," "," ",{"$f":"CONCATENATE(IF(Rigging_Comp_Person=0,\"\",Rigging_Comp_Person),\"  _________________________________________________________________________________\")","v":"  _________________________________________________________________________________"}," "," "," ",{"$f":"CONCATENATE(IF(Rigging_Comp_Person=0,\"\",Rigging_Comp_Person),\"  _________________________________________________________________________________\")","v":"  _________________________________________________________________________________"}," "," "," ",{"$f":"CONCATENATE(IF(Rigging_Comp_Person=0,\"\",Rigging_Comp_Person),\"  _________________________________________________________________________________\")","v":"  _________________________________________________________________________________"}," "," "," ",{"$f":"CONCATENATE(IF(Rigging_Comp_Person=0,\"\",Rigging_Comp_Person),\"  _________________________________________________________________________________\")","v":"  _________________________________________________________________________________"}," "," "," ",{"$f":"CONCATENATE(IF(Rigging_Comp_Person=0,\"\",Rigging_Comp_Person),\"  _________________________________________________________________________________\")","v":"  _________________________________________________________________________________"}," "," "," ",{"$f":"CONCATENATE(IF(Rigging_Comp_Person=0,\"\",Rigging_Comp_Person),\"  _________________________________________________________________________________\")","v":"  _________________________________________________________________________________"}," "," "," ",{"$f":"CONCATENATE(IF(Rigging_Comp_Person=0,\"\",Rigging_Comp_Person),\"  _________________________________________________________________________________\")","v":"  _________________________________________________________________________________"}," "," "," ",{"$f":"CONCATENATE(IF(Rigging_Comp_Person=0,\"\",Rigging_Comp_Person),\"  _________________________________________________________________________________\")","v":"  _________________________________________________________________________________"}," ",null,null,{"$f":"CONCATENATE(IF(Rigging_Comp_Person=0,\"\",Rigging_Comp_Person),\"  _________________________________________________________________________________\")","v":"  _________________________________________________________________________________"}]
["Sharp Edges",null,null,null,null,null,{"$f":"IF(Item_sharp_edges=0,\"\",Item_sharp_edges)","v":""},null,null,null,null,null,null,null,null,null,null,null,null,null,null,null,null,null,null,null,{"$f":"IF(More_than_one=\"No\", \"MAKE BLANK\",IF(Rigging_Other_C_Label=0,\"\",Rigging_Other_C_Label))","v":""},null,null,null,null,null,null,null,{"$f":"IF(More_than_one=\"No\", \"MAKE BLANK\",IF(Crane_2_Rigging_Other_C=0,\"\",Crane_2_Rigging_Other_C))","v":""},null,null,null,null,null,null,null,null,null,null,null,null,null,null,null,null,null,null,null,null,null,null,null,null,null,null,null,null,null,null,null,null,null,null,null,null,null,null,null,null,null,null,null,null,null,null,null,null,null,null,null,null,null,null,null,null,null,null,null,null,null,null,null,null,null,null,null,null,null,"£","£","£",null,"Sheaves",null,null,null,null,null,null,null,null,null,null,null,null,null,null,null,null,null,null,null,null,null,null,null,null,null,null,null,null,null,null,null,null,null,null,null,null,null,null,null,null,null,null,null,null,null,null,null,"£","£","£",null,{"$f":"IF(More_than_one=\"No\",\"MAKE BLANK\",\"Sheaves\")","v":"Sheaves"},null,null,{"$f":"IF(More_than_one=\"No\",\"MAKE BLANK\",\" \")","v":" "},null,null,null,null,null,null,null,null,null,null,null,null,null,null,null,null,null,null,null,null,null,null,null,null,null,null,null,null,null,null,null,null,null,null,null,null,null,null,null,null,null,null,null,null,"£","£","£",null,"No kinking, crushing, bird caging, or any other damage resulting in distortion",null,null,null,null,null,null,null,null,null,null,null,null,null,null,null,null,null,null,null,null,null,null,null,null,null,null,null,null,null,null,null,null,null,null,null,null,null,null,null,null,null,null,null,null,null,null,null,{"$f":"IF(More_than_one=\"No\",\"u\",\"£\")","v":"£"},{"$f":"IF(More_than_one=\"No\",\"u\",\"£\")","v":"£"},{"$f":"IF(More_than_one=\"No\",\"u\",\"£\")","v":"£"},null,{"$f":"IF(More_than_one=\"No\",\"MAKE BLANK\",\"No kinking, crushing, bird caging, or any other damage resulting in distortion\")","v":"No kinking, crushing, bird caging, or any other damage resulting in distortion"},null,null,null,null,null,null,null,null,null,null,null,null,null,null,null,null,null,null,{"$f":"IF(More_than_one=\"No\",\"MAKE BLANK\",\" \")","v":" "},null,null,null,null,null,null,null,null,null,null,null,null,null,null,null,null,null,null,null,null,null,null,null,null,null,null,null,null,{"$f":"IF(LA$10<1,\"\",IF(INDEX($NC$14:$OX$55,$LD26,LA$10)=0,\"\",INDEX($NC$14:$OX$55,$LD26,LA$10)))","v":""},"","",13,{"$f":"IF(LE$10<1,\"\",IF(INDEX($NC$14:$OX$55,$LD26,LE$10)=0,\"\",INDEX($NC$14:$OX$55,$LD26,LE$10)))","v":""},null,null,null,null,null,null,null,null,null,null,null,null,null,null,null,null,null,null,null,null,null,"","","",12,"",null,null,null,null,null,null,null,null,null,null,null,null,null,null,null,null,null,null,null,null,null,null,null,null,null,null,null,"OK","NG","N/A","Superintendent","OK","NG","N/A","Designated Assembly/Disassembly (A/D) Director","OK","NG","N/A","Superintendent","OK","NG","N/A","Superintendent","OK","NG","N/A","Superintendent","OK","NG","N/A","Superintendent","OK","NG","N/A","Superintendent","OK","NG","N/A","Superintendent","OK","NG","N/A","Superintendent","OK","NG","N/A","Superintendent","OK","NG","N/A","Superintendent"]
["Center of Gravity",null,null,null,null,null,{"$f":"IF(Item_center_of_gravity=0,\"\",Item_center_of_gravity)","v":""},null,null,null,null,null,null,null,null,null,null,null,null,null,null,null,null,null,null,null,null,null,null,null,null,null,null,null,null,null,null,null,null,null,null,null,null,null,null,null,null,null,null,null,null,null,null,null,null,null,null,null,null,null,null,null,null,null,null,null,null,null,null,null,null,null,null,null,null,null,null,null,null,null,null,null,null,null,null,null,null,null,null,null,null,null,null,null,null,null,null,null,null,null,null,null,null,null,null,null,null,null,null,null,null,null,null,null,null,null,null,null,null,null,null,null,null,null,null,null,null,null,null,null,"£","£","£",null,"Load rating charts",null,null,null,null,null,null,null,null,null,null,null,null,null,null,null,null,null,null,null,null,null,null,null,null,null,null,null,null,null,null,null,null,null,null,null,null,null,null,null,null,null,null,null,null,null,null,null,{"$f":"IF(More_than_one=\"No\",\"u\",\"£\")","v":"£"},{"$f":"IF(More_than_one=\"No\",\"u\",\"£\")","v":"£"},{"$f":"IF(More_than_one=\"No\",\"u\",\"£\")","v":"£"},null,{"$f":"IF(More_than_one=\"No\",\"MAKE BLANK\",\"Load rating charts\")","v":"Load rating charts"},null,null,null,null,{"$f":"IF(More_than_one=\"No\",\"MAKE BLANK\",\" \")","v":" "},null,null,null,null,null,null,null,null,null,null,null,null,null,null,null,null,null,null,null,null,null,null,null,null,null,null,null,null,null,null,null,null,null,null,null,null,null,null,null,null,null,null,"£","£","£",null,"Bow wear is no greater than 10%",null,null,null,null,null,null,null,null,null,null,null,null,null,null,null,null,null,null,null,null,null,null,null,null,null,null,null,null,null,null,null,null,null,null,null,null,null,null,null,null,null,null,null,null,null,null,null,{"$f":"IF(More_than_one=\"No\",\"u\",\"£\")","v":"£"},{"$f":"IF(More_than_one=\"No\",\"u\",\"£\")","v":"£"},{"$f":"IF(More_than_one=\"No\",\"u\",\"£\")","v":"£"},null,{"$f":"IF(More_than_one=\"No\",\"MAKE BLANK\",\"Bow wear is no greater than 10%\")","v":"Bow wear is no greater than 10%"},null,null,null,null,null,null,null,{"$f":"IF(More_than_one=\"No\",\"MAKE BLANK\",\" \")","v":" "},null,null,null,null,null,null,null,null,null,null,null,null,null,{"$f":"IF(LA$10<1,\"\",IF(INDEX($NC$14:$OX$55,$LD27,LA$10)=0,\"\",INDEX($NC$14:$OX$55,$LD27,LA$10)))","v":""},"","",14,{"$f":"IF(LE$10<1,\"\",IF(INDEX($NC$14:$OX$55,$LD27,LE$10)=0,\"\",INDEX($NC$14:$OX$55,$LD27,LE$10)))","v":""},null,null,null,null,null,null,null,null,null,null,null,null,null,null,null,null,null,null,null,null,null,"","","",13,"",null,null,null,null,null,null,null,null,null,null,null,null,null,null,null,null,null,null,null,null,null,null,null,null,null,null,null,"£","£","£","    I have reviewed the Lift Plan.","£",null,"£","    I am both a Competent Person and a Qualified Person with the A/D of this equipment, OR","£","£","£","    Lift Plan accurately depicts the details of the lift","£","£","£","    Lift Plan accurately depicts the details of the lift","£","£","£","    Lift Plan accurately depicts the details of the lift","£","£","£","    Lift Plan accurately depicts the details of the lift","£","£","£","    Lift Plan accurately depicts the details of the lift","£","£","£","    Lift Plan accurately depicts the details of the lift","£","£","£","    Lift Plan accurately depicts the details of the lift","£","£","£","    Lift Plan accurately depicts the details of the lift","£","£","£","    Lift Plan accurately depicts the details of the lift"]
["Pick Points",null,null,null,null,null,{"$f":"IF(Item_pick_points=0,\"\",Item_pick_points)","v":""},null,null,null,null,null,null,null,null,null,null,null,null,null,null,null,null,null,null,null,"Crane Plan",null,null,{"$f":"IF(More_than_one=\"No\",\"\",\"- Crane 1\")","v":"- Crane 1"},null,null,null,null,null,null,{"$f":"IF(Crane_1_name=0,\"\",Crane_1_name)","v":""},null,null,null,null,null,null,null,null,null,null,null,null,null,null,null,null,null,null,null,null,null,null,null,null,null,null,null,null,null,null,null,null,null,null,null,null,null,null,null,null,null,null,null,null,null,null,null,null,null,null,null,null,null,null,null,null,null,null,null,null,null,null,null,null,null,null,null,"£","£","£",null,"Boom/Jib",null,null,null,null,null,null,null,null,null,null,null,null,null,null,null,null,null,null,null,null,null,null,null,null,null,null,null,null,null,null,null,null,null,null,null,null,null,null,null,null,null,null,null,null,null,null,null,{"$f":"IF(More_than_one=\"No\",\"u\",\"£\")","v":"£"},{"$f":"IF(More_than_one=\"No\",\"u\",\"£\")","v":"£"},{"$f":"IF(More_than_one=\"No\",\"u\",\"£\")","v":"£"},null,{"$f":"IF(More_than_one=\"No\",\"MAKE BLANK\",\"Boom/Jib\")","v":"Boom/Jib"},null,null,{"$f":"IF(More_than_one=\"No\",\"MAKE BLANK\",\" \")","v":" "},null,null,null,null,null,null,null,null,null,null,null,null,null,null,null,null,null,null,null,null,null,null,null,null,null,null,null,"Skip Page",null,null,null,null,null,null,null,null,null,null,null,null,null,null,null,null,"£","£","£",null,"No damage to end attachments, such as cracks, deformation or significant wear",null,null,null,null,null,null,null,null,null,null,null,null,null,null,null,null,null,null,null,null,null,null,null,null,null,null,null,null,null,null,null,null,null,null,null,null,null,null,null,null,null,null,null,null,null,null,null,{"$f":"IF(More_than_one=\"No\",\"u\",\"£\")","v":"£"},{"$f":"IF(More_than_one=\"No\",\"u\",\"£\")","v":"£"},{"$f":"IF(More_than_one=\"No\",\"u\",\"£\")","v":"£"},null,{"$f":"IF(More_than_one=\"No\",\"MAKE BLANK\",\"No damage to end attachments, such as cracks, deformation or significant wear\")","v":"No damage to end attachments, such as cracks, deformation or significant wear"},null,null,null,null,null,null,null,null,null,null,null,null,null,null,null,null,null,null,{"$f":"IF(More_than_one=\"No\",\"MAKE BLANK\",\" \")","v":" "},null,null,null,null,null,null,null,null,null,null,null,"Skip Page",null,null,null,null,null,null,null,null,null,null,null,null,null,null,null,null,"","","",15,"",null,null,null,null,null,null,null,null,null,null,null,null,null,null,null,null,null,null,null,null,null,"","","",{"$f":"MD27+1","v":14},"",null,null,null,null,null,null,null,null,null,null,null,null,null,null,null,null,null,null,null,null,null,null,null,null,null,null,null,null,null,null,null,"£",null,"£","    I am the Competent Person and will oversee one or more Qualified Persons.","£","£","£","    Underground conditions such as tunnels, utilities and vaults have been considered","£","£","£","    Underground conditions such as tunnels, utilities and vaults have been considered","£","£","£","    Underground conditions such as tunnels, utilities and vaults have been considered","£","£","£","    Underground conditions such as tunnels, utilities and vaults have been considered","£","£","£","    Underground conditions such as tunnels, utilities and vaults have been considered","£","£","£","    Underground conditions such as tunnels, utilities and vaults have been considered","£","£","£","    Underground conditions such as tunnels, utilities and vaults have been considered","£","£","£","    Underground conditions such as tunnels, utilities and vaults have been considered","£","£","£","    Underground conditions such as tunnels, utilities and vaults have been considered"]
[null,null,null,null,null,null,null,null,null,null,null,null,null,null,null,null,null,null,null,null,null,null,null,null,null,null,"Crane Manufacturer / Model / Serial",null,null,null,null,null,null,null,null,null,{"$f":"IF(Crane_1_Model_No=0,\"\",Crane_1_Model_No)","v":""},null,null,null,null,null,null,null,null,null,null,null,null,null,null,null,null,null,null,null,null,null,null,null,null,null,null,null,null,null,null,null,null,null,null,null,null,null,null,null,null,null,null,null,null,null,null,null,null,null,null,null,null,null,null,null,null,null,null,null,null,null,null,null,null,null,null,null,null,null,null,null,null,null,null,null,null,null,null,null,null,null,null,null,null,null,null,null,null,null,null,null,null,null,"£","£","£",null,"Safety devices",null,null,null,null,null,null,null,null,null,null,null,null,null,null,null,null,null,null,null,null,null,null,null,null,null,null,null,null,null,null,"Skip Page",null,null,null,null,null,null,null,null,null,null,null,null,null,null,null,null,{"$f":"IF(More_than_one=\"No\",\"u\",\"£\")","v":"£"},{"$f":"IF(More_than_one=\"No\",\"u\",\"£\")","v":"£"},{"$f":"IF(More_than_one=\"No\",\"u\",\"£\")","v":"£"},null,{"$f":"IF(More_than_one=\"No\",\"MAKE BLANK\",\"Safety devices\")","v":"Safety devices"},null,null,null,{"$f":"IF(More_than_one=\"No\",\"MAKE BLANK\",\" \")","v":" "},null,null,null,null,null,null,null,null,null,null,null,null,null,null,null,null,null,null,null,null,null,null,null,null,null,null,null,null,null,null,null,null,null,null,null,null,null,null,null,null,null,null,null,"£","£","£",null,"No bending / cracks in the bow",null,null,null,null,null,null,null,null,null,null,null,null,null,null,null,null,null,null,null,null,null,null,null,null,null,null,null,null,null,null,"Skip Page",null,null,null,null,null,null,null,null,null,null,null,null,null,null,null,null,{"$f":"IF(More_than_one=\"No\",\"u\",\"£\")","v":"£"},{"$f":"IF(More_than_one=\"No\",\"u\",\"£\")","v":"£"},{"$f":"IF(More_than_one=\"No\",\"u\",\"£\")","v":"£"},null,{"$f":"IF(More_than_one=\"No\",\"MAKE BLANK\",\"No bending / cracks in the bow\")","v":"No bending / cracks in the bow"},null,null,null,null,null,null,null,{"$f":"IF(More_than_one=\"No\",\"MAKE BLANK\",\" \")","v":" "},null,null,null,null,null,null,null,null,null,null,null,null,null,"","","",16,"",null,null,null,null,null,null,null,null,null,null,null,null,null,null,null,null,null,null,null,null,null,"","","",15,"",null,null,null,null,null,null,null,null,null,null,null,null,null,null,null,null,null,null,null,null,null,null,null,null,null,null,null,null,null,null,null,"£","£","£","    I have reviewed and am familiar with the A/D procedure for this piece of equipment.","£","£","£","    Soil stability and compaction has been evaluated and restrictions identified if needed","£","£","£","    Soil stability and compaction has been evaluated and restrictions identified if needed","£","£","£","    Soil stability and compaction has been evaluated and restrictions identified if needed","£","£","£","    Soil stability and compaction has been evaluated and restrictions identified if needed","£","£","£","    Soil stability and compaction has been evaluated and restrictions identified if needed","£","£","£","    Soil stability and compaction has been evaluated and restrictions identified if needed","£","£","£","    Soil stability and compaction has been evaluated and restrictions identified if needed","£","£","£","    Soil stability and compaction has been evaluated and restrictions identified if needed","£","£","£","    Soil stability and compaction has been evaluated and restrictions identified if needed"]
["Load Weight",null,null,null,null,null,null,null,null,null,null,{"$f":"IF(Crane_1_name=0,IF(More_than_one=\"No\",\"\",\"Crane 1\"),Crane_1_name)","v":"Crane 1"},null,null,null,null,null,null,null,{"$f":"IF(More_than_one=\"No\",\" \",IF(Crane_2_name=0,\" \",Crane_2_name))","v":" "},null,null,null,null,null,null,"Boom Configuration",null,null,null,null,null,null,null,null,null,{"$f":"IF(Crane_1_Boom_Config=0,\"\",Crane_1_Boom_Config)","v":""},null,null,null,null,null,null,null,null,null,null,null,null,null,null,null,"Task Environment",null,null,null,null,null,null,null,null,null,null,null,null,null,null,null,null,null,null,null,null,null,null,null,null,null,null,null,null,null,null,null,null,null,null,null,null,null,null,null,null,null,null,null,null,null,null,null,null,null,null,null,"£","£","£",null,"Gantry, pendants, boom stops",null,null,null,null,null,null,null,null,null,null,null,null,null,null,null,null,null,null,null,null,null,null,null,null,null,null,null,null,null,null,null,null,null,null,null,null,null,null,null,null,null,null,null,null,null,null,null,{"$f":"IF(More_than_one=\"No\",\"u\",\"£\")","v":"£"},"£","£",null,{"$f":"IF(More_than_one=\"No\",\"MAKE BLANK\",\"Gantry, pendants, boom stops\")","v":"Gantry, pendants, boom stops"},null,null,null,null,null,null,null,{"$f":"IF(More_than_one=\"No\",\"MAKE BLANK\",\" \")","v":" "},null,null,null,null,null,null,null,null,null,null,null,null,null,null,null,null,null,null,null,null,null,null,null,null,null,null,null,null,null,null,null,null,null,null,null,null,null,null,null,null,null,null,null,"Identification Number(s):",null,null,null,null,null,null,null,null,null,null,null,null,null,null,null,null,null,null,null,null,null,null,null,null,null,null,null,null,null,null,null,null,null,null,null,null,null,null,null,null,null,null,null,null,null,null,null,null,null,null,null,{"$f":"IF(More_than_one=\"No\",\"MAKE BLANK\",\"Identification Number(s):\")","v":"Identification Number(s):"},null,null,null,null,null,{"$f":"IF(More_than_one=\"No\",\"MAKE BLANK\",\" \")","v":" "},null,null,null,null,null,null,null,null,null,null,null,null,null,null,null,null,null,null,null,null,null,null,null,null,null,null,null,null,null,null,null,null,null,null,null,null,null,null,null,null,null,"","","",17,"",null,null,null,null,null,null,null,null,null,null,null,null,null,null,null,null,null,null,null,null,null,"","","",16,"",null,null,null,null,null,null,null,null,null,null,null,null,null,null,null,null,null,null,null,null,null,null,null,null,null,null,null,null,null,null,null,"£","£","£","    I have assigned the crew tasks and will continue to direct the crew throughout the ","£","£","£","    If on barge, stability and lift conditions reviewed.  List chart has been provided.","£","£","£","    If on barge, stability and lift conditions reviewed.  List chart has been provided.","£","£","£","    If on barge, stability and lift conditions reviewed.  List chart has been provided.","£","£","£",{"$f":"IF('5'!$AB$27=\"yes\",$OD$104,$OD$98)","v":"    If on barge, stability and lift conditions reviewed.  List chart has been provided."},"£","£","£",{"$f":"IF('5'!$AB$27=\"yes\",$OD$104,$OD$98)","v":"    If on barge, stability and lift conditions reviewed.  List chart has been provided."},"£","£","£",{"$f":"IF('5'!$AB$27=\"yes\",$OD$104,$OD$98)","v":"    If on barge, stability and lift conditions reviewed.  List chart has been provided."},"£","£","£",{"$f":"IF('5'!$AB$27=\"yes\",$OD$104,$OD$98)","v":"    If on barge, stability and lift conditions reviewed.  List chart has been provided."},"£","£","£",{"$f":"IF('5'!$AB$27=\"yes\",$OD$104,$OD$98)","v":"    If on barge, stability and lift conditions reviewed.  List chart has been provided."},"£","£","£",{"$f":"IF('5'!$AB$27=\"yes\",$OD$104,$OD$98)","v":"    If on barge, stability and lift conditions reviewed.  List chart has been provided."}]
["Net Load Weight (Pick Load)",null,null,null,null,null,null,null,null,null,null,{"$f":"IF(Crane_1_Net_Load_Weight=0,\"\",Crane_1_Net_Load_Weight)","v":""},null,null,null,null,{"$f":"Crane_1_Unit_of_Measure","v":"LBS"},null,null,{"$f":"IF(Crane_2_Net_Load_Weight=0,\"\",Crane_2_Net_Load_Weight)","v":""},null,null,null,null,{"$f":"IF(More_than_one=\"No\", \"MAKE BLANK\",Crane_2_Unit_of_measure)","v":"LBS"},null,"Counterweight",null,null,null,null,null,null,null,null,null,{"$f":"IF(Crane_1_CounterWt=0,\"\",Crane_1_CounterWt)","v":""},null,null,null,null,null,null,null,null,null,null,null,null,null,null,null,"Obstructions",null,null,null,null,null,{"$f":"IF(Nearby_Obstructions=0,\"\",Nearby_Obstructions)","v":""},null,null,null,null,null,null,null,null,null,null,null,null,null,null,null,null,null,null,null,null,null,null,null,null,null,null,null,null,null,null,null,null,null,null,null,null,null,null,null,null,null,null,null,null,null,"£","£","£",null,"Walks, ladders, handrails",null,null,null,null,null,null,null,null,null,null,null,null,null,null,null,null,null,null,null,null,null,"£","£","£",null,"Emergency stops",null,null,null,null,null,null,null,null,null,null,null,null,null,null,null,null,null,null,null,null,null,"£","£","£",null,{"$f":"IF(More_than_one=\"No\",\"MAKE BLANK\",\"Walks, ladders, handrails\")","v":"Walks, ladders, handrails"},null,null,null,null,null,null,null,{"$f":"IF(More_than_one=\"No\",\"MAKE BLANK\",\" \")","v":" "},null,null,null,null,null,null,null,null,null,null,null,null,null,{"$f":"IF(More_than_one=\"No\",\"u\",\"£\")","v":"£"},{"$f":"IF(More_than_one=\"No\",\"u\",\"£\")","v":"£"},{"$f":"IF(More_than_one=\"No\",\"u\",\"£\")","v":"£"},null,{"$f":"IF(More_than_one=\"No\",\"MAKE BLANK\",\"Emergency stops\")","v":"Emergency stops"},null,null,null,null,{"$f":"IF(More_than_one=\"No\",\"MAKE BLANK\",\" \")","v":" "},null,null,null,null,null,null,null,null,null,null,null,null,null,null,null,null,null,null,null,null,null,null,null,null,null,null,null,null,null,null,null,null,null,null,null,null,null,null,null,null,null,null,"£","£","£",null,"No cracks or sharp nicks",null,null,null,null,null,null,null,null,null,null,null,null,null,null,null,null,null,null,null,null,null,null,null,null,null,null,null,null,null,null,null,null,null,null,null,null,null,null,null,null,null,null,null,null,null,null,null,{"$f":"IF(More_than_one=\"No\",\"u\",\"£\")","v":"£"},{"$f":"IF(More_than_one=\"No\",\"u\",\"£\")","v":"£"},{"$f":"IF(More_than_one=\"No\",\"u\",\"£\")","v":"£"},null,{"$f":"IF(More_than_one=\"No\",\"MAKE BLANK\",\"No cracks or sharp nicks\")","v":"No cracks or sharp nicks"},null,null,null,null,null,{"$f":"IF(More_than_one=\"No\",\"MAKE BLANK\",\" \")","v":" "},null,null,null,null,null,null,null,null,null,null,null,null,null,null,null,"","","",18,"",null,null,null,null,null,null,null,null,null,null,null,null,null,null,null,null,null,null,null,null,null,"","","",17,"",null,null,null,null,null,null,null,null,null,null,null,null,null,null,null,null,null,null,null,null,null,null,null,null,null,null,null,null,null,null,null," "," "," ","    operation.","£","£","£","    Crane Inspection Checklist is complete, no issues found","£","£","£","    Crane Inspection Checklist is complete, no issues found","£","£","£","    Crane Inspection Checklist is complete, no issues found","£","£","£",{"$f":"IF('5'!$AB$27=\"yes\",$OD$105,$OD$99)","v":"    Crane Inspection Checklist is complete, no issues found"},"£","£","£",{"$f":"IF('5'!$AB$27=\"yes\",$OD$105,$OD$99)","v":"    Crane Inspection Checklist is complete, no issues found"},"£","£","£",{"$f":"IF('5'!$AB$27=\"yes\",$OD$105,$OD$99)","v":"    Crane Inspection Checklist is complete, no issues found"},"£","£","£",{"$f":"IF('5'!$AB$27=\"yes\",$OD$105,$OD$99)","v":"    Crane Inspection Checklist is complete, no issues found"},"£","£","£",{"$f":"IF('5'!$AB$27=\"yes\",$OD$105,$OD$99)","v":"    Crane Inspection Checklist is complete, no issues found"},"£","£","£",{"$f":"IF('5'!$AB$27=\"yes\",$OD$105,$OD$99)","v":"    Crane Inspection Checklist is complete, no issues found"}]
[{"$f":"IF('5'!AK119=1,\"Safety Factor Applied\",\"\")","v":""},null,null,null,null,null,null,null,null,null,null,{"$f":"IF(Crane_1_safety_factor_wt=0,\"\",Crane_1_safety_factor_wt)","v":""},null,null,null,null,{"$f":"IF(L32=\"\",\"\",Crane_1_Unit_of_Measure)","v":""},null,null,{"$f":"IF(Crane_2_safety_factor_wt=0,\"\",Crane_2_safety_factor_wt)","v":""},null,null,null,null,{"$f":"IF(More_than_one=\"No\", \"MAKE BLANK\",IF(T32=\"\",\"\",Crane_2_Unit_of_measure))","v":""},null,"How Many Parts of Line",null,null,null,null,null,null,null,null,null,{"$f":"IF(Crane_1_How_Many_Parts_Line=0,\"\",Crane_1_How_Many_Parts_Line)","v":""},null,null,null,null,null,null,null,null,null,null,null,null,null,null,null,"Power Lines",null,null,null,null,null,{"$f":"IF(LEFT(Power_Lines,4)=\"no p\",\"No power lines are within 50' of Operational Area of the Crane\"&plural_vs_singular&\"Load or Rigging.\",\nIF(LEFT(Power_Lines,4)=\"the \",\"The utility within 50' is confirmed to be de-engergized.\",\nIF(LEFT(Power_line_too_close_msg,4)=\"spec\", \"Yes: \"&Power_line_distance_ft&\"'.    Dispensation from Utility \"&reqd_vs_granted&\" to work closer than 15’ from a Power Line. \",\nIF(Utility_closer_than_20_ft<>\"yes\",\"This lift will not come within \"&'5'!AR336&\"' of a Power Line (\"&Power_Lines&\")\",\nIF(AND(Min_power_line_clearance<>\"as established by the utility owner/operator or a PE who is a Qualified Person with respect to electrical power transmission and distribution.\",OR(LEFT(Power_Lines,4)=\"up t\",LEFT(Power_Lines,4)=\"abov\")),\"Yes: \"&Power_line_distance_ft&\"'.       The Crane\"&plural_vs_singular&\"load and rigging shall not come closer than \"&'5'!AQ336&\"' from the Power Line.\",\"Yes.  Refer to and abide by Utility Owner/Operator or Qualified PE's minimum required distance.\")))))","v":"This lift will not come within 0' of a Power Line ()"},null,null,null,null,null,null,null,null,null,null,null,null,null,null,null,null,null,null,null,null,null,null,null,null,null,null,null,null,null,null,null,null,null,null,null,null,null,null,null,null,null,null,null,null,null,null,null,null,null,null,null,null,null,null,null,null,null,null,null,null,null,null,null,null,null,null,null,null,null,null,null,null,null,null,null,null,null,null,null,null,null,null,null,null,null,null,null,null,null,null,null,null,null,null,null,null,null,null,null,null,null,null,null,null,null,null,null,null,null,null,null,null,null,null,null,null,null,null,null,null,null,null,null,null,null,null,null,null,null,null,null,null,null,null,null,null,null,null,null,null,null,null,null,null,null,null,null,null,null,"OK","NG","N/A",null,"Nylon Slings",null,null,null,null,null,null,null,null,null,null,null,null,null,null,null,null,null,"Comments",null,null,null,null,null,null,null,null,null,null,null,null,null,null,null,null,null,null,null,null,null,null,null,null,null,null,null,null,null,{"$f":"IF(More_than_one=\"No\",\"MAKE BLANK\",\"OK\")","v":"OK"},{"$f":"IF(More_than_one=\"No\",\"MAKE BLANK\",\"NG\")","v":"NG"},{"$f":"IF(More_than_one=\"No\",\"MAKE BLANK\",\"N/A\")","v":"N/A"},{"$f":"IF(More_than_one=\"No\",\"MAKE BLANK\",\" \")","v":" "},{"$f":"IF(More_than_one=\"No\",\"MAKE BLANK\",\"Nylon Slings\")","v":"Nylon Slings"},null,null,null,null,null,null,null,null,null,null,null,null,null,null,null,null,null,{"$f":"IF(More_than_one=\"No\",\"MAKE BLANK\",\"Comments\")","v":"Comments"},null,null,null,null,null,null,null,null,null,null,null,null,null,null,null,null,null,null,null,null,null,null,null,null,null,null,null,null,null,"","","",19,"",null,null,null,null,null,null,null,null,null,null,null,null,null,null,null,null,null,null,null,null,null,"","","",{"$f":"MD31+1","v":18},"",null,null,null,null,null,null,null,null,null,null,null,null,null,null,null,null,null,null,null,null,null,null,null,null,null,null,null,null,null,null,null,"£","£","£","    I will address hazards associated with the operation, such as rigging, blocking, and ","£","£","£","    Rigging Inspection Checklist is complete, no issues found","£","£","£","    Rigging Inspection Checklist is complete, no issues found","£","£","£","    Rigging Inspection Checklist is complete, no issues found","£","£","£",{"$f":"IF('5'!$AB$27=\"yes\",$OD$106,$OD$100)","v":"    Rigging Inspection Checklist is complete, no issues found"},"£","£","£",{"$f":"IF('5'!$AB$27=\"yes\",$OD$106,$OD$100)","v":"    Rigging Inspection Checklist is complete, no issues found"},"£","£","£",{"$f":"IF('5'!$AB$27=\"yes\",$OD$106,$OD$100)","v":"    Rigging Inspection Checklist is complete, no issues found"},"£","£","£",{"$f":"IF('5'!$AB$27=\"yes\",$OD$106,$OD$100)","v":"    Rigging Inspection Checklist is complete, no issues found"},"£","£","£",{"$f":"IF('5'!$AB$27=\"yes\",$OD$106,$OD$100)","v":"    Rigging Inspection Checklist is complete, no issues found"},"£","£","£",{"$f":"IF('5'!$AB$27=\"yes\",$OD$106,$OD$100)","v":"    Rigging Inspection Checklist is complete, no issues found"}]
["Rigging Weight",null,null,null,null,null,null,null,null,null,null,{"$f":"IF(Crane_1_Rigging_Wt=0,\"\",Crane_1_Rigging_Wt)","v":""},null,null,null,null,{"$f":"Crane_1_Unit_of_Measure","v":"LBS"},null,null,{"$f":"IF(Crane_2_Rigging_Wt=0,\"\",Crane_2_Rigging_Wt)","v":""},null,null,null,null,{"$f":"IF(More_than_one=\"No\", \"MAKE BLANK\",Crane_2_Unit_of_measure)","v":"LBS"},null,{"$f":"'5'!C218","v":"Solid Ground, Timber Mats, Steel Plates, etc."},null,null,null,null,null,null,null,null,null,null,{"$f":"IF(Crane_1_Underneath=\"\",\"\",Crane_1_Underneath)","v":""},null,null,null,null,null,null,null,null,null,null,null,null,null,null,null,null,null,null,null,null,null,null,null,null,null,null,null,null,null,null,null,null,null,null,null,null,null,null,null,null,null,null,null,null,null,null,null,null,null,null,null,null,null,null,null,null,null,null,null,null,null,null,null,null,null,null,"£","£","£",null,"Wind locks, chocks, stops",null,null,null,null,null,null,null,null,null,null,null,null,null,null,null,null,null,null,null,null,null,"£","£","£",null,"List/trim indicators",null,null,null,null,null,null,null,null,null,null,null,null,null,null,null,null,null,null,null,null,null,{"$f":"IF(More_than_one=\"No\",\"u\",\"£\")","v":"£"},{"$f":"IF(More_than_one=\"No\",\"u\",\"£\")","v":"£"},{"$f":"IF(More_than_one=\"No\",\"u\",\"£\")","v":"£"},null,{"$f":"IF(More_than_one=\"No\",\"MAKE BLANK\",\"Wind locks, chocks, stops\")","v":"Wind locks, chocks, stops"},null,null,null,null,null,null,{"$f":"IF(More_than_one=\"No\",\"MAKE BLANK\",\" \")","v":" "},null,null,null,null,null,null,null,null,null,null,null,null,null,null,{"$f":"IF(More_than_one=\"No\",\"u\",\"£\")","v":"£"},{"$f":"IF(More_than_one=\"No\",\"u\",\"£\")","v":"£"},{"$f":"IF(More_than_one=\"No\",\"u\",\"£\")","v":"£"},null,{"$f":"IF(More_than_one=\"No\",\"MAKE BLANK\",\"List/trim indicators\")","v":"List/trim indicators"},null,null,null,null,{"$f":"IF(More_than_one=\"No\",\"MAKE BLANK\",\" \")","v":" "},null,null,null,null,null,null,null,null,null,null,null,null,null,null,null,null,"£","£","£",null,"Capacity tag is attached and legible",null,null,null,null,null,null,null,null,null,null,null,null,null,null,null,null,null,null,null,null,null,"£","£","£",null,"No modification to the shackle",null,null,null,null,null,null,null,null,null,null,null,null,null,null,null,null,null,null,null,null,null,{"$f":"IF(More_than_one=\"No\",\"u\",\"£\")","v":"£"},{"$f":"IF(More_than_one=\"No\",\"u\",\"£\")","v":"£"},{"$f":"IF(More_than_one=\"No\",\"u\",\"£\")","v":"£"},null,{"$f":"IF(More_than_one=\"No\",\"MAKE BLANK\",\"Capacity tag is attached and legible\")","v":"Capacity tag is attached and legible"},null,null,null,null,null,null,null,null,{"$f":"IF(More_than_one=\"No\",\"MAKE BLANK\",\" \")","v":" "},null,null,null,null,null,null,null,null,null,null,null,null,{"$f":"IF(More_than_one=\"No\",\"u\",\"£\")","v":"£"},{"$f":"IF(More_than_one=\"No\",\"u\",\"£\")","v":"£"},{"$f":"IF(More_than_one=\"No\",\"u\",\"£\")","v":"£"},null,{"$f":"IF(More_than_one=\"No\",\"MAKE BLANK\",\"No modification to the shackle\")","v":"No modification to the shackle"},null,null,null,null,null,null,null,{"$f":"IF(More_than_one=\"No\",\"MAKE BLANK\",\" \")","v":" "},null,null,null,null,null,null,null,null,null,null,null,null,null,"","","",20,"",null,null,null,null,null,null,null,null,null,null,null,null,null,null,null,null,null,null,null,null,null,"","","",{"$f":"MD32+1","v":19},"",null,null,null,null,null,null,null,null,null,null,null,null,null,null,null,null,null,null,null,null,null,null,null,null,null,null,null,null,null,null,null,null,null,null,"    ancillary equipment.","£","£","£","    Swing travel path clear of obstacles such as buildings, equipment, etc.","£","£","£","    Swing travel path clear of obstacles such as buildings, equipment, etc.","£","£","£","    Swing travel path clear of obstacles such as buildings, equipment, etc.","£","£","£","    Swing travel path clear of obstacles such as buildings, equipment, etc.","£","£","£","    Swing travel path clear of obstacles such as buildings, equipment, etc.","£","£","£","    Swing travel path clear of obstacles such as buildings, equipment, etc.","£","£","£","    Swing travel path clear of obstacles such as buildings, equipment, etc.","£","£","£","    Swing travel path clear of obstacles such as buildings, equipment, etc.","£","£","£","    Swing travel path clear of obstacles such as buildings, equipment, etc."]
["Block Weight",null,null,null,null,null,null,null,null,null,null,{"$f":"IF(Crane_1_Block_Wt=0,\"\",Crane_1_Block_Wt)","v":""},null,null,null,null,"LBS",null,null,{"$f":"IF(Crane_2_Block_Wt=0,\"\",Crane_2_Block_Wt)","v":""},null,null,null,null,"LBS",null,{"$f":"LEFT(Crane_1_Pad_or_Mat_Label,26)","v":""},null,null,null,null,null,null,null,null,null,{"$f":"IF(Crane_1_size_of_pad_reqd_or_timber_mats=0,\"\",Crane_1_size_of_pad_reqd_or_timber_mats)","v":""},null,null,null,{"$f":"IF(Crane_1_size_of_pad_formula_info=0,\"\",Crane_1_size_of_pad_formula_info)","v":""},null,null,null,null,null,null,null,null,null,null,null,"Shallow Utilities",null,null,null,null,null,{"$f":"IF(Shallow_UG_Utilities=0,\"\",Shallow_UG_Utilities)","v":""},null,null,null,null,null,null,null,null,null,null,null,null,null,null,null,null,null,null,null,null,null,null,null,null,null,null,null,null,null,null,null,null,null,null,null,null,null,null,null,null,null,null,null,null,null,null,null,null,null,null,null,null,null,null,null,null,null,null,null,null,null,null,null,null,null,null,null,null,null,null,null,null,null,null,null,null,null,null,null,null,null,null,null,null,null,null,null,null,null,null,null,null,null,null,null,null,null,null,null,null,null,null,null,null,null,null,null,null,null,null,null,null,null,null,null,null,null,null,null,null,null,null,null,null,null,null,null,null,null,null,null,null,null,null,null,null,null,null,null,null,null,null,null,null,null,null,null,null,null,null,null,null,null,null,null,null,null,null,null,null,null,null,null,null,null,null,null,null,null,null,null,null,null,null,null,null,null,null,null,null,null,null,null,null,null,null,null,null,null,null,null,null,null,null,null,null,null,null,null,null,null,null,null,null,null,null,null,null,null,null,null,null,null,null,null,null,null,null,null,null,null,null,null,null,null,null,null,null,null,null,null,null,null,null,null,null,null,null,null,null,null,null,null,null,null,null,null,null,null,null,null,null,null,{"$f":"IF(LA$10<1,\"\",IF(INDEX($NC$14:$OX$55,$LD34,LA$10)=0,\"\",INDEX($NC$14:$OX$55,$LD34,LA$10)))","v":""},"","",21,"",null,null,null,null,null,null,null,null,null,null,null,null,null,null,null,null,null,null,null,null,null,"","","",20,"",null,null,null,null,null,null,null,null,null,null,null,null,null,null,null,null,null,null,null,null,null,null,null,null,null,null,null,null,null,null,"Name                                                 Sign                                                                                Date",null,null,null,"Name                                                 Sign                                                                                Date",null,null,null,"Name                                                 Sign                                                                                Date",null,null,null,"Name                                                 Sign                                                                                Date",null,null,null,"Name                                                 Sign                                                                                Date",null,null,null,"Name                                                 Sign                                                                                Date",null,null,null,"Name                                                 Sign                                                                                Date",null,null,null,"Name                                                 Sign                                                                                Date",null,null,null,"Name                                                 Sign                                                                                Date",null,null,null,"Name                                                 Sign                                                                                Date",null,null,null,"Name                                                 Sign                                                                                Date"]
["Crane Cable Weight",null,null,null,null,null,null,null,null,null,null,{"$f":"IF(Crane_1_Cable_Wt=0,\"\",Crane_1_Cable_Wt)","v":""},null,null,null,null,"LBS",null,null,{"$f":"IF(Crane_2_Cable_Wt=0,\"\",Crane_2_Cable_Wt)","v":""},null,null,null,null,"LBS",null,"Maximum Allowable Wind Speed",null,null,null,null,null,null,null,null,null,{"$f":"IF(Crane_1_Max_Wind=0,\"\",Crane_1_Max_Wind&\" MPH\")","v":""},null,null,null,null,null,null,null,null,null,null,null,null,null,null,null,"Vehicle Traffic",null,null,null,null,null,{"$f":"IF(Vehicle_Traffic=0,\"\",Vehicle_Traffic)","v":""},null,null,null,null,null,null,null,null,null,null,null,null,null,null,null,null,null,null,null,null,null,null,null,null,null,null,null,null,null,null,null,null,null,null,null,null,null,null,null,null,null,null,null,null,null,"£","£","£",null,"Tires, wheels, tracks",null,null,null,null,null,null,null,null,null,null,null,null,null,null,null,null,null,null,null,null,null,"OK","NG","N/A",null,"Machinery House Inspection",null,null,null,null,null,null,null,null,null,null,null,null,null,null,null,null,null,"Comments",null,null,null,{"$f":"IF(More_than_one=\"No\",\"u\",\"£\")","v":"£"},"£","£",null,{"$f":"IF(More_than_one=\"No\",\"MAKE BLANK\",\"Tires, wheels, tracks\")","v":"Tires, wheels, tracks"},null,null,null,null,null,{"$f":"IF(More_than_one=\"No\",\"MAKE BLANK\",\" \")","v":" "},null,null,null,null,null,null,null,null,null,null,null,null,null,null,null,{"$f":"IF(More_than_one=\"No\",\"MAKE BLANK\",\"OK\")","v":"OK"},{"$f":"IF(More_than_one=\"No\",\"MAKE BLANK\",\"NG\")","v":"NG"},{"$f":"IF(More_than_one=\"No\",\"MAKE BLANK\",\"N/A\")","v":"N/A"},{"$f":"IF(More_than_one=\"No\",\"MAKE BLANK\",\" \")","v":" "},{"$f":"IF(More_than_one=\"No\",\"MAKE BLANK\",\"Machinery House Inspection\")","v":"Machinery House Inspection"},null,null,null,null,null,null,null,null,null,null,null,null,null,null,null,null,null,{"$f":"IF(More_than_one=\"No\",\"MAKE BLANK\",\"Comments\")","v":"Comments"},null,null,null,"£","£","£",null,"Red core warning yarns are not visible",null,null,null,null,null,null,null,null,null,null,null,null,null,null,null,null,null,null,null,null,null,"£","£","£",null,"No parts missing",null,null,null,null,null,null,null,null,null,null,null,null,null,null,null,null,null,null,null,null,null,{"$f":"IF(More_than_one=\"No\",\"u\",\"£\")","v":"£"},{"$f":"IF(More_than_one=\"No\",\"u\",\"£\")","v":"£"},{"$f":"IF(More_than_one=\"No\",\"u\",\"£\")","v":"£"},null,{"$f":"IF(More_than_one=\"No\",\"MAKE BLANK\",\"Red core warning yarns are not visible\")","v":"Red core warning yarns are not visible"},null,null,null,null,null,null,null,null,{"$f":"IF(More_than_one=\"No\",\"MAKE BLANK\",\" \")","v":" "},null,null,null,null,null,null,null,null,null,null,null,null,{"$f":"IF(More_than_one=\"No\",\"u\",\"£\")","v":"£"},{"$f":"IF(More_than_one=\"No\",\"u\",\"£\")","v":"£"},{"$f":"IF(More_than_one=\"No\",\"u\",\"£\")","v":"£"},null,{"$f":"IF(More_than_one=\"No\",\"MAKE BLANK\",\"No parts missing\")","v":"No parts missing"},null,null,null,{"$f":"IF(More_than_one=\"No\",\"MAKE BLANK\",\" \")","v":" "},null,null,null,null,null,null,null,null,null,null,null,null,null,null,null,null,null,"","","",22,"",null,null,null,null,null,null,null,null,null,null,null,null,null,null,null,null,null,null,null,null,null,"","","",21,"",null,null,null,null,null,null,null,null,null,null,null,null,null,null,null,null,null,null,null,null,null,null,null,null,null,null,null," "," "," ",{"$f":"CONCATENATE(IF(LP_Superintendent=0,\"\",LP_Superintendent),\"  _________________________________________________________________________________\")","v":"  _________________________________________________________________________________"}," "," "," ",{"$f":"CONCATENATE(IF(Assembly_Disassembly_Director_Name=0,\"\",Assembly_Disassembly_Director_Name),\"  _________________________________________________________________________________\")","v":"  _________________________________________________________________________________"}," "," "," ",{"$f":"CONCATENATE(IF(LP_Superintendent=0,\"\",LP_Superintendent),\"  _________________________________________________________________________________\")","v":"  _________________________________________________________________________________"}," "," "," ",{"$f":"CONCATENATE(IF(LP_Superintendent=0,\"\",LP_Superintendent),\"  _________________________________________________________________________________\")","v":"  _________________________________________________________________________________"}," ",null,null,{"$f":"CONCATENATE(IF(LP_Superintendent=0,\"\",LP_Superintendent),\"  _________________________________________________________________________________\")","v":"  _________________________________________________________________________________"}," "," "," ",{"$f":"CONCATENATE(IF(LP_Superintendent=0,\"\",LP_Superintendent),\"  _________________________________________________________________________________\")","v":"  _________________________________________________________________________________"}," "," "," ",{"$f":"CONCATENATE(IF(LP_Superintendent=0,\"\",LP_Superintendent),\"  _________________________________________________________________________________\")","v":"  _________________________________________________________________________________"}," "," "," ",{"$f":"CONCATENATE(IF(LP_Superintendent=0,\"\",LP_Superintendent),\"  _________________________________________________________________________________\")","v":"  _________________________________________________________________________________"}," "," "," ",{"$f":"CONCATENATE(IF(LP_Superintendent=0,\"\",LP_Superintendent),\"  _________________________________________________________________________________\")","v":"  _________________________________________________________________________________"}," "," "," ",{"$f":"CONCATENATE(IF(LP_Superintendent=0,\"\",LP_Superintendent),\"  _________________________________________________________________________________\")","v":"  _________________________________________________________________________________"}," "," "," ",{"$f":"CONCATENATE(IF(LP_Superintendent=0,\"\",LP_Superintendent),\"  _________________________________________________________________________________\")","v":"  _________________________________________________________________________________"}]
["Jib Weight",null,null,null,null,null,null,null,null,null,null,{"$f":"IF(Crane_1_Jib_Wt=0,\"\",Crane_1_Jib_Wt)","v":""},null,null,null,null,"LBS",null,null,{"$f":"IF(Crane_2_Jib_Wt=0,\"\",Crane_2_Jib_Wt)","v":""},null,null,null,null,"LBS",null,{"$f":"IF(Crane_Plan_Other_A_Label=0,\"\",Crane_Plan_Other_A_Label)","v":""},null,null,null,null,null,null,null,null,null,{"$f":"IF(Crane_1_Crane_Plan_Other_A=0,\"\",Crane_1_Crane_Plan_Other_A)","v":""},null,null,null,null,null,null,null,null,null,null,null,null,null,null,null,"Pedestrian Traffic",null,null,null,null,null,{"$f":"IF(Pedestrian_Traffic=0,\"\",Pedestrian_Traffic)","v":""},null,null,null,null,null,null,null,null,null,null,null,null,null,null,null,null,null,null,null,null,null,null,null,null,null,null,null,null,null,null,null,null,null,null,null,null,null,null,null,null,null,null,null,null,null,"£","£","£",null,"Leaks- fuel, oil, lube, water",null,null,null,null,null,null,null,null,null,null,null,null,null,null,null,null,null,null,null,null,null,"£","£","£",null,"Housekeeping",null,null,null,null,null,null,null,null,null,null,null,null,null,null,null,null,null,null,null,null,null,"£","£","£",null,{"$f":"IF(More_than_one=\"No\",\"MAKE BLANK\",\"Leaks- fuel, oil, lube, water\")","v":"Leaks- fuel, oil, lube, water"},null,null,null,null,null,null,{"$f":"IF(More_than_one=\"No\",\"MAKE BLANK\",\" \")","v":" "},null,null,null,null,null,null,null,null,null,null,null,null,null,null,{"$f":"IF(More_than_one=\"No\",\"u\",\"£\")","v":"£"},{"$f":"IF(More_than_one=\"No\",\"u\",\"£\")","v":"£"},{"$f":"IF(More_than_one=\"No\",\"u\",\"£\")","v":"£"},null,{"$f":"IF(More_than_one=\"No\",\"MAKE BLANK\",\"Housekeeping\")","v":"Housekeeping"},null,null,null,{"$f":"IF(More_than_one=\"No\",\"MAKE BLANK\",\" \")","v":" "},null,null,null,null,null,null,null,null,null,null,null,null,null,null,null,null,null,null,null,null,null,null,null,null,null,null,null,null,null,null,null,null,null,null,null,null,null,null,null,null,null,null,null,null,null,null,null,null,null,null,null,null,null,null,null,null,null,null,null,null,null,null,null,null,null,null,null,null,null,null,null,null,null,null,null,null,null,null,null,null,null,null,null,null,null,null,null,null,null,null,null,null,null,null,null,null,null,null,null,null,null,null,null,null,null,null,null,null,null,null,null,null,null,null,null,null,null,null,null,null,null,"",{"$f":"IF(LB$10<1,\"\",IF(INDEX($NC$14:$OX$55,$LD36,LB$10)=0,\"\",INDEX($NC$14:$OX$55,$LD36,LB$10)))","v":""},"",23,{"$f":"IF(LE$10<1,\"\",IF(INDEX($NC$14:$OX$55,$LD36,LE$10)=0,\"\",INDEX($NC$14:$OX$55,$LD36,LE$10)))","v":""},null,null,null,null,null,null,null,null,null,null,null,null,null,null,null,null,null,null,null,null,null,"","","",22,"",null,null,null,null,null,null,null,null,null,null,null,null,null,null,null,null,null,null,null,null,null,null,null,"MAKE BLANK","MAKE BLANK","MAKE BLANK","MAKE BLANK","OK","NG","N/A","EHS Professional",null,null,null,null,"OK","NG","N/A","EHS Professional","OK","NG","N/A","EHS Professional","OK","NG","N/A","EHS Professional","OK","NG","N/A","EHS Professional","OK","NG","N/A","EHS Professional",null,null,null,"EHS Professional","OK","NG","N/A","EHS Professional","OK","NG","N/A","EHS Professional","OK","NG","N/A","EHS Professional"]
[{"$f":"IF(Load_Wt_Other_A_Label=0,\"\",Load_Wt_Other_A_Label)","v":""},null,null,null,null,null,null,null,null,null,null,{"$f":"IF(Crane_1_Other_A_Wt=0,\"\",Crane_1_Other_A_Wt)","v":""},null,null,null,null,"LBS",null,null,{"$f":"IF(Crane_2_Other_A_Wt=0,\"\",Crane_2_Other_A_Wt)","v":""},null,null,null,null,"LBS",null,null,null,null,null,null,null,null,null,null,null,null,null,null,"Capacity @ Radius",null,null,null,null,null,null,null,null,null,null,null,null,null,null,null,null,null,null,null,null,null,null,null,null,null,null,null,null,null,null,null,null,null,null,null,null,null,null,null,null,null,null,null,null,null,null,null,null,null,null,null,null,null,null,null,null,null,null,null,null,null,null,null,null,null,null,null,null,null,null,null,null,null,null,null,null,null,null,null,null,null,null,null,null,null,null,null,null,null,null,null,null,null,null,null,null,null,null,null,null,null,null,null,null,null,null,null,null,null,null,null,null,null,null,null,null,null,null,null,null,null,null,null,null,null,null,null,null,null,null,null,null,null,null,null,null,null,null,null,null,null,null,null,null,null,null,null,null,null,null,null,null,null,null,null,null,null,null,null,null,null,null,null,null,null,null,null,null,"£","£","£",null,"There are no signs of melting, charring or chemical damage",null,null,null,null,null,null,null,null,null,null,null,null,null,null,null,null,null,null,null,null,null,null,null,null,null,"Identification Number(s)",null,null,null,null,null,null,null,null,null,null,null,null,null,null,null,null,null,null,null,null,null,{"$f":"IF(More_than_one=\"No\",\"u\",\"£\")","v":"£"},{"$f":"IF(More_than_one=\"No\",\"u\",\"£\")","v":"£"},{"$f":"IF(More_than_one=\"No\",\"u\",\"£\")","v":"£"},null,{"$f":"IF(More_than_one=\"No\",\"MAKE BLANK\",\"There are no signs of melting, charring or chemical damage\")","v":"There are no signs of melting, charring or chemical damage"},null,null,null,null,null,null,null,null,null,null,null,null,null,{"$f":"IF(More_than_one=\"No\",\"MAKE BLANK\",\" \")","v":" "},null,null,null,null,null,null,null,null,null,null,null,{"$f":"IF(More_than_one=\"No\",\"MAKE BLANK\",\"Identification Number(s)\")","v":"Identification Number(s)"},null,null,null,null,null,{"$f":"IF(More_than_one=\"No\",\"MAKE BLANK\",\" \")","v":" "},null,null,null,null,null,null,null,null,null,null,null,null,null,null,null,"","","",24,"",null,null,null,null,null,null,null,null,null,null,null,null,null,null,null,null,null,null,null,null,null,"","","",23,"",null,null,null,null,null,null,null,null,null,null,null,null,null,null,null,null,null,null,null,null,null,null,null,null,null,null,null,"£","£","£","    I have reviewed the Lift Plan.",null,null,null,null,"£","£","£","    Signal Person trained (Crane Signaling) on date: _____________________","£","£","£","    Signal Person trained (Crane Signaling) on date: _____________________","£","£","£","    Signal Person trained (Crane Signaling) on date: ________________","£","£","£","    Signal Person trained (Crane Signaling) on date: ________________","£","£","£","    Signal Person trained (Crane Signaling) on date: ________________","£","£","£","    Signal Person trained (Crane Signaling) on date: _____________________","£","£","£","    Signal Person trained (Crane Signaling) on date: _____________________","£","£","£","    Signal Person trained (Crane Signaling) on date: ________________","£","£","£","    Signal Person trained (Crane Signaling) on date: _____________________"]
[{"$f":"IF(Load_Wt_Other_B_Label=0,\"\",Load_Wt_Other_B_Label)","v":""},null,null,null,null,null,null,null,null,null,null,{"$f":"IF(Crane_1_Other_B_Wt=0,\"\",Crane_1_Other_B_Wt)","v":""},null,null,null,null,"LBS",null,null,{"$f":"IF(Crane_2_Other_B_Wt=0,\"\",Crane_2_Other_B_Wt)","v":""},null,null,null,null,"LBS",null,"Planned Radius & Capacity for this Lift",null,null,null,null,null,null,null,null,null,{"$f":"Crane_1_Max_Planned_Radius_Ft","v":0},null,null,null,{"$f":"Crane_1_Capacity_at_Max_Planned_Radius","v":0},null,null,{"$f":"IF(Crane_1_Capacity_at_Radius_Unit_of_Measure=0,\" \",Crane_1_Capacity_at_Radius_Unit_of_Measure)","v":" "},null,{"$f":"Crane_1_Percent_Used_at_Max_Planned_Radius","v":""},null,"of Crane Capacity",null,null,null,null,"Weather",null,null,null,null,null,null,null,null,null,null,null,null,null,null,null,null,null,null,null,null,null,null,null,null,null,null,null,null,null,null,null,null,null,null,null,null,null,null,null,null,null,null,null,null,null,null,null,null,null,null,null,"£","£","£",null,"Radius indicator",null,null,null,null,null,null,null,null,null,null,null,null,null,null,null,null,null,null,null,null,null,"£","£","£",null,"Engine/Compressor",null,null,null,null,null,null,null,null,null,null,null,null,null,null,null,null,null,null,null,null,null,{"$f":"IF(More_than_one=\"No\",\"u\",\"£\")","v":"£"},{"$f":"IF(More_than_one=\"No\",\"u\",\"£\")","v":"£"},{"$f":"IF(More_than_one=\"No\",\"u\",\"£\")","v":"£"},null,{"$f":"IF(More_than_one=\"No\",\"MAKE BLANK\",\"Radius indicator\")","v":"Radius indicator"},null,null,null,null,{"$f":"IF(More_than_one=\"No\",\"MAKE BLANK\",\" \")","v":" "},null,null,null,null,null,null,null,null,null,null,null,null,null,null,null,null,{"$f":"IF(More_than_one=\"No\",\"u\",\"£\")","v":"£"},{"$f":"IF(More_than_one=\"No\",\"u\",\"£\")","v":"£"},{"$f":"IF(More_than_one=\"No\",\"u\",\"£\")","v":"£"},null,{"$f":"IF(More_than_one=\"No\",\"MAKE BLANK\",\"Engine/Compressor\")","v":"Engine/Compressor"},null,null,null,null,{"$f":"IF(More_than_one=\"No\",\"MAKE BLANK\",\" \")","v":" "},null,null,null,null,null,null,null,null,null,null,null,null,null,null,null,null,null,null,null,null,null,null,null,null,null,null,null,null,null,null,null,null,null,null,null,null,null,null,null,null,null,null,null,null,null,null,null,null,null,null,null,null,null,null,null,null,null,null,null,null,null,null,null,null,null,null,null,null,null,null,null,null,null,null,null,null,null,null,null,null,null,null,null,null,null,null,null,null,null,null,null,null,null,null,null,null,null,null,null,null,null,null,null,null,null,null,null,null,null,null,null,null,null,null,null,null,null,null,null,null,"","","",25,"",null,null,null,null,null,null,null,null,null,null,null,null,null,null,null,null,null,null,null,null,null,"","","",24,"",null,null,null,null,null,null,null,null,null,null,null,null,null,null,null,null,null,null,null,null,null,null,null,null,null,null,null,null,null,null,null,null,null,null,null,"£","£","£","    Competent Person trained (Rigging CP) on date: _____________________","£","£","£","    Competent Person trained (Rigging CP) on date: _____________________","£","£","£","    Competent Person trained (Rigging CP) on date: ________________","£","£","£","    Competent Person trained (Rigging CP) on date: ________________","£","£","£","    Competent Person trained (Rigging CP) on date: ________________","£","£","£","    Competent Person trained (Rigging CP) on date: _____________________","£","£","£","    Competent Person trained (Rigging CP) on date: _____________________","£","£","£","    Competent Person trained (Rigging CP) on date: ________________","£","£","£","    Competent Person trained (Rigging CP) on date: _____________________"]
["Hydraulic and/or Fuel Weight",null,null,null,null,null,null,null,null,null,null,{"$f":"IF(Crane_1_Fuel_Wt=0,\"\",Crane_1_Fuel_Wt)","v":""},null,null,null,null,"LBS",null,null,{"$f":"IF(More_than_one=\"No\", \"MAKE BLANK\",IF(Crane_2_Fuel_Wt=0,\"\",Crane_2_Fuel_Wt))","v":""},null,null,null,null,"LBS",null,"Maximum Allowable Radius and Capacity for this Lift ",null,null,null,null,null,null,null,null,null,null,null,null,null,null,null,null,null,null,null,null,null,null,null,null,null,"Sunny/Cloudy/etc.",null,null,null,null,null,null,null,null,null,null,null,null,null,null,null,null,null,null,null,null,null,null,null,null,null,null,null,null,null,null,null,null,null,null,null,null,null,null,null,null,null,null,null,null,null,null,null,null,null,null,null,null,null,null,null,null,null,null,null,null,null,null,null,null,null,null,null,null,null,null,null,null,null,null,null,null,null,null,null,null,null,null,null,null,null,null,null,null,null,null,null,null,null,null,null,null,null,null,null,null,null,null,null,null,null,null,null,null,null,null,null,null,null,null,null,null,null,null,null,null,null,null,null,null,null,null,null,null,null,null,null,null,null,null,null,null,null,null,null,null,null,null,null,null,null,null,null,null,null,null,null,null,null,null,null,"£","£","£",null,"End fittings are in tact, not excessively pitted, corroded, distorted, cracked or broken",null,null,null,null,null,null,null,null,null,null,null,null,null,null,null,null,null,null,null,null,null,"OK","NG","N/A",null,"Below The Hook Lifting Devices",null,null,null,null,null,null,null,null,null,null,null,null,null,null,null,null,null,"Comments",null,null,null,{"$f":"IF(More_than_one=\"No\",\"u\",\"£\")","v":"£"},{"$f":"IF(More_than_one=\"No\",\"u\",\"£\")","v":"£"},{"$f":"IF(More_than_one=\"No\",\"u\",\"£\")","v":"£"},null,{"$f":"IF(More_than_one=\"No\",\"MAKE BLANK\",\"End fittings are in tact, not excessively pitted, corroded, distorted, cracked or broken\")","v":"End fittings are in tact, not excessively pitted, corroded, distorted, cracked or broken"},null,null,null,null,null,null,null,null,null,null,null,null,null,null,null,null,null,null,null,{"$f":"IF(More_than_one=\"No\",\"MAKE BLANK\",\" \")","v":" "},null,{"$f":"IF(More_than_one=\"No\",\"MAKE BLANK\",\"OK\")","v":"OK"},{"$f":"IF(More_than_one=\"No\",\"MAKE BLANK\",\"NG\")","v":"NG"},{"$f":"IF(More_than_one=\"No\",\"MAKE BLANK\",\"N/A\")","v":"N/A"},{"$f":"IF(More_than_one=\"No\",\"MAKE BLANK\",\" \")","v":" "},{"$f":"IF(More_than_one=\"No\",\"MAKE BLANK\",\"Below the Hook Lifting Devices\")","v":"Below the Hook Lifting Devices"},null,null,null,null,null,null,null,null,null,null,null,null,null,null,null,null,null,{"$f":"IF(More_than_one=\"No\",\"MAKE BLANK\",\"Comments\")","v":"Comments"},null,null,null,"","","",26,"",null,null,null,null,null,null,null,null,null,null,null,null,null,null,null,null,null,null,null,null,null,"","","",25,"",null,null,null,null,null,null,null,null,null,null,null,null,null,null,null,null,null,null,null,null,null,null,null,null,null,null,null,null,null,null,"Name                                                 Sign                                                                                Date",null,null,null,null,null,null,null,"Name                                                 Sign                                                                                Date",null,null,null,"Name                                                 Sign                                                                                Date",null,null,null,"Name                                                 Sign                                                                                Date",null,null,null,"Name                                                 Sign                                                                                Date",null,null,null,"Name                                                 Sign                                                                                Date",null,null,null,"Name                                                 Sign                                                                                Date",null,null,null,"Name                                                 Sign                                                                                Date",null,null,null,"Name                                                 Sign                                                                                Date",null,null,null,"Name                                                 Sign                                                                                Date"]
["Gross Load Weight (Total Load)",null,null,null,null,null,null,null,null,null,null,{"$f":"IF(Crane_1_Gross_Wt=0,\"\",Crane_1_Gross_Wt)","v":""},null,null,null,null,"LBS",null,null,{"$f":"IF(Crane_2_Gross_Wt=0,\"\",Crane_2_Gross_Wt)","v":""},null,null,null,null,"LBS",null,null,null,null,null,null,null,null,null,null,null,{"$f":"Crane_1_Max_Allowed_Radius_Ft","v":0},null,null,null,{"$f":"Crane_1_Capacity_at_Max_Allowed_Radius","v":0},null,null,{"$f":"IF(Crane_1_Capacity_at_Radius_Unit_of_Measure=0,\" \",Crane_1_Capacity_at_Radius_Unit_of_Measure)","v":" "},null,{"$f":"Crane_1_Percent_Used_at_Max_Allowed_Radius","v":""},null,"of Crane Capacity",null,null,null,null,null,null,null,null,null,null,null,null,null,null,null,null,null,null,null,null,null,null,null,null,null,null,null,null,null,null,null,null,null,null,null,null,null,null,null,null,null,null,null,null,null,null,null,null,null,null,null,null,null,null,null,null,"£","£","£",null,"Outrigger locking device",null,null,null,null,null,null,null,null,null,null,null,null,null,null,null,null,null,null,null,null,null,"£","£","£",null,"Leaks- fuel, oil, lube, water",null,null,null,null,null,null,null,null,null,null,null,null,null,null,null,null,null,null,null,null,null,{"$f":"IF(More_than_one=\"No\",\"u\",\"£\")","v":"£"},{"$f":"IF(More_than_one=\"No\",\"u\",\"£\")","v":"£"},{"$f":"IF(More_than_one=\"No\",\"u\",\"£\")","v":"£"},null,{"$f":"IF(More_than_one=\"No\",\"MAKE BLANK\",\"Outrigger locking device\")","v":"Outrigger locking device"},null,null,null,null,null,{"$f":"IF(More_than_one=\"No\",\"MAKE BLANK\",\" \")","v":" "},null,null,null,null,null,null,null,null,null,null,null,null,null,null,null,{"$f":"IF(More_than_one=\"No\",\"u\",\"£\")","v":"£"},{"$f":"IF(More_than_one=\"No\",\"u\",\"£\")","v":"£"},{"$f":"IF(More_than_one=\"No\",\"u\",\"£\")","v":"£"},null,{"$f":"IF(More_than_one=\"No\",\"MAKE BLANK\",\"Leaks- fuel, oil, lube, water\")","v":"Leaks- fuel, oil, lube, water"},null,null,null,null,null,null,{"$f":"IF(More_than_one=\"No\",\"MAKE BLANK\",\" \")","v":" "},null,null,null,null,null,null,null,null,null,null,null,null,null,null,null,null,null,null,null,null,null,null,null,null,null,null,null,null,null,null,null,null,null,null,null,null,null,null,null,null,"£","£","£",null,"There are no worn or damaged conditions.",null,null,null,null,null,null,null,null,null,null,null,null,null,null,null,null,null,null,null,null,null,null,null,null,null,null,null,null,null,null,null,null,null,null,null,null,null,null,null,null,null,null,null,null,null,null,null,{"$f":"IF(More_than_one=\"No\",\"u\",\"£\")","v":"£"},{"$f":"IF(More_than_one=\"No\",\"u\",\"£\")","v":"£"},{"$f":"IF(More_than_one=\"No\",\"u\",\"£\")","v":"£"},null,{"$f":"IF(More_than_one=\"No\",\"MAKE BLANK\",\"There are no worn or damaged conditions.\")","v":"There are no worn or damaged conditions."},null,null,null,null,null,null,null,null,null,{"$f":"IF(More_than_one=\"No\",\"MAKE BLANK\",\" \")","v":" "},null,null,null,null,null,null,null,null,null,null,null,"","","",27,"",null,null,null,null,null,null,null,null,null,null,null,null,null,null,null,null,null,null,null,null,null,"","","",26,"",null,null,null,null,null,null,null,null,null,null,null,null,null,null,null,null,null,null,null,null,null,null,null,null,null,null,null," "," "," ",{"$f":"CONCATENATE(IF(LP_EHS_Professional=0,\"\",LP_EHS_Professional),\"  _________________________________________________________________________________\")","v":"  _________________________________________________________________________________"},null,null,null,null," "," "," ",{"$f":"CONCATENATE(IF(LP_EHS_Professional=0,\"\",LP_EHS_Professional),\"  _________________________________________________________________________________\")","v":"  _________________________________________________________________________________"}," "," "," ",{"$f":"CONCATENATE(IF(LP_EHS_Professional=0,\"\",LP_EHS_Professional),\"  _________________________________________________________________________________\")","v":"  _________________________________________________________________________________"}," "," "," ",{"$f":"CONCATENATE(IF(LP_EHS_Professional=0,\"\",LP_EHS_Professional),\"  _________________________________________________________________________________\")","v":"  _________________________________________________________________________________"}," "," "," ",{"$f":"CONCATENATE(IF(LP_EHS_Professional=0,\"\",LP_EHS_Professional),\"  _________________________________________________________________________________\")","v":"  _________________________________________________________________________________"}," "," "," ",{"$f":"CONCATENATE(IF(LP_EHS_Professional=0,\"\",LP_EHS_Professional),\"  _________________________________________________________________________________\")","v":"  _________________________________________________________________________________"}," "," "," ",{"$f":"CONCATENATE(IF(LP_EHS_Professional=0,\"\",LP_EHS_Professional),\"  _________________________________________________________________________________\")","v":"  _________________________________________________________________________________"}," "," "," ",{"$f":"CONCATENATE(IF(LP_EHS_Professional=0,\"\",LP_EHS_Professional),\"  _________________________________________________________________________________\")","v":"  _________________________________________________________________________________"}," "," "," ",{"$f":"CONCATENATE(IF(LP_EHS_Professional=0,\"\",LP_EHS_Professional),\"  _________________________________________________________________________________\")","v":"  _________________________________________________________________________________"}," "," "," ",{"$f":"CONCATENATE(IF(LP_EHS_Professional=0,\"\",LP_EHS_Professional),\"  _________________________________________________________________________________\")","v":"  _________________________________________________________________________________"}]
[null,null,null,null,null,null,null,null,null,null,null,null,null,null,null,null,null,null,null,null,null,null,null,null,null,null,null,null,null,null,null,null,null,null,null,null,null,null,null,null,null,null,null,null,null,null,null,null,null,null,null,null,"Temperature",null,null,null,null,null,null,null,null,null,null,null,null,null,null,null,null,null,null,null,null,null,null,null,null,null,null,null,null,null,null,null,null,null,null,null,null,null,null,null,null,null,null,null,null,null,null,null,null,null,null,null,"OK","NG","N/A",null,"Operation Inspection",null,null,null,null,null,null,null,null,null,null,null,null,null,null,null,null,null,"Comments",null,null,null,null,null,null,null,null,null,null,null,null,null,null,null,null,null,null,null,null,null,null,null,null,null,null,null,null,null,{"$f":"IF(More_than_one=\"No\",\"MAKE BLANK\",\"OK\")","v":"OK"},{"$f":"IF(More_than_one=\"No\",\"MAKE BLANK\",\"NG\")","v":"NG"},{"$f":"IF(More_than_one=\"No\",\"MAKE BLANK\",\"N/A\")","v":"N/A"},{"$f":"IF(More_than_one=\"No\",\"MAKE BLANK\",\" \")","v":" "},{"$f":"IF(More_than_one=\"No\",\"MAKE BLANK\",\"Operation Inspection\")","v":"Operation Inspection"},null,null,null,null,null,null,null,null,null,null,null,null,null,null,null,null,null,{"$f":"IF(More_than_one=\"No\",\"MAKE BLANK\",\"Comments\")","v":"Comments"},null,null,null,null,null,null,null,null,null,null,null,null,null,null,null,null,null,null,null,null,null,null,null,null,null,null,null,null,null,"£","£","£",null,"No cuts on the face or edge of webbing",null,null,null,null,null,null,null,null,null,null,null,null,null,null,null,null,null,null,null,null,null,null,null,null,null,null,null,null,null,null,null,null,null,null,null,null,null,null,null,null,null,null,null,null,null,null,null,{"$f":"IF(More_than_one=\"No\",\"u\",\"£\")","v":"£"},{"$f":"IF(More_than_one=\"No\",\"u\",\"£\")","v":"£"},{"$f":"IF(More_than_one=\"No\",\"u\",\"£\")","v":"£"},null,{"$f":"IF(More_than_one=\"No\",\"MAKE BLANK\",\"No cuts on the face or edge of webbing\")","v":"No cuts on the face or edge of webbing"},null,null,null,null,null,null,null,null,null,{"$f":"IF(More_than_one=\"No\",\"MAKE BLANK\",\" \")","v":" "},null,null,null,null,null,null,null,null,null,null,null,null,null,null,null,null,null,null,null,null,null,null,null,null,null,null,null,null,null,null,null,null,null,null,null,null,null,"",{"$f":"IF(LB$10<1,\"\",IF(INDEX($NC$14:$OX$55,$LD41,LB$10)=0,\"\",INDEX($NC$14:$OX$55,$LD41,LB$10)))","v":""},"",28,"",null,null,null,null,null,null,null,null,null,null,null,null,null,null,null,null,null,null,null,null,null,"","","",27,"",null,null,null,null,null,null,null,null,null,null,null,null,null,null,null,null,null,null,null,null,null,null,null,"MAKE BLANK","MAKE BLANK","MAKE BLANK","MAKE BLANK","OK","NG","N/A","Project Crane Coordinator","MAKE BLANK","MAKE BLANK","MAKE BLANK","MAKE BLANK","OK","NG","N/A","Project Crane Coordinator","OK","NG","N/A","Project Crane Coordinator","OK","NG","N/A","Project Crane Coordinator","OK","NG","N/A","Project Crane Coordinator","OK","NG","N/A","Project Crane Coordinator","OK","NG","N/A","Project Crane Coordinator","OK","NG","N/A","Project Crane Coordinator","OK","NG","N/A","Project Crane Coordinator","OK","NG","N/A","Project Crane Coordinator"]
[null,null,null,null,null,null,null,null,null,null,null,null,null,null,null,null,null,null,null,null,null,null,null,null,null,null,"Crane Plan     - Crane 2",null,null,null,null,null,null,null,null,null,{"$f":"IF(More_than_one=\"No\",\"Not Applicable\",IF(Crane_2_name=0,\" \",Crane_2_name))","v":" "},null,null,null,null,null,null,null,null,null,null,null,null,null,null,null,null,null,null,null,null,null,null,null,null,null,null,null,null,null,null,null,null,null,null,null,null,null,null,null,null,null,null,null,null,null,null,null,null,null,null,null,null,null,null,null,null,null,null,null,null,null,null,null,null,null,null,null,"£","£","£",null,"Unusual Noises",null,null,null,null,null,null,null,null,null,null,null,null,null,null,null,null,null,null,null,null,null,"£","£","£",null,"Lubrication",null,null,null,null,null,null,null,null,null,null,null,null,null,null,null,null,null,null,null,null,null,{"$f":"IF(More_than_one=\"No\",\"u\",\"£\")","v":"£"},{"$f":"IF(More_than_one=\"No\",\"u\",\"£\")","v":"£"},{"$f":"IF(More_than_one=\"No\",\"u\",\"£\")","v":"£"},null,{"$f":"IF(More_than_one=\"No\",\"MAKE BLANK\",\"Unusual Noises\")","v":"Unusual Noises"},null,null,null,null,{"$f":"IF(More_than_one=\"No\",\"MAKE BLANK\",\" \")","v":" "},null,null,null,null,null,null,null,null,null,null,null,null,null,null,null,null,{"$f":"IF(More_than_one=\"No\",\"u\",\"£\")","v":"£"},{"$f":"IF(More_than_one=\"No\",\"u\",\"£\")","v":"£"},{"$f":"IF(More_than_one=\"No\",\"u\",\"£\")","v":"£"},null,{"$f":"IF(More_than_one=\"No\",\"MAKE BLANK\",\"Lubrication\")","v":"Lubrication"},null,null,{"$f":"IF(More_than_one=\"No\",\"MAKE BLANK\",\" \")","v":" "},null,null,null,null,null,null,null,null,null,null,null,null,null,null,null,null,null,null,null,null,null,null,null,null,null,null,null,null,null,null,null,null,null,null,null,null,null,null,null,null,null,null,null,null,"£","£","£",null,"Proper documentation or tagging",null,null,null,null,null,null,null,null,null,null,null,null,null,null,null,null,null,null,null,null,null,null,null,null,null,null,null,null,null,null,null,null,null,null,null,null,null,null,null,null,null,null,null,null,null,null,null,{"$f":"IF(More_than_one=\"No\",\"u\",\"£\")","v":"£"},{"$f":"IF(More_than_one=\"No\",\"u\",\"£\")","v":"£"},{"$f":"IF(More_than_one=\"No\",\"u\",\"£\")","v":"£"},null,{"$f":"IF(More_than_one=\"No\",\"MAKE BLANK\",\"Proper documentation or tagging\")","v":"Proper documentation or tagging"},null,null,null,null,null,null,null,{"$f":"IF(More_than_one=\"No\",\"MAKE BLANK\",\" \")","v":" "},null,null,null,null,null,null,null,null,null,null,null,null,null,{"$f":"IF(LA$10<1,\"\",IF(INDEX($NC$14:$OX$55,$LD42,LA$10)=0,\"\",INDEX($NC$14:$OX$55,$LD42,LA$10)))","v":""},"","",29,{"$f":"IF(LE$10<1,\"\",IF(INDEX($NC$14:$OX$55,$LD42,LE$10)=0,\"\",INDEX($NC$14:$OX$55,$LD42,LE$10)))","v":""},null,null,null,null,null,null,null,null,null,null,null,null,null,null,null,null,null,null,null,null,null,"","","",28,"",null,null,null,null,null,null,null,null,null,null,null,null,null,null,null,null,null,null,null,null,null,null,null,null,null,null,null,"£","£","£","    I have reviewed the Lift Plan.",null,null,null,null,"£","£","£","    Load chart utilized is for exact crane model, boom type, length, tip and counterweight.","£","£","£","    Load chart utilized is for exact crane model, boom type, length, tip and counterweight.","£","£","£","    Load chart utilized is for exact crane model, boom type, length, tip and counterweight.","£","£","£","    Regional Crane Coordinator has been notified of Lift","£","£","£","    Regional Crane Coordinator has been notified of Lift","£","£","£","    Regional Crane Coordinator has been notified of Lift","£","£","£","    Regional Crane Coordinator has been notified of Lift","£","£","£","    Regional Crane Coordinator has been notified of Lift","£","£","£","    Regional Crane Coordinator has been notified of Lift"]
["Rigging to be used",null,null,null,null,{"$f":"IF(More_than_one=\"No\",\"\",\"- Crane 1\")","v":"- Crane 1"},null,null,{"$f":"IF(Crane_1_name=0,\"\",Crane_1_name)","v":""},null,null,null,null,null,null,null,null,null,null,null,null,null,null,null,null,null,{"$f":"IF(More_than_one=\"No\", \"MAKE BLANK\",\"Crane Manufacturer / Model / Serial\")","v":"Crane Manufacturer / Model / Serial"},null,null,null,null,null,null,null,null,null,{"$f":"IF(Crane_2_Model_No=0,\"\",Crane_2_Model_No)","v":""},null,null,null,null,null,null,null,null,null,null,null,null,null,null,null,"Wind Speed",null,null,null,null,null,null,null,null,null,null,null,"Maximum Allowable Wind Speed:",null,null,null,null,null,null,null,null,{"$f":"(MIN('5'!O222,'5'!O269,IF('5'!AB$29=\"yes\",20,'5'!O222)))","v":0},null,null,null,null,null,null,null,null,null,null,null,null,null,null,null,null,null,null,null,null,null,null,null,null,null,null,null,null,null,null,null,null,null,null,null,null,null,null,null,null,null,null,null,null,null,null,null,null,null,null,null,null,null,null,null,null,null,null,null,null,null,null,null,null,null,null,null,null,null,null,null,null,null,null,null,null,null,null,null,null,null,null,null,null,null,null,null,null,null,null,null,null,null,null,null,null,null,null,null,null,null,null,null,null,null,null,null,null,null,null,null,null,null,null,null,null,null,null,null,null,null,null,null,null,null,null,null,null,null,null,null,null,null,null,"£","£","£",null,"Web is in good condition, no holes, tears, snags or crushed",null,null,null,null,null,null,null,null,null,null,null,null,null,null,null,null,null,null,null,null,null,null,null,null,null,null,null,null,null,null,null,null,null,null,null,null,null,null,null,null,null,null,null,null,null,null,null,{"$f":"IF(More_than_one=\"No\",\"u\",\"£\")","v":"£"},{"$f":"IF(More_than_one=\"No\",\"u\",\"£\")","v":"£"},{"$f":"IF(More_than_one=\"No\",\"u\",\"£\")","v":"£"},null,{"$f":"IF(More_than_one=\"No\",\"MAKE BLANK\",\"Web is in good condition, no holes, tears, snags or crushed\")","v":"Web is in good condition, no holes, tears, snags or crushed"},null,null,null,null,null,null,null,null,null,null,null,null,null,{"$f":"IF(More_than_one=\"No\",\"MAKE BLANK\",\" \")","v":" "},null,null,null,null,null,null,null,null,null,null,null,null,null,null,null,null,null,null,null,null,null,null,null,null,null,null,null,null,null,null,null,null,null,"","","",30,"",null,null,null,null,null,null,null,null,null,null,null,null,null,null,null,null,null,null,null,null,null,"","","",29,"",null,null,null,null,null,null,null,null,null,null,null,null,null,null,null,null,null,null,null,null,null,null,null,null,null,null,null,null,null,null,null,null,null,null,null,"£","£","£","    The Crane is setup within the limits of the Crane Location Plan","£","£","£","    The Crane is setup within the limits of the Crane Location Plan","£","£","£","    The Crane is setup within the limits of the Crane Location Plan","£","£","£","    Copy of Critical Lift Plan has been submitted to Regional Crane Coordinator","£","£","£","    Copy of Critical Lift Plan has been submitted to Regional Crane Coordinator","£","£","£","    Copy of Critical Lift Plan has been submitted to Regional Crane Coordinator","£","£","£","    Copy of Critical Lift Plan has been submitted to Regional Crane Coordinator","£","£","£","    Copy of Critical Lift Plan has been submitted to Regional Crane Coordinator","£","£","£","    Copy of Critical Lift Plan has been submitted to Regional Crane Coordinator"]
["Type of Rigging",null,null,null,null,null,null,null,{"$f":"IF(Crane_1_Rigging_Type=0,\"\",Crane_1_Rigging_Type)","v":""},null,null,null,null,null,null,null,null,null,null,null,null,null,null,null,null,null,{"$f":"IF(More_than_one=\"No\", \"MAKE BLANK\",\"Boom Configuration\")","v":"Boom Configuration"},null,null,null,null,null,null,null,null,null,{"$f":"IF(Crane_2_Boom_Config=0,\"\",Crane_2_Boom_Config)","v":""},null,null,null,null,null,null,null,null,null,null,null,null,null,null,null,null,null,null,null,null,null,null,null,null,null,null,null,null,null,null,null,null,null,null,null,null,null,null,null,null,null,null,null,null,null,null,null,null,null,null,null,null,null,null,null,null,null,null,null,null,null,null,null,null,null,null,null,"£","£","£",null,"Control Action",null,null,null,null,null,null,null,null,null,null,null,null,null,null,null,null,null,null,null,null,null,"£","£","£",null,"Battery",null,null,null,null,null,null,null,null,null,null,null,null,null,null,null,null,null,null,null,null,null,{"$f":"IF(More_than_one=\"No\",\"u\",\"£\")","v":"£"},{"$f":"IF(More_than_one=\"No\",\"u\",\"£\")","v":"£"},{"$f":"IF(More_than_one=\"No\",\"u\",\"£\")","v":"£"},null,{"$f":"IF(More_than_one=\"No\",\"MAKE BLANK\",\"Control Action\")","v":"Control Action"},null,null,null,null,{"$f":"IF(More_than_one=\"No\",\"MAKE BLANK\",\" \")","v":" "},null,null,null,null,null,null,null,null,null,null,null,null,null,null,null,null,{"$f":"IF(More_than_one=\"No\",\"u\",\"£\")","v":"£"},{"$f":"IF(More_than_one=\"No\",\"u\",\"£\")","v":"£"},{"$f":"IF(More_than_one=\"No\",\"u\",\"£\")","v":"£"},null,{"$f":"IF(More_than_one=\"No\",\"MAKE BLANK\",\"Battery\")","v":"Battery"},null,{"$f":"IF(More_than_one=\"No\",\"MAKE BLANK\",\" \")","v":" "},null,null,null,null,null,null,null,null,null,null,null,null,null,null,null,null,null,null,null,null,null,null,null,null,null,null,null,null,null,null,null,null,null,null,null,null,null,null,null,null,null,null,null,null,null,"£","£","£",null,"Marking of manufacturer name or trademark",null,null,null,null,null,null,null,null,null,null,null,null,null,null,null,null,null,null,null,null,null,null,null,null,null,null,null,null,null,null,null,null,null,null,null,null,null,null,null,null,null,null,null,null,null,null,null,{"$f":"IF(More_than_one=\"No\",\"u\",\"£\")","v":"£"},{"$f":"IF(More_than_one=\"No\",\"u\",\"£\")","v":"£"},{"$f":"IF(More_than_one=\"No\",\"u\",\"£\")","v":"£"},null,{"$f":"IF(More_than_one=\"No\",\"MAKE BLANK\",\"Marking of manufacturer name or trademark\")","v":"Marking of manufacturer name or trademark"},null,null,null,null,null,null,null,null,null,null,{"$f":"IF(More_than_one=\"No\",\"MAKE BLANK\",\" \")","v":" "},null,null,null,null,null,null,null,null,null,null,"","","",31,"",null,null,null,null,null,null,null,null,null,null,null,null,null,null,null,null,null,null,null,null,null,"","","",30,"",null,null,null,null,null,null,null,null,null,null,null,null,null,null,null,null,null,null,null,null,null,null,null,null,null,null,null,null,null,null,null,null,null,null,null,"£","£","£","    The Crane is set up in an appropriate configuration","£","£","£","    The Crane is set up in an appropriate configuration","£","£","£","    The Crane is set up in an appropriate configuration","£","£","£",{"$f":"IF('5'!$AB$27=\"yes\",$OD$107,$OD$101)","v":"    Load chart utilized is for exact crane model, boom type, length, tip and counterweight."},"£","£","£",{"$f":"IF('5'!$AB$27=\"yes\",$OD$107,$OD$101)","v":"    Load chart utilized is for exact crane model, boom type, length, tip and counterweight."},"£","£","£",{"$f":"IF('5'!$AB$27=\"yes\",$OD$107,$OD$101)","v":"    Load chart utilized is for exact crane model, boom type, length, tip and counterweight."},"£","£","£",{"$f":"IF('5'!$AB$27=\"yes\",$OD$107,$OD$101)","v":"    Load chart utilized is for exact crane model, boom type, length, tip and counterweight."},"£","£","£","    Copy of the PPL Checklists have been attached to this plan","£","£","£","    Copy of the PPL Checklists have been attached to this plan"]
["Sizes, Dimensions, & Qty",null,null,null,null,null,null,null,{"$f":"IF(Crane_1_Rigging_Sizes=0,\"\",Crane_1_Rigging_Sizes)","v":""},null,null,null,null,null,null,null,null,null,null,null,null,null,null,null,null,null,{"$f":"IF(More_than_one=\"No\", \"MAKE BLANK\",\"Counterweight\")","v":"Counterweight"},null,null,null,null,null,null,null,null,null,{"$f":"IF(Crane_2_CounterWt=0,\"\",Crane_2_CounterWt)","v":""},null,null,null,null,null,null,null,null,null,null,null,null,null,null,null,"Precipitation",null,null,null,null,null,null,null,null,null,null,null,null,null,null,null,null,null,null,null,null,null,null,null,null,null,null,null,null,null,null,null,null,null,null,null,null,null,null,null,null,null,null,null,null,null,null,null,null,null,null,null,null,null,null,null,null,null,null,null,null,null,null,null,null,null,null,null,null,null,null,null,null,null,null,null,null,null,null,null,null,null,null,null,null,null,null,null,null,null,null,null,null,null,null,null,null,null,null,null,null,null,null,null,null,null,null,null,null,null,null,null,null,null,null,null,null,null,null,null,null,null,null,null,null,null,null,null,null,null,null,null,null,null,null,null,null,null,null,null,null,null,null,null,null,null,null,null,null,null,null,null,null,null,null,null,"£","£","£",null,"No signs of excessive abrasive wear",null,null,null,null,null,null,null,null,null,null,null,null,null,null,null,null,null,null,null,null,null,null,null,null,null,null,null,null,null,null,null,null,null,null,null,null,null,null,null,null,null,null,null,null,null,null,null,{"$f":"IF(More_than_one=\"No\",\"u\",\"£\")","v":"£"},{"$f":"IF(More_than_one=\"No\",\"u\",\"£\")","v":"£"},{"$f":"IF(More_than_one=\"No\",\"u\",\"£\")","v":"£"},null,{"$f":"IF(More_than_one=\"No\",\"MAKE BLANK\",\"No signs of excessive abrasive wear\")","v":"No signs of excessive abrasive wear"},null,null,null,null,null,null,null,null,{"$f":"IF(More_than_one=\"No\",\"MAKE BLANK\",\" \")","v":" "},null,null,null,null,null,null,null,null,null,null,null,null,null,null,null,null,null,null,null,null,null,null,null,null,null,null,null,null,null,null,null,null,null,null,null,null,null,null,"","","",32,"",null,null,null,null,null,null,null,null,null,null,null,null,null,null,null,null,null,null,null,null,null,"","","",31,"",null,null,null,null,null,null,null,null,null,null,null,null,null,null,null,null,null,null,null,null,null,null,null,null,null,null,null,null,null,null,null,null,null,null,null,null,null,null,null,null,null,null,null,null,null,null,null,"£","£","£",{"$f":"IF('5'!$AB$27=\"yes\",$OD$108,$OD$102)","v":"    The Crane is setup within the limits of the Crane Location Plan"},"£","£","£",{"$f":"IF('5'!$AB$27=\"yes\",$OD$108,$OD$102)","v":"    The Crane is setup within the limits of the Crane Location Plan"},"£","£","£",{"$f":"IF('5'!$AB$27=\"yes\",$OD$108,$OD$102)","v":"    The Crane is setup within the limits of the Crane Location Plan"},"£","£","£",{"$f":"IF('5'!$AB$27=\"yes\",$OD$108,$OD$102)","v":"    The Crane is setup within the limits of the Crane Location Plan"},"£","£","£",{"$f":"IF('5'!$AB$27=\"yes\",$OD$107,$OD$101)","v":"    Load chart utilized is for exact crane model, boom type, length, tip and counterweight."},"£","£","£",{"$f":"IF('5'!$AB$27=\"yes\",$OD$107,$OD$101)","v":"    Load chart utilized is for exact crane model, boom type, length, tip and counterweight."}]
["Rigging Hardware",null,null,null,null,null,null,null,{"$f":"IF(Crane_1_Rigging_Hdwr=0,\"\",Crane_1_Rigging_Hdwr)","v":""},null,null,null,null,null,null,null,null,null,null,null,null,null,null,null,null,null,{"$f":"IF(More_than_one=\"No\", \"MAKE BLANK\",\"How Many Parts of Line\")","v":"How Many Parts of Line"},null,null,null,null,null,null,null,null,null,{"$f":"IF(Crane_2_How_Many_Parts_Line=0,\"\",Crane_2_How_Many_Parts_Line)","v":""},null,null,null,null,null,null,null,null,null,null,null,null,null,null,null,null,null,null,null,null,null,null,null,null,null,null,null,null,null,null,null,null,null,null,null,null,null,null,null,null,null,null,null,null,null,null,null,null,null,null,null,null,null,null,null,null,null,null,null,null,null,null,null,null,null,null,null,"£","£","£",null,"Brakes/boom/load/rotate",null,null,null,null,null,null,null,null,null,null,null,null,null,null,null,null,null,null,null,null,null,"£","£","£",null,"Lights",null,null,null,null,null,null,null,null,null,null,null,null,null,null,null,null,null,null,null,null,null,{"$f":"IF(More_than_one=\"No\",\"u\",\"£\")","v":"£"},{"$f":"IF(More_than_one=\"No\",\"u\",\"£\")","v":"£"},{"$f":"IF(More_than_one=\"No\",\"u\",\"£\")","v":"£"},null,{"$f":"IF(More_than_one=\"No\",\"MAKE BLANK\",\"Brakes/boom/load/rotate\")","v":"Brakes/boom/load/rotate"},null,null,null,null,null,null,{"$f":"IF(More_than_one=\"No\",\"MAKE BLANK\",\" \")","v":" "},null,null,null,null,null,null,null,null,null,null,null,null,null,null,{"$f":"IF(More_than_one=\"No\",\"u\",\"£\")","v":"£"},{"$f":"IF(More_than_one=\"No\",\"u\",\"£\")","v":"£"},{"$f":"IF(More_than_one=\"No\",\"u\",\"£\")","v":"£"},null,{"$f":"IF(More_than_one=\"No\",\"MAKE BLANK\",\"Lights\")","v":"Lights"},null,{"$f":"IF(More_than_one=\"No\",\"MAKE BLANK\",\" \")","v":" "},null,null,null,null,null,null,null,null,null,null,null,null,null,null,null,null,null,null,null,null,null,null,null,null,null,null,null,null,null,null,null,null,null,null,null,null,null,null,null,null,null,null,null,null,null,"£","£","£",null,"No warning tags",null,null,null,null,null,null,null,null,null,null,null,null,null,null,null,null,null,null,null,null,null,null,null,null,null,null,null,null,null,null,null,null,null,null,null,null,null,null,null,null,null,null,null,null,null,null,null,{"$f":"IF(More_than_one=\"No\",\"u\",\"£\")","v":"£"},{"$f":"IF(More_than_one=\"No\",\"u\",\"£\")","v":"£"},{"$f":"IF(More_than_one=\"No\",\"u\",\"£\")","v":"£"},null,{"$f":"IF(More_than_one=\"No\",\"MAKE BLANK\",\"No warning tags\")","v":"No warning tags"},null,null,null,{"$f":"IF(More_than_one=\"No\",\"MAKE BLANK\",\" \")","v":" "},null,null,null,null,null,null,null,null,null,null,null,null,null,null,null,null,null,"","","",33,"",null,null,null,null,null,null,null,null,null,null,null,null,null,null,null,null,null,null,null,null,null,"","","",32,"",null,null,null,null,null,null,null,null,null,null,null,null,null,null,null,null,null,null,null,null,null,null,null,null,null,null,null,null,null,null,null,null,null,null,null,null,null,null,null,null,null,null,null,null,null,null,null,"£","£","£",{"$f":"IF('5'!$AB$27=\"yes\",$OD$109,$OD$103)","v":"    The Crane is set up in an appropriate configuration"},"£","£","£",{"$f":"IF('5'!$AB$27=\"yes\",$OD$109,$OD$103)","v":"    The Crane is set up in an appropriate configuration"},"£","£","£",{"$f":"IF('5'!$AB$27=\"yes\",$OD$109,$OD$103)","v":"    The Crane is set up in an appropriate configuration"},"£","£","£",{"$f":"IF('5'!$AB$27=\"yes\",$OD$109,$OD$103)","v":"    The Crane is set up in an appropriate configuration"},"£","£","£",{"$f":"IF('5'!$AB$27=\"yes\",$OD$108,$OD$102)","v":"    The Crane is setup within the limits of the Crane Location Plan"},"£","£","£",{"$f":"IF('5'!$AB$27=\"yes\",$OD$108,$OD$102)","v":"    The Crane is setup within the limits of the Crane Location Plan"}]
["Below the Hook Lifting Devices",null,null,null,null,null,null,null,{"$f":"IF(Crane_1_BtH_Lift_Devices=0,\"\",Crane_1_BtH_Lift_Devices)","v":""},null,null,null,null,null,null,null,null,null,null,null,null,null,null,null,null,null,{"$f":"IF(More_than_one=\"No\", \"MAKE BLANK\",'5'!C265)","v":"Solid Ground, Timber Mats, Steel Plates, etc."},null,null,null,null,null,null,null,null,null,null,{"$f":"IF(Crane_2_Underneath=0,\"\",Crane_2_Underneath)","v":""},null,null,null,null,null,null,null,null,null,null,null,null,null,null,"Visibility",null,null,null,null,null,null,null,null,null,null,null,null,null,null,null,null,null,null,null,null,null,null,null,null,null,null,null,null,null,null,null,null,null,null,null,null,null,null,null,null,null,null,null,null,null,null,null,null,null,null,null,null,null,null,null,null,null,null,null,null,null,null,null,null,null,null,null,null,null,null,null,null,null,null,null,null,null,null,null,null,null,null,null,null,null,null,null,null,null,null,null,null,null,null,null,null,null,null,null,null,null,null,null,null,null,null,null,null,null,null,null,null,null,null,null,null,null,null,null,null,null,null,null,null,null,null,null,null,null,null,null,null,null,null,null,null,null,null,null,null,null,null,null,null,null,null,null,null,null,null,null,null,null,null,null,"£","£","£",null,"Threads are in good condition. No broken or worn threads in the stitch patterns",null,null,null,null,null,null,null,null,null,null,null,null,null,null,null,null,null,null,null,null,null,null,null,null,null,null,null,null,null,null,null,null,null,null,null,null,null,null,null,null,null,null,null,null,null,null,null,{"$f":"IF(More_than_one=\"No\",\"u\",\"£\")","v":"£"},{"$f":"IF(More_than_one=\"No\",\"u\",\"£\")","v":"£"},{"$f":"IF(More_than_one=\"No\",\"u\",\"£\")","v":"£"},null,{"$f":"IF(More_than_one=\"No\",\"MAKE BLANK\",\"Threads are in good condition. No broken or worn threads in the stitch patterns\")","v":"Threads are in good condition. No broken or worn threads in the stitch patterns"},null,null,null,null,null,null,null,null,null,null,null,null,null,null,null,null,null,null,{"$f":"IF(More_than_one=\"No\",\"MAKE BLANK\",\" \")","v":" "},null,null,null,null,null,null,null,null,null,null,null,null,null,null,null,null,null,null,null,null,null,null,null,null,null,null,null,null,"","","",34,"",null,null,null,null,null,null,null,null,null,null,null,null,null,null,null,null,null,null,null,null,null,"","","",33,"",null,null,null,null,null,null,null,null,null,null,null,null,null,null,null,null,null,null,null,null,null,null,null,null,null,null,null,null,null,null,null,null,null,null,null,null,null,null,null,null,null,null,null,null,null,null,null,"£","£","£","    The Rigging has been designed by a Professional Engineer","£","£","£","    The Rigging has been designed by a Professional Engineer","£","£","£","    The Rigging has been designed by a Professional Engineer","£","£","£","    The Rigging has been designed by a Professional Engineer","£","£","£",{"$f":"IF('5'!$AB$27=\"yes\",$OD$109,$OD$103)","v":"    The Crane is set up in an appropriate configuration"},"£","£","£",{"$f":"IF('5'!$AB$27=\"yes\",$OD$109,$OD$103)","v":"    The Crane is set up in an appropriate configuration"}]
["Spreaders",null,null,null,null,null,null,null,{"$f":"IF(Crane_1_Spreaders=0,\"\",Crane_1_Spreaders)","v":""},null,null,null,null,null,null,null,null,null,null,null,null,null,null,null,null,null,{"$f":"IF(More_than_one=\"No\", \"MAKE BLANK\",LEFT(Crane_2_Pad_or_Mat_Label,26))","v":""},null,null,null,null,null,null,null,null,null,{"$f":"IF(Crane_2_size_of_pad_reqd_or_timber_mats=0,\"\",Crane_2_size_of_pad_reqd_or_timber_mats)","v":""},null,null,null,{"$f":"IF(Crane_2_size_of_pad_formula_info=0,\"\",Crane_2_size_of_pad_formula_info)","v":""},null,null,null,null,null,null,null,null,null,null,null,null,null,null,null,null,null,null,null,null,null,null,null,null,null,null,null,null,null,null,null,null,null,null,null,null,null,null,null,null,null,null,null,null,null,null,null,null,null,null,null,null,null,null,null,null,null,null,null,null,null,null,null,"£","£","£",null,"Crane stability",null,null,null,null,null,null,null,null,null,null,null,null,null,null,null,null,null,null,null,null,null,"£","£","£",null,"Clutch/Brake linings",null,null,null,null,null,null,null,null,null,null,null,null,null,null,null,null,null,null,null,null,null,{"$f":"IF(More_than_one=\"No\",\"u\",\"£\")","v":"£"},{"$f":"IF(More_than_one=\"No\",\"u\",\"£\")","v":"£"},{"$f":"IF(More_than_one=\"No\",\"u\",\"£\")","v":"£"},null,{"$f":"IF(More_than_one=\"No\",\"MAKE BLANK\",\"Crane stability\")","v":"Crane stability"},null,null,null,{"$f":"IF(More_than_one=\"No\",\"MAKE BLANK\",\" \")","v":" "},null,null,null,null,null,null,null,null,null,null,null,null,null,null,null,null,null,{"$f":"IF(More_than_one=\"No\",\"u\",\"£\")","v":"£"},{"$f":"IF(More_than_one=\"No\",\"u\",\"£\")","v":"£"},{"$f":"IF(More_than_one=\"No\",\"u\",\"£\")","v":"£"},null,{"$f":"IF(More_than_one=\"No\",\"MAKE BLANK\",\"Clutch/Brake linings\")","v":"Clutch/Brake linings"},null,null,null,null,{"$f":"IF(More_than_one=\"No\",\"MAKE BLANK\",\" \")","v":" "},null,null,null,null,null,null,null,null,null,null,null,null,null,null,null,null,null,null,null,null,null,null,null,null,null,null,null,null,null,null,null,null,null,null,null,null,null,null,null,null,null,null,null,null,null,null,"Identification Number(s)",null,null,null,null,null,null,null,null,null,null,null,null,null,null,null,null,null,null,null,null,null,null,null,null,null,null,null,null,null,null,null,null,null,null,null,null,null,null,null,null,null,null,null,null,null,null,null,null,null,null,null,{"$f":"IF(More_than_one=\"No\",\"MAKE BLANK\",\"Identification Number(s)\")","v":"Identification Number(s)"},null,null,null,null,null,{"$f":"IF(More_than_one=\"No\",\"MAKE BLANK\",\" \")","v":" "},null,null,null,null,null,null,null,null,null,null,null,null,null,null,null,"","","",35,"",null,null,null,null,null,null,null,null,null,null,null,null,null,null,null,null,null,null,null,null,null,"","","",34,"",null,null,null,null,null,null,null,null,null,null,null,null,null,null,null,null,null,null,null,null,null,null,null,null,null,null,null,null,null,null,null,null,null,null,null,null,null,null,null,null,null,null,null,null,null,null,null,null,null,null,null,null,null,null,null,null,null,null,null,null,null,null,null,"£","£","£","    The Rigging has been designed by a Professional Engineer","£","£","£","    The Rigging has been designed by a Professional Engineer"]
[{"$f":"Tag_Lines","v":"Tag Lines"},null,null,null,null,null,null,null,{"$f":"IF(Crane_1_Tag_Lines=0,\"\",Crane_1_Tag_Lines)","v":""},null,null,null,null,null,null,null,null,null,null,null,null,null,null,null,null,null,{"$f":"IF(More_than_one=\"No\", \"MAKE BLANK\",\"Maximum Allowable Wind Speed\")","v":"Maximum Allowable Wind Speed"},null,null,null,null,null,null,null,null,null,{"$f":"IF(Crane_2_Max_Wind=0,\"\",Crane_2_Max_Wind&\" MPH\")","v":""},null,null,null,null,null,null,null,null,null,null,null,null,null,null,null,"Notes",null,null,null,null,null,null,null,null,null,null,null,null,null,null,null,null,null,null,null,null,null,null,null,null,null,null,null,null,null,null,null,null,null,null,null,null,null,null,null,null,null,null,null,null,null,null,null,null,null,null,null,null,null,null,null,null,null,null,null,null,null,null,null,null,null,null,null,null,null,null,null,null,null,null,null,null,null,null,null,null,null,null,null,null,null,null,null,null,null,null,null,null,null,null,null,null,null,null,null,null,null,null,null,null,null,null,null,null,null,null,null,null,null,null,null,null,null,null,null,null,null,null,null,null,null,null,null,null,null,null,null,null,null,null,null,null,null,null,null,null,null,null,null,null,null,null,null,null,null,null,null,null,null,null,null,"£","£","£",null,"No knots in any part of the sling",null,null,null,null,null,null,null,null,null,null,null,null,null,null,null,null,null,null,null,null,null,null,null,null,null,null,null,null,null,null,null,null,null,null,null,null,null,null,null,null,null,null,null,null,null,null,null,{"$f":"IF(More_than_one=\"No\",\"u\",\"£\")","v":"£"},{"$f":"IF(More_than_one=\"No\",\"u\",\"£\")","v":"£"},{"$f":"IF(More_than_one=\"No\",\"u\",\"£\")","v":"£"},null,{"$f":"IF(More_than_one=\"No\",\"MAKE BLANK\",\"No knots in any part of the sling\")","v":"No knots in any part of the sling"},null,null,null,null,null,null,null,{"$f":"IF(More_than_one=\"No\",\"MAKE BLANK\",\" \")","v":" "},null,null,null,null,null,null,null,null,null,null,null,null,null,null,null,null,null,null,null,null,null,null,null,null,null,null,null,null,null,null,null,null,null,null,null,null,null,null,null,{"$f":"IF(LA$10<1,\"\",IF(INDEX($NC$14:$OX$55,$LD49,LA$10)=0,\"\",INDEX($NC$14:$OX$55,$LD49,LA$10)))","v":""},"","",36,"",null,null,null,null,null,null,null,null,null,null,null,null,null,null,null,null,null,null,null,null,null,"","","",35,"",null,null,null,null,null,null,null,null,null,null,null,null,null,null,null,null,null,null,null,null,null,null,null,null,null,null,null,null,null,null,"Name                                                 Sign                                                                                Date",null,null,null,null,null,null,null,"Name                                                 Sign                                                                                Date",null,null,null,"Name                                                 Sign                                                                                Date",null,null,null,"Name                                                 Sign                                                                                Date",null,null,null,"Name                                                 Sign                                                                                Date",null,null,null,"Name                                                 Sign                                                                                Date",null,null,null,"Name                                                 Sign                                                                                Date",null,null,null,"Name                                                 Sign                                                                                Date",null,null,null,"Name                                                 Sign                                                                                Date",null,null,null,"Name                                                 Sign                                                                                Date"]
["Dunnage",null,null,null,null,null,null,null,{"$f":"IF(Crane_1_Dunnage=0,\"\",Crane_1_Dunnage)","v":""},null,null,null,null,null,null,null,null,null,null,null,null,null,null,null,null,null,null,{"$f":"IF(Crane_Plan_Other_A_Label=0,\"\",Crane_Plan_Other_A_Label)","v":""},null,null,null,null,null,null,null,null,{"$f":"IF(Crane_2_Crane_Plan_Other_A=0,\"\",Crane_2_Crane_Plan_Other_A)","v":""},null,null,null,null,null,null,null,null,null,null,null,null,null,null,null,null,null,null,null,null,null,null,null,null,null,null,null,null,null,null,null,null,null,null,null,null,null,null,null,null,null,null,null,null,null,null,null,null,null,null,null,null,null,null,null,null,null,null,null,null,null,null,null,null,null,null,null,"£","£","£",null,"No load test",null,null,null,null,null,null,null,null,null,null,null,null,null,null,null,null,null,null,null,null,null,"£","£","£",null,"Electric motors",null,null,null,null,null,null,null,null,null,null,null,null,null,null,null,null,null,null,null,null,null,{"$f":"IF(More_than_one=\"No\",\"u\",\"£\")","v":"£"},{"$f":"IF(More_than_one=\"No\",\"u\",\"£\")","v":"£"},{"$f":"IF(More_than_one=\"No\",\"u\",\"£\")","v":"£"},null,{"$f":"IF(More_than_one=\"No\",\"MAKE BLANK\",\"No load test\")","v":"No load test"},null,null,null,{"$f":"IF(More_than_one=\"No\",\"MAKE BLANK\",\" \")","v":" "},null,null,null,null,null,null,null,null,null,null,null,null,null,null,null,null,null,{"$f":"IF(More_than_one=\"No\",\"u\",\"£\")","v":"£"},{"$f":"IF(More_than_one=\"No\",\"u\",\"£\")","v":"£"},{"$f":"IF(More_than_one=\"No\",\"u\",\"£\")","v":"£"},null,{"$f":"IF(More_than_one=\"No\",\"MAKE BLANK\",\"Electric motors\")","v":"Electric motors"},null,null,null,{"$f":"IF(More_than_one=\"No\",\"MAKE BLANK\",\" \")","v":" "},null,null,null,null,null,null,null,null,null,null,null,null,null,null,null,null,null,null,null,null,null,null,null,null,null,null,null,null,null,null,null,null,null,null,null,null,null,null,null,null,null,null,null,null,null,null,null,null,null,null,null,null,null,null,null,null,null,null,null,null,null,null,null,null,null,null,null,null,null,null,null,null,null,null,null,null,null,null,null,null,null,null,null,null,null,null,null,null,null,null,null,null,null,null,null,null,null,null,null,null,null,null,null,null,null,null,null,null,null,null,null,null,null,null,null,null,null,null,null,null,null,"","","",37,"",null,null,null,null,null,null,null,null,null,null,null,null,null,null,null,null,null,null,null,null,null,"","","",36,"",null,null,null,null,null,null,null,null,null,null,null,null,null,null,null,null,null,null,null,null,null,null,null,null,null,null,null," "," "," ",{"$f":"CONCATENATE(IF(Project_Crane_Coordinator=0,\"\",Project_Crane_Coordinator),\"  _________________________________________________________________________________\")","v":"  _________________________________________________________________________________"},null,null,null,null," "," "," ",{"$f":"CONCATENATE(IF(Project_Crane_Coordinator=0,\"\",Project_Crane_Coordinator),\"  _________________________________________________________________________________\")","v":"  _________________________________________________________________________________"}," "," "," ",{"$f":"CONCATENATE(IF(Project_Crane_Coordinator=0,\"\",Project_Crane_Coordinator),\"  _________________________________________________________________________________\")","v":"  _________________________________________________________________________________"}," "," "," ",{"$f":"CONCATENATE(IF(Project_Crane_Coordinator=0,\"\",Project_Crane_Coordinator),\"  _________________________________________________________________________________\")","v":"  _________________________________________________________________________________"}," "," "," ",{"$f":"CONCATENATE(IF(Project_Crane_Coordinator=0,\"\",Project_Crane_Coordinator),\"  _________________________________________________________________________________\")","v":"  _________________________________________________________________________________"}," "," "," ",{"$f":"CONCATENATE(IF(Project_Crane_Coordinator=0,\"\",Project_Crane_Coordinator),\"  _________________________________________________________________________________\")","v":"  _________________________________________________________________________________"}," "," "," ",{"$f":"CONCATENATE(IF(Project_Crane_Coordinator=0,\"\",Project_Crane_Coordinator),\"  _________________________________________________________________________________\")","v":"  _________________________________________________________________________________"}," "," "," ",{"$f":"CONCATENATE(IF(Project_Crane_Coordinator=0,\"\",Project_Crane_Coordinator),\"  _________________________________________________________________________________\")","v":"  _________________________________________________________________________________"}," "," "," ",{"$f":"CONCATENATE(IF(Project_Crane_Coordinator=0,\"\",Project_Crane_Coordinator),\"  _________________________________________________________________________________\")","v":"  _________________________________________________________________________________"}," "," "," ",{"$f":"CONCATENATE(IF(Project_Crane_Coordinator=0,\"\",Project_Crane_Coordinator),\"  _________________________________________________________________________________\")","v":"  _________________________________________________________________________________"}]
[{"$f":"IF(Rigging_Other_A_Label=0,\"\",Rigging_Other_A_Label)","v":""},null,null,null,null,null,null,null,{"$f":"IF(Crane_1_Rigging_Other_A=0,\"\",Crane_1_Rigging_Other_A)","v":""},null,null,null,null,null,null,null,null,null,null,null,null,null,null,null,null,null,null,null,null,null,null,null,null,null,null,null,null,null,null,{"$f":"IF(More_than_one=\"No\", \"MAKE BLANK\",\"Capacity @ Radius\")","v":"Capacity @ Radius"},null,null,null,null,null,null,null,null,null,null,null,null,null,null,null,null,null,null,null,null,null,null,null,null,null,null,null,null,null,null,null,null,null,null,null,null,null,null,null,null,null,null,null,null,null,null,null,null,null,null,null,null,null,null,null,null,null,null,null,null,null,null,null,null,null,null,null,null,null,null,null,null,null,null,null,null,null,null,null,null,null,null,null,null,null,null,null,null,null,null,null,null,null,null,null,null,null,null,null,null,null,null,null,null,null,null,null,null,null,null,null,null,null,null,null,null,null,null,null,null,null,null,null,null,null,null,null,null,null,null,null,null,null,null,null,null,null,null,null,null,null,null,null,null,null,null,null,null,null,null,null,null,null,null,null,null,null,null,null,null,null,null,null,null,null,null,null,null,"£","£","£",null,"No other visible damage which causes doubt as to its strength",null,null,null,null,null,null,null,null,null,null,null,null,null,null,null,null,null,null,null,null,null,null,null,null,null,null,null,null,null,null,null,null,null,null,null,null,null,null,null,null,null,null,null,null,null,null,null,{"$f":"IF(More_than_one=\"No\",\"u\",\"£\")","v":"£"},{"$f":"IF(More_than_one=\"No\",\"u\",\"£\")","v":"£"},{"$f":"IF(More_than_one=\"No\",\"u\",\"£\")","v":"£"},null,{"$f":"IF(More_than_one=\"No\",\"MAKE BLANK\",\"No other visible damage which causes doubt as to its strength\")","v":"No other visible damage which causes doubt as to its strength"},null,null,null,null,null,null,null,null,null,null,null,null,null,null,{"$f":"IF(More_than_one=\"No\",\"MAKE BLANK\",\" \")","v":" "},null,null,null,null,null,null,null,null,null,null,null,null,null,null,null,null,null,null,null,null,null,null,null,null,null,null,null,null,null,null,null,null,"",{"$f":"IF(LB$10<1,\"\",IF(INDEX($NC$14:$OX$55,$LD51,LB$10)=0,\"\",INDEX($NC$14:$OX$55,$LD51,LB$10)))","v":""},"",38,{"$f":"IF(LE$10<1,\"\",IF(INDEX($NC$14:$OX$55,$LD51,LE$10)=0,\"\",INDEX($NC$14:$OX$55,$LD51,LE$10)))","v":""},null,null,null,null,null,null,null,null,null,null,null,null,null,null,null,null,null,null,null,null,null,"","","",37,"",null,null,null,null,null,null,null,null,null,null,null,null,null,null,null,null,null,null,null,null,null,null,null,"MAKE BLANK","MAKE BLANK","MAKE BLANK","MAKE BLANK","OK","NG","N/A","Project Manager","MAKE BLANK","MAKE BLANK","MAKE BLANK","MAKE BLANK","OK","NG","N/A","Project Manager","OK","NG","N/A","Project Manager","OK","NG","N/A","Project Manager","OK","NG","N/A","Project Manager","OK","NG","N/A","Project Manager","OK","NG","N/A","Project Manager","OK","NG","N/A","Project Manager","OK","NG","N/A","Project Manager","OK","NG","N/A","Project Manager"]
[{"$f":"IF(Rigging_Other_B_Label=0,\"\",Rigging_Other_B_Label)","v":""},null,null,null,null,null,null,null,{"$f":"IF(Crane_1_Rigging_Other_B=0,\"\",Crane_1_Rigging_Other_B)","v":""},null,null,null,null,null,null,null,null,null,null,null,null,null,null,null,null,null,{"$f":"IF(More_than_one=\"No\", \"MAKE BLANK\",\"Planned Radius & Capacity for this Lift\")","v":"Planned Radius & Capacity for this Lift"},null,null,null,null,null,null,null,null,null,{"$f":"IF(More_than_one=\"No\", \"MAKE BLANK\",Crane_2_Max_Planned_Radius_Ft)","v":0},null,null,null,{"$f":"IF(More_than_one=\"No\", \"MAKE BLANK\",Crane_2_Capacity_at_Max_Planned_Radius)","v":0},null,null,{"$f":"IF(More_than_one=\"No\", \"MAKE BLANK\",IF(Crane_2_Capacity_at_Radius_Unit_of_Measure=0,\" \",Crane_2_Capacity_at_Radius_Unit_of_Measure))","v":" "},null,{"$f":"IF(More_than_one=\"No\", \"MAKE BLANK\",Crane_2_Percent_Used_at_Max_Planned_Radius)","v":""},null,{"$f":"IF(More_than_one=\"No\", \"MAKE BLANK\",\"of Crane Capacity\")","v":"of Crane Capacity"},null,null,null,null,null,null,null,null,null,null,null,null,null,null,null,null,null,null,null,null,null,null,null,null,null,null,null,null,null,null,null,null,null,null,null,null,null,null,null,null,null,null,null,null,null,null,null,null,null,null,null,null,null,null,null,null,"£","£","£",null,"Fleeting sheave",null,null,null,null,null,null,null,null,null,null,null,null,null,null,null,null,null,null,null,null,null,"£","£","£",null,"Warning tags",null,null,null,null,null,null,null,null,null,null,null,null,null,null,null,null,null,null,null,null,null,{"$f":"IF(More_than_one=\"No\",\"u\",\"£\")","v":"£"},{"$f":"IF(More_than_one=\"No\",\"u\",\"£\")","v":"£"},{"$f":"IF(More_than_one=\"No\",\"u\",\"£\")","v":"£"},null,{"$f":"IF(More_than_one=\"No\",\"MAKE BLANK\",\"Fleeting sheave\")","v":"Fleeting sheave"},null,null,null,null,{"$f":"IF(More_than_one=\"No\",\"MAKE BLANK\",\" \")","v":" "},null,null,null,null,null,null,null,null,null,null,null,null,null,null,null,null,{"$f":"IF(More_than_one=\"No\",\"u\",\"£\")","v":"£"},{"$f":"IF(More_than_one=\"No\",\"u\",\"£\")","v":"£"},{"$f":"IF(More_than_one=\"No\",\"u\",\"£\")","v":"£"},null,{"$f":"IF(More_than_one=\"No\",\"MAKE BLANK\",\"Warning tags\")","v":"Warning tags"},null,null,null,{"$f":"IF(More_than_one=\"No\",\"MAKE BLANK\",\" \")","v":" "},null,null,null,null,null,null,null,null,null,null,null,null,null,null,null,null,null,null,null,null,null,null,null,null,null,null,null,null,null,null,null,null,null,null,null,null,null,null,null,null,null,null,null,null,null,null,null,null,null,null,null,null,null,null,null,null,null,null,null,null,null,null,null,null,null,null,null,null,null,null,null,null,null,null,null,null,null,null,null,null,null,null,null,null,null,null,null,null,null,null,null,null,null,null,null,null,null,null,null,null,null,null,null,null,null,null,null,null,null,null,null,null,null,null,null,null,null,null,null,null,null,"","","",39,{"$f":"IF(LE$10<1,\"\",IF(INDEX($NC$14:$OX$55,$LD52,LE$10)=0,\"\",INDEX($NC$14:$OX$55,$LD52,LE$10)))","v":""},null,null,null,null,null,null,null,null,null,null,null,null,null,null,null,null,null,null,null,null,null,"","","",38,"",null,null,null,null,null,null,null,null,null,null,null,null,null,null,null,null,null,null,null,null,null,null,null,null,null,null,null,"£","£","£","    I have reviewed the Lift Plan.",null,null,null,null,"£","£","£","    I have reviewed the Lift Plan","£","£","£","    I have reviewed the Lift Plan","£","£","£","    I have reviewed the Lift Plan","£","£","£","    I have reviewed the Lift Plan","£","£","£","    I have reviewed the Lift Plan","£","£","£","    I have reviewed the Lift Plan","£","£","£","    I have reviewed the Lift Plan","£","£","£","    I have reviewed the Lift Plan","£","£","£","    I have reviewed the Lift Plan"]
[{"$f":"IF(Rigging_Other_C_Label=0,\"\",Rigging_Other_C_Label)","v":""},null,null,null,null,null,null,null,{"$f":"IF(Crane_1_Rigging_Other_C=0,\"\",Crane_1_Rigging_Other_C)","v":""},null,null,null,null,null,null,null,null,null,null,null,null,null,null,null,null,null,{"$f":"IF(More_than_one=\"No\", \"MAKE BLANK\",\"Maximum Allowable Radius and Capacity for this Lift\")","v":"Maximum Allowable Radius and Capacity for this Lift"},null,null,null,null,null,null,null,null,null,null,null,null,null,null,null,null,null,null,null,null,null,null,null,null,null,null,null,null,null,null,null,null,null,null,null,null,null,null,null,null,null,null,null,null,null,null,null,null,null,null,null,null,null,null,null,null,null,null,null,null,null,null,null,null,null,null,null,null,null,null,null,null,null,null,null,null,null,null,null,null,null,null,null,null,null,null,null,null,null,null,null,null,null,null,null,null,null,null,null,null,null,null,null,null,null,null,null,null,null,null,null,null,null,null,null,null,null,null,null,null,null,null,null,null,null,null,null,null,null,null,null,null,null,null,null,null,null,null,null,null,null,null,null,null,null,null,null,null,null,null,null,null,null,null,null,null,null,null,null,null,null,null,null,null,null,null,null,null,null,null,null,null,null,null,null,null,null,null,null,null,null,null,null,null,null,"Identification Number(s):",null,null,null,null,null,null,null,null,null,null,null,null,null,null,null,null,null,null,null,null,null,null,null,null,null,null,null,null,null,null,null,null,null,null,null,null,null,null,null,null,null,null,null,null,null,null,null,null,null,null,null,{"$f":"IF(More_than_one=\"No\",\"MAKE BLANK\",\"Identification Number(s):\")","v":"Identification Number(s):"},null,null,null,null,null,{"$f":"IF(More_than_one=\"No\",\"MAKE BLANK\",\" \")","v":" "},null,null,null,null,null,null,null,null,null,null,null,null,null,null,null,null,null,null,null,null,null,null,null,null,null,null,null,null,null,null,null,null,null,null,null,null,null,null,null,null,null,"","","",40,{"$f":"IF(LE$10<1,\"\",IF(INDEX($NC$14:$OX$55,$LD53,LE$10)=0,\"\",INDEX($NC$14:$OX$55,$LD53,LE$10)))","v":""},null,null,null,null,null,null,null,null,null,null,null,null,null,null,null,null,null,null,null,null,null,"","","",39,"",null,null,null,null,null,null,null,null,null,null,null,null,null,null,null,null,null,null,null,null,null,null,null,null,null,null,null,null,null,null,"Name                                                 Sign                                                                                Date",null,null,null,null,null,null,null,"Name                                                 Sign                                                                                Date",null,null,null,"Name                                                 Sign                                                                                Date",null,null,null,"Name                                                 Sign                                                                                Date",null,null,null,"Name                                                 Sign                                                                                Date",null,null,null,"Name                                                 Sign                                                                                Date",null,null,null,"Name                                                 Sign                                                                                Date",null,null,null,"Name                                                 Sign                                                                                Date",null,null,null,"Name                                                 Sign                                                                                Date",null,null,null,"Name                                                 Sign                                                                                Date"]
[null,null,null,null,null,null,null,null,null,null,null,null,null,null,null,null,null,null,null,null,null,null,null,null,null,null,null,null,null,null,null,null,null,null,null,null,{"$f":"IF(More_than_one=\"No\", \"MAKE BLANK\",Crane_2_Max_Allowed_Radius_Ft)","v":0},null,null,null,{"$f":"IF(More_than_one=\"No\", \"MAKE BLANK\",Crane_2_Capacity_at_Max_Allowed_Radius)","v":0},null,null,{"$f":"IF(More_than_one=\"No\", \"MAKE BLANK\",IF(Crane_2_Capacity_at_Radius_Unit_of_Measure=0,\" \",Crane_2_Capacity_at_Radius_Unit_of_Measure))","v":" "},null,{"$f":"IF(More_than_one=\"No\", \"MAKE BLANK\",Crane_2_Percent_Used_at_Max_Allowed_Radius)","v":""},null,{"$f":"IF(More_than_one=\"No\", \"MAKE BLANK\",\"of Crane Capacity\")","v":"of Crane Capacity"},null,null,null,null,null,null,null,null,null,null,null,null,null,null,null,null,null,null,null,null,null,null,null,null,null,null,null,null,null,null,null,null,null,null,null,null,null,null,null,null,null,null,null,null,null,null,null,null,null,null,null,null,null,null,null,null,"£","£","£",null,"Limit switches",null,null,null,null,null,null,null,null,null,null,null,null,null,null,null,null,null,null,null,null,null,"INSTRUCTIONS:   Satisfactory = OK, Unsatisfactory = NG, or not applicable = N/A",null,null,null,null,null,null,null,null,null,null,null,null,null,null,null,null,null,null,null,null,null,null,null,null,null,{"$f":"IF(More_than_one=\"No\",\"u\",\"£\")","v":"£"},{"$f":"IF(More_than_one=\"No\",\"u\",\"£\")","v":"£"},{"$f":"IF(More_than_one=\"No\",\"u\",\"£\")","v":"£"},null,{"$f":"IF(More_than_one=\"No\",\"MAKE BLANK\",\"Limit switches\")","v":"Limit switches"},null,null,null,{"$f":"IF(More_than_one=\"No\",\"MAKE BLANK\",\" \")","v":" "},null,null,null,null,null,null,null,null,null,null,null,null,null,null,null,null,null,{"$f":"IF(More_than_one=\"No\",\"MAKE BLANK\",\"INSTRUCTIONS:   Satisfactory = OK, Unsatisfactory = NG, or not applicable = N/A\")","v":"INSTRUCTIONS:   Satisfactory = OK, Unsatisfactory = NG, or not applicable = N/A"},null,null,null,null,null,null,null,null,null,null,null,null,null,null,null,null,null,null,null,null,null,null,null,null,null,"INSTRUCTIONS:   Satisfactory = OK, Unsatisfactory = NG, or not applicable = N/A",null,null,null,null,null,null,null,null,null,null,null,null,null,null,null,null,null,null,null,null,null,null,null,null,null,"INSTRUCTIONS:   Satisfactory = OK, Unsatisfactory = NG, or not applicable = N/A",null,null,null,null,null,null,null,null,null,null,null,null,null,null,null,null,null,null,null,null,null,null,null,null,null,{"$f":"IF(More_than_one=\"No\",\"MAKE BLANK\",\"INSTRUCTIONS:   Satisfactory = OK, Unsatisfactory = NG, or not applicable = N/A\")","v":"INSTRUCTIONS:   Satisfactory = OK, Unsatisfactory = NG, or not applicable = N/A"},null,null,null,null,null,null,null,null,null,null,null,null,null,null,null,null,null,null,null,null,null,null,null,null,null,{"$f":"IF(More_than_one=\"No\",\"MAKE BLANK\",\"INSTRUCTIONS:   Satisfactory = OK, Unsatisfactory = NG, or not applicable = N/A\")","v":"INSTRUCTIONS:   Satisfactory = OK, Unsatisfactory = NG, or not applicable = N/A"},null,null,null,null,null,null,null,null,null,null,null,null,null,null,null,null,null,null,null,null,null,null,null,null,null,"","","",41,{"$f":"IF(LE$10<1,\"\",IF(INDEX($NC$14:$OX$55,$LD54,LE$10)=0,\"\",INDEX($NC$14:$OX$55,$LD54,LE$10)))","v":""},null,null,null,null,null,null,null,null,null,null,null,null,null,null,null,null,null,null,null,null,null,"","","",40,"",null,null,null,null,null,null,null,null,null,null,null,null,null,null,null,null,null,null,null,null,null,null,null,null,null,null,null," "," "," ",{"$f":"CONCATENATE(IF(Project_Manager_1=0,\"\",Project_Manager_1),\"  _________________________________________________________________________________\")","v":"  _________________________________________________________________________________"},null,null,null,null," "," "," ",{"$f":"CONCATENATE(IF(Project_Manager_1=0,\"\",Project_Manager_1),\"  _________________________________________________________________________________\")","v":"  _________________________________________________________________________________"}," "," "," ",{"$f":"CONCATENATE(IF(Project_Manager_1=0,\"\",Project_Manager_1),\"  _________________________________________________________________________________\")","v":"  _________________________________________________________________________________"}," "," "," ",{"$f":"CONCATENATE(IF(Project_Manager_1=0,\"\",Project_Manager_1),\"  _________________________________________________________________________________\")","v":"  _________________________________________________________________________________"}," "," "," ",{"$f":"CONCATENATE(IF(Project_Manager_1=0,\"\",Project_Manager_1),\"  _________________________________________________________________________________\")","v":"  _________________________________________________________________________________"}," "," "," ",{"$f":"CONCATENATE(IF(Project_Manager_1=0,\"\",Project_Manager_1),\"  _________________________________________________________________________________\")","v":"  _________________________________________________________________________________"}," "," "," ",{"$f":"CONCATENATE(IF(Project_Manager_1=0,\"\",Project_Manager_1),\"  _________________________________________________________________________________\")","v":"  _________________________________________________________________________________"}," "," "," ",{"$f":"CONCATENATE(IF(Project_Manager_1=0,\"\",Project_Manager_1),\"  _________________________________________________________________________________\")","v":"  _________________________________________________________________________________"}," "," "," ",{"$f":"CONCATENATE(IF(Project_Manager_1=0,\"\",Project_Manager_1),\"  _________________________________________________________________________________\")","v":"  _________________________________________________________________________________"}," "," "," ",{"$f":"CONCATENATE(IF(Project_Manager_1=0,\"\",Project_Manager_1),\"  _________________________________________________________________________________\")","v":"  _________________________________________________________________________________"}]
[null,null,null,null,null,null,null,null,null,null,null,null,null,null,null,null,null,null,null,null,null,null,null,null,null,null,null,null,null,null,null,null,null,null,null,null,null,null,null,null,null,null,null,null,null,null,null,null,null,null,null,null,null,null,null,null,null,null,null,null,null,null,null,null,null,null,null,null,null,null,null,null,null,null,null,null,null,null,null,null,null,null,null,null,null,null,null,null,null,null,null,null,null,null,null,null,null,null,null,null,null,null,null,null,"INSTRUCTIONS:   Satisfactory = OK, Unsatisfactory = NG, or not applicable = N/A",null,null,null,null,null,null,null,null,null,null,null,null,null,null,null,null,null,null,null,null,null,null,null,null,null,null,null,null,null,null,null,null,null,null,null,null,null,null,null,null,null,null,null,null,null,null,null,null,null,null,null,{"$f":"IF(More_than_one=\"No\",\"MAKE BLANK\",\"INSTRUCTIONS:   Satisfactory = OK, Unsatisfactory = NG, or not applicable = N/A\")","v":"INSTRUCTIONS:   Satisfactory = OK, Unsatisfactory = NG, or not applicable = N/A"},null,null,null,null,null,null,null,null,null,null,null,null,null,null,null,null,null,null,null,null,null,null,null,null,null,null,null,null,null,null,null,null,null,null,null,null,null,null,null,null,null,null,null,null,null,null,null,null,null,null,null,null,null,null,null,null,null,null,null,null,null,null,null,null,null,null,null,null,null,null,null,null,null,null,null,null,null,null,null,null,null,null,null,null,null,null,null,null,null,null,null,null,null,null,null,null,null,null,null,null,null,null,null,null,null,null,null,null,null,null,null,null,null,null,null,null,null,null,null,null,null,null,null,null,null,null,null,null,null,null,null,null,null,null,null,null,null,null,null,null,null,null,null,null,null,null,null,null,null,null,null,null,null,null,null,null,null,"",42,"INSTRUCTIONS:   Satisfactory = OK, Unsatisfactory = NG, or not applicable = N/A",null,null,null,null,null,null,null,null,null,null,null,null,null,null,null,null,null,null,null,null,null,{"$f":"IF(No_LP_Approval_Pgs=1,\"MAKE BLANK\",\"INSTRUCTIONS:   Satisfactory = OK, Unsatisfactory = NG, or not applicable = N/A\")","v":"INSTRUCTIONS:   Satisfactory = OK, Unsatisfactory = NG, or not applicable = N/A"},null,null,null,null,null,null,null,null,null,null,null,null,null,null,null,null,null,null,null,null,null,null,null,null,null,null,null,null,null,1,"Number of pages",null,null,2,"Number of pages",null,null,1,"Number of pages",null,null,1,"Number of pages",null,null,2,"Number of pages",null,null,2,"Number of pages",null,null,1,"Number of pages",null,null,2,"Number of pages",null,null,2,"Number of pages",null,null,2,"Number of pages",null,null,2,"Number of pages",null,null,2,"Number of pages"]
[{"$f":"CONCATENATE(\"Skanska \",Lift_Plan_Classification_Name,\", \",LP_Revision)","v":"Skanska  Lift Plan, Rev 8"},null,null,null,null,null,null,null,null,null,null,null,null,null,null,null,null,null,{"$f":"CONCATENATE(\"Page 1 of \",SUM(IF(More_than_one=\"No\",8,12),No_LP_Approval_Pgs))","v":"Page 1 of 12"},null,null,null,null,null,null,null,{"$f":"$A$56","v":"Skanska  Lift Plan, Rev 8"},null,null,null,null,null,null,null,null,null,null,null,null,null,null,null,null,null,{"$f":"CONCATENATE(\"Page 2 of \",SUM(IF(More_than_one=\"No\",8,12),No_LP_Approval_Pgs))","v":"Page 2 of 12"},null,null,null,null,null,null,null,{"$f":"$A$56","v":"Skanska  Lift Plan, Rev 8"},null,null,null,null,null,null,null,null,null,null,null,null,null,null,null,null,null,{"$f":"CONCATENATE(\"Page 3 of \",SUM(IF(More_than_one=\"No\",8,12),No_LP_Approval_Pgs))","v":"Page 3 of 12"},null,null,null,null,null,null,null,{"$f":"$A$56","v":"Skanska  Lift Plan, Rev 8"},null,null,null,null,null,null,null,null,null,null,null,null,null,null,null,null,null,{"$f":"CONCATENATE(\"Page 4 of \",SUM(IF(More_than_one=\"No\",8,12),No_LP_Approval_Pgs))","v":"Page 4 of 12"},null,null,null,null,null,null,null,{"$f":"$A$56","v":"Skanska  Lift Plan, Rev 8"},null,null,null,null,null,null,null,null,null,null,null,null,null,null,null,null,null,{"$f":"CONCATENATE(\"Page 5 of \",SUM(IF(More_than_one=\"No\",8,12),No_LP_Approval_Pgs))","v":"Page 5 of 12"},null,null,null,null,null,null,null,{"$f":"$A$56","v":"Skanska  Lift Plan, Rev 8"},null,null,null,null,null,null,null,null,null,null,null,null,null,null,null,null,null,{"$f":"CONCATENATE(\"Page 6 of \",SUM(IF(More_than_one=\"No\",8,12),No_LP_Approval_Pgs))","v":"Page 6 of 12"},null,null,null,null,null,null,null,{"$f":"IF(More_than_one=\"No\",\"MAKE BLANK\",$A$56)","v":"Skanska  Lift Plan, Rev 8"},null,null,null,null,null,null,null,null,null,null,null,null,null,null,null,null,null,{"$f":"IF(More_than_one=\"No\",\"MAKE BLANK\",CONCATENATE(\"Page 7 of \",SUM(IF(More_than_one=\"No\",8,12),No_LP_Approval_Pgs)))","v":"Page 7 of 12"},null,null,null,null,null,null,null,{"$f":"IF(More_than_one=\"No\",\"MAKE BLANK\",$A$56)","v":"Skanska  Lift Plan, Rev 8"},null,null,null,null,null,null,null,null,null,null,null,null,null,null,null,null,null,{"$f":"IF(More_than_one=\"No\",\"MAKE BLANK\",CONCATENATE(\"Page 8 of \",SUM(IF(More_than_one=\"No\",8,12),No_LP_Approval_Pgs)))","v":"Page 8 of 12"},null,null,null,null,null,null,null,{"$f":"$A$56","v":"Skanska  Lift Plan, Rev 8"},null,null,null,null,null,null,null,null,null,null,null,null,null,null,null,null,null,{"$f":"CONCATENATE(\"Page \",IF(More_than_one=\"No\",7,9),\" of \",SUM(IF(More_than_one=\"No\",8,12),No_LP_Approval_Pgs))","v":"Page 9 of 12"},null,null,null,null,null,null,null,{"$f":"$A$56","v":"Skanska  Lift Plan, Rev 8"},null,null,null,null,null,null,null,null,null,null,null,null,null,null,null,null,null,{"$f":"CONCATENATE(\"Page \",IF(More_than_one=\"No\",8,10),\" of \",SUM(IF(More_than_one=\"No\",8,12),No_LP_Approval_Pgs))","v":"Page 10 of 12"},null,null,null,null,null,null,null,{"$f":"IF(More_than_one=\"No\",\"MAKE BLANK\",$A$56)","v":"Skanska  Lift Plan, Rev 8"},null,null,null,null,null,null,null,null,null,null,null,null,null,null,null,null,null,{"$f":"IF(More_than_one=\"No\",\"MAKE BLANK\",CONCATENATE(\"Page \",IF(More_than_one=\"No\",9,11),\" of \",SUM(IF(More_than_one=\"No\",8,12),No_LP_Approval_Pgs)))","v":"Page 11 of 12"},null,null,null,null,null,null,null,{"$f":"IF(More_than_one=\"No\",\"MAKE BLANK\",$A$56)","v":"Skanska  Lift Plan, Rev 8"},null,null,null,null,null,null,null,null,null,null,null,null,null,null,null,null,null,{"$f":"IF(More_than_one=\"No\",\"MAKE BLANK\",CONCATENATE(\"Page \",IF(More_than_one=\"No\",10,12),\" of \",SUM(IF(More_than_one=\"No\",8,12),No_LP_Approval_Pgs)))","v":"Page 12 of 12"},null,null,null,null,null,null,null,{"$f":"$A$56","v":"Skanska  Lift Plan, Rev 8"},null,null,null,null,null,null,null,null,null,null,null,null,null,null,null,null,null,{"$f":"CONCATENATE(\"Page \",IF(More_than_one=\"No\",9,13),\" of \",SUM(IF(More_than_one=\"No\",8,12),No_LP_Approval_Pgs))","v":"Page 13 of 12"},null,null,null,null,null,null,null,{"$f":"IF(More_than_one=\"No\",\"MAKE BLANK\",$A$56)","v":"Skanska  Lift Plan, Rev 8"},null,null,null,null,null,null,null,null,null,null,null,null,null,null,null,null,null,{"$f":"IF(No_LP_Approval_Pgs=1,\"MAKE BLANK\",CONCATENATE(\"Page \",IF(More_than_one=\"No\",10,14),\" of \",SUM(IF(More_than_one=\"No\",8,12),No_LP_Approval_Pgs)))","v":"Page 14 of 12"},null,null,null,null,null,null,null,null,null,"MAKE BLANK","MAKE BLANK","MAKE BLANK","MAKE BLANK","OK","NG","N/A","Regional Crane Coordinator","MAKE BLANK","MAKE BLANK","MAKE BLANK","MAKE BLANK","MAKE BLANK","MAKE BLANK","MAKE BLANK","MAKE BLANK","OK","NG","N/A","Regional Crane Coordinator","OK","NG","N/A","Designated Assembly/Disassembly (A/D) Director","MAKE BLANK","MAKE BLANK","MAKE BLANK","MAKE BLANK","OK","NG","N/A","Regional Crane Coordinator","OK","NG","N/A","Designated Assembly/Disassembly (A/D) Director","OK","NG","N/A","Regional Crane Coordinator","OK","NG","N/A","Regional Crane Coordinator","OK","NG","N/A","Regional Crane Coordinator"]
[null,null,null,null,null,null,null,null,null,null,null,null,null,null,null,null,null,null,null,null,null,null,null,null,null,null,null,null,null,null,null,null,null,null,null,null,null,null,null,null,null,null,null,null,null,null,null,null,null,null,null,null,null,null,null,null,null,null,null,null,null,null,null,null,null,null,null,null,null,null,null,null,null,null,null,null,null,null,null,null,null,null,null,null,null,null,null,null,null,null,null,null,null,null,null,null,null,null,null,null,null,null,null,null,null,null,null,null,null,null,null,null,null,null,null,null,null,null,null,null,null,null,null,null,null,null,null,null,null,null,null,null,null,null,null,null,null,null,null,null,null,null,null,null,null,null,null,null,null,null,null,null,null,null,null,null,null,null,null,null,null,null,null,null,null,null,null,null,null,null,null,null,null,null,null,null,null,null,null,null,null,null,null,null,null,null,null,null,null,null,null,null,null,null,null,null,null,null,null,null,null,null,null,null,null,null,null,null,null,null,null,null,null,null,null,null,null,null,null,null,null,null,null,null,null,null,null,null,null,null,null,null,null,null,null,null,null,null,null,null,null,null,null,null,null,null,null,null,null,null,null,null,null,null,null,null,null,null,null,null,null,null,null,null,null,null,null,null,null,null,null,null,null,null,null,null,null,null,null,null,null,null,null,null,null,null,null,null,null,null,null,null,null,null,null,null,null,null,null,null,null,null,null,null,null,null,null,null,null,null,null,null,null,null,null,null,null,null,null,null,null,null,null,null,null,null,null,null,null,null,null,null,null,null,null,null,null,null,null,null,null,null,null,null,null,null,null,null,null,null,null,null,null,null,null,null,null,null,null,null,null,null,null,null,null,null,null,null,null,null,"£","£","£","    I have reviewed the Lift Plan.",null,null,null,null,null,null,null,null,"£","£","£","    I have reviewed the Lift Plan","£",null,"£","    I am both a Competent Person and a Qualified Person with respect to the A/D of this equipment, or",null,null,null,null,"£","£","£","    I have reviewed the Lift Plan","£",null,"£","    I am both a Competent Person and a Qualified Person with respect to the A/D of this equipment, or","£","£","£","    I have reviewed the Lift Plan","£","£","£","    I have reviewed the Lift Plan","£","£","£","    I have reviewed the Lift Plan"]
[null,null,null,null,null,null,null,null,null,null,null,null,null,null,null,null,null,null,null,null,null,null,null,null,null,null,null,null,null,null,null,null,null,null,null,null,null,null,null,null,null,null,null,null,null,null,null,null,null,null,null,null,null,null,null,null,null,null,null,null,null,null,null,null,null,null,null,null,null,null,null,null,null,null,null,null,null,null,null,null,null,null,null,null,null,null,null,null,null,null,null,null,null,null,null,null,null,null,null,null,null,null,null,null,null,null,null,null,null,null,null,null,null,null,null,null,null,null,null,null,null,null,null,null,null,null,null,null,null,null,null,null,null,null,null,null,null,null,null,null,null,null,null,null,null,null,null,null,null,null,null,null,null,null,null,null,null,null,null,null,null,null,null,null,null,null,null,null,null,null,null,null,null,null,null,null,null,null,null,null,null,null,null,null,null,null,null,null,null,null,null,null,null,null,null,null,null,null,null,null,null,null,null,null,null,null,null,null,null,null,null,null,null,null,null,null,null,null,null,null,null,null,null,null,null,null,null,null,null,null,null,null,null,null,null,null,null,null,null,null,null,null,null,null,null,null,null,null,null,null,null,null,null,null,null,null,null,null,null,null,null,null,null,null,null,null,null,null,null,null,null,null,null,null,null,null,null,null,null,null,null,null,null,null,null,null,null,null,null,null,null,null,null,null,null,null,null,null,null,null,null,null,null,null,null,null,null,null,null,null,null,null,null,null,null,null,null,null,null,null,null,null,null,null,null,null,null,null,null,null,null,null,null,null,null,null,null,null,null,null,null,null,null,null,null,null,null,null,null,null,null,null,null,null,null,null,null,null,null,null,null,null,null,null,null,null,null,null,null,null,"£","£","£","    It is necessary to pick & carry. All other means have been exhausted by the project team.",null,null,null,null,null,null,null,null,"£","£","£","    It is necessary to pick & carry. All other means have been exhausted by the project team.","£",null,"£","    I am the Competent Person and will oversee One or More Qualified Persons ",null,null,null,null,"£","£","£","    It is necessary to pick & carry. All other means have been exhausted by the project team.","£",null,"£","    I am the Competent Person and will oversee One or More Qualified Persons ",null,null,null,null,"£","£","£","    It is necessary to pick & carry. All other means have been exhausted by the project team."]
[null,null,null,null,null,null,null,null,null,null,null,null,null,null,null,null,null,null,null,null,null,null,null,null,null,null,null,null,null,null,null,null,null,null,null,null,null,null,null,null,null,null,null,null,null,null,null,null,null,null,null,null,null,null,null,null,null,null,null,null,null,null,null,null,null,null,null,null,null,null,null,null,null,null,null,null,null,null,null,null,null,null,null,null,null,null,null,null,null,null,null,null,null,null,null,null,null,null,null,null,null,null,null,null,null,null,null,null,null,null,null,null,null,null,null,null,null,null,null,null,null,null,null,null,null,null,null,null,null,null,null,null,null,null,null,null,null,null,null,null,null,null,null,null,null,null,null,null,null,null,null,null,null,null,null,null,null,null,null,null,null,null,null,null,null,null,null,null,null,null,null,null,null,null,null,null,null,null,null,null,null,null,null,null,null,null,null,null,null,null,null,null,null,null,null,null,null,null,null,null,null,null,null,null,null,null,null,null,null,null,null,null,null,null,null,null,null,null,null,null,null,null,null,null,null,null,null,null,null,null,null,null,null,null,null,null,null,null,null,null,null,null,null,null,null,null,null,null,null,null,null,null,null,null,null,null,null,null,null,null,null,null,null,null,null,null,null,null,null,null,null,null,null,null,null,null,null,null,null,null,null,null,null,null,null,null,null,null,null,null,null,null,null,null,null,null,null,null,null,null,null,null,null,null,null,null,null,null,null,null,null,null,null,null,null,null,null,null,null,null,null,null,null,null,null,null,null,null,null,null,null,null,null,null,null,null,null,null,null,null,null,null,null,null,null,null,null,null,null,null,null,null,null,null,null,null,null,null,null,null,null,null,null,null,null,null,null,null,null,null,null,null,null,null,null,null,null,null,null,null,null,null,null,null,null,null,"£","£","£","    I have reviewed and am familiar with the A/D procedure for this piece of equipment",null,null,null,null,null,null,null,null,"£","£","£","    I have reviewed and am familiar with the A/D procedure for this piece of equipment"]
[null,null,null,null,null,null,null,null,null,null,null,null,null,null,null,null,null,null,null,null,null,null,null,null,null,null,null,null,null,null,null,null,null,null,null,null,null,null,null,null,null,null,null,null,null,null,null,null,null,null,null,null,null,null,null,null,null,null,null,null,null,null,null,null,null,null,null,null,null,null,null,null,null,null,null,null,null,null,null,null,null,null,null,null,null,null,null,null,null,null,null,null,null,null,null,null,null,null,null,null,null,null,null,null,null,null,null,null,null,null,null,null,null,null,null,null,null,null,null,null,null,null,null,null,null,null,null,null,null,null,null,null,null,null,null,null,null,null,null,null,null,null,null,null,null,null,null,null,null,null,null,null,null,null,null,null,null,null,null,null,null,null,null,null,null,null,null,null,null,null,null,null,null,null,null,null,null,null,null,null,null,null,null,null,null,null,null,null,null,null,null,null,null,null,null,null,null,null,null,null,null,null,null,null,null,null,null,null,null,null,null,null,null,null,null,null,null,null,null,null,null,null,null,null,null,null,null,null,null,null,null,null,null,null,null,null,null,null,null,null,null,null,null,null,null,null,null,null,null,null,null,null,null,null,null,null,null,null,null,null,null,null,null,null,null,null,null,null,null,null,null,null,null,null,null,null,null,null,null,null,null,null,null,null,null,null,null,null,null,null,null,null,null,null,null,null,null,null,null,null,null,null,null,null,null,null,null,null,null,null,null,null,null,null,null,null,null,null,null,null,null,null,null,null,null,null,null,null,null,null,null,null,null,null,null,null,null,null,null,null,null,null,null,null,null,null,null,null,null,null,null,null,null,null,null,null,null,null,null,null,null,null,null,null,null,null,null,null,null,null,null,null,null,null,null,null,null,null,null,null,null,null,null,null,null,null,"£","£","£","    I have assigned the crew tasks and will continue to direct the crew throughout the operation",null,null,null,null,null,null,null,null,"£","£","£","    I have assigned the crew tasks and will continue to direct the crew throughout the operation"]
[null,null,null,null,null,null,null,null,null,null,null,null,null,null,null,null,null,null,null,null,null,null,null,null,null,null,null,null,null,null,null,null,null,null,null,null,null,null,null,null,null,null,null,null,null,null,null,null,null,null,null,null,null,null,null,null,null,null,null,null,null,null,null,null,null,null,null,null,null,null,null,null,null,null,null,null,null,null,null,null,null,null,null,null,null,null,null,null,null,null,null,null,null,null,null,null,null,null,null,null,null,null,null,null,null,null,null,null,null,null,null,null,null,null,null,null,null,null,null,null,null,null,null,null,null,null,null,null,null,null,null,null,null,null,null,null,null,null,null,null,null,null,null,null,null,null,null,null,null,null,null,null,null,null,null,null,null,null,null,null,null,null,null,null,null,null,null,null,null,null,null,null,null,null,null,null,null,null,null,null,null,null,null,null,null,null,null,null,null,null,null,null,null,null,null,null,null,null,null,null,null,null,null,null,null,null,null,null,null,null,null,null,null,null,null,null,null,null,null,null,null,null,null,null,null,null,null,null,null,null,null,null,null,null,null,null,null,null,null,null,null,null,null,null,null,null,null,null,null,null,null,null,null,null,null,null,null,null,null,null,null,null,null,null,null,null,null,null,null,null,null,null,null,null,null,null,null,null,null,null,null,null,null,null,null,null,null,null,null,null,null,null,null,null,null,null,null,null,null,null,null,null,null,null,null,null,null,null,null,null,null,null,null,null,null,null,null,null,null,null,null,null,null,null,null,null,null,null,null,null,null,null,null,null,null,null,null,null,null,null,null,null,null,null,null,null,null,null,null,null,null,null,null,null,null,null,null,null,null,null,null,null,null,null,null,null,null,null,null,null,null,null,null,null,null,null,null,null,null,null,null,null,null,null,null,null,"£","£","£","    I will address hazards associated with the operation such as rigging, blocking, ancillary equipment ",null,null,null,null,null,null,null,null,"£","£","£","    I will address hazards associated with the operation such as rigging, blocking, ancillary equipment "]
[null,null,null,null,null,null,null,null,null,null,null,null,null,null,null,null,null,null,null,null,null,null,null,null,null,null,null,null,null,null,null,null,null,null,null,null,null,null,null,null,null,null,null,null,null,null,null,null,null,null,null,null,null,null,null,null,null,null,null,null,null,null,null,null,null,null,null,null,null,null,null,null,null,null,null,null,null,null,null,null,null,null,null,null,null,null,null,null,null,null,null,null,null,null,null,null,null,null,null,null,null,null,null,null,null,null,null,null,null,null,null,null,null,null,null,null,null,null,null,null,null,null,null,null,null,null,null,null,null,null,null,null,null,null,null,null,null,null,null,null,null,null,null,null,null,null,null,null,null,null,null,null,null,null,null,null,null,null,null,null,null,null,null,null,null,null,null,null,null,null,null,null,null,null,null,null,null,null,null,null,null,null,null,null,null,null,null,null,null,null,null,null,null,null,null,null,null,null,null,null,null,null,null,null,null,null,null,null,null,null,null,null,null,null,null,null,null,null,null,null,null,null,null,null,null,null,null,null,null,null,null,null,null,null,null,null,null,null,null,null,null,null,null,null,null,null,null,null,null,null,null,null,null,null,null,null,null,null,null,null,null,null,null,null,null,null,null,null,null,null,null,null,null,null,null,null,null,null,null,null,null,null,null,null,null,null,null,null,null,null,null,null,null,null,null,null,null,null,null,null,null,null,null,null,null,null,null,null,null,null,null,null,null,null,null,null,null,null,null,null,null,null,null,null,null,null,null,null,null,null,null,null,null,null,null,null,null,null,null,null,null,null,null,null,null,null,null,null,null,null,null,null,null,null,null,null,null,null,null,null,null,null,null,null,null,null,null,null,null,null,null,null,null,"Name                                                 Sign                                                                                Date",null,null,null,null,null,null,null,null,null,null,null,"Name                                                 Sign                                                                                Date",null,null,null,"Name                                                 Sign                                                                                Date",null,null,null,null,null,null,null,"Name                                                 Sign                                                                                Date",null,null,null,"Name                                                 Sign                                                                                Date",null,null,null,"Name                                                 Sign                                                                                Date",null,null,null,"Name                                                 Sign                                                                                Date",null,null,null,"Name                                                 Sign                                                                                Date"]
[null,null,null,null,null,null,null,null,null,null,null,null,null,null,null,null,null,null,null,null,null,null,null,null,null,null,null,null,null,null,null,null,null,null,null,null,null,null,null,null,null,null,null,null,null,null,null,null,null,null,null,null,null,null,null,null,null,null,null,null,null,null,null,null,null,null,null,null,null,null,null,null,null,null,null,null,null,null,null,null,null,null,null,null,null,null,null,null,null,null,null,null,null,null,null,null,null,null,null,null,null,null,null,null,null,null,null,null,null,null,null,null,null,null,null,null,null,null,null,null,null,null,null,null,null,null,null,null,null,null,null,null,null,null,null,null,null,null,null,null,null,null,null,null,null,null,null,null,null,null,null,null,null,null,null,null,null,null,null,null,null,null,null,null,null,null,null,null,null,null,null,null,null,null,null,null,null,null,null,null,null,null,null,null,null,null,null,null,null,null,null,null,null,null,null,null,null,null,null,null,null,null,null,null,null,null,null,null,null,null,null,null,null,null,null,null,null,null,null,null,null,null,null,null,null,null,null,null,null,null,null,null,null,null,null,null,null,null,null,null,null,null,null,null,null,null,null,null,null,null,null,null,null,null,null,null,null,null,null,null,null,null,null,null,null,null,null,null,null,null,null,null,null,null,null,null,null,null,null,null,null,null,null,null,null,null,null,null,null,null,null,null,null,null,null,null,null,null,null,null,null,null,null,null,null,null,null,null,null,null,null,null,null,null,null,null,null,null,null,null,null,null,null,null,null,null,null,null,null,null,null,null,null,null,null,null,null,null,null,null,null,null,null,null,null,null,null,null,null,null,null,null,null,null,null,null,null,null,null,null,null,null,null,null,null,null,null,null,null,null," "," "," ",{"$f":"CONCATENATE(IF(Regional_Crane_Coordinator=0,\"\",Regional_Crane_Coordinator),\"  _________________________________________________________________________________\")","v":"  _________________________________________________________________________________"},null,null,null,null,null,null,null,null," "," "," ",{"$f":"CONCATENATE(IF(Regional_Crane_Coordinator=0,\"\",Regional_Crane_Coordinator),\"  _________________________________________________________________________________\")","v":"  _________________________________________________________________________________"}," "," "," ",{"$f":"CONCATENATE(IF(Assembly_Disassembly_Director_Name=0,\"\",Assembly_Disassembly_Director_Name),\"  _________________________________________________________________________________\")","v":"  _________________________________________________________________________________"},null,null,null,null," "," "," ",{"$f":"CONCATENATE(IF(Regional_Crane_Coordinator=0,\"\",Regional_Crane_Coordinator),\"  _________________________________________________________________________________\")","v":"  _________________________________________________________________________________"}," "," "," ",{"$f":"CONCATENATE(IF(Assembly_Disassembly_Director_Name=0,\"\",Assembly_Disassembly_Director_Name),\"  _________________________________________________________________________________\")","v":"  _________________________________________________________________________________"}," "," "," ",{"$f":"CONCATENATE(IF(Regional_Crane_Coordinator=0,\"\",Regional_Crane_Coordinator),\"  _________________________________________________________________________________\")","v":"  _________________________________________________________________________________"}," "," "," ",{"$f":"CONCATENATE(IF(Regional_Crane_Coordinator=0,\"\",Regional_Crane_Coordinator),\"  _________________________________________________________________________________\")","v":"  _________________________________________________________________________________"}," "," "," ",{"$f":"CONCATENATE(IF(Regional_Crane_Coordinator=0,\"\",Regional_Crane_Coordinator),\"  _________________________________________________________________________________\")","v":"  _________________________________________________________________________________"}]
[null,null,null,null,null,null,null,null,null,null,null,null,null,null,null,null,null,null,null,null,null,null,null,null,null,null,null,null,null,null,null,null,null,null,null,null,null,null,null,null,null,null,null,null,null,null,null,null,null,null,null,null,null,null,null,null,null,null,null,null,null,null,null,null,null,null,null,null,null,null,null,null,null,null,null,null,null,null,null,null,null,null,null,null,null,null,null,null,null,null,null,null,null,null,null,null,null,null,null,null,null,null,null,null,null,null,null,null,null,null,null,null,null,null,null,null,null,null,null,null,null,null,null,null,null,null,null,null,null,null,null,null,null,null,null,null,null,null,null,null,null,null,null,null,null,null,null,null,null,null,null,null,null,null,null,null,null,null,null,null,null,null,null,null,null,null,null,null,null,null,null,null,null,null,null,null,null,null,null,null,null,null,null,null,null,null,null,null,null,null,null,null,null,null,null,null,null,null,null,null,null,null,null,null,null,null,null,null,null,null,null,null,null,null,null,null,null,null,null,null,null,null,null,null,null,null,null,null,null,null,null,null,null,null,null,null,null,null,null,null,null,null,null,null,null,null,null,null,null,null,null,null,null,null,null,null,null,null,null,null,null,null,null,null,null,null,null,null,null,null,null,null,null,null,null,null,null,null,null,null,null,null,null,null,null,null,null,null,null,null,null,null,null,null,null,null,null,null,null,null,null,null,null,null,null,null,null,null,null,null,null,null,null,null,null,null,null,null,null,null,null,null,null,null,null,null,null,null,null,null,null,null,null,null,null,null,null,null,null,null,null,null,null,null,null,null,null,null,null,null,null,null,null,null,null,null,null,null,null,null,null,null,null,null,null,null,"MAKE BLANK","MAKE BLANK","MAKE BLANK","MAKE BLANK","OK","NG","N/A","Corporate EHS Department","MAKE BLANK","MAKE BLANK","MAKE BLANK","MAKE BLANK","MAKE BLANK","MAKE BLANK","MAKE BLANK","MAKE BLANK","OK","NG","N/A","Corporate EHS Department",null,null,null,null,"MAKE BLANK","MAKE BLANK","MAKE BLANK","MAKE BLANK","OK","NG","N/A","Corporate EHS Department",null,null,null,null,"OK","NG","N/A","Corporate EHS Department","OK","NG","N/A","Corporate EHS Department","OK","NG","N/A","Corporate EHS Department"]
[null,null,null,null,null,null,null,null,null,null,null,null,null,null,null,null,null,null,null,null,null,null,null,null,null,null,null,null,null,null,null,null,null,null,null,null,null,null,null,null,null,null,null,null,null,null,null,null,null,null,null,null,null,null,null,null,null,null,null,null,null,null,null,null,null,null,null,null,null,null,null,null,null,null,null,null,null,null,null,null,null,null,null,null,null,null,null,null,null,null,null,null,null,null,null,null,null,null,null,null,null,null,null,null,null,null,null,null,null,null,null,null,null,null,null,null,null,null,null,null,null,null,null,null,null,null,null,null,null,null,null,null,null,null,null,null,null,null,null,null,null,null,null,null,null,null,null,null,null,null,null,null,null,null,null,null,null,null,null,null,null,null,null,null,null,null,null,null,null,null,null,null,null,null,null,null,null,null,null,null,null,null,null,null,null,null,null,null,null,null,null,null,null,null,null,null,null,null,null,null,null,null,null,null,null,null,null,null,null,null,null,null,null,null,null,null,null,null,null,null,null,null,null,null,null,null,null,null,null,null,null,null,null,null,null,null,null,null,null,null,null,null,null,null,null,null,null,null,null,null,null,null,null,null,null,null,null,null,null,null,null,null,null,null,null,null,null,null,null,null,null,null,null,null,null,null,null,null,null,null,null,null,null,null,null,null,null,null,null,null,null,null,null,null,null,null,null,null,null,null,null,null,null,null,null,null,null,null,null,null,null,null,null,null,null,null,null,null,null,null,null,null,null,null,null,null,null,null,null,null,null,null,null,null,null,null,null,null,null,null,null,null,null,null,null,null,null,null,null,null,null,null,null,null,null,null,null,null,null,null,null,null,null,null,null,null,null,null,null,null,"£","£","£","    I have reviewed the Lift Plan",null,null,null,null,null,null,null,null,"£","£","£","    I have reviewed the Lift Plan",null,null,null,null,null,null,null,null,"£","£","£","    I have reviewed the Lift Plan",null,null,null,null,"£","£","£","    I have reviewed the Lift Plan","£","£","£","    I have reviewed the Lift Plan","£","£","£","    I have reviewed the Lift Plan"]
[null,null,null,null,null,null,null,null,null,null,null,null,null,null,null,null,null,null,null,null,null,null,null,null,null,null,null,null,null,null,null,null,null,null,null,null,null,null,null,null,null,null,null,null,null,null,null,null,null,null,null,null,null,null,null,null,null,null,null,null,null,null,null,null,null,null,null,null,null,null,null,null,null,null,null,null,null,null,null,null,null,null,null,null,null,null,null,null,null,null,null,null,null,null,null,null,null,null,null,null,null,null,null,null,null,null,null,null,null,null,null,null,null,null,null,null,null,null,null,null,null,null,null,null,null,null,null,null,null,null,null,null,null,null,null,null,null,null,null,null,null,null,null,null,null,null,null,null,null,null,null,null,null,null,null,null,null,null,null,null,null,null,null,null,null,null,null,null,null,null,null,null,null,null,null,null,null,null,null,null,null,null,null,null,null,null,null,null,null,null,null,null,null,null,null,null,null,null,null,null,null,null,null,null,null,null,null,null,null,null,null,null,null,null,null,null,null,null,null,null,null,null,null,null,null,null,null,null,null,null,null,null,null,null,null,null,null,null,null,null,null,null,null,null,null,null,null,null,null,null,null,null,null,null,null,null,null,null,null,null,null,null,null,null,null,null,null,null,null,null,null,null,null,null,null,null,null,null,null,null,null,null,null,null,null,null,null,null,null,null,null,null,null,null,null,null,null,null,null,null,null,null,null,null,null,null,null,null,null,null,null,null,null,null,null,null,null,null,null,null,null,null,null,null,null,null,null,null,null,null,null,null,null,null,null,null,null,null,null,null,null,null,null,null,null,null,null,null,null,null,null,null,null,null,null,null,null,null,null,null,null,null,null,null,null,null,null,null,null,null,"£","£","£","    It is necessary to pick & carry. All other means have been exhausted by the project team.",null,null,null,null,null,null,null,null,"£","£","£","    It is necessary to pick & carry. All other means have been exhausted by the project team.",null,null,null,null,null,null,null,null,"£","£","£","    It is necessary to pick & carry. All other means have been exhausted by the project team.",null,null,null,null,null,null,null,null,"£","£","£","    It is necessary to pick & carry. All other means have been exhausted by the project team."]
[null,null,null,null,null,null,null,null,null,null,null,null,null,null,null,null,null,null,null,null,null,null,null,null,null,null,null,null,null,null,null,null,null,null,null,null,null,null,null,null,null,null,null,null,null,null,null,null,null,null,null,null,null,null,null,null,null,null,null,null,null,null,null,null,null,null,null,null,null,null,null,null,null,null,null,null,null,null,null,null,null,null,null,null,null,null,null,null,null,null,null,null,null,null,null,null,null,null,null,null,null,null,null,null,null,null,null,null,null,null,null,null,null,null,null,null,null,null,null,null,null,null,null,null,null,null,null,null,null,null,null,null,null,null,null,null,null,null,null,null,null,null,null,null,null,null,null,null,null,null,null,null,null,null,null,null,null,null,null,null,null,null,null,null,null,null,null,null,null,null,null,null,null,null,null,null,null,null,null,null,null,null,null,null,null,null,null,null,null,null,null,null,null,null,null,null,null,null,null,null,null,null,null,null,null,null,null,null,null,null,null,null,null,null,null,null,null,null,null,null,null,null,null,null,null,null,null,null,null,null,null,null,null,null,null,null,null,null,null,null,null,null,null,null,null,null,null,null,null,null,null,null,null,null,null,null,null,null,null,null,null,null,null,null,null,null,null,null,null,null,null,null,null,null,null,null,null,null,null,null,null,null,null,null,null,null,null,null,null,null,null,null,null,null,null,null,null,null,null,null,null,null,null,null,null,null,null,null,null,null,null,null,null,null,null,null,null,null,null,null,null,null,null,null,null,null,null,null,null,null,null,null,null,null,null,null,null,null,null,null,null,null,null,null,null,null,null,null,null,null,null,null,null,null,null,null,null,null,null,null,null,null,null,null,null,null,null,null,null,null,null,null,null,"Name                                                 Sign                                                                                Date",null,null,null,null,null,null,null,null,null,null,null,"Name                                                 Sign                                                                                Date",null,null,null,null,null,null,null,null,null,null,null,"Name                                                 Sign                                                                                Date",null,null,null,null,null,null,null,"Name                                                 Sign                                                                                Date",null,null,null,"Name                                                 Sign                                                                                Date",null,null,null,"Name                                                 Sign                                                                                Date"]
[null,null,null,null,null,null,null,null,null,null,null,null,null,null,null,null,null,null,null,null,null,null,null,null,null,null,null,null,null,null,null,null,null,null,null,null,null,null,null,null,null,null,null,null,null,null,null,null,null,null,null,null,null,null,null,null,null,null,null,null,null,null,null,null,null,null,null,null,null,null,null,null,null,null,null,null,null,null,null,null,null,null,null,null,null,null,null,null,null,null,null,null,null,null,null,null,null,null,null,null,null,null,null,null,null,null,null,null,null,null,null,null,null,null,null,null,null,null,null,null,null,null,null,null,null,null,null,null,null,null,null,null,null,null,null,null,null,null,null,null,null,null,null,null,null,null,null,null,null,null,null,null,null,null,null,null,null,null,null,null,null,null,null,null,null,null,null,null,null,null,null,null,null,null,null,null,null,null,null,null,null,null,null,null,null,null,null,null,null,null,null,null,null,null,null,null,null,null,null,null,null,null,null,null,null,null,null,null,null,null,null,null,null,null,null,null,null,null,null,null,null,null,null,null,null,null,null,null,null,null,null,null,null,null,null,null,null,null,null,null,null,null,null,null,null,null,null,null,null,null,null,null,null,null,null,null,null,null,null,null,null,null,null,null,null,null,null,null,null,null,null,null,null,null,null,null,null,null,null,null,null,null,null,null,null,null,null,null,null,null,null,null,null,null,null,null,null,null,null,null,null,null,null,null,null,null,null,null,null,null,null,null,null,null,null,null,null,null,null,null,null,null,null,null,null,null,null,null,null,null,null,null,null,null,null,null,null,null,null,null,null,null,null,null,null,null,null,null,null,null,null,null,null,null,null,null,null,null,null,null,null,null,null,null,null,null,null,null,null,null," "," "," ",{"$f":"CONCATENATE(IF(Corp_EHS_Dept_Rep=0,\"\",Corp_EHS_Dept_Rep),\"  _________________________________________________________________________________\")","v":"  _________________________________________________________________________________"},null,null,null,null,null,null,null,null," "," "," ",{"$f":"CONCATENATE(IF(Corp_EHS_Dept_Rep=0,\"\",Corp_EHS_Dept_Rep),\"  _________________________________________________________________________________\")","v":"  _________________________________________________________________________________"},null,null,null,null,null,null,null,null," "," "," ",{"$f":"CONCATENATE(IF(Corp_EHS_Dept_Rep=0,\"\",Corp_EHS_Dept_Rep),\"  _________________________________________________________________________________\")","v":"  _________________________________________________________________________________"},null,null,null,null," "," "," ",{"$f":"CONCATENATE(IF(Corp_EHS_Dept_Rep=0,\"\",Corp_EHS_Dept_Rep),\"  _________________________________________________________________________________\")","v":"  _________________________________________________________________________________"}," "," "," ",{"$f":"CONCATENATE(IF(Corp_EHS_Dept_Rep=0,\"\",Corp_EHS_Dept_Rep),\"  _________________________________________________________________________________\")","v":"  _________________________________________________________________________________"}," "," "," ",{"$f":"CONCATENATE(IF(Corp_EHS_Dept_Rep=0,\"\",Corp_EHS_Dept_Rep),\"  _________________________________________________________________________________\")","v":"  _________________________________________________________________________________"}]
[null,null,null,null,null,null,null,null,null,null,null,null,null,null,null,null,null,null,null,null,null,null,null,null,null,null,null,null,null,null,null,null,null,null,null,null,null,null,null,null,null,null,null,null,null,null,null,null,null,null,null,null,null,null,null,null,null,null,null,null,null,null,null,null,null,null,null,null,null,null,null,null,null,null,null,null,null,null,null,null,null,null,null,null,null,null,null,null,null,null,null,null,null,null,null,null,null,null,null,null,null,null,null,null,null,null,null,null,null,null,null,null,null,null,null,null,null,null,null,null,null,null,null,null,null,null,null,null,null,null,null,null,null,null,null,null,null,null,null,null,null,null,null,null,null,null,null,null,null,null,null,null,null,null,null,null,null,null,null,null,null,null,null,null,null,null,null,null,null,null,null,null,null,null,null,null,null,null,null,null,null,null,null,null,null,null,null,null,null,null,null,null,null,null,null,null,null,null,null,null,null,null,null,null,null,null,null,null,null,null,null,null,null,null,null,null,null,null,null,null,null,null,null,null,null,null,null,null,null,null,null,null,null,null,null,null,null,null,null,null,null,null,null,null,null,null,null,null,null,null,null,null,null,null,null,null,null,null,null,null,null,null,null,null,null,null,null,null,null,null,null,null,null,null,null,null,null,null,null,null,null,null,null,null,null,null,null,null,null,null,null,null,null,null,null,null,null,null,null,null,null,null,null,null,null,null,null,null,null,null,null,null,null,null,null,null,null,null,null,null,null,null,null,null,null,null,null,null,null,null,null,null,null,null,null,null,null,null,null,null,null,null,null,null,null,null,null,null,null,null,null,null,null,null,null,null,null,null,null,null,null,null,null,null,null,null,"MAKE BLANK","MAKE BLANK","MAKE BLANK","MAKE BLANK",null,null,null,null,"MAKE BLANK","MAKE BLANK","MAKE BLANK","MAKE BLANK","MAKE BLANK","MAKE BLANK","MAKE BLANK","MAKE BLANK",null,null,null,null,"MAKE BLANK","MAKE BLANK","MAKE BLANK","MAKE BLANK","MAKE BLANK","MAKE BLANK","MAKE BLANK","MAKE BLANK",null,null,null,null,"MAKE BLANK","MAKE BLANK","MAKE BLANK","MAKE BLANK","OK","NG","N/A","Skanska Officer or Delegate of the Company","OK","NG","N/A","Skanska Officer or Delegate of the Company","OK","NG","N/A","Skanska Officer or Delegate of the Company"]
[null,null,null,null,null,null,null,null,null,null,null,null,null,null,null,null,null,null,null,null,null,null,null,null,null,null,null,null,null,null,null,null,null,null,null,null,null,null,null,null,null,null,null,null,null,null,null,null,null,null,null,null,null,null,null,null,null,null,null,null,null,null,null,null,null,null,null,null,null,null,null,null,null,null,null,null,null,null,null,null,null,null,null,null,null,null,null,null,null,null,null,null,null,null,null,null,null,null,null,null,null,null,null,null,null,null,null,null,null,null,null,null,null,null,null,null,null,null,null,null,null,null,null,null,null,null,null,null,null,null,null,null,null,null,null,null,null,null,null,null,null,null,null,null,null,null,null,null,null,null,null,null,null,null,null,null,null,null,null,null,null,null,null,null,null,null,null,null,null,null,null,null,null,null,null,null,null,null,null,null,null,null,null,null,null,null,null,null,null,null,null,null,null,null,null,null,null,null,null,null,null,null,null,null,null,null,null,null,null,null,null,null,null,null,null,null,null,null,null,null,null,null,null,null,null,null,null,null,null,null,null,null,null,null,null,null,null,null,null,null,null,null,null,null,null,null,null,null,null,null,null,null,null,null,null,null,null,null,null,null,null,null,null,null,null,null,null,null,null,null,null,null,null,null,null,null,null,null,null,null,null,null,null,null,null,null,null,null,null,null,null,null,null,null,null,null,null,null,null,null,null,null,null,null,null,null,null,null,null,null,null,null,null,null,null,null,null,null,null,null,null,null,null,null,null,null,null,null,null,null,null,null,null,null,null,null,null,null,null,null,null,null,null,null,null,null,null,null,null,null,null,null,null,null,null,null,null,null,null,null,null,null,null,null,null,null,null,null,null,null,null,null,null,null,null,null,null,null,null,null,null,null,null,null,null,null,null,null,null,null,null,null,null,null,null,null,null,null,null,null,null,null,"£","£","£","    I have reviewed the Lift Plan","£","£","£","    I have reviewed the Lift Plan","£","£","£","    I have reviewed the Lift Plan"]
[null,null,null,null,null,null,null,null,null,null,null,null,null,null,null,null,null,null,null,null,null,null,null,null,null,null,null,null,null,null,null,null,null,null,null,null,null,null,null,null,null,null,null,null,null,null,null,null,null,null,null,null,null,null,null,null,null,null,null,null,null,null,null,null,null,null,null,null,null,null,null,null,null,null,null,null,null,null,null,null,null,null,null,null,null,null,null,null,null,null,null,null,null,null,null,null,null,null,null,null,null,null,null,null,null,null,null,null,null,null,null,null,null,null,null,null,null,null,null,null,null,null,null,null,null,null,null,null,null,null,null,null,null,null,null,null,null,null,null,null,null,null,null,null,null,null,null,null,null,null,null,null,null,null,null,null,null,null,null,null,null,null,null,null,null,null,null,null,null,null,null,null,null,null,null,null,null,null,null,null,null,null,null,null,null,null,null,null,null,null,null,null,null,null,null,null,null,null,null,null,null,null,null,null,null,null,null,null,null,null,null,null,null,null,null,null,null,null,null,null,null,null,null,null,null,null,null,null,null,null,null,null,null,null,null,null,null,null,null,null,null,null,null,null,null,null,null,null,null,null,null,null,null,null,null,null,null,null,null,null,null,null,null,null,null,null,null,null,null,null,null,null,null,null,null,null,null,null,null,null,null,null,null,null,null,null,null,null,null,null,null,null,null,null,null,null,null,null,null,null,null,null,null,null,null,null,null,null,null,null,null,null,null,null,null,null,null,null,null,null,null,null,null,null,null,null,null,null,null,null,null,null,null,null,null,null,null,null,null,null,null,null,null,null,null,null,null,null,null,null,null,null,null,null,null,null,null,null,null,null,null,null,null,null,null,null,null,null,null,null,null,null,null,null,null,null,null,null,null,null,null,null,null,null,null,null,null,null,null,null,null,null,null,null,null,null,null,null,null,null,null,null,null,null,null,"Name                                                 Sign                                                                                Date",null,null,null,"Name                                                 Sign                                                                                Date",null,null,null,"Name                                                 Sign                                                                                Date"]
[null,null,null,null,null,null,null,null,null,null,null,null,null,null,null,null,null,null,null,null,null,null,null,null,null,null,null,null,null,null,null,null,null,null,null,null,null,null,null,null,null,null,null,null,null,null,null,null,null,null,null,null,null,null,null,null,null,null,null,null,null,null,null,null,null,null,null,null,null,null,null,null,null,null,null,null,null,null,null,null,null,null,null,null,null,null,null,null,null,null,null,null,null,null,null,null,null,null,null,null,null,null,null,null,null,null,null,null,null,null,null,null,null,null,null,null,null,null,null,null,null,null,null,null,null,null,null,null,null,null,null,null,null,null,null,null,null,null,null,null,null,null,null,null,null,null,null,null,null,null,null,null,null,null,null,null,null,null,null,null,null,null,null,null,null,null,null,null,null,null,null,null,null,null,null,null,null,null,null,null,null,null,null,null,null,null,null,null,null,null,null,null,null,null,null,null,null,null,null,null,null,null,null,null,null,null,null,null,null,null,null,null,null,null,null,null,null,null,null,null,null,null,null,null,null,null,null,null,null,null,null,null,null,null,null,null,null,null,null,null,null,null,null,null,null,null,null,null,null,null,null,null,null,null,null,null,null,null,null,null,null,null,null,null,null,null,null,null,null,null,null,null,null,null,null,null,null,null,null,null,null,null,null,null,null,null,null,null,null,null,null,null,null,null,null,null,null,null,null,null,null,null,null,null,null,null,null,null,null,null,null,null,null,null,null,null,null,null,null,null,null,null,null,null,null,null,null,null,null,null,null,null,null,null,null,null,null,null,null,null,null,null,null,null,null,null,null,null,null,null,null,null,null,null,null,null,null,null,null,null,null,null,null,null,null,null,null,null,null,null,null,null,null,null,null,null,null,null,null,null,null,null,null,null,null,null,null,null,null,null,null,null,null,null,null,null,null,null,null,null,null,null," "," "," ",{"$f":"CONCATENATE(IF(Skanska_Officer_Delegate=0,\"\",Skanska_Officer_Delegate),\"  _________________________________________________________________________________\")","v":"  _________________________________________________________________________________"}," "," "," ",{"$f":"CONCATENATE(IF(Skanska_Officer_Delegate=0,\"\",Skanska_Officer_Delegate),\"  _________________________________________________________________________________\")","v":"  _________________________________________________________________________________"}," ",null,null,{"$f":"CONCATENATE(IF(Skanska_Officer_Delegate=0,\"\",Skanska_Officer_Delegate),\"  _________________________________________________________________________________\")","v":"  _________________________________________________________________________________"}]
[null,null,null,null,null,null,null,null,null,null,null,null,null,null,null,null,null,null,null,null,null,null,null,null,null,null,null,null,null,null,null,null,null,null,null,null,null,null,null,null,null,null,null,null,null,null,null,null,null,null,null,null,null,null,null,null,null,null,null,null,null,null,null,null,null,null,null,null,null,null,null,null,null,null,null,null,null,null,null,null,null,null,null,null,null,null,null,null,null,null,null,null,null,null,null,null,null,null,null,null,null,null,null,null,null,null,null,null,null,null,null,null,null,null,null,null,null,null,null,null,null,null,null,null,null,null,null,null,null,null,null,null,null,null,null,null,null,null,null,null,null,null,null,null,null,null,null,null,null,null,null,null,null,null,null,null,null,null,null,null,null,null,null,null,null,null,null,null,null,null,null,null,null,null,null,null,null,null,null,null,null,null,null,null,null,null,null,null,null,null,null,null,null,null,null,null,null,null,null,null,null,null,null,null,null,null,null,null,null,null,null,null,null,null,null,null,null,null,null,null,null,null,null,null,null,null,null,null,null,null,null,null,null,null,null,null,null,null,null,null,null,null,null,null,null,null,null,null,null,null,null,null,null,null,null,null,null,null,null,null,null,null,null,null,null,null,null,null,null,null,null,null,null,null,null,null,null,null,null,null,null,null,null,null,null,null,null,null,null,null,null,null,null,null,null,null,null,null,null,null,null,null,null,null,null,null,null,null,null,null,null,null,null,null,null,null,null,null,null,null,null,null,null,null,null,null,null,null,null,null,null,null,null,null,null,null,null,null,null,null,null,null,null,null,null,null,null,null,null,null,null,null,null,null,null,null,null,null,null,null,null,null,null,null,null,null,"MAKE BLANK","MAKE BLANK","MAKE BLANK","MAKE BLANK","MAKE BLANK","MAKE BLANK","MAKE BLANK","MAKE BLANK","MAKE BLANK","MAKE BLANK","MAKE BLANK","MAKE BLANK","MAKE BLANK","MAKE BLANK","MAKE BLANK","MAKE BLANK","MAKE BLANK","MAKE BLANK","MAKE BLANK","MAKE BLANK","MAKE BLANK","MAKE BLANK","MAKE BLANK","MAKE BLANK","MAKE BLANK","MAKE BLANK","MAKE BLANK","MAKE BLANK","MAKE BLANK","MAKE BLANK","MAKE BLANK","MAKE BLANK","MAKE BLANK","MAKE BLANK","MAKE BLANK","MAKE BLANK"]
[null,null,null,null,null,null,null,null,null,null,null,null,null,null,null,null,null,null,null,null,null,null,null,null,null,null,null,null,null,null,null,null,null,null,null,null,null,null,null,null,null,null,null,null,null,null,null,null,null,null,null,null,null,null,null,null,null,null,null,null,null,null,null,null,null,null,null,null,null,null,null,null,null,null,null,null,null,null,null,null,null,null,null,null,null,null,null,null,null,null,null,null,null,null,null,null,null,null,null,null,null,null,null,null,null,null,null,null,null,null,null,null,null,null,null,null,null,null,null,null,null,null,null,null,null,null,null,null,null,null,null,null,null,null,null,null,null,null,null,null,null,null,null,null,null,null,null,null,null,null,null,null,null,null,null,null,null,null,null,null,null,null,null,null,null,null,null,null,null,null,null,null,null,null,null,null,null,null,null,null,null,null,null,null,null,null,null,null,null,null,null,null,null,null,null,null,null,null,null,null,null,null,null,null,null,null,null,null,null,null,null,null,null,null,null,null,null,null,null,null,null,null,null,null,null,null,null,null,null,null,null,null,null,null,null,null,null,null,null,null,null,null,null,null,null,null,null,null,null,null,null,null,null,null,null,null,null,null,null,null,null,null,null,null,null,null,null,null,null,null,null,null,null,null,null,null,null,null,null,null,null,null,null,null,null,null,null,null,null,null,null,null,null,null,null,null,null,null,null,null,null,null,null,null,null,null,null,null,null,null,null,null,null,null,null,null,null,null,null,null,null,null,null,null,null,null,null,null,null,null,null,null,null,null,null,null,null,null,null,null,null,null,null,null,null,null,null,null,null,null,null,null,null,null,null,null,null,null,null,null,null,null,null,null,null,null,null,null,null,null,null,null,null,null,null,null,null,null,null,null,null,null,null,null,null,null,null,null,null,null,null,null,null,null,null,null,null,null,null,null,null,null,null,null,null,null,null,null,null,null,null," "," "]
[]
[]
[]
[]
[]
[]
[]
[]
[]
[]
[]
[]
[]
[]
[]
[]
[]
[]
[]
[null,null,null,null,null,null,null,null,null,null,null,null,null,null,null,null,null,null,null,null,null,null,null,null,null,null,null,null,null,null,null,null,null,null,null,null,null,null,null,null,null,null,null,null,null,null,null,null,null,null,null,null,null,null,null,null,null,null,null,null,null,null,null,null,null,null,null,null,null,null,null,null,null,null,null,null,null,null,null,null,null,null,null,null,null,null,null,null,null,null,null,null,null,null,null,null,null,null,null,null,null,null,null,null,null,null,null,null,null,null,null,null,null,null,null,null,null,null,null,null,null,null,null,null,null,null,null,null,null,null,null,null,null,null,null,null,null,null,null,null,null,null,null,null,null,null,null,null,null,null,null,null,null,null,null,null,null,null,null,null,null,null,null,null,null,null,null,null,null,null,null,null,null,null,null,null,null,null,null,null,null,null,null,null,null,null,null,null,null,null,null,null,null,null,null,null,null,null,null,null,null,null,null,null,null,null,null,null,null,null,null,null,null,null,null,null,null,null,null,null,null,null,null,null,null,null,null,null,null,null,null,null,null,null,null,null,null,null,null,null,null,null,null,null,null,null,null,null,null,null,null,null,null,null,null,null,null,null,null,null,null,null,null,null,null,null,null,null,null,null,null,null,null,null,null,null,null,null,null,null,null,null,null,null,null,null,null,null,null,null,null,null,null,null,null,null,null,null,null,null,null,null,null,null,null,null,null,null,null,null,null,null,null,null,null,null,null,null,null,null,null,null,null,null,null,null,null,null,null,null,null,null,null,null,null,null,null,null,null,null,null,null,null,null,null,null,null,null,null,null,null,null,null,null,null,null,null,null,null,null,null,null,null,null,null,null,null,null,null,null,null,null,null,null,null,null,null,null,null,null,null,null,null,null,null,null,null,null,null,null,null,null,null,null,null,null,null,null,null,null,null,null,null,null,null,null,null,null,null,null,null," "," "]
[null,null,null,null,null,null,null,null,null,null,null,null,null,null,null,null,null,null,null,null,null,null,null,null,null,null,null,null,null,null,null,null,null,null,null,null,null,null,null,null,null,null,null,null,null,null,null,null,null,null,null,null,null,null,null,null,null,null,null,null,null,null,null,null,null,null,null,null,null,null,null,null,null,null,null,null,null,null,null,null,null,null,null,null,null,null,null,null,null,null,null,null,null,null,null,null,null,null,null,null,null,null,null,null,null,null,null,null,null,null,null,null,null,null,null,null,null,null,null,null,null,null,null,null,null,null,null,null,null,null,null,null,null,null,null,null,null,null,null,null,null,null,null,null,null,null,null,null,null,null,null,null,null,null,null,null,null,null,null,null,null,null,null,null,null,null,null,null,null,null,null,null,null,null,null,null,null,null,null,null,null,null,null,null,null,null,null,null,null,null,null,null,null,null,null,null,null,null,null,null,null,null,null,null,null,null,null,null,null,null,null,null,null,null,null,null,null,null,null,null,null,null,null,null,null,null,null,null,null,null,null,null,null,null,null,null,null,null,null,null,null,null,null,null,null,null,null,null,null,null,null,null,null,null,null,null,null,null,null,null,null,null,null,null,null,null,null,null,null,null,null,null,null,null,null,null,null,null,null,null,null,null,null,null,null,null,null,null,null,null,null,null,null,null,null,null,null,null,null,null,null,null,null,null,null,null,null,null,null,null,null,null,null,null,null,null,null,null,null,null,null,null,null,null,null,null,null,null,null,null,null,null,null,null,null,null,null,null,null,null,null,null,null,null,null,null,null,null,null,null,null,null,null,null,null,null,null,null,null,null,null,null,null,null,null,null,null,null,null,null,null,null,null,null,null,null,null,null,null,null,null,null,null,null,null,null,null,null,null,null,null,null,null,null," "]
[]
[null,null,null,null,null,null,null,null,null,null,null,null,null,null,null,null,null,null,null,null,null,null,null,null,null,null,null,null,null,null,null,null,null,null,null,null,null,null,null,null,null,null,null,null,null,null,null,null,null,null,null,null,null,null,null,null,null,null,null,null,null,null,null,null,null,null,null,null,null,null,null,null,null,null,null,null,null,null,null,null,null,null,null,null,null,null,null,null,null,null,null,null,null,null,null,null,null,null,null,null,null,null,null,null,null,null,null,null,null,null,null,null,null,null,null,null,null,null,null,null,null,null,null,null,null,null,null,null,null,null,null,null,null,null,null,null,null,null,null,null,null,null,null,null,null,null,null,null,null,null,null,null,null,null,null,null,null,null,null,null,null,null,null,null,null,null,null,null,null,null,null,null,null,null,null,null,null,null,null,null,null,null,null,null,null,null,null,null,null,null,null,null,null,null,null,null,null,null,null,null,null,null,null,null,null,null,null,null,null,null,null,null,null,null,null,null,null,null,null,null,null,null,null,null,null,null,null,null,null,null,null,null,null,null,null,null,null,null,null,null,null,null,null,null,null,null,null,null,null,null,null,null,null,null,null,null,null,null,null,null,null,null,null,null,null,null,null,null,null,null,null,null,null,null,null,null,null,null,null,null,null,null,null,null,null,null,null,null,null,null,null,null,null,null,null,null,null,null,null,null,null,null,null,null,null,null,null,null,null,null,null,null,null,null,null,null,null,null,null,null,null,null,null,null,null,null,null,null,null,null,null,null,null,null,null,null,null,null,null,null,null,null,null,null,null,null,null,null,null,null,null,null,null,null,null,null,null,null,null,null,null,null,null,null,null,null,null,null,null,null,null,null,null,null,null,null,null,null,null,null,null,null,null,null,null,null,null,null,null,null,null,null,null,"Single/Tandem Lift Verbiage Change"]
[null,null,null,null,null,null,null,null,null,null,null,null,null,null,null,null,null,null,null,null,null,null,null,null,null,null,null,null,null,null,null,null,null,null,null,null,null,null,null,null,null,null,null,null,null,null,null,null,null,null,null,null,null,null,null,null,null,null,null,null,null,null,null,null,null,null,null,null,null,null,null,null,null,null,null,null,null,null,null,null,null,null,null,null,null,null,null,null,null,null,null,null,null,null,null,null,null,null,null,null,null,null,null,null,null,null,null,null,null,null,null,null,null,null,null,null,null,null,null,null,null,null,null,null,null,null,null,null,null,null,null,null,null,null,null,null,null,null,null,null,null,null,null,null,null,null,null,null,null,null,null,null,null,null,null,null,null,null,null,null,null,null,null,null,null,null,null,null,null,null,null,null,null,null,null,null,null,null,null,null,null,null,null,null,null,null,null,null,null,null,null,null,null,null,null,null,null,null,null,null,null,null,null,null,null,null,null,null,null,null,null,null,null,null,null,null,null,null,null,null,null,null,null,null,null,null,null,null,null,null,null,null,null,null,null,null,null,null,null,null,null,null,null,null,null,null,null,null,null,null,null,null,null,null,null,null,null,null,null,null,null,null,null,null,null,null,null,null,null,null,null,null,null,null,null,null,null,null,null,null,null,null,null,null,null,null,null,null,null,null,null,null,null,null,null,null,null,null,null,null,null,null,null,null,null,null,null,null,null,null,null,null,null,null,null,null,null,null,null,null,null,null,null,null,null,null,null,null,null,null,null,null,null,null,null,null,null,null,null,null,null,null,null,null,null,null,null,null,null,null,null,null,null,null,null,null,null,null,null,null,null,null,null,null,null,null,null,null,null,null,null,null,null,null,null,null,null,null,null,null,null,null,null,null,null,null,null,null,null,null,null,null,"Single","    If on barge, stability and lift conditions reviewed.  List chart has been provided."]
[null,null,null,null,null,null,null,null,null,null,null,null,null,null,null,null,null,null,null,null,null,null,null,null,null,null,null,null,null,null,null,null,null,null,null,null,null,null,null,null,null,null,null,null,null,null,null,null,null,null,null,null,null,null,null,null,null,null,null,null,null,null,null,null,null,null,null,null,null,null,null,null,null,null,null,null,null,null,null,null,null,null,null,null,null,null,null,null,null,null,null,null,null,null,null,null,null,null,null,null,null,null,null,null,null,null,null,null,null,null,null,null,null,null,null,null,null,null,null,null,null,null,null,null,null,null,null,null,null,null,null,null,null,null,null,null,null,null,null,null,null,null,null,null,null,null,null,null,null,null,null,null,null,null,null,null,null,null,null,null,null,null,null,null,null,null,null,null,null,null,null,null,null,null,null,null,null,null,null,null,null,null,null,null,null,null,null,null,null,null,null,null,null,null,null,null,null,null,null,null,null,null,null,null,null,null,null,null,null,null,null,null,null,null,null,null,null,null,null,null,null,null,null,null,null,null,null,null,null,null,null,null,null,null,null,null,null,null,null,null,null,null,null,null,null,null,null,null,null,null,null,null,null,null,null,null,null,null,null,null,null,null,null,null,null,null,null,null,null,null,null,null,null,null,null,null,null,null,null,null,null,null,null,null,null,null,null,null,null,null,null,null,null,null,null,null,null,null,null,null,null,null,null,null,null,null,null,null,null,null,null,null,null,null,null,null,null,null,null,null,null,null,null,null,null,null,null,null,null,null,null,null,null,null,null,null,null,null,null,null,null,null,null,null,null,null,null,null,null,null,null,null,null,null,null,null,null,null,null,null,null,null,null,null,null,null,null,null,null,null,null,null,null,null,null,null,null,null,null,null,null,null,null,null,null,null,null,null,null,null,null,null,null,"    Crane Inspection Checklist is complete, no issues found"]
[null,null,null,null,null,null,null,null,null,null,null,null,null,null,null,null,null,null,null,null,null,null,null,null,null,null,null,null,null,null,null,null,null,null,null,null,null,null,null,null,null,null,null,null,null,null,null,null,null,null,null,null,null,null,null,null,null,null,null,null,null,null,null,null,null,null,null,null,null,null,null,null,null,null,null,null,null,null,null,null,null,null,null,null,null,null,null,null,null,null,null,null,null,null,null,null,null,null,null,null,null,null,null,null,null,null,null,null,null,null,null,null,null,null,null,null,null,null,null,null,null,null,null,null,null,null,null,null,null,null,null,null,null,null,null,null,null,null,null,null,null,null,null,null,null,null,null,null,null,null,null,null,null,null,null,null,null,null,null,null,null,null,null,null,null,null,null,null,null,null,null,null,null,null,null,null,null,null,null,null,null,null,null,null,null,null,null,null,null,null,null,null,null,null,null,null,null,null,null,null,null,null,null,null,null,null,null,null,null,null,null,null,null,null,null,null,null,null,null,null,null,null,null,null,null,null,null,null,null,null,null,null,null,null,null,null,null,null,null,null,null,null,null,null,null,null,null,null,null,null,null,null,null,null,null,null,null,null,null,null,null,null,null,null,null,null,null,null,null,null,null,null,null,null,null,null,null,null,null,null,null,null,null,null,null,null,null,null,null,null,null,null,null,null,null,null,null,null,null,null,null,null,null,null,null,null,null,null,null,null,null,null,null,null,null,null,null,null,null,null,null,null,null,null,null,null,null,null,null,null,null,null,null,null,null,null,null,null,null,null,null,null,null,null,null,null,null,null,null,null,null,null,null,null,null,null,null,null,null,null,null,null,null,null,null,null,null,null,null,null,null,null,null,null,null,null,null,null,null,null,null,null,null,null,null,null,null,null,null,null,null,null,null,"    Rigging Inspection Checklist is complete, no issues found"]
[null,null,null,null,null,null,null,null,null,null,null,null,null,null,null,null,null,null,null,null,null,null,null,null,null,null,null,null,null,null,null,null,null,null,null,null,null,null,null,null,null,null,null,null,null,null,null,null,null,null,null,null,"Do Not Delete.  Required for \"Nearby Power Lines\"/TAB 5 Formatting",null,null,null,null,null,null,null,null,null,null,null,null,null,null,null,null,"Tandem",null,null,null,null,null,null,null,null,null,null,null,null,null,null,null,null,null,null,null,null,null,null,null,null,null,null,null,null,null,null,null,null,null,null,null,null,null,null,null,null,null,null,null,null,null,null,null,null,null,null,null,null,null,null,null,null,null,null,null,null,null,null,null,null,null,null,null,null,null,null,null,null,null,null,null,null,null,null,null,null,null,null,null,null,null,null,null,null,null,null,null,null,null,null,null,null,null,null,null,null,null,null,null,null,null,null,null,null,null,null,null,null,null,null,null,null,null,null,null,null,null,null,null,null,null,null,null,null,null,null,null,null,null,null,null,null,null,null,null,null,null,null,null,null,null,null,null,null,null,null,null,null,null,null,null,null,null,null,null,null,null,null,null,null,null,null,null,null,null,null,null,null,null,null,null,null,null,null,null,null,null,null,null,null,null,null,null,null,null,null,null,null,null,null,null,null,null,null,null,null,null,null,null,null,null,null,null,null,null,null,null,null,null,null,null,null,null,null,null,null,null,null,null,null,null,null,null,null,null,null,null,null,null,null,null,null,null,null,null,null,null,null,null,null,null,null,null,null,null,null,null,null,null,null,null,null,null,null,null,null,null,null,null,null,null,null,null,null,null,null,null,null,null,null,null,null,null,null,null,null,null,null,null,null,null,null,null,null,null,null,null,null,null,null,null,null,null,null,null,null,null,null,null,null,null,null,null,null,null,null,null,null,null,null,null,null,null,null,null,null,null,null,null,"    Load chart utilized is for exact crane model, boom type, length, tip and counterweight."]
[null,null,null,null,null,null,null,null,null,null,null,null,null,null,null,null,null,null,null,null,null,null,null,null,null,null,null,null,null,null,null,null,null,null,null,null,null,null,null,null,null,null,null,null,null,null,null,null,null,null,null,null,"Power Lines",null,null,null,null,"Planned Dist:",null,null,{"$f":"IF('5'!V341=\"\",\"\",'5'!V341)","v":""},null,null,"Min Dist:",null,null,{"$f":"IF(ISNUMBER('5'!J348),'5'!J348,IF(ISTEXT('5'!J348),'5'!J348,0))","v":" "},null,null,{"$f":"IF(More_than_one=\"yes\",\"s, their \",\", its \")","v":", its "},null,null,null,null,null,null,null,null,null,null,null,null,null,null,null,null,null,null,null,null,null,null,null,null,null,null,null,null,null,null,null,null,null,null,null,null,null,null,null,null,null,null,null,null,null,null,null,null,null,null,null,null,null,null,null,null,null,null,null,null,null,null,null,null,null,null,null,null,null,null,null,null,null,null,null,null,null,null,null,null,null,null,null,null,null,null,null,null,null,null,null,null,null,null,null,null,null,null,null,null,null,null,null,null,null,null,null,null,null,null,null,null,null,null,null,null,null,null,null,null,null,null,null,null,null,null,null,null,null,null,null,null,null,null,null,null,null,null,null,null,null,null,null,null,null,null,null,null,null,null,null,null,null,null,null,null,null,null,null,null,null,null,null,null,null,null,null,null,null,null,null,null,null,null,null,null,null,null,null,null,null,null,null,null,null,null,null,null,null,null,null,null,null,null,null,null,null,null,null,null,null,null,null,null,null,null,null,null,null,null,null,null,null,null,null,null,null,null,null,null,null,null,null,null,null,null,null,null,null,null,null,null,null,null,null,null,null,null,null,null,null,null,null,null,null,null,null,null,null,null,null,null,null,null,null,null,null,null,null,null,null,null,null,null,null,null,null,null,null,null,null,null,null,null,null,null,null,null,null,null,null,null,null,null,null,null,null,null,null,null,null,null,null,null,null,null,null,null,null,null,null,null,null,null,null,null,null,null,null,null,null,null,null,null,null,null,null,null,null,null,null,null,null,"    The Crane is setup within the limits of the Crane Location Plan"]
[null,null,null,null,null,null,null,null,null,null,null,null,null,null,null,null,null,null,null,null,null,null,null,null,null,null,null,null,null,null,null,null,null,null,null,null,null,null,null,null,null,null,null,null,null,null,null,null,null,null,null,null,null,null,null,null,null,{"$f":"IF(OR('5'!C340=\"no further action required\",'5'!C343=\"no further action required\"),FALSE,IF(LEFT('5'!J348,4)=\"as e\",FALSE,OR(ISERROR(BI102+BO102),OR(NOT(ISNUMBER(BO102)),IF(AND('5'!AB350=\"yes\",LEFT('5'!J349,3)=\"spe\"),FALSE,BI102<BO102)))))","v":true},null,null,"dispensation:",null,null,null,{"$f":"IF(AND(LEFT(Power_line_too_close_msg,3)=\"spe\",Dispensation_granted=\"yes\"),LP!BQ103,LP!BP103)","v":"is required"},null,null,"is required","has been granted","s, their "," its ",null,null,null,null,null,null,null,null,null,null,null,null,null,null,null,null,null,null,null,null,null,null,null,null,null,null,null,null,null,null,null,null,null,null,null,null,null,null,null,null,null,null,null,null,null,null,null,null,null,null,null,null,null,null,null,null,null,null,null,null,null,null,null,null,null,null,null,null,null,null,null,null,null,null,null,null,null,null,null,null,null,null,null,null,null,null,null,null,null,null,null,null,null,null,null,null,null,null,null,null,null,null,null,null,null,null,null,null,null,null,null,null,null,null,null,null,null,null,null,null,null,null,null,null,null,null,null,null,null,null,null,null,null,null,null,null,null,null,null,null,null,null,null,null,null,null,null,null,null,null,null,null,null,null,null,null,null,null,null,null,null,null,null,null,null,null,null,null,null,null,null,null,null,null,null,null,null,null,null,null,null,null,null,null,null,null,null,null,null,null,null,null,null,null,null,null,null,null,null,null,null,null,null,null,null,null,null,null,null,null,null,null,null,null,null,null,null,null,null,null,null,null,null,null,null,null,null,null,null,null,null,null,null,null,null,null,null,null,null,null,null,null,null,null,null,null,null,null,null,null,null,null,null,null,null,null,null,null,null,null,null,null,null,null,null,null,null,null,null,null,null,null,null,null,null,null,null,null,null,null,null,null,null,null,null,null,null,null,null,null,null,null,null,null,null,null,null,null,null,null,null,null,null,null,null,null,null,null,null,null,null,null,null,null,null,null,null,null,null,null,null,null,"    The Crane is set up in an appropriate configuration"]
[null,null,null,null,null,null,null,null,null,null,null,null,null,null,null,null,null,null,null,null,null,null,null,null,null,null,null,null,null,null,null,null,null,null,null,null,null,null,null,null,null,null,null,null,null,null,null,null,null,null,null,null,null,null,null,null,null,null,null,null,null,null,null,null,null,null,null,null,null,null,null,null,null,null,null,null,null,null,null,null,null,null,null,null,null,null,null,null,null,null,null,null,null,null,null,null,null,null,null,null,null,null,null,null,null,null,null,null,null,null,null,null,null,null,null,null,null,null,null,null,null,null,null,null,null,null,null,null,null,null,null,null,null,null,null,null,null,null,null,null,null,null,null,null,null,null,null,null,null,null,null,null,null,null,null,null,null,null,null,null,null,null,null,null,null,null,null,null,null,null,null,null,null,null,null,null,null,null,null,null,null,null,null,null,null,null,null,null,null,null,null,null,null,null,null,null,null,null,null,null,null,null,null,null,null,null,null,null,null,null,null,null,null,null,null,null,null,null,null,null,null,null,null,null,null,null,null,null,null,null,null,null,null,null,null,null,null,null,null,null,null,null,null,null,null,null,null,null,null,null,null,null,null,null,null,null,null,null,null,null,null,null,null,null,null,null,null,null,null,null,null,null,null,null,null,null,null,null,null,null,null,null,null,null,null,null,null,null,null,null,null,null,null,null,null,null,null,null,null,null,null,null,null,null,null,null,null,null,null,null,null,null,null,null,null,null,null,null,null,null,null,null,null,null,null,null,null,null,null,null,null,null,null,null,null,null,null,null,null,null,null,null,null,null,null,null,null,null,null,null,null,null,null,null,null,null,null,null,null,null,null,null,null,null,null,null,null,null,null,null,null,null,null,null,null,null,null,null,null,null,null,null,null,null,null,null,null,null,null,null,null,null,"Tandem","    If on barge(s), stability and lift conditions reviewed.  List charts have been provided."]
[null,null,null,null,null,null,null,null,null,null,null,null,null,null,null,null,null,null,null,null,null,null,null,null,null,null,null,null,null,null,null,null,null,null,null,null,null,null,null,null,null,null,null,null,null,null,null,null,null,null,null,null,null,null,null,null,null,null,null,null,null,null,null,null,null,null,null,null,null,null,null,null,null,null,null,null,null,null,null,null,null,null,null,null,null,null,null,null,null,null,null,null,null,null,null,null,null,null,null,null,null,null,null,null,null,null,null,null,null,null,null,null,null,null,null,null,null,null,null,null,null,null,null,null,null,null,null,null,null,null,null,null,null,null,null,null,null,null,null,null,null,null,null,null,null,null,null,null,null,null,null,null,null,null,null,null,null,null,null,null,null,null,null,null,null,null,null,null,null,null,null,null,null,null,null,null,null,null,null,null,null,null,null,null,null,null,null,null,null,null,null,null,null,null,null,null,null,null,null,null,null,null,null,null,null,null,null,null,null,null,null,null,null,null,null,null,null,null,null,null,null,null,null,null,null,null,null,null,null,null,null,null,null,null,null,null,null,null,null,null,null,null,null,null,null,null,null,null,null,null,null,null,null,null,null,null,null,null,null,null,null,null,null,null,null,null,null,null,null,null,null,null,null,null,null,null,null,null,null,null,null,null,null,null,null,null,null,null,null,null,null,null,null,null,null,null,null,null,null,null,null,null,null,null,null,null,null,null,null,null,null,null,null,null,null,null,null,null,null,null,null,null,null,null,null,null,null,null,null,null,null,null,null,null,null,null,null,null,null,null,null,null,null,null,null,null,null,null,null,null,null,null,null,null,null,null,null,null,null,null,null,null,null,null,null,null,null,null,null,null,null,null,null,null,null,null,null,null,null,null,null,null,null,null,null,null,null,null,null,null,null,null,null,"    Crane Inspection Checklists are complete, no issues found"]
[null,null,null,null,null,null,null,null,null,null,null,null,null,null,null,null,null,null,null,null,null,null,null,null,null,null,null,null,null,null,null,null,null,null,null,null,null,null,null,null,null,null,null,null,null,null,null,null,null,null,null,null,null,null,null,null,null,null,null,null,null,null,null,null,null,null,null,null,null,null,null,null,null,null,null,null,null,null,null,null,null,null,null,null,null,null,null,null,null,null,null,null,null,null,null,null,null,null,null,null,null,null,null,null,null,null,null,null,null,null,null,null,null,null,null,null,null,null,null,null,null,null,null,null,null,null,null,null,null,null,null,null,null,null,null,null,null,null,null,null,null,null,null,null,null,null,null,null,null,null,null,null,null,null,null,null,null,null,null,null,null,null,null,null,null,null,null,null,null,null,null,null,null,null,null,null,null,null,null,null,null,null,null,null,null,null,null,null,null,null,null,null,null,null,null,null,null,null,null,null,null,null,null,null,null,null,null,null,null,null,null,null,null,null,null,null,null,null,null,null,null,null,null,null,null,null,null,null,null,null,null,null,null,null,null,null,null,null,null,null,null,null,null,null,null,null,null,null,null,null,null,null,null,null,null,null,null,null,null,null,null,null,null,null,null,null,null,null,null,null,null,null,null,null,null,null,null,null,null,null,null,null,null,null,null,null,null,null,null,null,null,null,null,null,null,null,null,null,null,null,null,null,null,null,null,null,null,null,null,null,null,null,null,null,null,null,null,null,null,null,null,null,null,null,null,null,null,null,null,null,null,null,null,null,null,null,null,null,null,null,null,null,null,null,null,null,null,null,null,null,null,null,null,null,null,null,null,null,null,null,null,null,null,null,null,null,null,null,null,null,null,null,null,null,null,null,null,null,null,null,null,null,null,null,null,null,null,null,null,null,null,null,null,"    Rigging Inspection Checklists are complete, no issues found"]
[null,null,null,null,null,null,null,null,null,null,null,null,null,null,null,null,null,null,null,null,null,null,null,null,null,null,null,null,null,null,null,null,null,null,null,null,null,null,null,null,null,null,null,null,null,null,null,null,null,null,null,null,null,null,null,null,null,null,null,null,null,null,null,null,null,null,null,null,null,null,null,null,null,null,null,null,null,null,null,null,null,null,null,null,null,null,null,null,null,null,null,null,null,null,null,null,null,null,null,null,null,null,null,null,null,null,null,null,null,null,null,null,null,null,null,null,null,null,null,null,null,null,null,null,null,null,null,null,null,null,null,null,null,null,null,null,null,null,null,null,null,null,null,null,null,null,null,null,null,null,null,null,null,null,null,null,null,null,null,null,null,null,null,null,null,null,null,null,null,null,null,null,null,null,null,null,null,null,null,null,null,null,null,null,null,null,null,null,null,null,null,null,null,null,null,null,null,null,null,null,null,null,null,null,null,null,null,null,null,null,null,null,null,null,null,null,null,null,null,null,null,null,null,null,null,null,null,null,null,null,null,null,null,null,null,null,null,null,null,null,null,null,null,null,null,null,null,null,null,null,null,null,null,null,null,null,null,null,null,null,null,null,null,null,null,null,null,null,null,null,null,null,null,null,null,null,null,null,null,null,null,null,null,null,null,null,null,null,null,null,null,null,null,null,null,null,null,null,null,null,null,null,null,null,null,null,null,null,null,null,null,null,null,null,null,null,null,null,null,null,null,null,null,null,null,null,null,null,null,null,null,null,null,null,null,null,null,null,null,null,null,null,null,null,null,null,null,null,null,null,null,null,null,null,null,null,null,null,null,null,null,null,null,null,null,null,null,null,null,null,null,null,null,null,null,null,null,null,null,null,null,null,null,null,null,null,null,null,null,null,null,null,null,"    Load charts utilized are for exact crane models, boom types, lengths, tips and counterweights."]
[null,null,null,null,null,null,null,null,null,null,null,null,null,null,null,null,null,null,null,null,null,null,null,null,null,null,null,null,null,null,null,null,null,null,null,null,null,null,null,null,null,null,null,null,null,null,null,null,null,null,null,null,null,null,null,null,null,null,null,null,null,null,null,null,null,null,null,null,null,null,null,null,null,null,null,null,null,null,null,null,null,null,null,null,null,null,null,null,null,null,null,null,null,null,null,null,null,null,null,null,null,null,null,null,null,null,null,null,null,null,null,null,null,null,null,null,null,null,null,null,null,null,null,null,null,null,null,null,null,null,null,null,null,null,null,null,null,null,null,null,null,null,null,null,null,null,null,null,null,null,null,null,null,null,null,null,null,null,null,null,null,null,null,null,null,null,null,null,null,null,null,null,null,null,null,null,null,null,null,null,null,null,null,null,null,null,null,null,null,null,null,null,null,null,null,null,null,null,null,null,null,null,null,null,null,null,null,null,null,null,null,null,null,null,null,null,null,null,null,null,null,null,null,null,null,null,null,null,null,null,null,null,null,null,null,null,null,null,null,null,null,null,null,null,null,null,null,null,null,null,null,null,null,null,null,null,null,null,null,null,null,null,null,null,null,null,null,null,null,null,null,null,null,null,null,null,null,null,null,null,null,null,null,null,null,null,null,null,null,null,null,null,null,null,null,null,null,null,null,null,null,null,null,null,null,null,null,null,null,null,null,null,null,null,null,null,null,null,null,null,null,null,null,null,null,null,null,null,null,null,null,null,null,null,null,null,null,null,null,null,null,null,null,null,null,null,null,null,null,null,null,null,null,null,null,null,null,null,null,null,null,null,null,null,null,null,null,null,null,null,null,null,null,null,null,null,null,null,null,null,null,null,null,null,null,null,null,null,null,null,null,null,null,"    The Cranes are setup within the limits of the Crane Location Plan(s)"]
[null,null,null,null,null,null,null,null,null,null,null,null,null,null,null,null,null,null,null,null,null,null,null,null,null,null,null,null,null,null,null,null,null,null,null,null,null,null,null,null,null,null,null,null,null,null,null,null,null,null,null,null,null,null,null,null,null,null,null,null,null,null,null,null,null,null,null,null,null,null,null,null,null,null,null,null,null,null,null,null,null,null,null,null,null,null,null,null,null,null,null,null,null,null,null,null,null,null,null,null,null,null,null,null,null,null,null,null,null,null,null,null,null,null,null,null,null,null,null,null,null,null,null,null,null,null,null,null,null,null,null,null,null,null,null,null,null,null,null,null,null,null,null,null,null,null,null,null,null,null,null,null,null,null,null,null,null,null,null,null,null,null,null,null,null,null,null,null,null,null,null,null,null,null,null,null,null,null,null,null,null,null,null,null,null,null,null,null,null,null,null,null,null,null,null,null,null,null,null,null,null,null,null,null,null,null,null,null,null,null,null,null,null,null,null,null,null,null,null,null,null,null,null,null,null,null,null,null,null,null,null,null,null,null,null,null,null,null,null,null,null,null,null,null,null,null,null,null,null,null,null,null,null,null,null,null,null,null,null,null,null,null,null,null,null,null,null,null,null,null,null,null,null,null,null,null,null,null,null,null,null,null,null,null,null,null,null,null,null,null,null,null,null,null,null,null,null,null,null,null,null,null,null,null,null,null,null,null,null,null,null,null,null,null,null,null,null,null,null,null,null,null,null,null,null,null,null,null,null,null,null,null,null,null,null,null,null,null,null,null,null,null,null,null,null,null,null,null,null,null,null,null,null,null,null,null,null,null,null,null,null,null,null,null,null,null,null,null,null,null,null,null,null,null,null,null,null,null,null,null,null,null,null,null,null,null,null,null,null,null,null,null,null,"    The Cranes are set up in an appropriate configuration"]
[null,null,null,null,null,null,null,null,null,null,null,null,null,null,null,null,null,null,null,null,null,null,null,null,null,null,null,null,null,null,null,null,null,null,null,null,null,null,null,null,null,null,null,null,null,null,null,null,null,null,null,null,null,null,null,null,null,null,null,null,null,null,null,null,null,null,null,null,null,null,null,null,null,null,null,null,null,null,null,null,null,null,null,null,null,null,null,null,null,null,null,null,null,null,null,null,null,null,null,null,null,null,null,null,null,null,null,null,null,null,null,null,null,null,null,null,null,null,null,null,null,null,null,null,null,null,null,null,null,null,null,null,null,null,null,null,null,null,null,null,null,null,null,null,null,null,null,null,null,null,null,null,null,null,null,null,null,null,null,null,null,null,null,null,null,null,null,null,null,null,null,null,null,null,null,null,null,null,null,null,null,null,null,null,null,null,null,null,null,null,null,null,null,null,null,null,null,null,null,null,null,null,null,null,null,null,null,null,null,null,null,null,null,null,null,null,null,null,null,null,null,null,null,null,null,null,null,null,null,null,null,null,null,null,null,null,null,null,null,null,null,null,null,null,null,null,null,null,null,null,null,null,null,null,null,null,null,null,null,null,null,null,null,null,null,null,null,null,null,null,null,null,null,null,null,null,null,null,null,null,null,null,null,null,null,null,null,null,null,null,null,null,null,null,null,null,null,null,null,null,null,null,null,null,null,null,null,null,null,null,null,null,null,null,null,null,null,null,null,null,null,null,null,null,null,null,null,null,null,null,null,null,null,null,null,null,null,null,null,null,null,null,null,null,null,null,null,null,null,null,null,null,null,null,null,null,null,null,null,null,null,null,null,null,null,null,null,null,null,null,null,null,null,null,null,null,null,null,null,null,null,null,null,null,null,null,null,null,null,null,"□","□","□","    The intended share of load for each hoist has been calculated","<-- (IF statement line for PCC, reference removed as tripping was removed from lift classification)"]

{"sheet":"PPL","index":11,"n_rows":52,"n_cols":50,"rows_kept":52,"cut":false,"hidden":false,"merged":[[0,0,2,51],[44,5,44,25],[48,5,48,25],[50,5,50,25],[46,5,46,25],[3,20,5,25],[39,4,40,25],[38,26,38,51],[9,17,9,25],[9,7,9,13],[3,8,5,17],[3,34,5,43],[6,15,6,19],[7,11,7,15],[7,16,7,25],[6,41,6,45],[13,0,13,4],[51,0,51,17],[51,18,51,25],[51,26,51,43],[51,44,51,51],[41,33,41,37],[41,26,41,32],[43,26,43,32],[45,26,45,32],[47,26,47,32],[49,26,49,32],[13,5,17,25],[6,0,6,12],[7,0,7,1],[7,2,7,4],[6,21,6,25],[11,0,11,2],[9,0,9,6],[9,15,9,16],[9,43,9,51],[8,0,8,25],[8,26,8,51],[9,41,9,42],[9,26,9,32],[9,33,9,39],[3,46,5,51],[6,47,6,51],[7,26,7,27],[7,28,7,30],[6,26,6,38],[7,37,7,41],[7,42,7,51]]}
[{"$f":"IF(LP_Questions_Complete=0,\"Status TBD\",IF(LP_Pick_Level=4,\"This Lift Classification DOES require this Platform Pre-Lift Inspection checklist.\",\"This Lift Classification does NOT require this PPL Inspection Checklist.\"))","v":"Status TBD"}]
[]
[]
[null,null,null,null,null,null,null,null,"Planned Personnel Lift Inspection",null,null,null,null,null,null,null,null,null,null,null,"Man Basket/Cage    Inspection Checklist",null,null,null,null,null,null,null,null,null,null,null,null,null,"Planned Personnel Lift Inspection",null,null,null,null,null,null,null,null,null,null,null,"Man Basket/Cage    Inspection Checklist"]
[]
[]
[{"$f":"IF(Title_of_Lift=0,\"\",Title_of_Lift)","v":""},null,null,null,null,null,null,null,null,null,null,null,null,null,null,"Project Number:",null,null,null,null,{"$f":"IF(Business_Unit_Initial=0,\"\",Business_Unit_Initial)","v":"C"},{"$f":"IF(Project_Number=0,\"\",Project_Number)","v":"1213126-"},null,null,null,null,{"$f":"IF(Title_of_Lift=0,\"\",Title_of_Lift)","v":""},null,null,null,null,null,null,null,null,null,null,null,null,null,null,"Project Number:",null,null,null,null,{"$f":"IF(Business_Unit_Initial=0,\"\",Business_Unit_Initial)","v":"C"},{"$f":"IF(Project_Number=0,\"\",Project_Number)","v":"1213126-"}]
["Date  ",null,{"$f":"IF(Date_of_Lift=0,\"\",Date_of_Lift)","v":""},null,null,null,null,null,null,null,null,"Project Name:",null,null,null,null,{"$f":"IF(Project_Name=0,\"\",Project_Name)","v":"LGA - Redevelopment"},null,null,null,null,null,null,null,null,null,"Date  ",null,{"$f":"IF(Date_of_Lift=0,\"\",Date_of_Lift)","v":""},null,null,null,null,null,null,null,null,"Project Name:",null,null,null,null,{"$f":"IF(Project_Name=0,\"\",Project_Name)","v":"LGA - Redevelopment"}]
[{"$f":"IF(Location_of_Lift=0,\"\",Location_of_Lift)","v":""},null,null,null,null,null,null,null,null,null,null,null,null,null,null,null,null,null,null,null,null,null,null,null,null,null,{"$f":"IF(Location_of_Lift=0,\"\",Location_of_Lift)","v":""}]
["Project Crane Coordinator",null,null,null,null,null,null,{"$f":"IF(Project_Crane_Coordinator=\"\",\"\",Project_Crane_Coordinator)","v":""},null,null,null,null,null,null,null,{"$f":"IF(More_than_one=\"No\",\"Crane\",\"Cranes\")","v":"Cranes"},null,{"$f":"Crane_1_name&IF(More_than_one=\"yes\",\",  \"&Crane_2_name,\"\")","v":""},null,null,null,null,null,null,null,null,"Project Crane Coordinator",null,null,null,null,null,null,{"$f":"IF(Project_Crane_Coordinator=\"\",\"\",Project_Crane_Coordinator)","v":""},null,null,null,null,null,null,null,{"$f":"IF(More_than_one=\"No\",\"Crane\",\"Cranes\")","v":"Cranes"},null,{"$f":"Crane_1_name&IF(More_than_one=\"yes\",\",  \"&Crane_2_name,\"\")","v":""}]
[null,null,null,null,null,null,null,null,null,null,null,null,null,null,null,null,null,null,null,null,null,null,null,null,null,null,"OK","NG","N/A",null,"Equipment Re-Check",null,null,null,null,null,null,null,null,"Identification Number(s):"]
["Inspector:",null,null,null,null,null,null,null,null,null,null,null,null,null,null,null,null,null,null,null,null,null,null,null,null,null,"£","£","£",null,"Man-Rated Hoist"]
[null,null,null,null,null,null,null,null,null,null,null,null,null,null,null,null,null,null,null,null,null,null,null,null,null,null,"£","£","£",null,"Hoist manual on site"]
["Lift Description",null,null,null,null,{"$f":"IF(Lift_Description=0,\"\",Lift_Description)","v":""},null,null,null,null,null,null,null,null,null,null,null,null,null,null,null,null,null,null,null,null,"£","£","£",null,"Hoist maintenance log on site"]
[null,null,null,null,null,null,null,null,null,null,null,null,null,null,null,null,null,null,null,null,null,null,null,null,null,null,"£","£","£",null,"Hoist secured and anchored"]
[null,null,null,null,null,null,null,null,null,null,null,null,null,null,null,null,null,null,null,null,null,null,null,null,null,null,"£","£","£",null,"Hoist hour meter operational"]
[null,null,null,null,null,null,null,null,null,null,null,null,null,null,null,null,null,null,null,null,null,null,null,null,null,null,"£","£","£",null,"Machine guards in place"]
[null,null,null,null,null,null,null,null,null,null,null,null,null,null,null,null,null,null,null,null,null,null,null,null,null,null,"£","£","£",null,"Hoist controls are identified"]
[null,null,null,null,null,null,null,null,null,null,null,null,null,null,null,null,null,null,null,null,null,null,null,null,null,null,"£","£","£",null,"Is the Anti-Two Block operational"]
["OK","NG","N/A",null,"Markings",null,null,null,null,null,null,null,null,"Platform Identification Number:",null,null,null,null,null,null,null,null,null,null,null,null,"£","£","£",null,"Personal Fall Protection"]
["£","£","£",null,"Platform Weight and Rated Capacity",null,null,null,null,null,null,null,null,null,null,null,null,null,null,null,null,null,null,null,null,null,"£","£","£",null,"Radios/Communication Devices"]
["£","£","£",null,"Hand Signal Chart",null,null,null,null,null,null,null,null,null,null,null,null,null,null,null,null,null,null,null,null,null,"£","£","£",null,"Guide/Tag Lines to be used"]
["£","£","£",null,"Suspension System",null,null,null,null,null,null,null,null,null,null,null,null,null,null,null,null,null,null,null,null,null,"OK","NG",null,null,"Pre Lift Meeting"]
[null,null,null,null,null,null,null,null,null,null,null,null,null,null,null,null,null,null,null,null,null,null,null,null,null,null,"£","£",null,null,"Has the Pre Lift Meeting been conducted?  Discussed:  "]
["OK","NG","N/A",null,"Structure"]
["£","£","£",null,"Load Supporting Welds/Bolts"]
["£","£","£",null,"Load Supporting Members",null,null,null,null,null,null,null,null,null,null,null,null,null,null,null,null,null,null,null,null,null,"OK","NG",null,null,"Proof/Load Test and Trial Lift"]
["£","£","£",null,"Barrier from Toe Board to Intermediate Rail",null,null,null,null,null,null,null,null,null,null,null,null,null,null,null,null,null,null,null,null,null,"£","£",null,null,"Proof Test Conducted",null,null,null,null,null,"(125% of intended load.  Suspend for 5 minutes.)"]
["£","£","£",null,"Hand Rail",null,null,null,null,null,null,null,null,null,null,null,null,null,null,null,null,null,null,null,null,null,"£","£",null,null,"Result of Proof Test"]
["£","£","£",null,"Fall Protection Device Anchorage Points",null,null,null,null,null,null,null,null,null,null,null,null,null,null,null,null,null,null,null,null,null,"£","£",null,null,"Trial Lift Conducted",null,null,null,null,null,"(Hoist and travel load to and from it's set location.)"]
["£","£","£",null,"Gate Locking Mechanisms",null,null,null,null,null,null,null,null,null,null,null,null,null,null,null,null,null,null,null,null,null,"£","£",null,null,"Result of Trial Lift"]
["£","£","£",null,"Platform Flooring",null,null,null,null,null,null,null,null,null,null,null,null,null,null,null,null,null,null,null,null,null,"£","£",null,null,"Final Inspection of Man Basket/Cage System"]
["£","£","£",null,"Suspension Attachment Points"]
[null,null,null,null,null,null,null,null,null,null,null,null,null,null,null,null,null,null,null,null,null,null,null,null,null,null,"General Comments"]
["OK","NG","N/A",null,"Attachment Mechanisms",null,null,null,null,null,null,null,null,null,"Identification Number(s):"]
["£","£","£",null,"Pins  /  Ears  /  Bolt-Ups  /  Eyes",null,null,null,null,null,null,null,"[Circle]"]
["£","£","£",null,"Wire Rope  /  Rigid Leg  /  Chain",null,null,null,null,null,null,null,"[Circle]"]
["£","£","£",null,"Master Links"]
["£","£","£",null,"No parts missing",null,null,null,null,null,null,null,null,null,null,null,null,null,null,null,null,null,null,null,null,null,"Sign only if you agree with the results of the above inspections, safety checks, test and trial lifts."]
["£","£","£",null,"This rigging is permanently attached to the device and has never been used for any other purpose",null,null,null,null,null,null,null,null,null,null,null,null,null,null,null,null,null,null,null,null,null,null,null,null,null,null,null,null,"Printed Name",null,null,null,null,null,null,"Signature",null,null,null,null,null,null,null,null,"Date"]
[]
["£","£","£",null,"Other:",null,null,null,null,null,null,null,null,null,null,null,null,null,null,null,null,null,null,null,null,null,"Project Crane Coordinator",null,null,null,null,null,null,{"$f":"IF(Project_Crane_Coordinator=\"\",\"\",Project_Crane_Coordinator)","v":""}]
["OK","NG","N/A",null,"Special Purpose Items",null,null,null,null,null,"(Overhead Protection, Flotation Devices, Platform Controls, etc.)"]
[null,null,null,null,null,null,null,null,null,null,null,null,null,null,null,null,null,null,null,null,null,null,null,null,null,null,"Hoist Operator"]
["£","£","£",null,"(1)"]
[null,null,null,null,null,null,null,null,null,null,null,null,null,null,null,null,null,null,null,null,null,null,null,null,null,null,"Employee to be Hoisted"]
["£","£","£",null,"(2)"]
[null,null,null,null,null,null,null,null,null,null,null,null,null,null,null,null,null,null,null,null,null,null,null,null,null,null,"Employee to be Hoisted"]
["£","£","£",null,"(3)"]
[null,null,null,null,null,null,null,null,null,null,null,null,null,null,null,null,null,null,null,null,null,null,null,null,null,null,"Employee to be Hoisted"]
["£","£","£",null,"(4)"]
[{"$f":"CONCATENATE(\"Skanska Planned Personnel Lift Plan Checklist, \",PPLCL_Revision)","v":"Skanska Planned Personnel Lift Plan Checklist, Rev 4"},null,null,null,null,null,null,null,null,null,null,null,null,null,null,null,null,null,"Checklist Page 1 of 2",null,null,null,null,null,null,null,{"$f":"CONCATENATE(\"Skanska Planned Personnel Lift Plan Checklist, \",PPLCL_Revision)","v":"Skanska Planned Personnel Lift Plan Checklist, Rev 4"},null,null,null,null,null,null,null,null,null,null,null,null,null,null,null,null,null,"Checklist Page 2 of 2"]